Workbook

Sheet Daily
A1: Mon | B1: 수리완료 ww | C1: Site | D1: Requester | E1: 입고일 | F1: 수리완료일 | G1: 완료월 | H1: Status | I1: 분류 | J1: Line | K1: Divisoin | L1: Team | M1: Process | N1: Model | O1: Board Name | P1: 증 상/조치 | Q1: S/N | R1: Q'TY | S1: New B/D Price(K\) | T1: Outsourcing Price(K\) | U1: Repair Cost (K\) | V1: Cost Reduction(K￦) | W1: 자체/외주 | X1: 외주업체 | Y1: Repair Time(H) | Z1: Delivery | AA1: Engineer | AC1: Repair Cost K$ | AD1: Costsave K$
B2: =IF(F2>0,IFERROR(WEEKNUM(F2),""),"") -> 13 | C2: =IF(D2=0,"",(IF(LEFT(D2,3)="ATK","ATK",IF(LEFT(D2,2)="AT",D2,"ATK")))) -> ATK | D2: 김선일 | E2: 43699 | F2: 43916 | G2: =IF(F2>0,MONTH(F2),"") -> 3 | H2: =IF(I2=0,"",IF(RIGHT(I2,2)="완료","완료",IF(RIGHT(I2,2)="불가","수리불가",IF(RIGHT(I2,1)="중","수리중","Other")))) -> 완료 | I2: 외주수리완료 | J2: C | K2: 3T4P | L2: =LEFT(K2,3) -> 3T4 | M2: TCNCP | N2: DBPB-2010 | O2: Heater control | R2: 1 | S2: 5000 | T2: =(S2*50)/100*R2 -> 2500 | U2: 100 | V2: =T2-U2 -> 2400 | W2: 외주 | X2: 큐텍코리아 | Y2: 4 | Z2: =F2-E2 -> 217 | AA2: 장은철 | AC2: =U2/1100 -> 0.090909091
B3: =IF(F3>0,IFERROR(WEEKNUM(F3),""),"") -> 13 | C3: =IF(D3=0,"",(IF(LEFT(D3,3)="ATK","ATK",IF(LEFT(D3,2)="AT",D3,"ATK")))) -> ATK | D3: 김선일 | E3: 43699 | F3: 43916 | G3: =IF(F3>0,MONTH(F3),"") -> 3 | H3: =IF(I3=0,"",IF(RIGHT(I3,2)="완료","완료",IF(RIGHT(I3,2)="불가","수리불가",IF(RIGHT(I3,1)="중","수리중","Other")))) -> 완료 | I3: 외주수리완료 | J3: C | K3: 3T4P | L3: =LEFT(K3,3) -> 3T4 | M3: TCNCP | N3: DBPB-2010 | O3: Heater control | R3: 1 | S3: 5000 | T3: =(S3*50)/100*R3 -> 2500 | U3: 100 | V3: =T3-U3 -> 2400 | W3: 외주 | X3: 큐텍코리아 | Y3: 10 | Z3: =F3-E3 -> 217 | AA3: 장은철 | AC3: =U3/1100 -> 0.090909091
B4: =IF(F4>0,IFERROR(WEEKNUM(F4),""),"") -> 9 | C4: =IF(D4=0,"",(IF(LEFT(D4,3)="ATK","ATK",IF(LEFT(D4,2)="AT",D4,"ATK")))) -> ATK | D4: 유완수 | E4: 43803 | F4: 43885 | G4: =IF(F4>0,MONTH(F4),"") -> 2 | H4: =IF(I4=0,"",IF(RIGHT(I4,2)="완료","완료",IF(RIGHT(I4,2)="불가","수리불가",IF(RIGHT(I4,1)="중","수리중","Other")))) -> 완료 | I4: 수리완료 | J4: C | K4: 3T3P | L4: =LEFT(K4,3) -> 3T3 | M4: MONITOR | N4: HP | O4: LED MONITOR | R4: 1 | S4: 900 | T4: =(S4*50)/100*R4 -> 450 | U4: 30 | V4: =T4-U4 -> 420 | W4: 자체 | Y4: 3 | Z4: =F4-E4 -> 82 | AA4: 정기수 | AC4: =U4/1100 -> 0.027272727
B5: =IF(F5>0,IFERROR(WEEKNUM(F5),""),"") -> 9 | C5: =IF(D5=0,"",(IF(LEFT(D5,3)="ATK","ATK",IF(LEFT(D5,2)="AT",D5,"ATK")))) -> ATK | D5: 김상권 | E5: 43809 | F5: 43885 | G5: =IF(F5>0,MONTH(F5),"") -> 2 | H5: =IF(I5=0,"",IF(RIGHT(I5,2)="완료","완료",IF(RIGHT(I5,2)="불가","수리불가",IF(RIGHT(I5,1)="중","수리중","Other")))) -> 완료 | I5: 수리완료 | J5: EE | K5: EE2 | L5: =LEFT(K5,3) -> EE2 | M5: Bumping | N5: System PC | O5: ACP-2320MB | P5: Booting Fail | R5: 1 | S5: 20000 | T5: =(S5*50)/100*R5 -> 10000 | U5: 10 | V5: =T5-U5 -> 9990 | W5: 자체 | Y5: 4 | Z5: =F5-E5 -> 76 | AA5: 허준영 | AC5: =U5/1100 -> 0.0090909091
B6: =IF(F6>0,IFERROR(WEEKNUM(F6),""),"") -> 5 | C6: =IF(D6=0,"",(IF(LEFT(D6,3)="ATK","ATK",IF(LEFT(D6,2)="AT",D6,"ATK")))) -> ATK | D6: 오도일 | E6: 43809 | F6: 43859 | G6: =IF(F6>0,MONTH(F6),"") -> 1 | H6: =IF(I6=0,"",IF(RIGHT(I6,2)="완료","완료",IF(RIGHT(I6,2)="불가","수리불가",IF(RIGHT(I6,1)="중","수리중","Other")))) -> 수리불가 | I6: 외주수리불가 | J6: B | K6: 2T1P | L6: =LEFT(K6,3) -> 2T1 | M6: SMT | N6: CM-780 | O6: N/A | P6: CONTOR 불량 | R6: 2 | S6: 8000 | T6: =(S6*50)/100*R6 -> 8000 | U6: 0 | V6: =T6-U6 -> 8000 | W6: 외주 | X6: 큐텍코리아 | Y6: 2 | Z6: =F6-E6 -> 50 | AA6: 장은철 | AC6: =U6/1100 -> 0
B7: =IF(F7>0,IFERROR(WEEKNUM(F7),""),"") -> 2 | C7: =IF(D7=0,"",(IF(LEFT(D7,3)="ATK","ATK",IF(LEFT(D7,2)="AT",D7,"ATK")))) -> ATP | D7: ATP | E7: 43809 | F7: 43836 | G7: =IF(F7>0,MONTH(F7),"") -> 1 | H7: =IF(I7=0,"",IF(RIGHT(I7,2)="완료","완료",IF(RIGHT(I7,2)="불가","수리불가",IF(RIGHT(I7,1)="중","수리중","Other")))) -> 완료 | I7: 수리완료 | J7: ATP | K7: ATP | L7: =LEFT(K7,3) -> ATP | M7: SOIC | N7: EDA3+ | O7: DA Board | P7: Sway marking and Pitching Alignment problem. | Q7: EDA3+C10-09-179 | R7: 1 | S7: 2320 | T7: =(S7*50)/100*R7 -> 1160 | U7: 10 | V7: =T7-U7 -> 1150 | W7: 자체 | Y7: 4 | Z7: =F7-E7 -> 27 | AA7: 장은철 | AC7: =U7/1100 -> 0.0090909091
B8: =IF(F8>0,IFERROR(WEEKNUM(F8),""),"") -> 2 | C8: =IF(D8=0,"",(IF(LEFT(D8,3)="ATK","ATK",IF(LEFT(D8,2)="AT",D8,"ATK")))) -> ATP | D8: ATP | E8: 43809 | F8: 43836 | G8: =IF(F8>0,MONTH(F8),"") -> 1 | H8: =IF(I8=0,"",IF(RIGHT(I8,2)="완료","완료",IF(RIGHT(I8,2)="불가","수리불가",IF(RIGHT(I8,1)="중","수리중","Other")))) -> 완료 | I8: 수리완료 | J8: ATP | K8: ATP | L8: =LEFT(K8,3) -> ATP | M8: SOIC | N8: n/a | O8: Scanner Board | P8: Sway marking and Unusual marking formation. | Q8: 8171607 | R8: 1 | S8: 8700 | T8: =(S8*50)/100*R8 -> 4350 | U8: 50 | V8: =T8-U8 -> 4300 | W8: 자체 | Y8: 4 | Z8: =F8-E8 -> 27 | AA8: 장은철 | AC8: =U8/1100 -> 0.045454545
B9: =IF(F9>0,IFERROR(WEEKNUM(F9),""),"") -> 6 | C9: =IF(D9=0,"",(IF(LEFT(D9,3)="ATK","ATK",IF(LEFT(D9,2)="AT",D9,"ATK")))) -> ATK | D9: 김효천 | E9: 43810 | F9: 43868 | G9: =IF(F9>0,MONTH(F9),"") -> 2 | H9: =IF(I9=0,"",IF(RIGHT(I9,2)="완료","완료",IF(RIGHT(I9,2)="불가","수리불가",IF(RIGHT(I9,1)="중","수리중","Other")))) -> 수리불가 | I9: 외주수리불가 | J9: B | K9: 2T1P | L9: =LEFT(K9,3) -> 2T1 | M9: SMT | N9: CM-780 | O9: N/A | P9: AL, EEE | R9: 1 | S9: 8000 | T9: =(S9*50)/100*R9 -> 4000 | U9: 0 | V9: =T9-U9 -> 4000 | W9: 외주 | X9: 큐텍코리아 | Y9: 1 | Z9: =F9-E9 -> 58 | AA9: 장은철 | AC9: =U9/1100 -> 0
B10: =IF(F10>0,IFERROR(WEEKNUM(F10),""),"") -> 2 | C10: =IF(D10=0,"",(IF(LEFT(D10,3)="ATK","ATK",IF(LEFT(D10,2)="AT",D10,"ATK")))) -> ATK | D10: 김전욱 | E10: 43818 | F10: 43838 | G10: =IF(F10>0,MONTH(F10),"") -> 1 | H10: =IF(I10=0,"",IF(RIGHT(I10,2)="완료","완료",IF(RIGHT(I10,2)="불가","수리불가",IF(RIGHT(I10,1)="중","수리중","Other")))) -> 완료 | I10: 수리완료 | J10: B | K10: 2T3P | L10: =LEFT(K10,3) -> 2T3 | M10: LS | N10: XGK-CPUS | O10: PLC CPU | R10: 1 | S10: 400 | T10: =(S10*50)/100*R10 -> 200 | U10: 5 | V10: =T10-U10 -> 195 | W10: 자체 | Y10: 1 | Z10: =F10-E10 -> 20 | AA10: 장은철 | AC10: =U10/1100 -> 0.0045454545
B11: =IF(F11>0,IFERROR(WEEKNUM(F11),""),"") -> 2 | C11: =IF(D11=0,"",(IF(LEFT(D11,3)="ATK","ATK",IF(LEFT(D11,2)="AT",D11,"ATK")))) -> ATK | D11: 김전욱 | E11: 43818 | F11: 43839 | G11: =IF(F11>0,MONTH(F11),"") -> 1 | H11: =IF(I11=0,"",IF(RIGHT(I11,2)="완료","완료",IF(RIGHT(I11,2)="불가","수리불가",IF(RIGHT(I11,1)="중","수리중","Other")))) -> 완료 | I11: 수리완료 | J11: B | K11: 2T3P | L11: =LEFT(K11,3) -> 2T3 | M11: LS | N11: XGL-CH2A | O11: CNET I/F | R11: 1 | S11: 300 | T11: =(S11*50)/100*R11 -> 150 | U11: 5 | V11: =T11-U11 -> 145 | W11: 자체 | Y11: 5 | Z11: =F11-E11 -> 21 | AA11: 장은철 | AC11: =U11/1100 -> 0.0045454545
B12: =IF(F12>0,IFERROR(WEEKNUM(F12),""),"") -> 3 | C12: =IF(D12=0,"",(IF(LEFT(D12,3)="ATK","ATK",IF(LEFT(D12,2)="AT",D12,"ATK")))) -> ATK | D12: 최경철 | E12: 43818 | F12: 43847 | G12: =IF(F12>0,MONTH(F12),"") -> 1 | H12: =IF(I12=0,"",IF(RIGHT(I12,2)="완료","완료",IF(RIGHT(I12,2)="불가","수리불가",IF(RIGHT(I12,1)="중","수리중","Other")))) -> 완료 | I12: 수리완료 | J12: EE | K12: EE1 | L12: =LEFT(K12,3) -> EE1 | M12: TCNCP | N12: AC SERVO DRIVER | O12: N/A | P12: E9 ERROR | R12: 1 | S12: 1200 | T12: =(S12*50)/100*R12 -> 600 | V12: =T12-U12 -> 600 | W12: 자체 | Y12: 3 | Z12: =F12-E12 -> 29 | AA12: 강영구 | AC12: =U12/1100 -> 0
B13: =IF(F13>0,IFERROR(WEEKNUM(F13),""),"") -> 2 | C13: =IF(D13=0,"",(IF(LEFT(D13,3)="ATK","ATK",IF(LEFT(D13,2)="AT",D13,"ATK")))) -> ATK | D13: 이영석 | E13: 43823 | F13: 43836 | G13: =IF(F13>0,MONTH(F13),"") -> 1 | H13: =IF(I13=0,"",IF(RIGHT(I13,2)="완료","완료",IF(RIGHT(I13,2)="불가","수리불가",IF(RIGHT(I13,1)="중","수리중","Other")))) -> 완료 | I13: 수리완료 | J13: F | K13: 5T1P | L13: =LEFT(K13,3) -> 5T1 | M13: IONIZER | N13: IPI322 | O13: IONIZER | P13: 이온값 불량 | R13: 2 | S13: 710 | T13: =(S13*50)/100*R13 -> 710 | U13: 75 | V13: =T13-U13 -> 635 | W13: 자체 | Y13: 4 | Z13: =F13-E13 -> 13 | AA13: 정기수 | AC13: =U13/1100 -> 0.068181818
B14: =IF(F14>0,IFERROR(WEEKNUM(F14),""),"") -> 2 | C14: =IF(D14=0,"",(IF(LEFT(D14,3)="ATK","ATK",IF(LEFT(D14,2)="AT",D14,"ATK")))) -> ATK | D14: 이정렬 | E14: 43823 | F14: 43837 | G14: =IF(F14>0,MONTH(F14),"") -> 1 | H14: =IF(I14=0,"",IF(RIGHT(I14,2)="완료","완료",IF(RIGHT(I14,2)="불가","수리불가",IF(RIGHT(I14,1)="중","수리중","Other")))) -> 완료 | I14: 수리완료 | J14: P | K14: 1T1P | L14: =LEFT(K14,3) -> 1T1 | M14: IONIZER | N14: IPI322 | O14: IONIZER | P14: 이온값 불량 | R14: 1 | S14: 710 | T14: =(S14*50)/100*R14 -> 355 | V14: =T14-U14 -> 355 | W14: 자체 | Y14: 2 | Z14: =F14-E14 -> 14 | AA14: 정기수 | AC14: =U14/1100 -> 0
B15: =IF(F15>0,IFERROR(WEEKNUM(F15),""),"") -> 1 | C15: =IF(D15=0,"",(IF(LEFT(D15,3)="ATK","ATK",IF(LEFT(D15,2)="AT",D15,"ATK")))) -> ATK | D15: 김재영 | E15: 43823 | F15: 43833 | G15: =IF(F15>0,MONTH(F15),"") -> 1 | H15: =IF(I15=0,"",IF(RIGHT(I15,2)="완료","완료",IF(RIGHT(I15,2)="불가","수리불가",IF(RIGHT(I15,1)="중","수리중","Other")))) -> 완료 | I15: 수리완료 | J15: A | K15: 1T4P | L15: =LEFT(K15,3) -> 1T4 | M15: IONIZER | N15: EMIT | O15: IONIZER | P15: 이온값 불량 | R15: 1 | S15: 1900 | T15: =(S15*50)/100*R15 -> 950 | U15: 0 | V15: =T15-U15 -> 950 | W15: 자체 | Y15: 3 | Z15: =F15-E15 -> 10 | AA15: 정기수 | AC15: =U15/1100 -> 0
B16: =IF(F16>0,IFERROR(WEEKNUM(F16),""),"") -> 4 | C16: =IF(D16=0,"",(IF(LEFT(D16,3)="ATK","ATK",IF(LEFT(D16,2)="AT",D16,"ATK")))) -> ATK | D16: 유창환 | E16: 43823 | F16: 43852 | G16: =IF(F16>0,MONTH(F16),"") -> 1 | H16: =IF(I16=0,"",IF(RIGHT(I16,2)="완료","완료",IF(RIGHT(I16,2)="불가","수리불가",IF(RIGHT(I16,1)="중","수리중","Other")))) -> 완료 | I16: 외주수리완료 | J16: C | K16: 2T3P | L16: =LEFT(K16,3) -> 2T3 | M16: APM MOLD | N16: Semisys | O16: 6K2 | R16: 1 | S16: 5000 | T16: =(S16*50)/100*R16 -> 2500 | U16: 1800 | V16: =T16-U16 -> 700 | W16: 외주 | X16: 큐텍코리아 | Y16: 1 | Z16: =F16-E16 -> 29 | AA16: 장은철 | AC16: =U16/1100 -> 1.6363636
B17: =IF(F17>0,IFERROR(WEEKNUM(F17),""),"") -> 4 | C17: =IF(D17=0,"",(IF(LEFT(D17,3)="ATK","ATK",IF(LEFT(D17,2)="AT",D17,"ATK")))) -> ATK | D17: 유창환 | E17: 43823 | F17: 43852 | G17: =IF(F17>0,MONTH(F17),"") -> 1 | H17: =IF(I17=0,"",IF(RIGHT(I17,2)="완료","완료",IF(RIGHT(I17,2)="불가","수리불가",IF(RIGHT(I17,1)="중","수리중","Other")))) -> 완료 | I17: 외주수리완료 | J17: C | K17: 2T3P | L17: =LEFT(K17,3) -> 2T3 | M17: APM MOLD | N17: Semisys | O17: 6K2 | R17: 1 | S17: 5000 | T17: =(S17*50)/100*R17 -> 2500 | U17: 1800 | V17: =T17-U17 -> 700 | W17: 외주 | X17: 큐텍코리아 | Y17: 1 | Z17: =F17-E17 -> 29 | AA17: 장은철 | AC17: =U17/1100 -> 1.6363636
B18: =IF(F18>0,IFERROR(WEEKNUM(F18),""),"") -> 25 | C18: =IF(D18=0,"",(IF(LEFT(D18,3)="ATK","ATK",IF(LEFT(D18,2)="AT",D18,"ATK")))) -> ATK | D18: 김선일 | E18: 43822 | F18: 44000 | G18: =IF(F18>0,MONTH(F18),"") -> 6 | H18: =IF(I18=0,"",IF(RIGHT(I18,2)="완료","완료",IF(RIGHT(I18,2)="불가","수리불가",IF(RIGHT(I18,1)="중","수리중","Other")))) -> 완료 | I18: 외주수리완료 | J18: C | K18: 3T4P | L18: =LEFT(K18,3) -> 3T4 | M18: TCNCP | N18: DBPB-2010 | O18: Heater control | R18: 1 | S18: 5000 | T18: =(S18*50)/100*R18 -> 2500 | U18: 1200 | V18: =T18-U18 -> 1300 | W18: 외주 | X18: 큐텍코리아 | Y18: 1 | Z18: =F18-E18 -> 178 | AA18: 장은철 | AC18: =U18/1100 -> 1.0909091
B19: =IF(F19>0,IFERROR(WEEKNUM(F19),""),"") -> 2 | C19: =IF(D19=0,"",(IF(LEFT(D19,3)="ATK","ATK",IF(LEFT(D19,2)="AT",D19,"ATK")))) -> ATK | D19: 박병주 | E19: 43825 | F19: 43837 | G19: =IF(F19>0,MONTH(F19),"") -> 1 | H19: =IF(I19=0,"",IF(RIGHT(I19,2)="완료","완료",IF(RIGHT(I19,2)="불가","수리불가",IF(RIGHT(I19,1)="중","수리중","Other")))) -> 완료 | I19: 수리완료 | J19: C | K19: 3T4P | L19: =LEFT(K19,3) -> 3T4 | M19: Monitor | N19: LCD 모니터 | O19: MONITOR | P19: 전원 안들어옴 | R19: 1 | S19: 500 | T19: =(S19*50)/100*R19 -> 250 | U19: 25 | V19: =T19-U19 -> 225 | W19: 자체 | Y19: 3 | Z19: =F19-E19 -> 12 | AA19: 정기수 | AC19: =U19/1100 -> 0.022727273
B20: =IF(F20>0,IFERROR(WEEKNUM(F20),""),"") -> 1 | C20: =IF(D20=0,"",(IF(LEFT(D20,3)="ATK","ATK",IF(LEFT(D20,2)="AT",D20,"ATK")))) -> ATK | D20: 김수호 | E20: 43832 | F20: 43832 | G20: =IF(F20>0,MONTH(F20),"") -> 1 | H20: =IF(I20=0,"",IF(RIGHT(I20,2)="완료","완료",IF(RIGHT(I20,2)="불가","수리불가",IF(RIGHT(I20,1)="중","수리중","Other")))) -> 완료 | I20: 수리완료 | J20: P | K20: 1T1P | L20: =LEFT(K20,3) -> 1T1 | M20: MONITOR | N20: SH-185W | O20: MONITOR | P20: 전원 안들어옴 | R20: 1 | S20: 450 | T20: =(S20*50)/100*R20 -> 225 | U20: 20 | V20: =T20-U20 -> 205 | W20: 자체 | Y20: 2 | Z20: =F20-E20 -> 0 | AA20: 정기수 | AC20: =U20/1100 -> 0.018181818
B21: =IF(F21>0,IFERROR(WEEKNUM(F21),""),"") -> 3 | C21: =IF(D21=0,"",(IF(LEFT(D21,3)="ATK","ATK",IF(LEFT(D21,2)="AT",D21,"ATK")))) -> ATK | D21: 정영춘 | E21: 43825 | F21: 43847 | G21: =IF(F21>0,MONTH(F21),"") -> 1 | H21: =IF(I21=0,"",IF(RIGHT(I21,2)="완료","완료",IF(RIGHT(I21,2)="불가","수리불가",IF(RIGHT(I21,1)="중","수리중","Other")))) -> 완료 | I21: 외주수리완료 | J21: A | K21: 1T2P | L21: =LEFT(K21,3) -> 1T2 | M21: W/B/G | N21: ushio | O21: uvcontroller | P21: braker off 됨 on 시 | R21: 1 | S21: 55000 | T21: =(S21*50)/100*R21 -> 27500 | U21: 50 | V21: =T21-U21 -> 27450 | W21: 외주 | X21: 기타 | Y21: 2 | Z21: =F21-E21 -> 22 | AA21: 강영구 | AC21: =U21/1100 -> 0.045454545
B22: =IF(F22>0,IFERROR(WEEKNUM(F22),""),"") -> 2 | C22: =IF(D22=0,"",(IF(LEFT(D22,3)="ATK","ATK",IF(LEFT(D22,2)="AT",D22,"ATK")))) -> ATK | D22: 김전욱 | E22: 43825 | F22: 43837 | G22: =IF(F22>0,MONTH(F22),"") -> 1 | H22: =IF(I22=0,"",IF(RIGHT(I22,2)="완료","완료",IF(RIGHT(I22,2)="불가","수리불가",IF(RIGHT(I22,1)="중","수리중","Other")))) -> 완료 | I22: 수리완료 | K22: 2T3P | L22: =LEFT(K22,3) -> 2T3 | M22: TCNCP | N22: VLPSV-02 TD | O22: AC SERVO | P22: # ERROR 통신 | R22: 1 | S22: 1500 | T22: =(S22*50)/100*R22 -> 750 | V22: =T22-U22 -> 750 | W22: 자체 | Y22: 2 | Z22: =F22-E22 -> 12 | AA22: 강영구 | AC22: =U22/1100 -> 0
B23: =IF(F23>0,IFERROR(WEEKNUM(F23),""),"") -> 2 | C23: =IF(D23=0,"",(IF(LEFT(D23,3)="ATK","ATK",IF(LEFT(D23,2)="AT",D23,"ATK")))) -> ATK | D23: 김전욱 | E23: 43825 | F23: 43838 | G23: =IF(F23>0,MONTH(F23),"") -> 1 | H23: =IF(I23=0,"",IF(RIGHT(I23,2)="완료","완료",IF(RIGHT(I23,2)="불가","수리불가",IF(RIGHT(I23,1)="중","수리중","Other")))) -> 완료 | I23: 수리완료 | J23: B | K23: 2T3P | L23: =LEFT(K23,3) -> 2T3 | M23: TCNCP | N23: MR-J2S-20A | O23: AC SERVO | P23: error 16 | R23: 1 | S23: 1000 | T23: =(S23*50)/100*R23 -> 500 | U23: 10 | V23: =T23-U23 -> 490 | W23: 자체 | Y23: 4 | Z23: =F23-E23 -> 13 | AA23: 강영구 | AC23: =U23/1100 -> 0.0090909091
B24: =IF(F24>0,IFERROR(WEEKNUM(F24),""),"") -> 3 | C24: =IF(D24=0,"",(IF(LEFT(D24,3)="ATK","ATK",IF(LEFT(D24,2)="AT",D24,"ATK")))) -> ATK | D24: 김남곤 | E24: 43826 | F24: 43846 | G24: =IF(F24>0,MONTH(F24),"") -> 1 | H24: =IF(I24=0,"",IF(RIGHT(I24,2)="완료","완료",IF(RIGHT(I24,2)="불가","수리불가",IF(RIGHT(I24,1)="중","수리중","Other")))) -> 완료 | I24: 수리완료 | K24: 5T1P | L24: =LEFT(K24,3) -> 5T1 | M24: F/C | N24: MR-J2S-40B-EE085 | O24: AC SERVO | P24: 특주로 1번 module out 2번 cap 극성 바뀜 3 7800 모두 교환/test 는 안됨 | R24: 3 | S24: 1500 | T24: =(S24*50)/100*R24 -> 2250 | V24: =T24-U24 -> 2250 | W24: 자체 | Y24: 8 | Z24: =F24-E24 -> 20 | AA24: 강영구 | AC24: =U24/1100 -> 0
B25: =IF(F25>0,IFERROR(WEEKNUM(F25),""),"") -> 1 | C25: =IF(D25=0,"",(IF(LEFT(D25,3)="ATK","ATK",IF(LEFT(D25,2)="AT",D25,"ATK")))) -> ATK | D25: 김재영 | E25: 43832 | F25: 43832 | G25: =IF(F25>0,MONTH(F25),"") -> 1 | H25: =IF(I25=0,"",IF(RIGHT(I25,2)="완료","완료",IF(RIGHT(I25,2)="불가","수리불가",IF(RIGHT(I25,1)="중","수리중","Other")))) -> 완료 | I25: 수리완료 | J25: A | K25: 1T4P | L25: =LEFT(K25,3) -> 1T4 | N25: DSLSA | O25: Vision B/D | P25: Vision 안보임 | R25: 1 | S25: 2900 | T25: =(S25*50)/100*R25 -> 1450 | U25: 160 | V25: =T25-U25 -> 1290 | W25: 자체 | Y25: 4 | Z25: =F25-E25 -> 0 | AA25: 장은철 | AC25: =U25/1100 -> 0.14545455
B26: =IF(F26>0,IFERROR(WEEKNUM(F26),""),"") -> 2 | C26: =IF(D26=0,"",(IF(LEFT(D26,3)="ATK","ATK",IF(LEFT(D26,2)="AT",D26,"ATK")))) -> ATK | D26: 이규한 | E26: 43822 | F26: 43837 | G26: =IF(F26>0,MONTH(F26),"") -> 1 | H26: =IF(I26=0,"",IF(RIGHT(I26,2)="완료","완료",IF(RIGHT(I26,2)="불가","수리불가",IF(RIGHT(I26,1)="중","수리중","Other")))) -> 완료 | I26: 수리완료 | J26: Bump | K26: Bump | L26: =LEFT(K26,3) -> Bum | M26: Bumping | N26: Touch Monitor(modify) | O26: LTM190ET01 | P26: Back Light Out | R26: 1 | S26: 1500 | T26: =(S26*50)/100*R26 -> 750 | U26: 10 | V26: =T26-U26 -> 740 | W26: 자체 | Y26: 6 | Z26: =F26-E26 -> 15 | AA26: 허준영 | AC26: =U26/1100 -> 0.0090909091
B27: =IF(F27>0,IFERROR(WEEKNUM(F27),""),"") -> 1 | C27: =IF(D27=0,"",(IF(LEFT(D27,3)="ATK","ATK",IF(LEFT(D27,2)="AT",D27,"ATK")))) -> ATK | D27: 한광식 | E27: 43813 | F27: 43832 | G27: =IF(F27>0,MONTH(F27),"") -> 1 | H27: =IF(I27=0,"",IF(RIGHT(I27,2)="완료","완료",IF(RIGHT(I27,2)="불가","수리불가",IF(RIGHT(I27,1)="중","수리중","Other")))) -> 완료 | I27: 수리완료 | J27: F | K27: 5T2P | L27: =LEFT(K27,3) -> 5T2 | M27: N/A | N27: UPS | O27: SMART-1500 | P27: Battery Burn, Connector Broken | R27: 1 | S27: 1500 | T27: =(S27*50)/100*R27 -> 750 | U27: 150 | V27: =T27-U27 -> 600 | W27: 자체 | Y27: 4 | Z27: =F27-E27 -> 19 | AA27: 허준영 | AC27: =U27/1100 -> 0.13636364
B28: =IF(F28>0,IFERROR(WEEKNUM(F28),""),"") -> 1 | C28: =IF(D28=0,"",(IF(LEFT(D28,3)="ATK","ATK",IF(LEFT(D28,2)="AT",D28,"ATK")))) -> ATK | D28: 백윤덕 | E28: 43832 | F28: 43832 | G28: =IF(F28>0,MONTH(F28),"") -> 1 | H28: =IF(I28=0,"",IF(RIGHT(I28,2)="완료","완료",IF(RIGHT(I28,2)="불가","수리불가",IF(RIGHT(I28,1)="중","수리중","Other")))) -> 완료 | I28: 수리완료 | J28: C | K28: 3T3P | L28: =LEFT(K28,3) -> 3T3 | M28: N/A | N28: System PC | O28: OPTIPLEX 780 | P28: Power Supply Out | R28: 1 | S28: 2000 | T28: =(S28*50)/100*R28 -> 1000 | U28: 100 | V28: =T28-U28 -> 900 | W28: 자체 | Y28: 4 | Z28: =F28-E28 -> 0 | AA28: 허준영 | AC28: =U28/1100 -> 0.090909091
B29: =IF(F29>0,IFERROR(WEEKNUM(F29),""),"") -> 1 | C29: =IF(D29=0,"",(IF(LEFT(D29,3)="ATK","ATK",IF(LEFT(D29,2)="AT",D29,"ATK")))) -> ATK | D29: 김재영 | E29: 43832 | F29: 43832 | G29: =IF(F29>0,MONTH(F29),"") -> 1 | H29: =IF(I29=0,"",IF(RIGHT(I29,2)="완료","완료",IF(RIGHT(I29,2)="불가","수리불가",IF(RIGHT(I29,1)="중","수리중","Other")))) -> 완료 | I29: 수리완료 | J29: A | K29: 1T4P | L29: =LEFT(K29,3) -> 1T4 | N29: ASD12C-C | O29: DRIVER | P29: ERROR 발생 | R29: 1 | S29: 1000 | T29: =(S29*50)/100*R29 -> 500 | V29: =T29-U29 -> 500 | W29: 자체 | Y29: 2 | Z29: =F29-E29 -> 0 | AA29: 강영구 | AC29: =U29/1100 -> 0
B30: =IF(F30>0,IFERROR(WEEKNUM(F30),""),"") -> 1 | C30: =IF(D30=0,"",(IF(LEFT(D30,3)="ATK","ATK",IF(LEFT(D30,2)="AT",D30,"ATK")))) -> ATK | D30: 이성곤 | E30: 43832 | F30: 43833 | G30: =IF(F30>0,MONTH(F30),"") -> 1 | H30: =IF(I30=0,"",IF(RIGHT(I30,2)="완료","완료",IF(RIGHT(I30,2)="불가","수리불가",IF(RIGHT(I30,1)="중","수리중","Other")))) -> 완료 | I30: 수리완료 | J30: K5 | L30: =LEFT(K30,3) | M30: Bumping | N30: SGDV-1R6A01B | O30: AC SERVO | P30: 전원 안들어옴 | R30: 2 | S30: 1000 | T30: =(S30*50)/100*R30 -> 1000 | V30: =T30-U30 -> 1000 | W30: 자체 | Y30: 8 | Z30: =F30-E30 -> 1 | AA30: 강영구 | AC30: =U30/1100 -> 0
B31: =IF(F31>0,IFERROR(WEEKNUM(F31),""),"") -> 1 | C31: =IF(D31=0,"",(IF(LEFT(D31,3)="ATK","ATK",IF(LEFT(D31,2)="AT",D31,"ATK")))) -> ATK | D31: 김광승 | E31: 43832 | F31: 43832 | G31: =IF(F31>0,MONTH(F31),"") -> 1 | H31: =IF(I31=0,"",IF(RIGHT(I31,2)="완료","완료",IF(RIGHT(I31,2)="불가","수리불가",IF(RIGHT(I31,1)="중","수리중","Other")))) -> 완료 | I31: 수리완료 | J31: A | K31: 1T1P | L31: =LEFT(K31,3) -> 1T1 | M31: EMC | N31: NTP10NF | O31: PC Type Monitor_NewT다 | P31: 화면 안나옴 / 백라이트 교체 | Q31: NTS14-2584 | R31: 1 | S31: 300 | T31: =(S31*50)/100*R31 -> 150 | U31: 10 | V31: =T31-U31 -> 140 | W31: 자체 | Y31: 4 | Z31: =F31-E31 -> 0 | AA31: 최준영 | AC31: =U31/1100 -> 0.0090909091
B32: =IF(F32>0,IFERROR(WEEKNUM(F32),""),"") -> 1 | C32: =IF(D32=0,"",(IF(LEFT(D32,3)="ATK","ATK",IF(LEFT(D32,2)="AT",D32,"ATK")))) -> ATK | D32: 박동진 | E32: 43832 | F32: 43832 | G32: =IF(F32>0,MONTH(F32),"") -> 1 | H32: =IF(I32=0,"",IF(RIGHT(I32,2)="완료","완료",IF(RIGHT(I32,2)="불가","수리불가",IF(RIGHT(I32,1)="중","수리중","Other")))) -> Other | I32: Other | J32: Other | K32: Other | L32: =LEFT(K32,3) -> Oth | M32: N/A | N32: 복지동 Speed Gate | O32: Remote & RF Controller 점검 | R32: 1 | S32: 0 | T32: =(S32*50)/100*R32 -> 0 | U32: 0 | V32: =T32-U32 -> 0 | W32: 자체 | Y32: 3 | Z32: =F32-E32 -> 0 | AA32: 장은철 | AC32: =U32/1100 -> 0
B33: =IF(F33>0,IFERROR(WEEKNUM(F33),""),"") -> 1 | C33: =IF(D33=0,"",(IF(LEFT(D33,3)="ATK","ATK",IF(LEFT(D33,2)="AT",D33,"ATK")))) -> ATK | D33: 박동진 | E33: 43832 | F33: 43832 | G33: =IF(F33>0,MONTH(F33),"") -> 1 | H33: =IF(I33=0,"",IF(RIGHT(I33,2)="완료","완료",IF(RIGHT(I33,2)="불가","수리불가",IF(RIGHT(I33,1)="중","수리중","Other")))) -> Other | I33: Other | J33: Other | K33: Other | L33: =LEFT(K33,3) -> Oth | M33: N/A | N33: 복지동 Speed Gate | O33: Remote & RF Controller 점검 | R33: 1 | S33: 0 | T33: =(S33*50)/100*R33 -> 0 | U33: 0 | V33: =T33-U33 -> 0 | W33: 자체 | Y33: 3 | Z33: =F33-E33 -> 0 | AA33: 허준영 | AC33: =U33/1100 -> 0
B34: =IF(F34>0,IFERROR(WEEKNUM(F34),""),"") -> 2 | C34: =IF(D34=0,"",(IF(LEFT(D34,3)="ATK","ATK",IF(LEFT(D34,2)="AT",D34,"ATK")))) -> ATK | D34: 안성환 | E34: 43832 | F34: 43836 | G34: =IF(F34>0,MONTH(F34),"") -> 1 | H34: =IF(I34=0,"",IF(RIGHT(I34,2)="완료","완료",IF(RIGHT(I34,2)="불가","수리불가",IF(RIGHT(I34,1)="중","수리중","Other")))) -> 완료 | I34: 수리완료 | J34: K5 | K34: K5 | L34: =LEFT(K34,3) -> K5 | M34: Bumping | N34: mr-j3-10b | O34: AC SERVO DRIVER | P34: error 32 발생 | R34: 1 | S34: 1000 | T34: =(S34*50)/100*R34 -> 500 | V34: =T34-U34 -> 500 | W34: 자체 | Y34: 8 | Z34: =F34-E34 -> 4 | AA34: 강영구 | AC34: =U34/1100 -> 0
B35: =IF(F35>0,IFERROR(WEEKNUM(F35),""),"") -> 1 | C35: =IF(D35=0,"",(IF(LEFT(D35,3)="ATK","ATK",IF(LEFT(D35,2)="AT",D35,"ATK")))) -> ATK | D35: 윤여삼 | E35: 43832 | F35: 43832 | G35: =IF(F35>0,MONTH(F35),"") -> 1 | H35: =IF(I35=0,"",IF(RIGHT(I35,2)="완료","완료",IF(RIGHT(I35,2)="불가","수리불가",IF(RIGHT(I35,1)="중","수리중","Other")))) -> 완료 | I35: 수리완료 | J35: A | K35: 1T3P | L35: =LEFT(K35,3) -> 1T3 | M35: wire bonding | N35: k&s iconn | O35: power supply assy | Q35: ka02065 | R35: 1 | S35: 3500 | T35: =(S35*50)/100*R35 -> 1750 | V35: =T35-U35 -> 1750 | W35: 자체 | Y35: 8 | Z35: =F35-E35 -> 0 | AA35: 박병대 | AC35: =U35/1100 -> 0
B36: =IF(F36>0,IFERROR(WEEKNUM(F36),""),"") -> 2 | C36: =IF(D36=0,"",(IF(LEFT(D36,3)="ATK","ATK",IF(LEFT(D36,2)="AT",D36,"ATK")))) -> ATK | D36: 조원종 | E36: 43833 | F36: 43837 | G36: =IF(F36>0,MONTH(F36),"") -> 1 | H36: =IF(I36=0,"",IF(RIGHT(I36,2)="완료","완료",IF(RIGHT(I36,2)="불가","수리불가",IF(RIGHT(I36,1)="중","수리중","Other")))) -> 완료 | I36: 수리완료 | J36: EE | K36: EE2 | L36: =LEFT(K36,3) -> EE2 | M36: DATACON | N36: ETEL | O36: DSCDP121-111-000 | R36: 2 | S36: 6000 | T36: =(S36*50)/100*R36 -> 6000 | U36: 10 | V36: =T36-U36 -> 5990 | W36: 자체 | Y36: 8 | Z36: =F36-E36 -> 4 | AA36: 허준영 | AC36: =U36/1100 -> 0.0090909091
B37: =IF(F37>0,IFERROR(WEEKNUM(F37),""),"") -> 1 | C37: =IF(D37=0,"",(IF(LEFT(D37,3)="ATK","ATK",IF(LEFT(D37,2)="AT",D37,"ATK")))) -> ATK | D37: 노동록 | E37: 43833 | F37: 43833 | G37: =IF(F37>0,MONTH(F37),"") -> 1 | H37: =IF(I37=0,"",IF(RIGHT(I37,2)="완료","완료",IF(RIGHT(I37,2)="불가","수리불가",IF(RIGHT(I37,1)="중","수리중","Other")))) -> 완료 | I37: 수리완료 | J37: C | K37: 3T4P | L37: =LEFT(K37,3) -> 3T4 | M37: TCNCP | N37: KEY LOADER | O37: N/A | P37: KEY 안눌림 | R37: 1 | S37: 700 | T37: =(S37*50)/100*R37 -> 350 | U37: 0 | V37: =T37-U37 -> 350 | W37: 자체 | Y37: 2 | Z37: =F37-E37 -> 0 | AA37: 정기수 | AC37: =U37/1100 -> 0
B38: =IF(F38>0,IFERROR(WEEKNUM(F38),""),"") -> 1 | C38: =IF(D38=0,"",(IF(LEFT(D38,3)="ATK","ATK",IF(LEFT(D38,2)="AT",D38,"ATK")))) -> ATK | D38: 김전욱 | E38: 43833 | F38: 43833 | G38: =IF(F38>0,MONTH(F38),"") -> 1 | H38: =IF(I38=0,"",IF(RIGHT(I38,2)="완료","완료",IF(RIGHT(I38,2)="불가","수리불가",IF(RIGHT(I38,1)="중","수리중","Other")))) -> 완료 | I38: 수리완료 | J38: B | K38: 2T3P | L38: =LEFT(K38,3) -> 2T3 | N38: mr-j2s-20a | O38: AC SERVO DRIVER | R38: 2 | S38: 1500 | T38: =(S38*50)/100*R38 -> 1500 | V38: =T38-U38 -> 1500 | W38: 자체 | Y38: 8 | Z38: =F38-E38 -> 0 | AA38: 박병대 | AC38: =U38/1100 -> 0
B39: =IF(F39>0,IFERROR(WEEKNUM(F39),""),"") -> 2 | C39: =IF(D39=0,"",(IF(LEFT(D39,3)="ATK","ATK",IF(LEFT(D39,2)="AT",D39,"ATK")))) -> ATK | D39: 이영석 | E39: 43833 | F39: 43837 | G39: =IF(F39>0,MONTH(F39),"") -> 1 | H39: =IF(I39=0,"",IF(RIGHT(I39,2)="완료","완료",IF(RIGHT(I39,2)="불가","수리불가",IF(RIGHT(I39,1)="중","수리중","Other")))) -> 완료 | I39: 수리완료 | J39: F | K39: 5T1P | L39: =LEFT(K39,3) -> 5T1 | M39: IONIZER | N39: IPI-362B | O39: IONIZER | P39: ION 값 불량 | R39: 1 | S39: 1892 | T39: =(S39*50)/100*R39 -> 946 | U39: 10 | V39: =T39-U39 -> 936 | W39: 자체 | Y39: 2 | Z39: =F39-E39 -> 4 | AA39: 최준영 | AC39: =U39/1100 -> 0.0090909091
B40: =IF(F40>0,IFERROR(WEEKNUM(F40),""),"") -> 2 | C40: =IF(D40=0,"",(IF(LEFT(D40,3)="ATK","ATK",IF(LEFT(D40,2)="AT",D40,"ATK")))) -> ATK | D40: 김영환 | E40: 43832 | F40: 43836 | G40: =IF(F40>0,MONTH(F40),"") -> 1 | H40: =IF(I40=0,"",IF(RIGHT(I40,2)="완료","완료",IF(RIGHT(I40,2)="불가","수리불가",IF(RIGHT(I40,1)="중","수리중","Other")))) -> 완료 | I40: 수리완료 | J40: C | K40: 3T3P | L40: =LEFT(K40,3) -> 3T3 | O40: AJINEXTEK SMC-2V02 | R40: 2 | S40: 600 | T40: =(S40*50)/100*R40 -> 600 | U40: 12 | V40: =T40-U40 -> 588 | W40: 자체 | Y40: 1 | Z40: =F40-E40 -> 4 | AA40: 장은철 | AC40: =U40/1100 -> 0.010909091
...

Sheet E-Board
B1: 2020 AAW E-Board Repair Count(Q'ty) & Cost Reduction
Q2: Currency | R2: K$ | T2: AWW Report Form | Y2: EXR | Z2: =R3 -> 1100
B3: *요청 수량기준 | Q3: EXR (\/$): | R3: 1100 | T3: *완료 건수기준 | Z3: By Count
B4: Month | C4: ATK | E4: ATP | G4: ATC | I4: ATT | K4: ATM | M4: ATJ | O4: ATEP | Q4: Total(Mon) | T4: Factory | U4: Request eBoard (Q'ty) | V4: Repair Success (Q'ty) | W4: Repair Impossible (Q'ty) | X4: Return Shipping (Q'ty) | Y4: Repair Ongoing (Q'ty) | Z4: R&M Cost Save (K$)
C5: Count | D5: Cost Save | E5: Count | F5: Cost Save | G5: Count | H5: Cost Save | I5: Count | J5: Cost Save | K5: Count | L5: Cost Save | M5: Count | N5: Cost Save | O5: Count | P5: Cost Save | Q5: Count | R5: cost save
B6: Jan. | C6: =SUMPRODUCT(SUMIFS(Daily!$R:$R,Daily!$G:$G,"1",Daily!$C:$C,"ATK",Daily!$I:$I,"수리완료")) + SUMPRODUCT(SUMIFS(Daily!$R:$R,Daily!$G:$G,"1",Daily!$C:$C,"ATK",Daily!$I:$I,"외주수리완료")) -> 145 | D6: =IF($R$2="K\",(SUMPRODUCT(SUMIFS(Daily!$V:$V,Daily!$G:$G,"1",Daily!$C:$C,"ATK",Daily!$I:$I,"수리완료")) + SUMPRODUCT(SUMIFS(Daily!$V:$V,Daily!$G:$G,"1",Daily!$C:$C,"ATK",Daily!$I:$I,"외주수리완료"))),(SUMPRODUCT(SUMIFS(Daily!$V:$V,Daily!$G:$G,"1",Daily!$C:$C,"ATK",Daily!$I:$I,"수리완료")) + SUMPRODUCT(SUMIFS(Daily!$V:$V,Daily!$G:$G,"1",Daily!$C:$C,"ATK",Daily!$I:$I,"외주수리완료")))/$R$3) -> 148.95273 | E6: =SUMIFS(Daily!$R:$R,Daily!$G:$G,1,Daily!$I:$I,{"수리완료"},Daily!$C:$C,"ATP")+SUMIFS(Daily!$R:$R,Daily!$G:$G,1,Daily!$I:$I,{"외주수리완료"},Daily!$C:$C,"ATP") -> 22 | F6: =IF($R$2="K\",SUMIFS(Daily!$V:$V,Daily!$G:$G,1,Daily!$I:$I,{"수리완료"},Daily!$C:$C,"ATP")+SUMIFS(Daily!$V:$V,Daily!$G:$G,1,Daily!$I:$I,{"외주수리완료"},Daily!$C:$C,"ATP"),(SUMIFS(Daily!$V:$V,Daily!$G:$G,1,Daily!$I:$I,{"수리완료"},Daily!$C:$C,"ATP")+SUMIFS(Daily!$V:$V,Daily!$G:$G,1,Daily!$I:$I,{"외주수리완료"},Daily!$C:$C,"ATP"))/$R$3) -> 17.235436 | G6: =SUMIFS(Daily!$R:$R,Daily!$G:$G,1,Daily!$I:$I,{"수리완료"},Daily!$C:$C,"ATC")+SUMIFS(Daily!$R:$R,Daily!$G:$G,1,Daily!$I:$I,{"외주수리완료"},Daily!$C:$C,"ATC") -> 0 | H6: =IF($R$2="K\",SUMIFS(Daily!$V:$V,Daily!$G:$G,1,Daily!$I:$I,{"수리완료"},Daily!$C:$C,"ATC")+SUMIFS(Daily!$V:$V,Daily!$G:$G,1,Daily!$I:$I,{"외주수리완료"},Daily!$C:$C,"ATC"),(SUMIFS(Daily!$V:$V,Daily!$G:$G,1,Daily!$I:$I,{"수리완료"},Daily!$C:$C,"ATC")+SUMIFS(Daily!$V:$V,Daily!$G:$G,1,Daily!$I:$I,{"외주수리완료"},Daily!$C:$C,"ATC"))/$R$3) -> 0 | I6: =SUMIFS(Daily!$R:$R,Daily!$G:$G,1,Daily!$I:$I,{"수리완료"},Daily!$C:$C,"ATT")+SUMIFS(Daily!$R:$R,Daily!$G:$G,1,Daily!$I:$I,{"외주수리완료"},Daily!$C:$C,"ATT") -> 0 | J6: =IF($R$2="K\",SUMIFS(Daily!$V:$V,Daily!$G:$G,1,Daily!$I:$I,{"수리완료"},Daily!$C:$C,"ATT")+SUMIFS(Daily!$V:$V,Daily!$G:$G,1,Daily!$I:$I,{"외주수리완료"},Daily!$C:$C,"ATT"),(SUMIFS(Daily!$V:$V,Daily!$G:$G,1,Daily!$I:$I,{"수리완료"},Daily!$C:$C,"ATT")+SUMIFS(Daily!$V:$V,Daily!$G:$G,1,Daily!$I:$I,{"외주수리완료"},Daily!$C:$C,"ATT"))/$R$3) -> 0 | K6: =SUMIFS(Daily!$R:$R,Daily!$G:$G,1,Daily!$I:$I,{"수리완료"},Daily!$C:$C,"ATM")+SUMIFS(Daily!$R:$R,Daily!$G:$G,1,Daily!$I:$I,{"외주수리완료"},Daily!$C:$C,"ATM") -> 0 | L6: =IF($R$2="K\",SUMIFS(Daily!$V:$V,Daily!$G:$G,1,Daily!$I:$I,{"수리완료"},Daily!$C:$C,"ATM")+SUMIFS(Daily!$V:$V,Daily!$G:$G,1,Daily!$I:$I,{"외주수리완료"},Daily!$C:$C,"ATM"),(SUMIFS(Daily!$V:$V,Daily!$G:$G,1,Daily!$I:$I,{"수리완료"},Daily!$C:$C,"ATM")+SUMIFS(Daily!$V:$V,Daily!$G:$G,1,Daily!$I:$I,{"외주수리완료"},Daily!$C:$C,"ATM"))/$R$3) -> 0 | M6: =SUMIFS(Daily!$R:$R,Daily!$G:$G,1,Daily!$I:$I,{"수리완료"},Daily!$C:$C,"ATJ")+SUMIFS(Daily!$R:$R,Daily!$G:$G,1,Daily!$I:$I,{"외주수리완료"},Daily!$C:$C,"ATJ") -> 0 | N6: =IF($R$2="K\",SUMIFS(Daily!$V:$V,Daily!$G:$G,1,Daily!$I:$I,{"수리완료"},Daily!$C:$C,"ATJ")+SUMIFS(Daily!$V:$V,Daily!$G:$G,1,Daily!$I:$I,{"외주수리완료"},Daily!$C:$C,"ATJ"),(SUMIFS(Daily!$V:$V,Daily!$G:$G,1,Daily!$I:$I,{"수리완료"},Daily!$C:$C,"ATJ")+SUMIFS(Daily!$V:$V,Daily!$G:$G,1,Daily!$I:$I,{"외주수리완료"},Daily!$C:$C,"ATJ"))/$R$3) -> 0 | O6: =SUMIFS(Daily!$R:$R,Daily!$G:$G,1,Daily!$I:$I,{"*수리완료"},Daily!$C:$C,"ATEP") -> 0 | P6: =IF($R$2="K\",SUMIFS(Daily!$V:$V,Daily!$G:$G,1,Daily!$I:$I,{"수리완료"},Daily!$C:$C,"ATEP")+SUMIFS(Daily!$V:$V,Daily!$G:$G,1,Daily!$I:$I,{"외주수리완료"},Daily!$C:$C,"ATEP"),(SUMIFS(Daily!$V:$V,Daily!$G:$G,1,Daily!$I:$I,{"수리완료"},Daily!$C:$C,"ATEP")+SUMIFS(Daily!$V:$V,Daily!$G:$G,1,Daily!$I:$I,{"외주수리완료"},Daily!$C:$C,"ATEP"))/$R$3) -> 0 | Q6: =C6+E6+G6+I6+K6+M6+O6 -> 167 | R6: =D6+F6+H6+J6+L6+N6+P6 -> 166.18816 | T6: ATK | U6: =COUNTIF(Daily!C:C, T6)-COUNTIFS(Daily!C:C, T6, Daily!I:I, "Other") -> 1577 | V6: =COUNTIFS(Daily!C:C, T6, Daily!I:I, "수리완료")+COUNTIFS(Daily!C:C, T6, Daily!I:I, "외주수리완료") -> 1503 | W6: =COUNTIFS(Daily!C:C, T6, Daily!I:I, "수리불가")+COUNTIFS(Daily!C:C, T6, Daily!I:I, "외주수리불가")+COUNTIFS(Daily!C:C, T6, Daily!I:I, "폐기") -> 74 | X6: 0 | Y6: =COUNTIFS(Daily!C:C, T6, Daily!I:I, "수리중")+COUNTIFS(Daily!C:C, T6, Daily!I:I, "외주수리중") -> 0 | Z6: =(SUMIFS(Daily!V:V, Daily!C:C, T6, Daily!I:I, "수리완료")+SUMIFS(Daily!V:V, Daily!C:C, T6, Daily!I:I, "외주수리완료"))/$Z$2 -> 1838.3355
B7: Feb. | C7: =SUMPRODUCT(SUMIFS(Daily!$R:$R,Daily!$G:$G,"2",Daily!$C:$C,"ATK",Daily!$I:$I,"수리완료")) + SUMPRODUCT(SUMIFS(Daily!$R:$R,Daily!$G:$G,"2",Daily!$C:$C,"ATK",Daily!$I:$I,"외주수리완료")) -> 153 | D7: =IF($R$2="K\",(SUMPRODUCT(SUMIFS(Daily!$V:$V,Daily!$G:$G,"2",Daily!$C:$C,"ATK",Daily!$I:$I,"수리완료")) + SUMPRODUCT(SUMIFS(Daily!$V:$V,Daily!$G:$G,"2",Daily!$C:$C,"ATK",Daily!$I:$I,"외주수리완료"))),(SUMPRODUCT(SUMIFS(Daily!$V:$V,Daily!$G:$G,"2",Daily!$C:$C,"ATK",Daily!$I:$I,"수리완료")) + SUMPRODUCT(SUMIFS(Daily!$V:$V,Daily!$G:$G,"2",Daily!$C:$C,"ATK",Daily!$I:$I,"외주수리완료")))/$R$3) -> 130.93182 | E7: =SUMIFS(Daily!$R:$R,Daily!$G:$G,2,Daily!$I:$I,{"수리완료"},Daily!$C:$C,"ATP")+SUMIFS(Daily!$R:$R,Daily!$G:$G,2,Daily!$I:$I,{"외주수리완료"},Daily!$C:$C,"ATP") -> 12 | F7: =IF($R$2="K\",SUMIFS(Daily!$V:$V,Daily!$G:$G,2,Daily!$I:$I,{"수리완료"},Daily!$C:$C,"ATP")+SUMIFS(Daily!$V:$V,Daily!$G:$G,2,Daily!$I:$I,{"외주수리완료"},Daily!$C:$C,"ATP"),(SUMIFS(Daily!$V:$V,Daily!$G:$G,2,Daily!$I:$I,{"수리완료"},Daily!$C:$C,"ATP")+SUMIFS(Daily!$V:$V,Daily!$G:$G,2,Daily!$I:$I,{"외주수리완료"},Daily!$C:$C,"ATP"))/$R$3) -> 13.375636 | G7: =SUMIFS(Daily!$R:$R,Daily!$G:$G,2,Daily!$I:$I,{"수리완료"},Daily!$C:$C,"ATC")+SUMIFS(Daily!$R:$R,Daily!$G:$G,2,Daily!$I:$I,{"외주수리완료"},Daily!$C:$C,"ATC") -> 0 | H7: =IF($R$2="K\",SUMIFS(Daily!$V:$V,Daily!$G:$G,2,Daily!$I:$I,{"수리완료"},Daily!$C:$C,"ATC")+SUMIFS(Daily!$V:$V,Daily!$G:$G,2,Daily!$I:$I,{"외주수리완료"},Daily!$C:$C,"ATC"),(SUMIFS(Daily!$V:$V,Daily!$G:$G,2,Daily!$I:$I,{"수리완료"},Daily!$C:$C,"ATC")+SUMIFS(Daily!$V:$V,Daily!$G:$G,2,Daily!$I:$I,{"외주수리완료"},Daily!$C:$C,"ATC"))/$R$3) -> 0 | I7: =SUMIFS(Daily!$R:$R,Daily!$G:$G,2,Daily!$I:$I,{"수리완료"},Daily!$C:$C,"ATT")+SUMIFS(Daily!$R:$R,Daily!$G:$G,2,Daily!$I:$I,{"외주수리완료"},Daily!$C:$C,"ATT") -> 0 | J7: =IF($R$2="K\",SUMIFS(Daily!$V:$V,Daily!$G:$G,2,Daily!$I:$I,{"수리완료"},Daily!$C:$C,"ATT")+SUMIFS(Daily!$V:$V,Daily!$G:$G,2,Daily!$I:$I,{"외주수리완료"},Daily!$C:$C,"ATT"),(SUMIFS(Daily!$V:$V,Daily!$G:$G,2,Daily!$I:$I,{"수리완료"},Daily!$C:$C,"ATT")+SUMIFS(Daily!$V:$V,Daily!$G:$G,2,Daily!$I:$I,{"외주수리완료"},Daily!$C:$C,"ATT"))/$R$3) -> 0 | K7: =SUMIFS(Daily!$R:$R,Daily!$G:$G,2,Daily!$I:$I,{"수리완료"},Daily!$C:$C,"ATM")+SUMIFS(Daily!$R:$R,Daily!$G:$G,2,Daily!$I:$I,{"외주수리완료"},Daily!$C:$C,"ATM") -> 0 | L7: =IF($R$2="K\",SUMIFS(Daily!$V:$V,Daily!$G:$G,2,Daily!$I:$I,{"수리완료"},Daily!$C:$C,"ATM")+SUMIFS(Daily!$V:$V,Daily!$G:$G,2,Daily!$I:$I,{"외주수리완료"},Daily!$C:$C,"ATM"),(SUMIFS(Daily!$V:$V,Daily!$G:$G,2,Daily!$I:$I,{"수리완료"},Daily!$C:$C,"ATM")+SUMIFS(Daily!$V:$V,Daily!$G:$G,2,Daily!$I:$I,{"외주수리완료"},Daily!$C:$C,"ATM"))/$R$3) -> 0 | M7: =SUMIFS(Daily!$R:$R,Daily!$G:$G,2,Daily!$I:$I,{"수리완료"},Daily!$C:$C,"ATJ")+SUMIFS(Daily!$R:$R,Daily!$G:$G,2,Daily!$I:$I,{"외주수리완료"},Daily!$C:$C,"ATJ") -> 0 | N7: =IF($R$2="K\",SUMIFS(Daily!$V:$V,Daily!$G:$G,2,Daily!$I:$I,{"수리완료"},Daily!$C:$C,"ATJ")+SUMIFS(Daily!$V:$V,Daily!$G:$G,2,Daily!$I:$I,{"외주수리완료"},Daily!$C:$C,"ATJ"),(SUMIFS(Daily!$V:$V,Daily!$G:$G,2,Daily!$I:$I,{"수리완료"},Daily!$C:$C,"ATJ")+SUMIFS(Daily!$V:$V,Daily!$G:$G,2,Daily!$I:$I,{"외주수리완료"},Daily!$C:$C,"ATJ"))/$R$3) -> 0 | O7: =SUMIFS(Daily!$R:$R,Daily!$G:$G,2,Daily!$I:$I,{"*수리완료"},Daily!$C:$C,"ATEP") -> 0 | P7: =IF($R$2="K\",SUMIFS(Daily!$V:$V,Daily!$G:$G,2,Daily!$I:$I,{"수리완료"},Daily!$C:$C,"ATEP")+SUMIFS(Daily!$V:$V,Daily!$G:$G,2,Daily!$I:$I,{"외주수리완료"},Daily!$C:$C,"ATEP"),(SUMIFS(Daily!$V:$V,Daily!$G:$G,2,Daily!$I:$I,{"수리완료"},Daily!$C:$C,"ATEP")+SUMIFS(Daily!$V:$V,Daily!$G:$G,2,Daily!$I:$I,{"외주수리완료"},Daily!$C:$C,"ATEP"))/$R$3) -> 0 | Q7: =C7+E7+G7+I7+K7+M7+O7 -> 165 | R7: =D7+F7+H7+J7+L7+N7+P7 -> 144.30745 | T7: ATP | U7: =COUNTIF(Daily!C:C, T7)-COUNTIFS(Daily!C:C, T7, Daily!I:I, "Other") -> 79 | V7: =COUNTIFS(Daily!C:C, T7, Daily!I:I, "수리완료")+COUNTIFS(Daily!C:C, T7, Daily!I:I, "외주수리완료") -> 68 | W7: =COUNTIFS(Daily!C:C, T7, Daily!I:I, "수리불가")+COUNTIFS(Daily!C:C, T7, Daily!I:I, "외주수리불가")+COUNTIFS(Daily!C:C, T7, Daily!I:I, "폐기") -> 11 | X7: 0 | Y7: =COUNTIFS(Daily!C:C, T7, Daily!I:I, "수리중")+COUNTIFS(Daily!C:C, T7, Daily!I:I, "외주수리중") -> 0 | Z7: =(SUMIFS(Daily!V:V, Daily!C:C, T7, Daily!I:I, "수리완료")+SUMIFS(Daily!V:V, Daily!C:C, T7, Daily!I:I, "외주수리완료"))/$Z$2 -> 75.397582
B8: Mar. | C8: =SUMPRODUCT(SUMIFS(Daily!$R:$R,Daily!$G:$G,"3",Daily!$C:$C,"ATK",Daily!$I:$I,"수리완료")) + SUMPRODUCT(SUMIFS(Daily!$R:$R,Daily!$G:$G,"3",Daily!$C:$C,"ATK",Daily!$I:$I,"외주수리완료")) -> 157 | D8: =IF($R$2="K\",(SUMPRODUCT(SUMIFS(Daily!$V:$V,Daily!$G:$G,"3",Daily!$C:$C,"ATK",Daily!$I:$I,"수리완료")) + SUMPRODUCT(SUMIFS(Daily!$V:$V,Daily!$G:$G,"3",Daily!$C:$C,"ATK",Daily!$I:$I,"외주수리완료"))),(SUMPRODUCT(SUMIFS(Daily!$V:$V,Daily!$G:$G,"3",Daily!$C:$C,"ATK",Daily!$I:$I,"수리완료")) + SUMPRODUCT(SUMIFS(Daily!$V:$V,Daily!$G:$G,"3",Daily!$C:$C,"ATK",Daily!$I:$I,"외주수리완료")))/$R$3) -> 127.31735 | E8: =SUMIFS(Daily!$R:$R,Daily!$G:$G,3,Daily!$I:$I,{"수리완료"},Daily!$C:$C,"ATP")+SUMIFS(Daily!$R:$R,Daily!$G:$G,3,Daily!$I:$I,{"외주수리완료"},Daily!$C:$C,"ATP") -> 6 | F8: =IF($R$2="K\",SUMIFS(Daily!$V:$V,Daily!$G:$G,3,Daily!$I:$I,{"수리완료"},Daily!$C:$C,"ATP")+SUMIFS(Daily!$V:$V,Daily!$G:$G,3,Daily!$I:$I,{"외주수리완료"},Daily!$C:$C,"ATP"),(SUMIFS(Daily!$V:$V,Daily!$G:$G,3,Daily!$I:$I,{"수리완료"},Daily!$C:$C,"ATP")+SUMIFS(Daily!$V:$V,Daily!$G:$G,3,Daily!$I:$I,{"외주수리완료"},Daily!$C:$C,"ATP"))/$R$3) -> 4.3381818 | G8: =SUMIFS(Daily!$R:$R,Daily!$G:$G,3,Daily!$I:$I,{"수리완료"},Daily!$C:$C,"ATC")+SUMIFS(Daily!$R:$R,Daily!$G:$G,3,Daily!$I:$I,{"외주수리완료"},Daily!$C:$C,"ATC") -> 0 | H8: =IF($R$2="K\",SUMIFS(Daily!$V:$V,Daily!$G:$G,3,Daily!$I:$I,{"수리완료"},Daily!$C:$C,"ATC")+SUMIFS(Daily!$V:$V,Daily!$G:$G,3,Daily!$I:$I,{"외주수리완료"},Daily!$C:$C,"ATC"),(SUMIFS(Daily!$V:$V,Daily!$G:$G,3,Daily!$I:$I,{"수리완료"},Daily!$C:$C,"ATC")+SUMIFS(Daily!$V:$V,Daily!$G:$G,3,Daily!$I:$I,{"외주수리완료"},Daily!$C:$C,"ATC"))/$R$3) -> 0 | I8: =SUMIFS(Daily!$R:$R,Daily!$G:$G,3,Daily!$I:$I,{"수리완료"},Daily!$C:$C,"ATT")+SUMIFS(Daily!$R:$R,Daily!$G:$G,3,Daily!$I:$I,{"외주수리완료"},Daily!$C:$C,"ATT") -> 0 | J8: =IF($R$2="K\",SUMIFS(Daily!$V:$V,Daily!$G:$G,3,Daily!$I:$I,{"수리완료"},Daily!$C:$C,"ATT")+SUMIFS(Daily!$V:$V,Daily!$G:$G,3,Daily!$I:$I,{"외주수리완료"},Daily!$C:$C,"ATT"),(SUMIFS(Daily!$V:$V,Daily!$G:$G,3,Daily!$I:$I,{"수리완료"},Daily!$C:$C,"ATT")+SUMIFS(Daily!$V:$V,Daily!$G:$G,3,Daily!$I:$I,{"외주수리완료"},Daily!$C:$C,"ATT"))/$R$3) -> 0 | K8: =SUMIFS(Daily!$R:$R,Daily!$G:$G,3,Daily!$I:$I,{"수리완료"},Daily!$C:$C,"ATM")+SUMIFS(Daily!$R:$R,Daily!$G:$G,3,Daily!$I:$I,{"외주수리완료"},Daily!$C:$C,"ATM") -> 0 | L8: =IF($R$2="K\",SUMIFS(Daily!$V:$V,Daily!$G:$G,3,Daily!$I:$I,{"수리완료"},Daily!$C:$C,"ATM")+SUMIFS(Daily!$V:$V,Daily!$G:$G,3,Daily!$I:$I,{"외주수리완료"},Daily!$C:$C,"ATM"),(SUMIFS(Daily!$V:$V,Daily!$G:$G,3,Daily!$I:$I,{"수리완료"},Daily!$C:$C,"ATM")+SUMIFS(Daily!$V:$V,Daily!$G:$G,3,Daily!$I:$I,{"외주수리완료"},Daily!$C:$C,"ATM"))/$R$3) -> 0 | M8: =SUMIFS(Daily!$R:$R,Daily!$G:$G,3,Daily!$I:$I,{"수리완료"},Daily!$C:$C,"ATJ")+SUMIFS(Daily!$R:$R,Daily!$G:$G,3,Daily!$I:$I,{"외주수리완료"},Daily!$C:$C,"ATJ") -> 0 | N8: =IF($R$2="K\",SUMIFS(Daily!$V:$V,Daily!$G:$G,3,Daily!$I:$I,{"수리완료"},Daily!$C:$C,"ATJ")+SUMIFS(Daily!$V:$V,Daily!$G:$G,3,Daily!$I:$I,{"외주수리완료"},Daily!$C:$C,"ATJ"),(SUMIFS(Daily!$V:$V,Daily!$G:$G,3,Daily!$I:$I,{"수리완료"},Daily!$C:$C,"ATJ")+SUMIFS(Daily!$V:$V,Daily!$G:$G,3,Daily!$I:$I,{"외주수리완료"},Daily!$C:$C,"ATJ"))/$R$3) -> 0 | O8: =SUMIFS(Daily!$R:$R,Daily!$G:$G,3,Daily!$I:$I,{"*수리완료"},Daily!$C:$C,"ATEP") -> 0 | P8: =IF($R$2="K\",SUMIFS(Daily!$V:$V,Daily!$G:$G,3,Daily!$I:$I,{"수리완료"},Daily!$C:$C,"ATEP")+SUMIFS(Daily!$V:$V,Daily!$G:$G,3,Daily!$I:$I,{"외주수리완료"},Daily!$C:$C,"ATEP"),(SUMIFS(Daily!$V:$V,Daily!$G:$G,3,Daily!$I:$I,{"수리완료"},Daily!$C:$C,"ATEP")+SUMIFS(Daily!$V:$V,Daily!$G:$G,3,Daily!$I:$I,{"외주수리완료"},Daily!$C:$C,"ATEP"))/$R$3) -> 0 | Q8: =C8+E8+G8+I8+K8+M8+O8 -> 163 | R8: =D8+F8+H8+J8+L8+N8+P8 -> 131.65553 | T8: ATT | U8: =COUNTIF(Daily!C:C, T8)-COUNTIFS(Daily!C:C, T8, Daily!I:I, "Other") -> 0 | V8: =COUNTIFS(Daily!C:C, T8, Daily!I:I, "수리완료")+COUNTIFS(Daily!C:C, T8, Daily!I:I, "외주수리완료") -> 0 | W8: =COUNTIFS(Daily!C:C, T8, Daily!I:I, "수리불가")+COUNTIFS(Daily!C:C, T8, Daily!I:I, "외주수리불가")+COUNTIFS(Daily!C:C, T8, Daily!I:I, "폐기") -> 0 | X8: 0 | Y8: =COUNTIFS(Daily!C:C, T8, Daily!I:I, "수리중")+COUNTIFS(Daily!C:C, T8, Daily!I:I, "외주수리중") -> 0 | Z8: =(SUMIFS(Daily!V:V, Daily!C:C, T8, Daily!I:I, "수리완료")+SUMIFS(Daily!V:V, Daily!C:C, T8, Daily!I:I, "외주수리완료"))/$Z$2 -> 0
B9: Apr. | C9: =SUMPRODUCT(SUMIFS(Daily!$R:$R,Daily!$G:$G,"4",Daily!$C:$C,"ATK",Daily!$I:$I,"수리완료")) + SUMPRODUCT(SUMIFS(Daily!$R:$R,Daily!$G:$G,"4",Daily!$C:$C,"ATK",Daily!$I:$I,"외주수리완료")) -> 167 | D9: =IF($R$2="K\",(SUMPRODUCT(SUMIFS(Daily!$V:$V,Daily!$G:$G,"4",Daily!$C:$C,"ATK",Daily!$I:$I,"수리완료")) + SUMPRODUCT(SUMIFS(Daily!$V:$V,Daily!$G:$G,"4",Daily!$C:$C,"ATK",Daily!$I:$I,"외주수리완료"))),(SUMPRODUCT(SUMIFS(Daily!$V:$V,Daily!$G:$G,"4",Daily!$C:$C,"ATK",Daily!$I:$I,"수리완료")) + SUMPRODUCT(SUMIFS(Daily!$V:$V,Daily!$G:$G,"4",Daily!$C:$C,"ATK",Daily!$I:$I,"외주수리완료")))/$R$3) -> 191.82636 | E9: =SUMIFS(Daily!$R:$R,Daily!$G:$G,4,Daily!$I:$I,{"수리완료"},Daily!$C:$C,"ATP")+SUMIFS(Daily!$R:$R,Daily!$G:$G,4,Daily!$I:$I,{"외주수리완료"},Daily!$C:$C,"ATP") -> 0 | F9: =IF($R$2="K\",SUMIFS(Daily!$V:$V,Daily!$G:$G,4,Daily!$I:$I,{"수리완료"},Daily!$C:$C,"ATP")+SUMIFS(Daily!$V:$V,Daily!$G:$G,4,Daily!$I:$I,{"외주수리완료"},Daily!$C:$C,"ATP"),(SUMIFS(Daily!$V:$V,Daily!$G:$G,4,Daily!$I:$I,{"수리완료"},Daily!$C:$C,"ATP")+SUMIFS(Daily!$V:$V,Daily!$G:$G,4,Daily!$I:$I,{"외주수리완료"},Daily!$C:$C,"ATP"))/$R$3) -> 0 | G9: =SUMIFS(Daily!$R:$R,Daily!$G:$G,4,Daily!$I:$I,{"수리완료"},Daily!$C:$C,"ATC")+SUMIFS(Daily!$R:$R,Daily!$G:$G,4,Daily!$I:$I,{"외주수리완료"},Daily!$C:$C,"ATC") -> 0 | H9: =IF($R$2="K\",SUMIFS(Daily!$V:$V,Daily!$G:$G,4,Daily!$I:$I,{"수리완료"},Daily!$C:$C,"ATC")+SUMIFS(Daily!$V:$V,Daily!$G:$G,4,Daily!$I:$I,{"외주수리완료"},Daily!$C:$C,"ATC"),(SUMIFS(Daily!$V:$V,Daily!$G:$G,4,Daily!$I:$I,{"수리완료"},Daily!$C:$C,"ATC")+SUMIFS(Daily!$V:$V,Daily!$G:$G,4,Daily!$I:$I,{"외주수리완료"},Daily!$C:$C,"ATC"))/$R$3) -> 0 | I9: =SUMIFS(Daily!$R:$R,Daily!$G:$G,4,Daily!$I:$I,{"수리완료"},Daily!$C:$C,"ATT")+SUMIFS(Daily!$R:$R,Daily!$G:$G,4,Daily!$I:$I,{"외주수리완료"},Daily!$C:$C,"ATT") -> 0 | J9: =IF($R$2="K\",SUMIFS(Daily!$V:$V,Daily!$G:$G,4,Daily!$I:$I,{"수리완료"},Daily!$C:$C,"ATT")+SUMIFS(Daily!$V:$V,Daily!$G:$G,4,Daily!$I:$I,{"외주수리완료"},Daily!$C:$C,"ATT"),(SUMIFS(Daily!$V:$V,Daily!$G:$G,4,Daily!$I:$I,{"수리완료"},Daily!$C:$C,"ATT")+SUMIFS(Daily!$V:$V,Daily!$G:$G,4,Daily!$I:$I,{"외주수리완료"},Daily!$C:$C,"ATT"))/$R$3) -> 0 | K9: =SUMIFS(Daily!$R:$R,Daily!$G:$G,4,Daily!$I:$I,{"수리완료"},Daily!$C:$C,"ATM")+SUMIFS(Daily!$R:$R,Daily!$G:$G,4,Daily!$I:$I,{"외주수리완료"},Daily!$C:$C,"ATM") -> 0 | L9: =IF($R$2="K\",SUMIFS(Daily!$V:$V,Daily!$G:$G,4,Daily!$I:$I,{"수리완료"},Daily!$C:$C,"ATM")+SUMIFS(Daily!$V:$V,Daily!$G:$G,4,Daily!$I:$I,{"외주수리완료"},Daily!$C:$C,"ATM"),(SUMIFS(Daily!$V:$V,Daily!$G:$G,4,Daily!$I:$I,{"수리완료"},Daily!$C:$C,"ATM")+SUMIFS(Daily!$V:$V,Daily!$G:$G,4,Daily!$I:$I,{"외주수리완료"},Daily!$C:$C,"ATM"))/$R$3) -> 0 | M9: =SUMIFS(Daily!$R:$R,Daily!$G:$G,4,Daily!$I:$I,{"수리완료"},Daily!$C:$C,"ATJ")+SUMIFS(Daily!$R:$R,Daily!$G:$G,4,Daily!$I:$I,{"외주수리완료"},Daily!$C:$C,"ATJ") -> 0 | N9: =IF($R$2="K\",SUMIFS(Daily!$V:$V,Daily!$G:$G,4,Daily!$I:$I,{"수리완료"},Daily!$C:$C,"ATJ")+SUMIFS(Daily!$V:$V,Daily!$G:$G,4,Daily!$I:$I,{"외주수리완료"},Daily!$C:$C,"ATJ"),(SUMIFS(Daily!$V:$V,Daily!$G:$G,4,Daily!$I:$I,{"수리완료"},Daily!$C:$C,"ATJ")+SUMIFS(Daily!$V:$V,Daily!$G:$G,4,Daily!$I:$I,{"외주수리완료"},Daily!$C:$C,"ATJ"))/$R$3) -> 0 | O9: =SUMIFS(Daily!$R:$R,Daily!$G:$G,4,Daily!$I:$I,{"*수리완료"},Daily!$C:$C,"ATEP") -> 0 | P9: =IF($R$2="K\",SUMIFS(Daily!$V:$V,Daily!$G:$G,4,Daily!$I:$I,{"수리완료"},Daily!$C:$C,"ATEP")+SUMIFS(Daily!$V:$V,Daily!$G:$G,4,Daily!$I:$I,{"외주수리완료"},Daily!$C:$C,"ATEP"),(SUMIFS(Daily!$V:$V,Daily!$G:$G,4,Daily!$I:$I,{"수리완료"},Daily!$C:$C,"ATEP")+SUMIFS(Daily!$V:$V,Daily!$G:$G,4,Daily!$I:$I,{"외주수리완료"},Daily!$C:$C,"ATEP"))/$R$3) -> 0 | Q9: =C9+E9+G9+I9+K9+M9+O9 -> 167 | R9: =D9+F9+H9+J9+L9+N9+P9 -> 191.82636 | T9: ATC | U9: =COUNTIF(Daily!C:C, T9)-COUNTIFS(Daily!C:C, T9, Daily!I:I, "Other") -> 1 | V9: =COUNTIFS(Daily!C:C, T9, Daily!I:I, "수리완료")+COUNTIFS(Daily!C:C, T9, Daily!I:I, "외주수리완료") -> 1 | W9: =COUNTIFS(Daily!C:C, T9, Daily!I:I, "수리불가")+COUNTIFS(Daily!C:C, T9, Daily!I:I, "외주수리불가")+COUNTIFS(Daily!C:C, T9, Daily!I:I, "폐기") -> 0 | X9: 0 | Y9: =COUNTIFS(Daily!C:C, T9, Daily!I:I, "수리중")+COUNTIFS(Daily!C:C, T9, Daily!I:I, "외주수리중") -> 0 | Z9: =(SUMIFS(Daily!V:V, Daily!C:C, T9, Daily!I:I, "수리완료")+SUMIFS(Daily!V:V, Daily!C:C, T9, Daily!I:I, "외주수리완료"))/$Z$2 -> 3.6272727
B10: May | C10: =SUMPRODUCT(SUMIFS(Daily!$R:$R,Daily!$G:$G,"5",Daily!$C:$C,"ATK",Daily!$I:$I,"수리완료")) + SUMPRODUCT(SUMIFS(Daily!$R:$R,Daily!$G:$G,"5",Daily!$C:$C,"ATK",Daily!$I:$I,"외주수리완료")) -> 156 | D10: =IF($R$2="K\",(SUMPRODUCT(SUMIFS(Daily!$V:$V,Daily!$G:$G,"5",Daily!$C:$C,"ATK",Daily!$I:$I,"수리완료")) + SUMPRODUCT(SUMIFS(Daily!$V:$V,Daily!$G:$G,"5",Daily!$C:$C,"ATK",Daily!$I:$I,"외주수리완료"))),(SUMPRODUCT(SUMIFS(Daily!$V:$V,Daily!$G:$G,"5",Daily!$C:$C,"ATK",Daily!$I:$I,"수리완료")) + SUMPRODUCT(SUMIFS(Daily!$V:$V,Daily!$G:$G,"5",Daily!$C:$C,"ATK",Daily!$I:$I,"외주수리완료")))/$R$3) -> 125.60045 | E10: =SUMIFS(Daily!$R:$R,Daily!$G:$G,5,Daily!$I:$I,{"수리완료"},Daily!$C:$C,"ATP")+SUMIFS(Daily!$R:$R,Daily!$G:$G,5,Daily!$I:$I,{"외주수리완료"},Daily!$C:$C,"ATP") -> 0 | F10: =IF($R$2="K\",SUMIFS(Daily!$V:$V,Daily!$G:$G,5,Daily!$I:$I,{"수리완료"},Daily!$C:$C,"ATP")+SUMIFS(Daily!$V:$V,Daily!$G:$G,5,Daily!$I:$I,{"외주수리완료"},Daily!$C:$C,"ATP"),(SUMIFS(Daily!$V:$V,Daily!$G:$G,5,Daily!$I:$I,{"수리완료"},Daily!$C:$C,"ATP")+SUMIFS(Daily!$V:$V,Daily!$G:$G,5,Daily!$I:$I,{"외주수리완료"},Daily!$C:$C,"ATP"))/$R$3) -> 0 | G10: =SUMIFS(Daily!$R:$R,Daily!$G:$G,5,Daily!$I:$I,{"수리완료"},Daily!$C:$C,"ATC")+SUMIFS(Daily!$R:$R,Daily!$G:$G,5,Daily!$I:$I,{"외주수리완료"},Daily!$C:$C,"ATC") -> 0 | H10: =IF($R$2="K\",SUMIFS(Daily!$V:$V,Daily!$G:$G,5,Daily!$I:$I,{"수리완료"},Daily!$C:$C,"ATC")+SUMIFS(Daily!$V:$V,Daily!$G:$G,5,Daily!$I:$I,{"외주수리완료"},Daily!$C:$C,"ATC"),(SUMIFS(Daily!$V:$V,Daily!$G:$G,5,Daily!$I:$I,{"수리완료"},Daily!$C:$C,"ATC")+SUMIFS(Daily!$V:$V,Daily!$G:$G,5,Daily!$I:$I,{"외주수리완료"},Daily!$C:$C,"ATC"))/$R$3) -> 0 | I10: =SUMIFS(Daily!$R:$R,Daily!$G:$G,5,Daily!$I:$I,{"수리완료"},Daily!$C:$C,"ATT")+SUMIFS(Daily!$R:$R,Daily!$G:$G,5,Daily!$I:$I,{"외주수리완료"},Daily!$C:$C,"ATT") -> 0 | J10: =IF($R$2="K\",SUMIFS(Daily!$V:$V,Daily!$G:$G,5,Daily!$I:$I,{"수리완료"},Daily!$C:$C,"ATT")+SUMIFS(Daily!$V:$V,Daily!$G:$G,5,Daily!$I:$I,{"외주수리완료"},Daily!$C:$C,"ATT"),(SUMIFS(Daily!$V:$V,Daily!$G:$G,5,Daily!$I:$I,{"수리완료"},Daily!$C:$C,"ATT")+SUMIFS(Daily!$V:$V,Daily!$G:$G,5,Daily!$I:$I,{"외주수리완료"},Daily!$C:$C,"ATT"))/$R$3) -> 0 | K10: =SUMIFS(Daily!$R:$R,Daily!$G:$G,5,Daily!$I:$I,{"수리완료"},Daily!$C:$C,"ATM")+SUMIFS(Daily!$R:$R,Daily!$G:$G,5,Daily!$I:$I,{"외주수리완료"},Daily!$C:$C,"ATM") -> 0 | L10: =IF($R$2="K\",SUMIFS(Daily!$V:$V,Daily!$G:$G,5,Daily!$I:$I,{"수리완료"},Daily!$C:$C,"ATM")+SUMIFS(Daily!$V:$V,Daily!$G:$G,5,Daily!$I:$I,{"외주수리완료"},Daily!$C:$C,"ATM"),(SUMIFS(Daily!$V:$V,Daily!$G:$G,5,Daily!$I:$I,{"수리완료"},Daily!$C:$C,"ATM")+SUMIFS(Daily!$V:$V,Daily!$G:$G,5,Daily!$I:$I,{"외주수리완료"},Daily!$C:$C,"ATM"))/$R$3) -> 0 | M10: =SUMIFS(Daily!$R:$R,Daily!$G:$G,5,Daily!$I:$I,{"수리완료"},Daily!$C:$C,"ATJ")+SUMIFS(Daily!$R:$R,Daily!$G:$G,5,Daily!$I:$I,{"외주수리완료"},Daily!$C:$C,"ATJ") -> 0 | N10: =IF($R$2="K\",SUMIFS(Daily!$V:$V,Daily!$G:$G,5,Daily!$I:$I,{"수리완료"},Daily!$C:$C,"ATJ")+SUMIFS(Daily!$V:$V,Daily!$G:$G,5,Daily!$I:$I,{"외주수리완료"},Daily!$C:$C,"ATJ"),(SUMIFS(Daily!$V:$V,Daily!$G:$G,5,Daily!$I:$I,{"수리완료"},Daily!$C:$C,"ATJ")+SUMIFS(Daily!$V:$V,Daily!$G:$G,5,Daily!$I:$I,{"외주수리완료"},Daily!$C:$C,"ATJ"))/$R$3) -> 0 | O10: =SUMIFS(Daily!$R:$R,Daily!$G:$G,5,Daily!$I:$I,{"*수리완료"},Daily!$C:$C,"ATEP") -> 3 | P10: =IF($R$2="K\",SUMIFS(Daily!$V:$V,Daily!$G:$G,5,Daily!$I:$I,{"수리완료"},Daily!$C:$C,"ATEP")+SUMIFS(Daily!$V:$V,Daily!$G:$G,5,Daily!$I:$I,{"외주수리완료"},Daily!$C:$C,"ATEP"),(SUMIFS(Daily!$V:$V,Daily!$G:$G,5,Daily!$I:$I,{"수리완료"},Daily!$C:$C,"ATEP")+SUMIFS(Daily!$V:$V,Daily!$G:$G,5,Daily!$I:$I,{"외주수리완료"},Daily!$C:$C,"ATEP"))/$R$3) -> 9.3504545 | Q10: =C10+E10+G10+I10+K10+M10+O10 -> 159 | R10: =D10+F10+H10+J10+L10+N10+P10 -> 134.95091 | T10: ATM | U10: =COUNTIF(Daily!C:C, T10)-COUNTIFS(Daily!C:C, T10, Daily!I:I, "Other") -> 0 | V10: =COUNTIFS(Daily!C:C, T10, Daily!I:I, "수리완료")+COUNTIFS(Daily!C:C, T10, Daily!I:I, "외주수리완료") -> 0 | W10: =COUNTIFS(Daily!C:C, T10, Daily!I:I, "수리불가")+COUNTIFS(Daily!C:C, T10, Daily!I:I, "외주수리불가")+COUNTIFS(Daily!C:C, T10, Daily!I:I, "폐기") -> 0 | X10: 0 | Y10: =COUNTIFS(Daily!C:C, T10, Daily!I:I, "수리중")+COUNTIFS(Daily!C:C, T10, Daily!I:I, "외주수리중") -> 0 | Z10: =(SUMIFS(Daily!V:V, Daily!C:C, T10, Daily!I:I, "수리완료")+SUMIFS(Daily!V:V, Daily!C:C, T10, Daily!I:I, "외주수리완료"))/$Z$2 -> 0
B11: Jun. | C11: =SUMPRODUCT(SUMIFS(Daily!$R:$R,Daily!$G:$G,"6",Daily!$C:$C,"ATK",Daily!$I:$I,"수리완료")) + SUMPRODUCT(SUMIFS(Daily!$R:$R,Daily!$G:$G,"6",Daily!$C:$C,"ATK",Daily!$I:$I,"외주수리완료")) -> 164 | D11: =IF($R$2="K\",(SUMPRODUCT(SUMIFS(Daily!$V:$V,Daily!$G:$G,"6",Daily!$C:$C,"ATK",Daily!$I:$I,"수리완료")) + SUMPRODUCT(SUMIFS(Daily!$V:$V,Daily!$G:$G,"6",Daily!$C:$C,"ATK",Daily!$I:$I,"외주수리완료"))),(SUMPRODUCT(SUMIFS(Daily!$V:$V,Daily!$G:$G,"6",Daily!$C:$C,"ATK",Daily!$I:$I,"수리완료")) + SUMPRODUCT(SUMIFS(Daily!$V:$V,Daily!$G:$G,"6",Daily!$C:$C,"ATK",Daily!$I:$I,"외주수리완료")))/$R$3) -> 231.89182 | E11: =SUMIFS(Daily!$R:$R,Daily!$G:$G,6,Daily!$I:$I,{"수리완료"},Daily!$C:$C,"ATP")+SUMIFS(Daily!$R:$R,Daily!$G:$G,6,Daily!$I:$I,{"외주수리완료"},Daily!$C:$C,"ATP") -> 3 | F11: =IF($R$2="K\",SUMIFS(Daily!$V:$V,Daily!$G:$G,6,Daily!$I:$I,{"수리완료"},Daily!$C:$C,"ATP")+SUMIFS(Daily!$V:$V,Daily!$G:$G,6,Daily!$I:$I,{"외주수리완료"},Daily!$C:$C,"ATP"),(SUMIFS(Daily!$V:$V,Daily!$G:$G,6,Daily!$I:$I,{"수리완료"},Daily!$C:$C,"ATP")+SUMIFS(Daily!$V:$V,Daily!$G:$G,6,Daily!$I:$I,{"외주수리완료"},Daily!$C:$C,"ATP"))/$R$3) -> 3.8772727 | G11: =SUMIFS(Daily!$R:$R,Daily!$G:$G,6,Daily!$I:$I,{"수리완료"},Daily!$C:$C,"ATC")+SUMIFS(Daily!$R:$R,Daily!$G:$G,6,Daily!$I:$I,{"외주수리완료"},Daily!$C:$C,"ATC") -> 0 | H11: =IF($R$2="K\",SUMIFS(Daily!$V:$V,Daily!$G:$G,6,Daily!$I:$I,{"수리완료"},Daily!$C:$C,"ATC")+SUMIFS(Daily!$V:$V,Daily!$G:$G,6,Daily!$I:$I,{"외주수리완료"},Daily!$C:$C,"ATC"),(SUMIFS(Daily!$V:$V,Daily!$G:$G,6,Daily!$I:$I,{"수리완료"},Daily!$C:$C,"ATC")+SUMIFS(Daily!$V:$V,Daily!$G:$G,6,Daily!$I:$I,{"외주수리완료"},Daily!$C:$C,"ATC"))/$R$3) -> 0 | I11: =SUMIFS(Daily!$R:$R,Daily!$G:$G,6,Daily!$I:$I,{"수리완료"},Daily!$C:$C,"ATT")+SUMIFS(Daily!$R:$R,Daily!$G:$G,6,Daily!$I:$I,{"외주수리완료"},Daily!$C:$C,"ATT") -> 0 | J11: =IF($R$2="K\",SUMIFS(Daily!$V:$V,Daily!$G:$G,6,Daily!$I:$I,{"수리완료"},Daily!$C:$C,"ATT")+SUMIFS(Daily!$V:$V,Daily!$G:$G,6,Daily!$I:$I,{"외주수리완료"},Daily!$C:$C,"ATT"),(SUMIFS(Daily!$V:$V,Daily!$G:$G,6,Daily!$I:$I,{"수리완료"},Daily!$C:$C,"ATT")+SUMIFS(Daily!$V:$V,Daily!$G:$G,6,Daily!$I:$I,{"외주수리완료"},Daily!$C:$C,"ATT"))/$R$3) -> 0 | K11: =SUMIFS(Daily!$R:$R,Daily!$G:$G,6,Daily!$I:$I,{"수리완료"},Daily!$C:$C,"ATM")+SUMIFS(Daily!$R:$R,Daily!$G:$G,6,Daily!$I:$I,{"외주수리완료"},Daily!$C:$C,"ATM") -> 0 | L11: =IF($R$2="K\",SUMIFS(Daily!$V:$V,Daily!$G:$G,6,Daily!$I:$I,{"수리완료"},Daily!$C:$C,"ATM")+SUMIFS(Daily!$V:$V,Daily!$G:$G,6,Daily!$I:$I,{"외주수리완료"},Daily!$C:$C,"ATM"),(SUMIFS(Daily!$V:$V,Daily!$G:$G,6,Daily!$I:$I,{"수리완료"},Daily!$C:$C,"ATM")+SUMIFS(Daily!$V:$V,Daily!$G:$G,6,Daily!$I:$I,{"외주수리완료"},Daily!$C:$C,"ATM"))/$R$3) -> 0 | M11: =SUMIFS(Daily!$R:$R,Daily!$G:$G,6,Daily!$I:$I,{"수리완료"},Daily!$C:$C,"ATJ")+SUMIFS(Daily!$R:$R,Daily!$G:$G,6,Daily!$I:$I,{"외주수리완료"},Daily!$C:$C,"ATJ") -> 0 | N11: =IF($R$2="K\",SUMIFS(Daily!$V:$V,Daily!$G:$G,6,Daily!$I:$I,{"수리완료"},Daily!$C:$C,"ATJ")+SUMIFS(Daily!$V:$V,Daily!$G:$G,6,Daily!$I:$I,{"외주수리완료"},Daily!$C:$C,"ATJ"),(SUMIFS(Daily!$V:$V,Daily!$G:$G,6,Daily!$I:$I,{"수리완료"},Daily!$C:$C,"ATJ")+SUMIFS(Daily!$V:$V,Daily!$G:$G,6,Daily!$I:$I,{"외주수리완료"},Daily!$C:$C,"ATJ"))/$R$3) -> 0 | O11: =SUMIFS(Daily!$R:$R,Daily!$G:$G,6,Daily!$I:$I,{"*수리완료"},Daily!$C:$C,"ATEP") -> 0 | P11: =IF($R$2="K\",SUMIFS(Daily!$V:$V,Daily!$G:$G,6,Daily!$I:$I,{"수리완료"},Daily!$C:$C,"ATEP")+SUMIFS(Daily!$V:$V,Daily!$G:$G,6,Daily!$I:$I,{"외주수리완료"},Daily!$C:$C,"ATEP"),(SUMIFS(Daily!$V:$V,Daily!$G:$G,6,Daily!$I:$I,{"수리완료"},Daily!$C:$C,"ATEP")+SUMIFS(Daily!$V:$V,Daily!$G:$G,6,Daily!$I:$I,{"외주수리완료"},Daily!$C:$C,"ATEP"))/$R$3) -> 0 | Q11: =C11+E11+G11+I11+K11+M11+O11 -> 167 | R11: =D11+F11+H11+J11+L11+N11+P11 -> 235.76909 | T11: ATEP | U11: =COUNTIF(Daily!C:C, T11)-COUNTIFS(Daily!C:C, T11, Daily!I:I, "Other") -> 3 | V11: =COUNTIFS(Daily!C:C, T11, Daily!I:I, "수리완료")+COUNTIFS(Daily!C:C, T11, Daily!I:I, "외주수리완료") -> 3 | W11: =COUNTIFS(Daily!C:C, T11, Daily!I:I, "수리불가")+COUNTIFS(Daily!C:C, T11, Daily!I:I, "외주수리불가")+COUNTIFS(Daily!C:C, T11, Daily!I:I, "폐기") -> 0 | X11: 0 | Y11: =COUNTIFS(Daily!C:C, T11, Daily!I:I, "수리중")+COUNTIFS(Daily!C:C, T11, Daily!I:I, "외주수리중") -> 0 | Z11: =(SUMIFS(Daily!V:V, Daily!C:C, T11, Daily!I:I, "수리완료")+SUMIFS(Daily!V:V, Daily!C:C, T11, Daily!I:I, "외주수리완료"))/$Z$2 -> 9.3504545
B12: Jul | C12: =SUMPRODUCT(SUMIFS(Daily!$R:$R,Daily!$G:$G,"7",Daily!$C:$C,"ATK",Daily!$I:$I,"수리완료")) + SUMPRODUCT(SUMIFS(Daily!$R:$R,Daily!$G:$G,"7",Daily!$C:$C,"ATK",Daily!$I:$I,"외주수리완료")) -> 208 | D12: =IF($R$2="K\",(SUMPRODUCT(SUMIFS(Daily!$V:$V,Daily!$G:$G,"7",Daily!$C:$C,"ATK",Daily!$I:$I,"수리완료")) + SUMPRODUCT(SUMIFS(Daily!$V:$V,Daily!$G:$G,"7",Daily!$C:$C,"ATK",Daily!$I:$I,"외주수리완료"))),(SUMPRODUCT(SUMIFS(Daily!$V:$V,Daily!$G:$G,"7",Daily!$C:$C,"ATK",Daily!$I:$I,"수리완료")) + SUMPRODUCT(SUMIFS(Daily!$V:$V,Daily!$G:$G,"7",Daily!$C:$C,"ATK",Daily!$I:$I,"외주수리완료")))/$R$3) -> 150.79955 | E12: =SUMIFS(Daily!$R:$R,Daily!$G:$G,7,Daily!$I:$I,{"수리완료"},Daily!$C:$C,"ATP")+SUMIFS(Daily!$R:$R,Daily!$G:$G,7,Daily!$I:$I,{"외주수리완료"},Daily!$C:$C,"ATP") -> 7 | F12: =IF($R$2="K\",SUMIFS(Daily!$V:$V,Daily!$G:$G,7,Daily!$I:$I,{"수리완료"},Daily!$C:$C,"ATP")+SUMIFS(Daily!$V:$V,Daily!$G:$G,7,Daily!$I:$I,{"외주수리완료"},Daily!$C:$C,"ATP"),(SUMIFS(Daily!$V:$V,Daily!$G:$G,7,Daily!$I:$I,{"수리완료"},Daily!$C:$C,"ATP")+SUMIFS(Daily!$V:$V,Daily!$G:$G,7,Daily!$I:$I,{"외주수리완료"},Daily!$C:$C,"ATP"))/$R$3) -> 10.472727 | G12: =SUMIFS(Daily!$R:$R,Daily!$G:$G,7,Daily!$I:$I,{"수리완료"},Daily!$C:$C,"ATC")+SUMIFS(Daily!$R:$R,Daily!$G:$G,7,Daily!$I:$I,{"외주수리완료"},Daily!$C:$C,"ATC") -> 0 | H12: =IF($R$2="K\",SUMIFS(Daily!$V:$V,Daily!$G:$G,7,Daily!$I:$I,{"수리완료"},Daily!$C:$C,"ATC")+SUMIFS(Daily!$V:$V,Daily!$G:$G,7,Daily!$I:$I,{"외주수리완료"},Daily!$C:$C,"ATC"),(SUMIFS(Daily!$V:$V,Daily!$G:$G,7,Daily!$I:$I,{"수리완료"},Daily!$C:$C,"ATC")+SUMIFS(Daily!$V:$V,Daily!$G:$G,7,Daily!$I:$I,{"외주수리완료"},Daily!$C:$C,"ATC"))/$R$3) -> 0 | I12: =SUMIFS(Daily!$R:$R,Daily!$G:$G,7,Daily!$I:$I,{"수리완료"},Daily!$C:$C,"ATT")+SUMIFS(Daily!$R:$R,Daily!$G:$G,7,Daily!$I:$I,{"외주수리완료"},Daily!$C:$C,"ATT") -> 0 | J12: =IF($R$2="K\",SUMIFS(Daily!$V:$V,Daily!$G:$G,7,Daily!$I:$I,{"수리완료"},Daily!$C:$C,"ATT")+SUMIFS(Daily!$V:$V,Daily!$G:$G,7,Daily!$I:$I,{"외주수리완료"},Daily!$C:$C,"ATT"),(SUMIFS(Daily!$V:$V,Daily!$G:$G,7,Daily!$I:$I,{"수리완료"},Daily!$C:$C,"ATT")+SUMIFS(Daily!$V:$V,Daily!$G:$G,7,Daily!$I:$I,{"외주수리완료"},Daily!$C:$C,"ATT"))/$R$3) -> 0 | K12: =SUMIFS(Daily!$R:$R,Daily!$G:$G,7,Daily!$I:$I,{"수리완료"},Daily!$C:$C,"ATM")+SUMIFS(Daily!$R:$R,Daily!$G:$G,7,Daily!$I:$I,{"외주수리완료"},Daily!$C:$C,"ATM") -> 0 | L12: =IF($R$2="K\",SUMIFS(Daily!$V:$V,Daily!$G:$G,7,Daily!$I:$I,{"수리완료"},Daily!$C:$C,"ATM")+SUMIFS(Daily!$V:$V,Daily!$G:$G,7,Daily!$I:$I,{"외주수리완료"},Daily!$C:$C,"ATM"),(SUMIFS(Daily!$V:$V,Daily!$G:$G,7,Daily!$I:$I,{"수리완료"},Daily!$C:$C,"ATM")+SUMIFS(Daily!$V:$V,Daily!$G:$G,7,Daily!$I:$I,{"외주수리완료"},Daily!$C:$C,"ATM"))/$R$3) -> 0 | M12: =SUMIFS(Daily!$R:$R,Daily!$G:$G,7,Daily!$I:$I,{"수리완료"},Daily!$C:$C,"ATJ")+SUMIFS(Daily!$R:$R,Daily!$G:$G,7,Daily!$I:$I,{"외주수리완료"},Daily!$C:$C,"ATJ") -> 0 | N12: =IF($R$2="K\",SUMIFS(Daily!$V:$V,Daily!$G:$G,7,Daily!$I:$I,{"수리완료"},Daily!$C:$C,"ATJ")+SUMIFS(Daily!$V:$V,Daily!$G:$G,7,Daily!$I:$I,{"외주수리완료"},Daily!$C:$C,"ATJ"),(SUMIFS(Daily!$V:$V,Daily!$G:$G,7,Daily!$I:$I,{"수리완료"},Daily!$C:$C,"ATJ")+SUMIFS(Daily!$V:$V,Daily!$G:$G,7,Daily!$I:$I,{"외주수리완료"},Daily!$C:$C,"ATJ"))/$R$3) -> 0 | O12: =SUMIFS(Daily!$R:$R,Daily!$G:$G,7,Daily!$I:$I,{"*수리완료"},Daily!$C:$C,"ATEP") -> 0 | P12: =IF($R$2="K\",SUMIFS(Daily!$V:$V,Daily!$G:$G,7,Daily!$I:$I,{"수리완료"},Daily!$C:$C,"ATEP")+SUMIFS(Daily!$V:$V,Daily!$G:$G,7,Daily!$I:$I,{"외주수리완료"},Daily!$C:$C,"ATEP"),(SUMIFS(Daily!$V:$V,Daily!$G:$G,7,Daily!$I:$I,{"수리완료"},Daily!$C:$C,"ATEP")+SUMIFS(Daily!$V:$V,Daily!$G:$G,7,Daily!$I:$I,{"외주수리완료"},Daily!$C:$C,"ATEP"))/$R$3) -> 0 | Q12: =C12+E12+G12+I12+K12+M12+O12 -> 215 | R12: =D12+F12+H12+J12+L12+N12+P12 -> 161.27227 | T12: ATJ | U12: =COUNTIF(Daily!C:C, T12)-COUNTIFS(Daily!C:C, T12, Daily!I:I, "Other") -> 5 | V12: =COUNTIFS(Daily!C:C, T12, Daily!I:I, "수리완료")+COUNTIFS(Daily!C:C, T12, Daily!I:I, "외주수리완료") -> 5 | W12: =COUNTIFS(Daily!C:C, T12, Daily!I:I, "수리불가")+COUNTIFS(Daily!C:C, T12, Daily!I:I, "외주수리불가")+COUNTIFS(Daily!C:C, T12, Daily!I:I, "폐기") -> 0 | X12: 0 | Y12: =COUNTIFS(Daily!C:C, T12, Daily!I:I, "수리중")+COUNTIFS(Daily!C:C, T12, Daily!I:I, "외주수리중") -> 0 | Z12: =(SUMIFS(Daily!V:V, Daily!C:C, T12, Daily!I:I, "수리완료")+SUMIFS(Daily!V:V, Daily!C:C, T12, Daily!I:I, "외주수리완료"))/$Z$2 -> 6.0904545
B13: Aug. | C13: =SUMPRODUCT(SUMIFS(Daily!$R:$R,Daily!$G:$G,"8",Daily!$C:$C,"ATK",Daily!$I:$I,"수리완료")) + SUMPRODUCT(SUMIFS(Daily!$R:$R,Daily!$G:$G,"8",Daily!$C:$C,"ATK",Daily!$I:$I,"외주수리완료")) -> 140 | D13: =IF($R$2="K\",(SUMPRODUCT(SUMIFS(Daily!$V:$V,Daily!$G:$G,"8",Daily!$C:$C,"ATK",Daily!$I:$I,"수리완료")) + SUMPRODUCT(SUMIFS(Daily!$V:$V,Daily!$G:$G,"8",Daily!$C:$C,"ATK",Daily!$I:$I,"외주수리완료"))),(SUMPRODUCT(SUMIFS(Daily!$V:$V,Daily!$G:$G,"8",Daily!$C:$C,"ATK",Daily!$I:$I,"수리완료")) + SUMPRODUCT(SUMIFS(Daily!$V:$V,Daily!$G:$G,"8",Daily!$C:$C,"ATK",Daily!$I:$I,"외주수리완료")))/$R$3) -> 160.70864 | E13: =SUMIFS(Daily!$R:$R,Daily!$G:$G,8,Daily!$I:$I,{"수리완료"},Daily!$C:$C,"ATP")+SUMIFS(Daily!$R:$R,Daily!$G:$G,8,Daily!$I:$I,{"외주수리완료"},Daily!$C:$C,"ATP") -> 0 | F13: =IF($R$2="K\",SUMIFS(Daily!$V:$V,Daily!$G:$G,8,Daily!$I:$I,{"수리완료"},Daily!$C:$C,"ATP")+SUMIFS(Daily!$V:$V,Daily!$G:$G,8,Daily!$I:$I,{"외주수리완료"},Daily!$C:$C,"ATP"),(SUMIFS(Daily!$V:$V,Daily!$G:$G,8,Daily!$I:$I,{"수리완료"},Daily!$C:$C,"ATP")+SUMIFS(Daily!$V:$V,Daily!$G:$G,8,Daily!$I:$I,{"외주수리완료"},Daily!$C:$C,"ATP"))/$R$3) -> 0 | G13: =SUMIFS(Daily!$R:$R,Daily!$G:$G,8,Daily!$I:$I,{"수리완료"},Daily!$C:$C,"ATC")+SUMIFS(Daily!$R:$R,Daily!$G:$G,8,Daily!$I:$I,{"외주수리완료"},Daily!$C:$C,"ATC") -> 0 | H13: =IF($R$2="K\",SUMIFS(Daily!$V:$V,Daily!$G:$G,8,Daily!$I:$I,{"수리완료"},Daily!$C:$C,"ATC")+SUMIFS(Daily!$V:$V,Daily!$G:$G,8,Daily!$I:$I,{"외주수리완료"},Daily!$C:$C,"ATC"),(SUMIFS(Daily!$V:$V,Daily!$G:$G,8,Daily!$I:$I,{"수리완료"},Daily!$C:$C,"ATC")+SUMIFS(Daily!$V:$V,Daily!$G:$G,8,Daily!$I:$I,{"외주수리완료"},Daily!$C:$C,"ATC"))/$R$3) -> 0 | I13: =SUMIFS(Daily!$R:$R,Daily!$G:$G,8,Daily!$I:$I,{"수리완료"},Daily!$C:$C,"ATT")+SUMIFS(Daily!$R:$R,Daily!$G:$G,8,Daily!$I:$I,{"외주수리완료"},Daily!$C:$C,"ATT") -> 0 | J13: =IF($R$2="K\",SUMIFS(Daily!$V:$V,Daily!$G:$G,8,Daily!$I:$I,{"수리완료"},Daily!$C:$C,"ATT")+SUMIFS(Daily!$V:$V,Daily!$G:$G,8,Daily!$I:$I,{"외주수리완료"},Daily!$C:$C,"ATT"),(SUMIFS(Daily!$V:$V,Daily!$G:$G,8,Daily!$I:$I,{"수리완료"},Daily!$C:$C,"ATT")+SUMIFS(Daily!$V:$V,Daily!$G:$G,8,Daily!$I:$I,{"외주수리완료"},Daily!$C:$C,"ATT"))/$R$3) -> 0 | K13: =SUMIFS(Daily!$R:$R,Daily!$G:$G,8,Daily!$I:$I,{"수리완료"},Daily!$C:$C,"ATM")+SUMIFS(Daily!$R:$R,Daily!$G:$G,8,Daily!$I:$I,{"외주수리완료"},Daily!$C:$C,"ATM") -> 0 | L13: =IF($R$2="K\",SUMIFS(Daily!$V:$V,Daily!$G:$G,8,Daily!$I:$I,{"수리완료"},Daily!$C:$C,"ATM")+SUMIFS(Daily!$V:$V,Daily!$G:$G,8,Daily!$I:$I,{"외주수리완료"},Daily!$C:$C,"ATM"),(SUMIFS(Daily!$V:$V,Daily!$G:$G,8,Daily!$I:$I,{"수리완료"},Daily!$C:$C,"ATM")+SUMIFS(Daily!$V:$V,Daily!$G:$G,8,Daily!$I:$I,{"외주수리완료"},Daily!$C:$C,"ATM"))/$R$3) -> 0 | M13: =SUMIFS(Daily!$R:$R,Daily!$G:$G,8,Daily!$I:$I,{"수리완료"},Daily!$C:$C,"ATJ")+SUMIFS(Daily!$R:$R,Daily!$G:$G,8,Daily!$I:$I,{"외주수리완료"},Daily!$C:$C,"ATJ") -> 0 | N13: =IF($R$2="K\",SUMIFS(Daily!$V:$V,Daily!$G:$G,8,Daily!$I:$I,{"수리완료"},Daily!$C:$C,"ATJ")+SUMIFS(Daily!$V:$V,Daily!$G:$G,8,Daily!$I:$I,{"외주수리완료"},Daily!$C:$C,"ATJ"),(SUMIFS(Daily!$V:$V,Daily!$G:$G,8,Daily!$I:$I,{"수리완료"},Daily!$C:$C,"ATJ")+SUMIFS(Daily!$V:$V,Daily!$G:$G,8,Daily!$I:$I,{"외주수리완료"},Daily!$C:$C,"ATJ"))/$R$3) -> 0 | O13: =SUMIFS(Daily!$R:$R,Daily!$G:$G,8,Daily!$I:$I,{"*수리완료"},Daily!$C:$C,"ATEP") -> 0 | P13: =IF($R$2="K\",SUMIFS(Daily!$V:$V,Daily!$G:$G,8,Daily!$I:$I,{"수리완료"},Daily!$C:$C,"ATEP")+SUMIFS(Daily!$V:$V,Daily!$G:$G,8,Daily!$I:$I,{"외주수리완료"},Daily!$C:$C,"ATEP"),(SUMIFS(Daily!$V:$V,Daily!$G:$G,8,Daily!$I:$I,{"수리완료"},Daily!$C:$C,"ATEP")+SUMIFS(Daily!$V:$V,Daily!$G:$G,8,Daily!$I:$I,{"외주수리완료"},Daily!$C:$C,"ATEP"))/$R$3) -> 0 | Q13: =C13+E13+G13+I13+K13+M13+O13 -> 140 | R13: =D13+F13+H13+J13+L13+N13+P13 -> 160.70864 | T13: Total | U13: =SUM(U6:U12) -> 1665 | V13: =SUM(V6:V12) -> 1580 | W13: =SUM(W6:W12) -> 85 | X13: =SUM(X6:X12) -> 0 | Y13: =SUM(Y6:Y12) -> 0 | Z13: =SUM(Z6:Z12) -> 1932.8013
