Workbook

Sheet Daily
A1: Mon | B1: 수리완료 ww | C1: Site | D1: Requester | E1: 입고일 | F1: 수리완료일 | G1: 완료월 | H1: Status | I1: 분류 | J1: Line | K1: Divisoin | L1: Team | M1: Process | N1: Model | O1: Board Name | P1: 증 상/조치 | Q1: S/N | R1: Q'TY | S1: New B/D Price(K\) | T1: Outsourcing Price(K\) | U1: Repair Cost (K\) | V1: Cost Reduction(K￦) | W1: 자체/외주 | X1: 외주업체 | Y1: Repair Time(H) | Z1: Delivery | AA1: Engineer | AC1: Repair Cost K$ | AD1: Costsave K$
B2: =IF(F2>0,IFERROR(WEEKNUM(F2),""),"") -> 13 | C2: =IF(D2=0,"",(IF(LEFT(D2,3)="ATK","ATK",IF(LEFT(D2,2)="AT",D2,"ATK")))) -> ATK | D2: 김선일 | E2: 43699 | F2: 43916 | G2: =IF(F2>0,MONTH(F2),"") -> 3 | H2: =IF(I2=0,"",IF(RIGHT(I2,2)="완료","완료",IF(RIGHT(I2,2)="불가","수리불가",IF(RIGHT(I2,1)="중","수리중","Other")))) -> 완료 | I2: 외주수리완료 | J2: C | K2: 3T4P | L2: =LEFT(K2,3) -> 3T4 | M2: TCNCP | N2: DBPB-2010 | O2: Heater control | R2: 1 | S2: 5000 | T2: =(S2*50)/100*R2 -> 2500 | U2: 100 | V2: =T2-U2 -> 2400 | W2: 외주 | X2: 큐텍코리아 | Y2: 4 | Z2: =F2-E2 -> 217 | AA2: 장은철 | AC2: =U2/1100 -> 0.090909091
B3: =IF(F3>0,IFERROR(WEEKNUM(F3),""),"") -> 13 | C3: =IF(D3=0,"",(IF(LEFT(D3,3)="ATK","ATK",IF(LEFT(D3,2)="AT",D3,"ATK")))) -> ATK | D3: 김선일 | E3: 43699 | F3: 43916 | G3: =IF(F3>0,MONTH(F3),"") -> 3 | H3: =IF(I3=0,"",IF(RIGHT(I3,2)="완료","완료",IF(RIGHT(I3,2)="불가","수리불가",IF(RIGHT(I3,1)="중","수리중","Other")))) -> 완료 | I3: 외주수리완료 | J3: C | K3: 3T4P | L3: =LEFT(K3,3) -> 3T4 | M3: TCNCP | N3: DBPB-2010 | O3: Heater control | R3: 1 | S3: 5000 | T3: =(S3*50)/100*R3 -> 2500 | U3: 100 | V3: =T3-U3 -> 2400 | W3: 외주 | X3: 큐텍코리아 | Y3: 10 | Z3: =F3-E3 -> 217 | AA3: 장은철 | AC3: =U3/1100 -> 0.090909091
B4: =IF(F4>0,IFERROR(WEEKNUM(F4),""),"") -> 9 | C4: =IF(D4=0,"",(IF(LEFT(D4,3)="ATK","ATK",IF(LEFT(D4,2)="AT",D4,"ATK")))) -> ATK | D4: 유완수 | E4: 43803 | F4: 43885 | G4: =IF(F4>0,MONTH(F4),"") -> 2 | H4: =IF(I4=0,"",IF(RIGHT(I4,2)="완료","완료",IF(RIGHT(I4,2)="불가","수리불가",IF(RIGHT(I4,1)="중","수리중","Other")))) -> 완료 | I4: 수리완료 | J4: C | K4: 3T3P | L4: =LEFT(K4,3) -> 3T3 | M4: MONITOR | N4: HP | O4: LED MONITOR | R4: 1 | S4: 900 | T4: =(S4*50)/100*R4 -> 450 | U4: 30 | V4: =T4-U4 -> 420 | W4: 자체 | Y4: 3 | Z4: =F4-E4 -> 82 | AA4: 정기수 | AC4: =U4/1100 -> 0.027272727
B5: =IF(F5>0,IFERROR(WEEKNUM(F5),""),"") -> 9 | C5: =IF(D5=0,"",(IF(LEFT(D5,3)="ATK","ATK",IF(LEFT(D5,2)="AT",D5,"ATK")))) -> ATK | D5: 김상권 | E5: 43809 | F5: 43885 | G5: =IF(F5>0,MONTH(F5),"") -> 2 | H5: =IF(I5=0,"",IF(RIGHT(I5,2)="완료","완료",IF(RIGHT(I5,2)="불가","수리불가",IF(RIGHT(I5,1)="중","수리중","Other")))) -> 완료 | I5: 수리완료 | J5: EE | K5: EE2 | L5: =LEFT(K5,3) -> EE2 | M5: Bumping | N5: System PC | O5: ACP-2320MB | P5: Booting Fail | R5: 1 | S5: 20000 | T5: =(S5*50)/100*R5 -> 10000 | U5: 10 | V5: =T5-U5 -> 9990 | W5: 자체 | Y5: 4 | Z5: =F5-E5 -> 76 | AA5: 허준영 | AC5: =U5/1100 -> 0.0090909091
B6: =IF(F6>0,IFERROR(WEEKNUM(F6),""),"") -> 5 | C6: =IF(D6=0,"",(IF(LEFT(D6,3)="ATK","ATK",IF(LEFT(D6,2)="AT",D6,"ATK")))) -> ATK | D6: 오도일 | E6: 43809 | F6: 43859 | G6: =IF(F6>0,MONTH(F6),"") -> 1 | H6: =IF(I6=0,"",IF(RIGHT(I6,2)="완료","완료",IF(RIGHT(I6,2)="불가","수리불가",IF(RIGHT(I6,1)="중","수리중","Other")))) -> 수리불가 | I6: 외주수리불가 | J6: B | K6: 2T1P | L6: =LEFT(K6,3) -> 2T1 | M6: SMT | N6: CM-780 | O6: N/A | P6: CONTOR 불량 | R6: 2 | S6: 8000 | T6: =(S6*50)/100*R6 -> 8000 | U6: 0 | V6: =T6-U6 -> 8000 | W6: 외주 | X6: 큐텍코리아 | Y6: 2 | Z6: =F6-E6 -> 50 | AA6: 장은철 | AC6: =U6/1100 -> 0
B7: =IF(F7>0,IFERROR(WEEKNUM(F7),""),"") -> 2 | C7: =IF(D7=0,"",(IF(LEFT(D7,3)="ATK","ATK",IF(LEFT(D7,2)="AT",D7,"ATK")))) -> ATP | D7: ATP | E7: 43809 | F7: 43836 | G7: =IF(F7>0,MONTH(F7),"") -> 1 | H7: =IF(I7=0,"",IF(RIGHT(I7,2)="완료","완료",IF(RIGHT(I7,2)="불가","수리불가",IF(RIGHT(I7,1)="중","수리중","Other")))) -> 완료 | I7: 수리완료 | J7: ATP | K7: ATP | L7: =LEFT(K7,3) -> ATP | M7: SOIC | N7: EDA3+ | O7: DA Board | P7: Sway marking and Pitching Alignment problem. | Q7: EDA3+C10-09-179 | R7: 1 | S7: 2320 | T7: =(S7*50)/100*R7 -> 1160 | U7: 10 | V7: =T7-U7 -> 1150 | W7: 자체 | Y7: 4 | Z7: =F7-E7 -> 27 | AA7: 장은철 | AC7: =U7/1100 -> 0.0090909091
B8: =IF(F8>0,IFERROR(WEEKNUM(F8),""),"") -> 2 | C8: =IF(D8=0,"",(IF(LEFT(D8,3)="ATK","ATK",IF(LEFT(D8,2)="AT",D8,"ATK")))) -> ATP | D8: ATP | E8: 43809 | F8: 43836 | G8: =IF(F8>0,MONTH(F8),"") -> 1 | H8: =IF(I8=0,"",IF(RIGHT(I8,2)="완료","완료",IF(RIGHT(I8,2)="불가","수리불가",IF(RIGHT(I8,1)="중","수리중","Other")))) -> 완료 | I8: 수리완료 | J8: ATP | K8: ATP | L8: =LEFT(K8,3) -> ATP | M8: SOIC | N8: n/a | O8: Scanner Board | P8: Sway marking and Unusual marking formation. | Q8: 8171607 | R8: 1 | S8: 8700 | T8: =(S8*50)/100*R8 -> 4350 | U8: 50 | V8: =T8-U8 -> 4300 | W8: 자체 | Y8: 4 | Z8: =F8-E8 -> 27 | AA8: 장은철 | AC8: =U8/1100 -> 0.045454545
B9: =IF(F9>0,IFERROR(WEEKNUM(F9),""),"") -> 6 | C9: =IF(D9=0,"",(IF(LEFT(D9,3)="ATK","ATK",IF(LEFT(D9,2)="AT",D9,"ATK")))) -> ATK | D9: 김효천 | E9: 43810 | F9: 43868 | G9: =IF(F9>0,MONTH(F9),"") -> 2 | H9: =IF(I9=0,"",IF(RIGHT(I9,2)="완료","완료",IF(RIGHT(I9,2)="불가","수리불가",IF(RIGHT(I9,1)="중","수리중","Other")))) -> 수리불가 | I9: 외주수리불가 | J9: B | K9: 2T1P | L9: =LEFT(K9,3) -> 2T1 | M9: SMT | N9: CM-780 | O9: N/A | P9: AL, EEE | R9: 1 | S9: 8000 | T9: =(S9*50)/100*R9 -> 4000 | U9: 0 | V9: =T9-U9 -> 4000 | W9: 외주 | X9: 큐텍코리아 | Y9: 1 | Z9: =F9-E9 -> 58 | AA9: 장은철 | AC9: =U9/1100 -> 0
B10: =IF(F10>0,IFERROR(WEEKNUM(F10),""),"") -> 2 | C10: =IF(D10=0,"",(IF(LEFT(D10,3)="ATK","ATK",IF(LEFT(D10,2)="AT",D10,"ATK")))) -> ATK | D10: 김전욱 | E10: 43818 | F10: 43838 | G10: =IF(F10>0,MONTH(F10),"") -> 1 | H10: =IF(I10=0,"",IF(RIGHT(I10,2)="완료","완료",IF(RIGHT(I10,2)="불가","수리불가",IF(RIGHT(I10,1)="중","수리중","Other")))) -> 완료 | I10: 수리완료 | J10: B | K10: 2T3P | L10: =LEFT(K10,3) -> 2T3 | M10: LS | N10: XGK-CPUS | O10: PLC CPU | R10: 1 | S10: 400 | T10: =(S10*50)/100*R10 -> 200 | U10: 5 | V10: =T10-U10 -> 195 | W10: 자체 | Y10: 1 | Z10: =F10-E10 -> 20 | AA10: 장은철 | AC10: =U10/1100 -> 0.0045454545
B11: =IF(F11>0,IFERROR(WEEKNUM(F11),""),"") -> 2 | C11: =IF(D11=0,"",(IF(LEFT(D11,3)="ATK","ATK",IF(LEFT(D11,2)="AT",D11,"ATK")))) -> ATK | D11: 김전욱 | E11: 43818 | F11: 43839 | G11: =IF(F11>0,MONTH(F11),"") -> 1 | H11: =IF(I11=0,"",IF(RIGHT(I11,2)="완료","완료",IF(RIGHT(I11,2)="불가","수리불가",IF(RIGHT(I11,1)="중","수리중","Other")))) -> 완료 | I11: 수리완료 | J11: B | K11: 2T3P | L11: =LEFT(K11,3) -> 2T3 | M11: LS | N11: XGL-CH2A | O11: CNET I/F | R11: 1 | S11: 300 | T11: =(S11*50)/100*R11 -> 150 | U11: 5 | V11: =T11-U11 -> 145 | W11: 자체 | Y11: 5 | Z11: =F11-E11 -> 21 | AA11: 장은철 | AC11: =U11/1100 -> 0.0045454545
B12: =IF(F12>0,IFERROR(WEEKNUM(F12),""),"") -> 3 | C12: =IF(D12=0,"",(IF(LEFT(D12,3)="ATK","ATK",IF(LEFT(D12,2)="AT",D12,"ATK")))) -> ATK | D12: 최경철 | E12: 43818 | F12: 43847 | G12: =IF(F12>0,MONTH(F12),"") -> 1 | H12: =IF(I12=0,"",IF(RIGHT(I12,2)="완료","완료",IF(RIGHT(I12,2)="불가","수리불가",IF(RIGHT(I12,1)="중","수리중","Other")))) -> 완료 | I12: 수리완료 | J12: EE | K12: EE1 | L12: =LEFT(K12,3) -> EE1 | M12: TCNCP | N12: AC SERVO DRIVER | O12: N/A | P12: E9 ERROR | R12: 1 | S12: 1200 | T12: =(S12*50)/100*R12 -> 600 | V12: =T12-U12 -> 600 | W12: 자체 | Y12: 3 | Z12: =F12-E12 -> 29 | AA12: 강영구 | AC12: =U12/1100 -> 0
B13: =IF(F13>0,IFERROR(WEEKNUM(F13),""),"") -> 2 | C13: =IF(D13=0,"",(IF(LEFT(D13,3)="ATK","ATK",IF(LEFT(D13,2)="AT",D13,"ATK")))) -> ATK | D13: 이영석 | E13: 43823 | F13: 43836 | G13: =IF(F13>0,MONTH(F13),"") -> 1 | H13: =IF(I13=0,"",IF(RIGHT(I13,2)="완료","완료",IF(RIGHT(I13,2)="불가","수리불가",IF(RIGHT(I13,1)="중","수리중","Other")))) -> 완료 | I13: 수리완료 | J13: F | K13: 5T1P | L13: =LEFT(K13,3) -> 5T1 | M13: IONIZER | N13: IPI322 | O13: IONIZER | P13: 이온값 불량 | R13: 2 | S13: 710 | T13: =(S13*50)/100*R13 -> 710 | U13: 75 | V13: =T13-U13 -> 635 | W13: 자체 | Y13: 4 | Z13: =F13-E13 -> 13 | AA13: 정기수 | AC13: =U13/1100 -> 0.068181818
B14: =IF(F14>0,IFERROR(WEEKNUM(F14),""),"") -> 2 | C14: =IF(D14=0,"",(IF(LEFT(D14,3)="ATK","ATK",IF(LEFT(D14,2)="AT",D14,"ATK")))) -> ATK | D14: 이정렬 | E14: 43823 | F14: 43837 | G14: =IF(F14>0,MONTH(F14),"") -> 1 | H14: =IF(I14=0,"",IF(RIGHT(I14,2)="완료","완료",IF(RIGHT(I14,2)="불가","수리불가",IF(RIGHT(I14,1)="중","수리중","Other")))) -> 완료 | I14: 수리완료 | J14: P | K14: 1T1P | L14: =LEFT(K14,3) -> 1T1 | M14: IONIZER | N14: IPI322 | O14: IONIZER | P14: 이온값 불량 | R14: 1 | S14: 710 | T14: =(S14*50)/100*R14 -> 355 | V14: =T14-U14 -> 355 | W14: 자체 | Y14: 2 | Z14: =F14-E14 -> 14 | AA14: 정기수 | AC14: =U14/1100 -> 0
B15: =IF(F15>0,IFERROR(WEEKNUM(F15),""),"") -> 1 | C15: =IF(D15=0,"",(IF(LEFT(D15,3)="ATK","ATK",IF(LEFT(D15,2)="AT",D15,"ATK")))) -> ATK | D15: 김재영 | E15: 43823 | F15: 43833 | G15: =IF(F15>0,MONTH(F15),"") -> 1 | H15: =IF(I15=0,"",IF(RIGHT(I15,2)="완료","완료",IF(RIGHT(I15,2)="불가","수리불가",IF(RIGHT(I15,1)="중","수리중","Other")))) -> 완료 | I15: 수리완료 | J15: A | K15: 1T4P | L15: =LEFT(K15,3) -> 1T4 | M15: IONIZER | N15: EMIT | O15: IONIZER | P15: 이온값 불량 | R15: 1 | S15: 1900 | T15: =(S15*50)/100*R15 -> 950 | U15: 0 | V15: =T15-U15 -> 950 | W15: 자체 | Y15: 3 | Z15: =F15-E15 -> 10 | AA15: 정기수 | AC15: =U15/1100 -> 0
B16: =IF(F16>0,IFERROR(WEEKNUM(F16),""),"") -> 4 | C16: =IF(D16=0,"",(IF(LEFT(D16,3)="ATK","ATK",IF(LEFT(D16,2)="AT",D16,"ATK")))) -> ATK | D16: 유창환 | E16: 43823 | F16: 43852 | G16: =IF(F16>0,MONTH(F16),"") -> 1 | H16: =IF(I16=0,"",IF(RIGHT(I16,2)="완료","완료",IF(RIGHT(I16,2)="불가","수리불가",IF(RIGHT(I16,1)="중","수리중","Other")))) -> 완료 | I16: 외주수리완료 | J16: C | K16: 2T3P | L16: =LEFT(K16,3) -> 2T3 | M16: APM MOLD | N16: Semisys | O16: 6K2 | R16: 1 | S16: 5000 | T16: =(S16*50)/100*R16 -> 2500 | U16: 1800 | V16: =T16-U16 -> 700 | W16: 외주 | X16: 큐텍코리아 | Y16: 1 | Z16: =F16-E16 -> 29 | AA16: 장은철 | AC16: =U16/1100 -> 1.6363636
B17: =IF(F17>0,IFERROR(WEEKNUM(F17),""),"") -> 4 | C17: =IF(D17=0,"",(IF(LEFT(D17,3)="ATK","ATK",IF(LEFT(D17,2)="AT",D17,"ATK")))) -> ATK | D17: 유창환 | E17: 43823 | F17: 43852 | G17: =IF(F17>0,MONTH(F17),"") -> 1 | H17: =IF(I17=0,"",IF(RIGHT(I17,2)="완료","완료",IF(RIGHT(I17,2)="불가","수리불가",IF(RIGHT(I17,1)="중","수리중","Other")))) -> 완료 | I17: 외주수리완료 | J17: C | K17: 2T3P | L17: =LEFT(K17,3) -> 2T3 | M17: APM MOLD | N17: Semisys | O17: 6K2 | R17: 1 | S17: 5000 | T17: =(S17*50)/100*R17 -> 2500 | U17: 1800 | V17: =T17-U17 -> 700 | W17: 외주 | X17: 큐텍코리아 | Y17: 1 | Z17: =F17-E17 -> 29 | AA17: 장은철 | AC17: =U17/1100 -> 1.6363636
B18: =IF(F18>0,IFERROR(WEEKNUM(F18),""),"") -> 25 | C18: =IF(D18=0,"",(IF(LEFT(D18,3)="ATK","ATK",IF(LEFT(D18,2)="AT",D18,"ATK")))) -> ATK | D18: 김선일 | E18: 43822 | F18: 44000 | G18: =IF(F18>0,MONTH(F18),"") -> 6 | H18: =IF(I18=0,"",IF(RIGHT(I18,2)="완료","완료",IF(RIGHT(I18,2)="불가","수리불가",IF(RIGHT(I18,1)="중","수리중","Other")))) -> 완료 | I18: 외주수리완료 | J18: C | K18: 3T4P | L18: =LEFT(K18,3) -> 3T4 | M18: TCNCP | N18: DBPB-2010 | O18: Heater control | R18: 1 | S18: 5000 | T18: =(S18*50)/100*R18 -> 2500 | U18: 1200 | V18: =T18-U18 -> 1300 | W18: 외주 | X18: 큐텍코리아 | Y18: 1 | Z18: =F18-E18 -> 178 | AA18: 장은철 | AC18: =U18/1100 -> 1.0909091
B19: =IF(F19>0,IFERROR(WEEKNUM(F19),""),"") -> 2 | C19: =IF(D19=0,"",(IF(LEFT(D19,3)="ATK","ATK",IF(LEFT(D19,2)="AT",D19,"ATK")))) -> ATK | D19: 박병주 | E19: 43825 | F19: 43837 | G19: =IF(F19>0,MONTH(F19),"") -> 1 | H19: =IF(I19=0,"",IF(RIGHT(I19,2)="완료","완료",IF(RIGHT(I19,2)="불가","수리불가",IF(RIGHT(I19,1)="중","수리중","Other")))) -> 완료 | I19: 수리완료 | J19: C | K19: 3T4P | L19: =LEFT(K19,3) -> 3T4 | M19: Monitor | N19: LCD 모니터 | O19: MONITOR | P19: 전원 안들어옴 | R19: 1 | S19: 500 | T19: =(S19*50)/100*R19 -> 250 | U19: 25 | V19: =T19-U19 -> 225 | W19: 자체 | Y19: 3 | Z19: =F19-E19 -> 12 | AA19: 정기수 | AC19: =U19/1100 -> 0.022727273
B20: =IF(F20>0,IFERROR(WEEKNUM(F20),""),"") -> 1 | C20: =IF(D20=0,"",(IF(LEFT(D20,3)="ATK","ATK",IF(LEFT(D20,2)="AT",D20,"ATK")))) -> ATK | D20: 김수호 | E20: 43832 | F20: 43832 | G20: =IF(F20>0,MONTH(F20),"") -> 1 | H20: =IF(I20=0,"",IF(RIGHT(I20,2)="완료","완료",IF(RIGHT(I20,2)="불가","수리불가",IF(RIGHT(I20,1)="중","수리중","Other")))) -> 완료 | I20: 수리완료 | J20: P | K20: 1T1P | L20: =LEFT(K20,3) -> 1T1 | M20: MONITOR | N20: SH-185W | O20: MONITOR | P20: 전원 안들어옴 | R20: 1 | S20: 450 | T20: =(S20*50)/100*R20 -> 225 | U20: 20 | V20: =T20-U20 -> 205 | W20: 자체 | Y20: 2 | Z20: =F20-E20 -> 0 | AA20: 정기수 | AC20: =U20/1100 -> 0.018181818
B21: =IF(F21>0,IFERROR(WEEKNUM(F21),""),"") -> 3 | C21: =IF(D21=0,"",(IF(LEFT(D21,3)="ATK","ATK",IF(LEFT(D21,2)="AT",D21,"ATK")))) -> ATK | D21: 정영춘 | E21: 43825 | F21: 43847 | G21: =IF(F21>0,MONTH(F21),"") -> 1 | H21: =IF(I21=0,"",IF(RIGHT(I21,2)="완료","완료",IF(RIGHT(I21,2)="불가","수리불가",IF(RIGHT(I21,1)="중","수리중","Other")))) -> 완료 | I21: 외주수리완료 | J21: A | K21: 1T2P | L21: =LEFT(K21,3) -> 1T2 | M21: W/B/G | N21: ushio | O21: uvcontroller | P21: braker off 됨 on 시 | R21: 1 | S21: 55000 | T21: =(S21*50)/100*R21 -> 27500 | U21: 50 | V21: =T21-U21 -> 27450 | W21: 외주 | X21: 기타 | Y21: 2 | Z21: =F21-E21 -> 22 | AA21: 강영구 | AC21: =U21/1100 -> 0.045454545
B22: =IF(F22>0,IFERROR(WEEKNUM(F22),""),"") -> 2 | C22: =IF(D22=0,"",(IF(LEFT(D22,3)="ATK","ATK",IF(LEFT(D22,2)="AT",D22,"ATK")))) -> ATK | D22: 김전욱 | E22: 43825 | F22: 43837 | G22: =IF(F22>0,MONTH(F22),"") -> 1 | H22: =IF(I22=0,"",IF(RIGHT(I22,2)="완료","완료",IF(RIGHT(I22,2)="불가","수리불가",IF(RIGHT(I22,1)="중","수리중","Other")))) -> 완료 | I22: 수리완료 | K22: 2T3P | L22: =LEFT(K22,3) -> 2T3 | M22: TCNCP | N22: VLPSV-02 TD | O22: AC SERVO | P22: # ERROR 통신 | R22: 1 | S22: 1500 | T22: =(S22*50)/100*R22 -> 750 | V22: =T22-U22 -> 750 | W22: 자체 | Y22: 2 | Z22: =F22-E22 -> 12 | AA22: 강영구 | AC22: =U22/1100 -> 0
B23: =IF(F23>0,IFERROR(WEEKNUM(F23),""),"") -> 2 | C23: =IF(D23=0,"",(IF(LEFT(D23,3)="ATK","ATK",IF(LEFT(D23,2)="AT",D23,"ATK")))) -> ATK | D23: 김전욱 | E23: 43825 | F23: 43838 | G23: =IF(F23>0,MONTH(F23),"") -> 1 | H23: =IF(I23=0,"",IF(RIGHT(I23,2)="완료","완료",IF(RIGHT(I23,2)="불가","수리불가",IF(RIGHT(I23,1)="중","수리중","Other")))) -> 완료 | I23: 수리완료 | J23: B | K23: 2T3P | L23: =LEFT(K23,3) -> 2T3 | M23: TCNCP | N23: MR-J2S-20A | O23: AC SERVO | P23: error 16 | R23: 1 | S23: 1000 | T23: =(S23*50)/100*R23 -> 500 | U23: 10 | V23: =T23-U23 -> 490 | W23: 자체 | Y23: 4 | Z23: =F23-E23 -> 13 | AA23: 강영구 | AC23: =U23/1100 -> 0.0090909091
B24: =IF(F24>0,IFERROR(WEEKNUM(F24),""),"") -> 3 | C24: =IF(D24=0,"",(IF(LEFT(D24,3)="ATK","ATK",IF(LEFT(D24,2)="AT",D24,"ATK")))) -> ATK | D24: 김남곤 | E24: 43826 | F24: 43846 | G24: =IF(F24>0,MONTH(F24),"") -> 1 | H24: =IF(I24=0,"",IF(RIGHT(I24,2)="완료","완료",IF(RIGHT(I24,2)="불가","수리불가",IF(RIGHT(I24,1)="중","수리중","Other")))) -> 완료 | I24: 수리완료 | K24: 5T1P | L24: =LEFT(K24,3) -> 5T1 | M24: F/C | N24: MR-J2S-40B-EE085 | O24: AC SERVO | P24: 특주로 1번 module out 2번 cap 극성 바뀜 3 7800 모두 교환/test 는 안됨 | R24: 3 | S24: 1500 | T24: =(S24*50)/100*R24 -> 2250 | V24: =T24-U24 -> 2250 | W24: 자체 | Y24: 8 | Z24: =F24-E24 -> 20 | AA24: 강영구 | AC24: =U24/1100 -> 0
B25: =IF(F25>0,IFERROR(WEEKNUM(F25),""),"") -> 1 | C25: =IF(D25=0,"",(IF(LEFT(D25,3)="ATK","ATK",IF(LEFT(D25,2)="AT",D25,"ATK")))) -> ATK | D25: 김재영 | E25: 43832 | F25: 43832 | G25: =IF(F25>0,MONTH(F25),"") -> 1 | H25: =IF(I25=0,"",IF(RIGHT(I25,2)="완료","완료",IF(RIGHT(I25,2)="불가","수리불가",IF(RIGHT(I25,1)="중","수리중","Other")))) -> 완료 | I25: 수리완료 | J25: A | K25: 1T4P | L25: =LEFT(K25,3) -> 1T4 | N25: DSLSA | O25: Vision B/D | P25: Vision 안보임 | R25: 1 | S25: 2900 | T25: =(S25*50)/100*R25 -> 1450 | U25: 160 | V25: =T25-U25 -> 1290 | W25: 자체 | Y25: 4 | Z25: =F25-E25 -> 0 | AA25: 장은철 | AC25: =U25/1100 -> 0.14545455
B26: =IF(F26>0,IFERROR(WEEKNUM(F26),""),"") -> 2 | C26: =IF(D26=0,"",(IF(LEFT(D26,3)="ATK","ATK",IF(LEFT(D26,2)="AT",D26,"ATK")))) -> ATK | D26: 이규한 | E26: 43822 | F26: 43837 | G26: =IF(F26>0,MONTH(F26),"") -> 1 | H26: =IF(I26=0,"",IF(RIGHT(I26,2)="완료","완료",IF(RIGHT(I26,2)="불가","수리불가",IF(RIGHT(I26,1)="중","수리중","Other")))) -> 완료 | I26: 수리완료 | J26: Bump | K26: Bump | L26: =LEFT(K26,3) -> Bum | M26: Bumping | N26: Touch Monitor(modify) | O26: LTM190ET01 | P26: Back Light Out | R26: 1 | S26: 1500 | T26: =(S26*50)/100*R26 -> 750 | U26: 10 | V26: =T26-U26 -> 740 | W26: 자체 | Y26: 6 | Z26: =F26-E26 -> 15 | AA26: 허준영 | AC26: =U26/1100 -> 0.0090909091
B27: =IF(F27>0,IFERROR(WEEKNUM(F27),""),"") -> 1 | C27: =IF(D27=0,"",(IF(LEFT(D27,3)="ATK","ATK",IF(LEFT(D27,2)="AT",D27,"ATK")))) -> ATK | D27: 한광식 | E27: 43813 | F27: 43832 | G27: =IF(F27>0,MONTH(F27),"") -> 1 | H27: =IF(I27=0,"",IF(RIGHT(I27,2)="완료","완료",IF(RIGHT(I27,2)="불가","수리불가",IF(RIGHT(I27,1)="중","수리중","Other")))) -> 완료 | I27: 수리완료 | J27: F | K27: 5T2P | L27: =LEFT(K27,3) -> 5T2 | M27: N/A | N27: UPS | O27: SMART-1500 | P27: Battery Burn, Connector Broken | R27: 1 | S27: 1500 | T27: =(S27*50)/100*R27 -> 750 | U27: 150 | V27: =T27-U27 -> 600 | W27: 자체 | Y27: 4 | Z27: =F27-E27 -> 19 | AA27: 허준영 | AC27: =U27/1100 -> 0.13636364
B28: =IF(F28>0,IFERROR(WEEKNUM(F28),""),"") -> 1 | C28: =IF(D28=0,"",(IF(LEFT(D28,3)="ATK","ATK",IF(LEFT(D28,2)="AT",D28,"ATK")))) -> ATK | D28: 백윤덕 | E28: 43832 | F28: 43832 | G28: =IF(F28>0,MONTH(F28),"") -> 1 | H28: =IF(I28=0,"",IF(RIGHT(I28,2)="완료","완료",IF(RIGHT(I28,2)="불가","수리불가",IF(RIGHT(I28,1)="중","수리중","Other")))) -> 완료 | I28: 수리완료 | J28: C | K28: 3T3P | L28: =LEFT(K28,3) -> 3T3 | M28: N/A | N28: System PC | O28: OPTIPLEX 780 | P28: Power Supply Out | R28: 1 | S28: 2000 | T28: =(S28*50)/100*R28 -> 1000 | U28: 100 | V28: =T28-U28 -> 900 | W28: 자체 | Y28: 4 | Z28: =F28-E28 -> 0 | AA28: 허준영 | AC28: =U28/1100 -> 0.090909091
B29: =IF(F29>0,IFERROR(WEEKNUM(F29),""),"") -> 1 | C29: =IF(D29=0,"",(IF(LEFT(D29,3)="ATK","ATK",IF(LEFT(D29,2)="AT",D29,"ATK")))) -> ATK | D29: 김재영 | E29: 43832 | F29: 43832 | G29: =IF(F29>0,MONTH(F29),"") -> 1 | H29: =IF(I29=0,"",IF(RIGHT(I29,2)="완료","완료",IF(RIGHT(I29,2)="불가","수리불가",IF(RIGHT(I29,1)="중","수리중","Other")))) -> 완료 | I29: 수리완료 | J29: A | K29: 1T4P | L29: =LEFT(K29,3) -> 1T4 | N29: ASD12C-C | O29: DRIVER | P29: ERROR 발생 | R29: 1 | S29: 1000 | T29: =(S29*50)/100*R29 -> 500 | V29: =T29-U29 -> 500 | W29: 자체 | Y29: 2 | Z29: =F29-E29 -> 0 | AA29: 강영구 | AC29: =U29/1100 -> 0
B30: =IF(F30>0,IFERROR(WEEKNUM(F30),""),"") -> 1 | C30: =IF(D30=0,"",(IF(LEFT(D30,3)="ATK","ATK",IF(LEFT(D30,2)="AT",D30,"ATK")))) -> ATK | D30: 이성곤 | E30: 43832 | F30: 43833 | G30: =IF(F30>0,MONTH(F30),"") -> 1 | H30: =IF(I30=0,"",IF(RIGHT(I30,2)="완료","완료",IF(RIGHT(I30,2)="불가","수리불가",IF(RIGHT(I30,1)="중","수리중","Other")))) -> 완료 | I30: 수리완료 | J30: K5 | L30: =LEFT(K30,3) | M30: Bumping | N30: SGDV-1R6A01B | O30: AC SERVO | P30: 전원 안들어옴 | R30: 2 | S30: 1000 | T30: =(S30*50)/100*R30 -> 1000 | V30: =T30-U30 -> 1000 | W30: 자체 | Y30: 8 | Z30: =F30-E30 -> 1 | AA30: 강영구 | AC30: =U30/1100 -> 0
B31: =IF(F31>0,IFERROR(WEEKNUM(F31),""),"") -> 1 | C31: =IF(D31=0,"",(IF(LEFT(D31,3)="ATK","ATK",IF(LEFT(D31,2)="AT",D31,"ATK")))) -> ATK | D31: 김광승 | E31: 43832 | F31: 43832 | G31: =IF(F31>0,MONTH(F31),"") -> 1 | H31: =IF(I31=0,"",IF(RIGHT(I31,2)="완료","완료",IF(RIGHT(I31,2)="불가","수리불가",IF(RIGHT(I31,1)="중","수리중","Other")))) -> 완료 | I31: 수리완료 | J31: A | K31: 1T1P | L31: =LEFT(K31,3) -> 1T1 | M31: EMC | N31: NTP10NF | O31: PC Type Monitor_NewT다 | P31: 화면 안나옴 / 백라이트 교체 | Q31: NTS14-2584 | R31: 1 | S31: 300 | T31: =(S31*50)/100*R31 -> 150 | U31: 10 | V31: =T31-U31 -> 140 | W31: 자체 | Y31: 4 | Z31: =F31-E31 -> 0 | AA31: 최준영 | AC31: =U31/1100 -> 0.0090909091
B32: =IF(F32>0,IFERROR(WEEKNUM(F32),""),"") -> 1 | C32: =IF(D32=0,"",(IF(LEFT(D32,3)="ATK","ATK",IF(LEFT(D32,2)="AT",D32,"ATK")))) -> ATK | D32: 박동진 | E32: 43832 | F32: 43832 | G32: =IF(F32>0,MONTH(F32),"") -> 1 | H32: =IF(I32=0,"",IF(RIGHT(I32,2)="완료","완료",IF(RIGHT(I32,2)="불가","수리불가",IF(RIGHT(I32,1)="중","수리중","Other")))) -> Other | I32: Other | J32: Other | K32: Other | L32: =LEFT(K32,3) -> Oth | M32: N/A | N32: 복지동 Speed Gate | O32: Remote & RF Controller 점검 | R32: 1 | S32: 0 | T32: =(S32*50)/100*R32 -> 0 | U32: 0 | V32: =T32-U32 -> 0 | W32: 자체 | Y32: 3 | Z32: =F32-E32 -> 0 | AA32: 장은철 | AC32: =U32/1100 -> 0
B33: =IF(F33>0,IFERROR(WEEKNUM(F33),""),"") -> 1 | C33: =IF(D33=0,"",(IF(LEFT(D33,3)="ATK","ATK",IF(LEFT(D33,2)="AT",D33,"ATK")))) -> ATK | D33: 박동진 | E33: 43832 | F33: 43832 | G33: =IF(F33>0,MONTH(F33),"") -> 1 | H33: =IF(I33=0,"",IF(RIGHT(I33,2)="완료","완료",IF(RIGHT(I33,2)="불가","수리불가",IF(RIGHT(I33,1)="중","수리중","Other")))) -> Other | I33: Other | J33: Other | K33: Other | L33: =LEFT(K33,3) -> Oth | M33: N/A | N33: 복지동 Speed Gate | O33: Remote & RF Controller 점검 | R33: 1 | S33: 0 | T33: =(S33*50)/100*R33 -> 0 | U33: 0 | V33: =T33-U33 -> 0 | W33: 자체 | Y33: 3 | Z33: =F33-E33 -> 0 | AA33: 허준영 | AC33: =U33/1100 -> 0
B34: =IF(F34>0,IFERROR(WEEKNUM(F34),""),"") -> 2 | C34: =IF(D34=0,"",(IF(LEFT(D34,3)="ATK","ATK",IF(LEFT(D34,2)="AT",D34,"ATK")))) -> ATK | D34: 안성환 | E34: 43832 | F34: 43836 | G34: =IF(F34>0,MONTH(F34),"") -> 1 | H34: =IF(I34=0,"",IF(RIGHT(I34,2)="완료","완료",IF(RIGHT(I34,2)="불가","수리불가",IF(RIGHT(I34,1)="중","수리중","Other")))) -> 완료 | I34: 수리완료 | J34: K5 | K34: K5 | L34: =LEFT(K34,3) -> K5 | M34: Bumping | N34: mr-j3-10b | O34: AC SERVO DRIVER | P34: error 32 발생 | R34: 1 | S34: 1000 | T34: =(S34*50)/100*R34 -> 500 | V34: =T34-U34 -> 500 | W34: 자체 | Y34: 8 | Z34: =F34-E34 -> 4 | AA34: 강영구 | AC34: =U34/1100 -> 0
B35: =IF(F35>0,IFERROR(WEEKNUM(F35),""),"") -> 1 | C35: =IF(D35=0,"",(IF(LEFT(D35,3)="ATK","ATK",IF(LEFT(D35,2)="AT",D35,"ATK")))) -> ATK | D35: 윤여삼 | E35: 43832 | F35: 43832 | G35: =IF(F35>0,MONTH(F35),"") -> 1 | H35: =IF(I35=0,"",IF(RIGHT(I35,2)="완료","완료",IF(RIGHT(I35,2)="불가","수리불가",IF(RIGHT(I35,1)="중","수리중","Other")))) -> 완료 | I35: 수리완료 | J35: A | K35: 1T3P | L35: =LEFT(K35,3) -> 1T3 | M35: wire bonding | N35: k&s iconn | O35: power supply assy | Q35: ka02065 | R35: 1 | S35: 3500 | T35: =(S35*50)/100*R35 -> 1750 | V35: =T35-U35 -> 1750 | W35: 자체 | Y35: 8 | Z35: =F35-E35 -> 0 | AA35: 박병대 | AC35: =U35/1100 -> 0
B36: =IF(F36>0,IFERROR(WEEKNUM(F36),""),"") -> 2 | C36: =IF(D36=0,"",(IF(LEFT(D36,3)="ATK","ATK",IF(LEFT(D36,2)="AT",D36,"ATK")))) -> ATK | D36: 조원종 | E36: 43833 | F36: 43837 | G36: =IF(F36>0,MONTH(F36),"") -> 1 | H36: =IF(I36=0,"",IF(RIGHT(I36,2)="완료","완료",IF(RIGHT(I36,2)="불가","수리불가",IF(RIGHT(I36,1)="중","수리중","Other")))) -> 완료 | I36: 수리완료 | J36: EE | K36: EE2 | L36: =LEFT(K36,3) -> EE2 | M36: DATACON | N36: ETEL | O36: DSCDP121-111-000 | R36: 2 | S36: 6000 | T36: =(S36*50)/100*R36 -> 6000 | U36: 10 | V36: =T36-U36 -> 5990 | W36: 자체 | Y36: 8 | Z36: =F36-E36 -> 4 | AA36: 허준영 | AC36: =U36/1100 -> 0.0090909091
B37: =IF(F37>0,IFERROR(WEEKNUM(F37),""),"") -> 1 | C37: =IF(D37=0,"",(IF(LEFT(D37,3)="ATK","ATK",IF(LEFT(D37,2)="AT",D37,"ATK")))) -> ATK | D37: 노동록 | E37: 43833 | F37: 43833 | G37: =IF(F37>0,MONTH(F37),"") -> 1 | H37: =IF(I37=0,"",IF(RIGHT(I37,2)="완료","완료",IF(RIGHT(I37,2)="불가","수리불가",IF(RIGHT(I37,1)="중","수리중","Other")))) -> 완료 | I37: 수리완료 | J37: C | K37: 3T4P | L37: =LEFT(K37,3) -> 3T4 | M37: TCNCP | N37: KEY LOADER | O37: N/A | P37: KEY 안눌림 | R37: 1 | S37: 700 | T37: =(S37*50)/100*R37 -> 350 | U37: 0 | V37: =T37-U37 -> 350 | W37: 자체 | Y37: 2 | Z37: =F37-E37 -> 0 | AA37: 정기수 | AC37: =U37/1100 -> 0
B38: =IF(F38>0,IFERROR(WEEKNUM(F38),""),"") -> 1 | C38: =IF(D38=0,"",(IF(LEFT(D38,3)="ATK","ATK",IF(LEFT(D38,2)="AT",D38,"ATK")))) -> ATK | D38: 김전욱 | E38: 43833 | F38: 43833 | G38: =IF(F38>0,MONTH(F38),"") -> 1 | H38: =IF(I38=0,"",IF(RIGHT(I38,2)="완료","완료",IF(RIGHT(I38,2)="불가","수리불가",IF(RIGHT(I38,1)="중","수리중","Other")))) -> 완료 | I38: 수리완료 | J38: B | K38: 2T3P | L38: =LEFT(K38,3) -> 2T3 | N38: mr-j2s-20a | O38: AC SERVO DRIVER | R38: 2 | S38: 1500 | T38: =(S38*50)/100*R38 -> 1500 | V38: =T38-U38 -> 1500 | W38: 자체 | Y38: 8 | Z38: =F38-E38 -> 0 | AA38: 박병대 | AC38: =U38/1100 -> 0
B39: =IF(F39>0,IFERROR(WEEKNUM(F39),""),"") -> 2 | C39: =IF(D39=0,"",(IF(LEFT(D39,3)="ATK","ATK",IF(LEFT(D39,2)="AT",D39,"ATK")))) -> ATK | D39: 이영석 | E39: 43833 | F39: 43837 | G39: =IF(F39>0,MONTH(F39),"") -> 1 | H39: =IF(I39=0,"",IF(RIGHT(I39,2)="완료","완료",IF(RIGHT(I39,2)="불가","수리불가",IF(RIGHT(I39,1)="중","수리중","Other")))) -> 완료 | I39: 수리완료 | J39: F | K39: 5T1P | L39: =LEFT(K39,3) -> 5T1 | M39: IONIZER | N39: IPI-362B | O39: IONIZER | P39: ION 값 불량 | R39: 1 | S39: 1892 | T39: =(S39*50)/100*R39 -> 946 | U39: 10 | V39: =T39-U39 -> 936 | W39: 자체 | Y39: 2 | Z39: =F39-E39 -> 4 | AA39: 최준영 | AC39: =U39/1100 -> 0.0090909091
B40: =IF(F40>0,IFERROR(WEEKNUM(F40),""),"") -> 2 | C40: =IF(D40=0,"",(IF(LEFT(D40,3)="ATK","ATK",IF(LEFT(D40,2)="AT",D40,"ATK")))) -> ATK | D40: 김영환 | E40: 43832 | F40: 43836 | G40: =IF(F40>0,MONTH(F40),"") -> 1 | H40: =IF(I40=0,"",IF(RIGHT(I40,2)="완료","완료",IF(RIGHT(I40,2)="불가","수리불가",IF(RIGHT(I40,1)="중","수리중","Other")))) -> 완료 | I40: 수리완료 | J40: C | K40: 3T3P | L40: =LEFT(K40,3) -> 3T3 | O40: AJINEXTEK SMC-2V02 | R40: 2 | S40: 600 | T40: =(S40*50)/100*R40 -> 600 | U40: 12 | V40: =T40-U40 -> 588 | W40: 자체 | Y40: 1 | Z40: =F40-E40 -> 4 | AA40: 장은철 | AC40: =U40/1100 -> 0.010909091
B41: =IF(F41>0,IFERROR(WEEKNUM(F41),""),"") -> 2 | C41: =IF(D41=0,"",(IF(LEFT(D41,3)="ATK","ATK",IF(LEFT(D41,2)="AT",D41,"ATK")))) -> ATK | D41: 신덕우 | E41: 43833 | F41: 43836 | G41: =IF(F41>0,MONTH(F41),"") -> 1 | H41: =IF(I41=0,"",IF(RIGHT(I41,2)="완료","완료",IF(RIGHT(I41,2)="불가","수리불가",IF(RIGHT(I41,1)="중","수리중","Other")))) -> 완료 | I41: 수리완료 | J41: C | K41: 3T3P | L41: =LEFT(K41,3) -> 3T3 | M41: MOLD | N41: A21SB-08UY04 | O41: IN OUT B/D | R41: 1 | S41: 1200 | T41: =(S41*50)/100*R41 -> 600 | U41: 4 | V41: =T41-U41 -> 596 | W41: 자체 | Y41: 1 | Z41: =F41-E41 -> 3 | AA41: 장은철 | AC41: =U41/1100 -> 0.0036363636
B42: =IF(F42>0,IFERROR(WEEKNUM(F42),""),"") -> 2 | C42: =IF(D42=0,"",(IF(LEFT(D42,3)="ATK","ATK",IF(LEFT(D42,2)="AT",D42,"ATK")))) -> ATK | D42: 신명호 | E42: 43833 | F42: 43838 | G42: =IF(F42>0,MONTH(F42),"") -> 1 | H42: =IF(I42=0,"",IF(RIGHT(I42,2)="완료","완료",IF(RIGHT(I42,2)="불가","수리불가",IF(RIGHT(I42,1)="중","수리중","Other")))) -> 완료 | I42: 수리완료 | J42: C | K42: 3T4P | L42: =LEFT(K42,3) -> 3T4 | M42: TCNCP | N42: UPS | O42: KIN-1500AP | R42: 1 | S42: 1200 | T42: =(S42*50)/100*R42 -> 600 | U42: 200 | V42: =T42-U42 -> 400 | W42: 자체 | Y42: 2 | Z42: =F42-E42 -> 5 | AA42: 정기수 | AC42: =U42/1100 -> 0.18181818
B43: =IF(F43>0,IFERROR(WEEKNUM(F43),""),"") -> 2 | C43: =IF(D43=0,"",(IF(LEFT(D43,3)="ATK","ATK",IF(LEFT(D43,2)="AT",D43,"ATK")))) -> ATK | D43: 윤여삼 | E43: 43836 | F43: 43838 | G43: =IF(F43>0,MONTH(F43),"") -> 1 | H43: =IF(I43=0,"",IF(RIGHT(I43,2)="완료","완료",IF(RIGHT(I43,2)="불가","수리불가",IF(RIGHT(I43,1)="중","수리중","Other")))) -> 완료 | I43: 수리완료 | J43: A | K43: 1T3P | L43: =LEFT(K43,3) -> 1T3 | M43: wire bonding | N43: k&s iconn | O43: EFO BOX | P43: efo open spark 안나옴 | R43: 1 | S43: 1600 | T43: =(S43*50)/100*R43 -> 800 | U43: 25 | V43: =T43-U43 -> 775 | W43: 자체 | Y43: 3 | Z43: =F43-E43 -> 2 | AA43: 정기수 | AC43: =U43/1100 -> 0.022727273
B44: =IF(F44>0,IFERROR(WEEKNUM(F44),""),"") -> 5 | C44: =IF(D44=0,"",(IF(LEFT(D44,3)="ATK","ATK",IF(LEFT(D44,2)="AT",D44,"ATK")))) -> ATK | D44: 최경철 | E44: 43836 | F44: 43859 | G44: =IF(F44>0,MONTH(F44),"") -> 1 | H44: =IF(I44=0,"",IF(RIGHT(I44,2)="완료","완료",IF(RIGHT(I44,2)="불가","수리불가",IF(RIGHT(I44,1)="중","수리중","Other")))) -> 완료 | I44: 수리완료 | J44: EE | K44: EE1 | L44: =LEFT(K44,3) -> EE1 | M44: TNCNP | N44: mr-j2s-10a | O44: ac servo driver | P44: e9 error | R44: 1 | S44: 1200 | T44: =(S44*50)/100*R44 -> 600 | V44: =T44-U44 -> 600 | W44: 자체 | Z44: =F44-E44 -> 23 | AA44: 강영구 | AC44: =U44/1100 -> 0
B45: =IF(F45>0,IFERROR(WEEKNUM(F45),""),"") -> 2 | C45: =IF(D45=0,"",(IF(LEFT(D45,3)="ATK","ATK",IF(LEFT(D45,2)="AT",D45,"ATK")))) -> ATK | D45: 정정욱 | E45: 43836 | F45: 43836 | G45: =IF(F45>0,MONTH(F45),"") -> 1 | H45: =IF(I45=0,"",IF(RIGHT(I45,2)="완료","완료",IF(RIGHT(I45,2)="불가","수리불가",IF(RIGHT(I45,1)="중","수리중","Other")))) -> 완료 | I45: 수리완료 | J45: K5 | K45: K5 | L45: =LEFT(K45,3) -> K5 | M45: SMD | N45: QUANTUM | O45: CAN B/D | R45: 1 | S45: 1500 | T45: =(S45*50)/100*R45 -> 750 | U45: 0 | V45: =T45-U45 -> 750 | W45: 자체 | Y45: 1 | Z45: =F45-E45 -> 0 | AA45: 장은철 | AC45: =U45/1100 -> 0
B46: =IF(F46>0,IFERROR(WEEKNUM(F46),""),"") -> 2 | C46: =IF(D46=0,"",(IF(LEFT(D46,3)="ATK","ATK",IF(LEFT(D46,2)="AT",D46,"ATK")))) -> ATK | D46: 서중권 | E46: 43836 | F46: 43836 | G46: =IF(F46>0,MONTH(F46),"") -> 1 | H46: =IF(I46=0,"",IF(RIGHT(I46,2)="완료","완료",IF(RIGHT(I46,2)="불가","수리불가",IF(RIGHT(I46,1)="중","수리중","Other")))) -> 완료 | I46: 수리완료 | J46: C | K46: 3T3P | L46: =LEFT(K46,3) -> 3T3 | N46: hanmi | O46: MC-16F-HM | R46: 3 | S46: 400 | T46: =(S46*50)/100*R46 -> 600 | U46: 3 | V46: =T46-U46 -> 597 | W46: 자체 | Y46: 1 | Z46: =F46-E46 -> 0 | AA46: 장은철 | AC46: =U46/1100 -> 0.0027272727
B47: =IF(F47>0,IFERROR(WEEKNUM(F47),""),"") -> 2 | C47: =IF(D47=0,"",(IF(LEFT(D47,3)="ATK","ATK",IF(LEFT(D47,2)="AT",D47,"ATK")))) -> ATK | D47: 전태진 | E47: 43836 | F47: 43836 | G47: =IF(F47>0,MONTH(F47),"") -> 1 | H47: =IF(I47=0,"",IF(RIGHT(I47,2)="완료","완료",IF(RIGHT(I47,2)="불가","수리불가",IF(RIGHT(I47,1)="중","수리중","Other")))) -> 완료 | I47: 수리완료 | J47: C | K47: 3T3P | L47: =LEFT(K47,3) -> 3T3 | M47: YASKAWA | N47: AC SERVO DRIVER | O47: SGDV-2R8A01A | R47: 1 | S47: 1500 | T47: =(S47*50)/100*R47 -> 750 | U47: 15 | V47: =T47-U47 -> 735 | W47: 자체 | Y47: 1 | Z47: =F47-E47 -> 0 | AA47: 장은철 | AC47: =U47/1100 -> 0.013636364
B48: =IF(F48>0,IFERROR(WEEKNUM(F48),""),"") -> 9 | C48: =IF(D48=0,"",(IF(LEFT(D48,3)="ATK","ATK",IF(LEFT(D48,2)="AT",D48,"ATK")))) -> ATK | D48: 백윤덕 | E48: 43836 | F48: 43885 | G48: =IF(F48>0,MONTH(F48),"") -> 2 | H48: =IF(I48=0,"",IF(RIGHT(I48,2)="완료","완료",IF(RIGHT(I48,2)="불가","수리불가",IF(RIGHT(I48,1)="중","수리중","Other")))) -> 완료 | I48: 수리완료 | J48: C | K48: 3T1P | L48: =LEFT(K48,3) -> 3T1 | M48: ionizer | N48: IPI322 | O48: IONIZER | P48: 동작불량 | Q48: 101201098 | R48: 1 | S48: 710 | T48: =(S48*50)/100*R48 -> 355 | U48: 0 | V48: =T48-U48 -> 355 | W48: 자체 | Y48: 2 | Z48: =F48-E48 -> 49 | AA48: 정기수 | AC48: =U48/1100 -> 0
B49: =IF(F49>0,IFERROR(WEEKNUM(F49),""),"") -> 2 | C49: =IF(D49=0,"",(IF(LEFT(D49,3)="ATK","ATK",IF(LEFT(D49,2)="AT",D49,"ATK")))) -> ATK | D49: 이정렬 | E49: 43836 | F49: 43836 | G49: =IF(F49>0,MONTH(F49),"") -> 1 | H49: =IF(I49=0,"",IF(RIGHT(I49,2)="완료","완료",IF(RIGHT(I49,2)="불가","수리불가",IF(RIGHT(I49,1)="중","수리중","Other")))) -> 완료 | I49: 수리완료 | J49: P | K49: 1T1P | L49: =LEFT(K49,3) -> 1T1 | M49: ionizer | N49: IPI220 | O49: IONIZER | P49: ION 값 불량 | Q49: 170801536 | R49: 1 | S49: 700 | T49: =(S49*50)/100*R49 -> 350 | U49: 0 | V49: =T49-U49 -> 350 | W49: 자체 | Y49: 2 | Z49: =F49-E49 -> 0 | AA49: 정기수 | AC49: =U49/1100 -> 0
B50: =IF(F50>0,IFERROR(WEEKNUM(F50),""),"") -> 2 | C50: =IF(D50=0,"",(IF(LEFT(D50,3)="ATK","ATK",IF(LEFT(D50,2)="AT",D50,"ATK")))) -> ATK | D50: 김대지 | E50: 43836 | F50: 43838 | G50: =IF(F50>0,MONTH(F50),"") -> 1 | H50: =IF(I50=0,"",IF(RIGHT(I50,2)="완료","완료",IF(RIGHT(I50,2)="불가","수리불가",IF(RIGHT(I50,1)="중","수리중","Other")))) -> 완료 | I50: 수리완료 | J50: G | K50: 1T2P | L50: =LEFT(K50,3) -> 1T2 | M50: w/b/g | N50: mr-j2s-20a | O50: AC SERVO DRIVER | P50: 안됨 | R50: 2 | S50: 1000 | T50: =(S50*50)/100*R50 -> 1000 | U50: 20 | V50: =T50-U50 -> 980 | W50: 자체 | Y50: 2 | Z50: =F50-E50 -> 2 | AA50: 강영구 | AC50: =U50/1100 -> 0.018181818
B51: =IF(F51>0,IFERROR(WEEKNUM(F51),""),"") -> 7 | C51: =IF(D51=0,"",(IF(LEFT(D51,3)="ATK","ATK",IF(LEFT(D51,2)="AT",D51,"ATK")))) -> ATK | D51: 윤여삼 | E51: 43836 | F51: 43874 | G51: =IF(F51>0,MONTH(F51),"") -> 2 | H51: =IF(I51=0,"",IF(RIGHT(I51,2)="완료","완료",IF(RIGHT(I51,2)="불가","수리불가",IF(RIGHT(I51,1)="중","수리중","Other")))) -> 완료 | I51: 외주수리완료 | J51: A | K51: 1T3P | L51: =LEFT(K51,3) -> 1T3 | M51: wire bonding | N51: k&s iconn | O51: power supply assy | P51: 고압 RELAY on 안됨 가끔 | Q51: KA02065 | R51: 1 | S51: 3500 | T51: =(S51*50)/100*R51 -> 1750 | U51: 700 | V51: =T51-U51 -> 1050 | W51: 외주 | X51: 디에이테크 | Y51: 1 | Z51: =F51-E51 -> 38 | AA51: 강영구 | AC51: =U51/1100 -> 0.63636364
B52: =IF(F52>0,IFERROR(WEEKNUM(F52),""),"") -> 8 | C52: =IF(D52=0,"",(IF(LEFT(D52,3)="ATK","ATK",IF(LEFT(D52,2)="AT",D52,"ATK")))) -> ATK | D52: 장대호 | E52: 43836 | F52: 43881 | G52: =IF(F52>0,MONTH(F52),"") -> 2 | H52: =IF(I52=0,"",IF(RIGHT(I52,2)="완료","완료",IF(RIGHT(I52,2)="불가","수리불가",IF(RIGHT(I52,1)="중","수리중","Other")))) -> 완료 | I52: 외주수리완료 | J52: B | K52: 2T3P | L52: =LEFT(K52,3) -> 2T3 | M52: wire bonding | N52: k&s iconn -LA | O52: power supply assy | P52: ERROR #2 #4 uc3842 3845 ps3510 2834 | Q52: KA15026 | R52: 1 | S52: 3500 | T52: =(S52*50)/100*R52 -> 1750 | U52: 700 | V52: =T52-U52 -> 1050 | W52: 외주 | X52: 디에이테크 | Y52: 1 | Z52: =F52-E52 -> 45 | AA52: 강영구 | AC52: =U52/1100 -> 0.63636364
B53: =IF(F53>0,IFERROR(WEEKNUM(F53),""),"") -> 2 | C53: =IF(D53=0,"",(IF(LEFT(D53,3)="ATK","ATK",IF(LEFT(D53,2)="AT",D53,"ATK")))) -> ATK | D53: 신명호 | E53: 43833 | F53: 43837 | G53: =IF(F53>0,MONTH(F53),"") -> 1 | H53: =IF(I53=0,"",IF(RIGHT(I53,2)="완료","완료",IF(RIGHT(I53,2)="불가","수리불가",IF(RIGHT(I53,1)="중","수리중","Other")))) -> 완료 | I53: 수리완료 | J53: C | K53: 3T4P | L53: =LEFT(K53,3) -> 3T4 | M53: TCNCP | N53: TORAY | O53: TEMP CONTROLLER | R53: 1 | S53: 2000 | T53: =(S53*50)/100*R53 -> 1000 | U53: 6 | V53: =T53-U53 -> 994 | W53: 자체 | Y53: 2 | Z53: =F53-E53 -> 4 | AA53: 장은철 | AC53: =U53/1100 -> 0.0054545455
B54: =IF(F54>0,IFERROR(WEEKNUM(F54),""),"") -> 2 | C54: =IF(D54=0,"",(IF(LEFT(D54,3)="ATK","ATK",IF(LEFT(D54,2)="AT",D54,"ATK")))) -> ATK | D54: 김종근 | E54: 43836 | F54: 43837 | G54: =IF(F54>0,MONTH(F54),"") -> 1 | H54: =IF(I54=0,"",IF(RIGHT(I54,2)="완료","완료",IF(RIGHT(I54,2)="불가","수리불가",IF(RIGHT(I54,1)="중","수리중","Other")))) -> Other | I54: 폐기 | J54: F | K54: 5T2P | L54: =LEFT(K54,3) -> 5T2 | M54: Reflow | N54: XBC-DN20SU | O54: PLC Power Supply | R54: 1 | S54: 300 | T54: =(S54*50)/100*R54 -> 150 | U54: 0 | V54: =T54-U54 -> 150 | W54: 자체 | Y54: 2 | Z54: =F54-E54 -> 1 | AA54: 장은철 | AC54: =U54/1100 -> 0
B55: =IF(F55>0,IFERROR(WEEKNUM(F55),""),"") -> 2 | C55: =IF(D55=0,"",(IF(LEFT(D55,3)="ATK","ATK",IF(LEFT(D55,2)="AT",D55,"ATK")))) -> ATK | D55: 노동록 | E55: 43789 | F55: 43837 | G55: =IF(F55>0,MONTH(F55),"") -> 1 | H55: =IF(I55=0,"",IF(RIGHT(I55,2)="완료","완료",IF(RIGHT(I55,2)="불가","수리불가",IF(RIGHT(I55,1)="중","수리중","Other")))) -> 완료 | I55: 수리완료 | J55: C | K55: 3T4P | L55: =LEFT(K55,3) -> 3T4 | M55: ionizer | N55: ipi-332 | O55: IONIZER | P55: ION 값 불량 | Q55: 130600800 | R55: 1 | S55: 910 | T55: =(S55*50)/100*R55 -> 455 | U55: 0 | V55: =T55-U55 -> 455 | W55: 자체 | Y55: 2 | Z55: =F55-E55 -> 48 | AA55: 정기수 | AC55: =U55/1100 -> 0
B56: =IF(F56>0,IFERROR(WEEKNUM(F56),""),"") -> 2 | C56: =IF(D56=0,"",(IF(LEFT(D56,3)="ATK","ATK",IF(LEFT(D56,2)="AT",D56,"ATK")))) -> ATK | D56: 신명호 | E56: 43837 | F56: 43838 | G56: =IF(F56>0,MONTH(F56),"") -> 1 | H56: =IF(I56=0,"",IF(RIGHT(I56,2)="완료","완료",IF(RIGHT(I56,2)="불가","수리불가",IF(RIGHT(I56,1)="중","수리중","Other")))) -> 완료 | I56: 수리완료 | J56: C | K56: 3T4P | L56: =LEFT(K56,3) -> 3T4 | M56: TCNCP | N56: UPS | O56: BX75XW | R56: 1 | S56: 1200 | T56: =(S56*50)/100*R56 -> 600 | U56: 200 | V56: =T56-U56 -> 400 | W56: 자체 | Y56: 2 | Z56: =F56-E56 -> 1 | AA56: 정기수 | AC56: =U56/1100 -> 0.18181818
B57: =IF(F57>0,IFERROR(WEEKNUM(F57),""),"") -> 2 | C57: =IF(D57=0,"",(IF(LEFT(D57,3)="ATK","ATK",IF(LEFT(D57,2)="AT",D57,"ATK")))) -> ATK | D57: 최경철 | E57: 43837 | F57: 43837 | G57: =IF(F57>0,MONTH(F57),"") -> 1 | H57: =IF(I57=0,"",IF(RIGHT(I57,2)="완료","완료",IF(RIGHT(I57,2)="불가","수리불가",IF(RIGHT(I57,1)="중","수리중","Other")))) -> 완료 | I57: 수리완료 | J57: EE | K57: EE1 | L57: =LEFT(K57,3) -> EE1 | N57: mr-j2s-20a | O57: ac servo driver | R57: 2 | S57: 1500 | T57: =(S57*50)/100*R57 -> 1500 | U57: 60 | V57: =T57-U57 -> 1440 | W57: 자체 | Y57: 8 | Z57: =F57-E57 -> 0 | AA57: 박병대 | AC57: =U57/1100 -> 0.054545455
B58: =IF(F58>0,IFERROR(WEEKNUM(F58),""),"") -> 3 | C58: =IF(D58=0,"",(IF(LEFT(D58,3)="ATK","ATK",IF(LEFT(D58,2)="AT",D58,"ATK")))) -> ATK | D58: 이행원 | E58: 43838 | F58: 43847 | G58: =IF(F58>0,MONTH(F58),"") -> 1 | H58: =IF(I58=0,"",IF(RIGHT(I58,2)="완료","완료",IF(RIGHT(I58,2)="불가","수리불가",IF(RIGHT(I58,1)="중","수리중","Other")))) -> 완료 | I58: 외주수리완료 | J58: C | K58: 3T1P | L58: =LEFT(K58,3) -> 3T1 | M58: SMT | N58: Panasonic | O58: Digital Touch Monitor | P58: Touch Panel 불량 | R58: 1 | S58: 3700 | T58: =(S58*50)/100*R58 -> 1850 | U58: 500 | V58: =T58-U58 -> 1350 | W58: 외주 | X58: 큐텍코리아 | Y58: 4 | Z58: =F58-E58 -> 9 | AA58: 장은철 | AC58: =U58/1100 -> 0.45454545
B59: =IF(F59>0,IFERROR(WEEKNUM(F59),""),"") -> 2 | C59: =IF(D59=0,"",(IF(LEFT(D59,3)="ATK","ATK",IF(LEFT(D59,2)="AT",D59,"ATK")))) -> ATK | D59: 차한호 | E59: 43837 | F59: 43838 | G59: =IF(F59>0,MONTH(F59),"") -> 1 | H59: =IF(I59=0,"",IF(RIGHT(I59,2)="완료","완료",IF(RIGHT(I59,2)="불가","수리불가",IF(RIGHT(I59,1)="중","수리중","Other")))) -> 완료 | I59: 수리완료 | J59: EE | K59: EE1 | L59: =LEFT(K59,3) -> EE1 | M59: SPR | N59: N/A | O59: DFD6361 System PC | P59: Booting Fail | R59: 1 | S59: 1500 | T59: =(S59*50)/100*R59 -> 750 | U59: 100 | V59: =T59-U59 -> 650 | W59: 자체 | Y59: 2 | Z59: =F59-E59 -> 1 | AA59: 허준영 | AC59: =U59/1100 -> 0.090909091
B60: =IF(F60>0,IFERROR(WEEKNUM(F60),""),"") -> 2 | C60: =IF(D60=0,"",(IF(LEFT(D60,3)="ATK","ATK",IF(LEFT(D60,2)="AT",D60,"ATK")))) -> ATK | D60: 유철호 | E60: 43838 | F60: 43839 | G60: =IF(F60>0,MONTH(F60),"") -> 1 | H60: =IF(I60=0,"",IF(RIGHT(I60,2)="완료","완료",IF(RIGHT(I60,2)="불가","수리불가",IF(RIGHT(I60,1)="중","수리중","Other")))) -> 완료 | I60: 수리완료 | J60: EE | K60: EE2 | L60: =LEFT(K60,3) -> EE2 | M60: wire bonding | N60: K&S Ultra | O60: Power Supply Assy | P60: Lowe Power | R60: 1 | S60: 3500 | T60: =(S60*50)/100*R60 -> 1750 | U60: 150 | V60: =T60-U60 -> 1600 | W60: 자체 | Y60: 8 | Z60: =F60-E60 -> 1 | AA60: 박병대 | AC60: =U60/1100 -> 0.13636364
B61: =IF(F61>0,IFERROR(WEEKNUM(F61),""),"") -> 2 | C61: =IF(D61=0,"",(IF(LEFT(D61,3)="ATK","ATK",IF(LEFT(D61,2)="AT",D61,"ATK")))) -> ATK | D61: 윤여삼 | E61: 43838 | F61: 43838 | G61: =IF(F61>0,MONTH(F61),"") -> 1 | H61: =IF(I61=0,"",IF(RIGHT(I61,2)="완료","완료",IF(RIGHT(I61,2)="불가","수리불가",IF(RIGHT(I61,1)="중","수리중","Other")))) -> 완료 | I61: 수리완료 | J61: A | K61: 1T3P | L61: =LEFT(K61,3) -> 1T3 | M61: wire bonding | N61: k&s ultra | O61: power supply assy | P61: 동작불량 | R61: 1 | S61: 3500 | T61: =(S61*50)/100*R61 -> 1750 | U61: 150 | V61: =T61-U61 -> 1600 | W61: 자체 | Y61: 8 | Z61: =F61-E61 -> 0 | AA61: 박병대 | AC61: =U61/1100 -> 0.13636364
B62: =IF(F62>0,IFERROR(WEEKNUM(F62),""),"") -> 2 | C62: =IF(D62=0,"",(IF(LEFT(D62,3)="ATK","ATK",IF(LEFT(D62,2)="AT",D62,"ATK")))) -> ATK | D62: 신명호 | E62: 43838 | F62: 43839 | G62: =IF(F62>0,MONTH(F62),"") -> 1 | H62: =IF(I62=0,"",IF(RIGHT(I62,2)="완료","완료",IF(RIGHT(I62,2)="불가","수리불가",IF(RIGHT(I62,1)="중","수리중","Other")))) -> 완료 | I62: 수리완료 | J62: C | K62: 3T4P | L62: =LEFT(K62,3) -> 3T4 | M62: TCNCP | N62: UPS | O62: BX75XW | P62: 배터리 교체 | R62: 1 | S62: 1200 | T62: =(S62*50)/100*R62 -> 600 | U62: 200 | V62: =T62-U62 -> 400 | W62: 자체 | Y62: 2 | Z62: =F62-E62 -> 1 | AA62: 정기수 | AC62: =U62/1100 -> 0.18181818
B63: =IF(F63>0,IFERROR(WEEKNUM(F63),""),"") -> 3 | C63: =IF(D63=0,"",(IF(LEFT(D63,3)="ATK","ATK",IF(LEFT(D63,2)="AT",D63,"ATK")))) -> ATK | D63: 장대호 | E63: 43838 | F63: 43843 | G63: =IF(F63>0,MONTH(F63),"") -> 1 | H63: =IF(I63=0,"",IF(RIGHT(I63,2)="완료","완료",IF(RIGHT(I63,2)="불가","수리불가",IF(RIGHT(I63,1)="중","수리중","Other")))) -> 완료 | I63: 수리완료 | J63: B | K63: 2T3P | L63: =LEFT(K63,3) -> 2T3 | M63: wire bonding | N63: 2D MAP | O63: System PC | P63: Booting Fail | R63: 1 | S63: 5000 | T63: =(S63*50)/100*R63 -> 2500 | U63: 50 | V63: =T63-U63 -> 2450 | W63: 자체 | Y63: 6 | Z63: =F63-E63 -> 5 | AA63: 허준영 | AC63: =U63/1100 -> 0.045454545
B64: =IF(F64>0,IFERROR(WEEKNUM(F64),""),"") -> 2 | C64: =IF(D64=0,"",(IF(LEFT(D64,3)="ATK","ATK",IF(LEFT(D64,2)="AT",D64,"ATK")))) -> ATK | D64: 정정욱 | E64: 43838 | F64: 43838 | G64: =IF(F64>0,MONTH(F64),"") -> 1 | H64: =IF(I64=0,"",IF(RIGHT(I64,2)="완료","완료",IF(RIGHT(I64,2)="불가","수리불가",IF(RIGHT(I64,1)="중","수리중","Other")))) -> 완료 | I64: 수리완료 | J64: K5 | K64: K5 | L64: =LEFT(K64,3) -> K5 | M64: SMD | N64: QUANTUM | O64: CAN B/D | R64: 1 | S64: 1500 | T64: =(S64*50)/100*R64 -> 750 | U64: 70 | V64: =T64-U64 -> 680 | W64: 자체 | Y64: 7 | Z64: =F64-E64 -> 0 | AA64: 장은철 | AC64: =U64/1100 -> 0.063636364
B65: =IF(F65>0,IFERROR(WEEKNUM(F65),""),"") -> 2 | C65: =IF(D65=0,"",(IF(LEFT(D65,3)="ATK","ATK",IF(LEFT(D65,2)="AT",D65,"ATK")))) -> ATK | D65: 김선일 | E65: 43839 | F65: 43839 | G65: =IF(F65>0,MONTH(F65),"") -> 1 | H65: =IF(I65=0,"",IF(RIGHT(I65,2)="완료","완료",IF(RIGHT(I65,2)="불가","수리불가",IF(RIGHT(I65,1)="중","수리중","Other")))) -> 완료 | I65: 수리완료 | J65: PM | K65: PM | L65: =LEFT(K65,3) -> PM | O65: LED Controller | P65: Power Supply Out | R65: 1 | S65: 900 | T65: =(S65*50)/100*R65 -> 450 | U65: 5 | V65: =T65-U65 -> 445 | W65: 자체 | Y65: 1 | Z65: =F65-E65 -> 0 | AA65: 장은철 | AC65: =U65/1100 -> 0.0045454545
B66: =IF(F66>0,IFERROR(WEEKNUM(F66),""),"") -> 2 | C66: =IF(D66=0,"",(IF(LEFT(D66,3)="ATK","ATK",IF(LEFT(D66,2)="AT",D66,"ATK")))) -> ATK | D66: 한기호 | E66: 43836 | F66: 43839 | G66: =IF(F66>0,MONTH(F66),"") -> 1 | H66: =IF(I66=0,"",IF(RIGHT(I66,2)="완료","완료",IF(RIGHT(I66,2)="불가","수리불가",IF(RIGHT(I66,1)="중","수리중","Other")))) -> 완료 | I66: 수리완료 | J66: EE | K66: EE2 | L66: =LEFT(K66,3) -> EE2 | M66: N/A | N66: Touch Monitor | O66: LM190E09 | R66: 1 | S66: 1500 | T66: =(S66*50)/100*R66 -> 750 | U66: 5 | V66: =T66-U66 -> 745 | W66: 자체 | Y66: 2 | Z66: =F66-E66 -> 3 | AA66: 허준영 | AC66: =U66/1100 -> 0.0045454545
B67: =IF(F67>0,IFERROR(WEEKNUM(F67),""),"") -> 2 | C67: =IF(D67=0,"",(IF(LEFT(D67,3)="ATK","ATK",IF(LEFT(D67,2)="AT",D67,"ATK")))) -> ATK | D67: 하운 | E67: 43838 | F67: 43839 | G67: =IF(F67>0,MONTH(F67),"") -> 1 | H67: =IF(I67=0,"",IF(RIGHT(I67,2)="완료","완료",IF(RIGHT(I67,2)="불가","수리불가",IF(RIGHT(I67,1)="중","수리중","Other")))) -> 완료 | I67: 수리완료 | J67: Other | K67: Other | L67: =LEFT(K67,3) -> Oth | M67: 시설 | N67: GHG630DCE | O67: 열풍기 | P67: 팬만돌고 LCD 화면 안되고 뜨겁지 않음 / 전원부 콘덴서 2개 교체 | Q67: 611 110 178 | R67: 1 | S67: 150 | T67: =(S67*50)/100*R67 -> 75 | U67: 1 | V67: =T67-U67 -> 74 | W67: 자체 | Y67: 8 | Z67: =F67-E67 -> 1 | AA67: 최준영 | AC67: =U67/1100 -> 0.00090909091
B68: =IF(F68>0,IFERROR(WEEKNUM(F68),""),"") -> 2 | C68: =IF(D68=0,"",(IF(LEFT(D68,3)="ATK","ATK",IF(LEFT(D68,2)="AT",D68,"ATK")))) -> ATK | D68: 윤여삼 | E68: 43836 | F68: 43839 | G68: =IF(F68>0,MONTH(F68),"") -> 1 | H68: =IF(I68=0,"",IF(RIGHT(I68,2)="완료","완료",IF(RIGHT(I68,2)="불가","수리불가",IF(RIGHT(I68,1)="중","수리중","Other")))) -> 완료 | I68: 수리완료 | J68: A | K68: 1T3P | L68: =LEFT(K68,3) -> 1T3 | M68: wire bonding | N68: k&s iconn | O68: atx3 interface bd | P68: rej board에서 ic 추출 | R68: 1 | S68: 2000 | T68: =(S68*50)/100*R68 -> 1000 | U68: 0 | V68: =T68-U68 -> 1000 | W68: 자체 | Y68: 1 | Z68: =F68-E68 -> 3 | AA68: 강영구 | AC68: =U68/1100 -> 0
B69: =IF(F69>0,IFERROR(WEEKNUM(F69),""),"") -> 2 | C69: =IF(D69=0,"",(IF(LEFT(D69,3)="ATK","ATK",IF(LEFT(D69,2)="AT",D69,"ATK")))) -> ATK | D69: 이충식 | E69: 43839 | F69: 43840 | G69: =IF(F69>0,MONTH(F69),"") -> 1 | H69: =IF(I69=0,"",IF(RIGHT(I69,2)="완료","완료",IF(RIGHT(I69,2)="불가","수리불가",IF(RIGHT(I69,1)="중","수리중","Other")))) -> 완료 | I69: 수리완료 | J69: EE | K69: EE2 | L69: =LEFT(K69,3) -> EE2 | M69: SAT | N69: APC | O69: UPS | P69: 배터리 교체 | R69: 1 | S69: 500 | T69: =(S69*50)/100*R69 -> 250 | U69: 100 | V69: =T69-U69 -> 150 | W69: 자체 | Y69: 1 | Z69: =F69-E69 -> 1 | AA69: 정기수 | AC69: =U69/1100 -> 0.090909091
B70: =IF(F70>0,IFERROR(WEEKNUM(F70),""),"") -> 2 | C70: =IF(D70=0,"",(IF(LEFT(D70,3)="ATK","ATK",IF(LEFT(D70,2)="AT",D70,"ATK")))) -> ATK | D70: 고규식 | E70: 43838 | F70: 43838 | G70: =IF(F70>0,MONTH(F70),"") -> 1 | H70: =IF(I70=0,"",IF(RIGHT(I70,2)="완료","완료",IF(RIGHT(I70,2)="불가","수리불가",IF(RIGHT(I70,1)="중","수리중","Other")))) -> Other | I70: Other | J70: EE | K70: EE1 | L70: =LEFT(K70,3) -> EE1 | M70: TCNCP | N70: N/A | O70: Battery | P70: Back Up용 Battery 교체 | R70: 1 | S70: 0 | T70: =(S70*50)/100*R70 -> 0 | U70: 0 | V70: =T70-U70 -> 0 | W70: 자체 | Y70: 3 | Z70: =F70-E70 -> 0 | AA70: 정기수 | AC70: =U70/1100 -> 0
B71: =IF(F71>0,IFERROR(WEEKNUM(F71),""),"") -> 2 | C71: =IF(D71=0,"",(IF(LEFT(D71,3)="ATK","ATK",IF(LEFT(D71,2)="AT",D71,"ATK")))) -> ATK | D71: 고규식 | E71: 43838 | F71: 43838 | G71: =IF(F71>0,MONTH(F71),"") -> 1 | H71: =IF(I71=0,"",IF(RIGHT(I71,2)="완료","완료",IF(RIGHT(I71,2)="불가","수리불가",IF(RIGHT(I71,1)="중","수리중","Other")))) -> Other | I71: Other | J71: EE | K71: EE1 | L71: =LEFT(K71,3) -> EE1 | M71: TCNCP | N71: N/A | O71: Battery | P71: Back Up용 Battery 교체 | R71: 1 | S71: 0 | T71: =(S71*50)/100*R71 -> 0 | U71: 0 | V71: =T71-U71 -> 0 | W71: 자체 | Y71: 3 | Z71: =F71-E71 -> 0 | AA71: 허준영 | AC71: =U71/1100 -> 0
B72: =IF(F72>0,IFERROR(WEEKNUM(F72),""),"") -> 2 | C72: =IF(D72=0,"",(IF(LEFT(D72,3)="ATK","ATK",IF(LEFT(D72,2)="AT",D72,"ATK")))) -> ATK | D72: 안성환 | E72: 43840 | F72: 43840 | G72: =IF(F72>0,MONTH(F72),"") -> 1 | H72: =IF(I72=0,"",IF(RIGHT(I72,2)="완료","완료",IF(RIGHT(I72,2)="불가","수리불가",IF(RIGHT(I72,1)="중","수리중","Other")))) -> 완료 | I72: 수리완료 | J72: K5 | K72: K5 | L72: =LEFT(K72,3) -> K5 | M72: Bumping | N72: mr-j3-10b | O72: AC SERVO DRIVER | P72: encoder error / main control bd 교환 default setup | R72: 1 | S72: 1000 | T72: =(S72*50)/100*R72 -> 500 | V72: =T72-U72 -> 500 | W72: 자체 | Y72: 8 | Z72: =F72-E72 -> 0 | AA72: 강영구 | AC72: =U72/1100 -> 0
B73: =IF(F73>0,IFERROR(WEEKNUM(F73),""),"") -> 2 | C73: =IF(D73=0,"",(IF(LEFT(D73,3)="ATK","ATK",IF(LEFT(D73,2)="AT",D73,"ATK")))) -> ATK | D73: 윤여삼 | E73: 43840 | F73: 43840 | G73: =IF(F73>0,MONTH(F73),"") -> 1 | H73: =IF(I73=0,"",IF(RIGHT(I73,2)="완료","완료",IF(RIGHT(I73,2)="불가","수리불가",IF(RIGHT(I73,1)="중","수리중","Other")))) -> 완료 | I73: 수리완료 | J73: A | K73: 1T3P | L73: =LEFT(K73,3) -> 1T3 | M73: wire bonding | N73: K&s iconn | O73: Battery pack | R73: 1 | S73: 500 | T73: =(S73*50)/100*R73 -> 250 | U73: 200 | V73: =T73-U73 -> 50 | W73: 자체 | Y73: 1 | Z73: =F73-E73 -> 0 | AA73: 정기수 | AC73: =U73/1100 -> 0.18181818
B74: =IF(F74>0,IFERROR(WEEKNUM(F74),""),"") -> 2 | C74: =IF(D74=0,"",(IF(LEFT(D74,3)="ATK","ATK",IF(LEFT(D74,2)="AT",D74,"ATK")))) -> ATK | D74: 최경철 | E74: 43840 | F74: 43840 | G74: =IF(F74>0,MONTH(F74),"") -> 1 | H74: =IF(I74=0,"",IF(RIGHT(I74,2)="완료","완료",IF(RIGHT(I74,2)="불가","수리불가",IF(RIGHT(I74,1)="중","수리중","Other")))) -> 완료 | I74: 수리완료 | J74: EE | K74: EE1 | L74: =LEFT(K74,3) -> EE1 | M74: TCNCP | N74: UPS | O74: BX75XW | P74: 배터리 교체 | R74: 1 | S74: 1200 | T74: =(S74*50)/100*R74 -> 600 | U74: 200 | V74: =T74-U74 -> 400 | W74: 자체 | Y74: 2 | Z74: =F74-E74 -> 0 | AA74: 정기수 | AC74: =U74/1100 -> 0.18181818
B75: =IF(F75>0,IFERROR(WEEKNUM(F75),""),"") -> 2 | C75: =IF(D75=0,"",(IF(LEFT(D75,3)="ATK","ATK",IF(LEFT(D75,2)="AT",D75,"ATK")))) -> ATK | D75: 신명호 | E75: 43840 | F75: 43840 | G75: =IF(F75>0,MONTH(F75),"") -> 1 | H75: =IF(I75=0,"",IF(RIGHT(I75,2)="완료","완료",IF(RIGHT(I75,2)="불가","수리불가",IF(RIGHT(I75,1)="중","수리중","Other")))) -> 완료 | I75: 수리완료 | J75: C | K75: 3T4P | L75: =LEFT(K75,3) -> 3T4 | M75: TCNCP | N75: MHAA-100W | O75: ILLUMINATOR BOX | P75: 동작불량 | R75: 2 | S75: 1200 | T75: =(S75*50)/100*R75 -> 1200 | U75: 50 | V75: =T75-U75 -> 1150 | W75: 자체 | Y75: 8 | Z75: =F75-E75 -> 0 | AA75: 박병대 | AC75: =U75/1100 -> 0.045454545
B76: =IF(F76>0,IFERROR(WEEKNUM(F76),""),"") -> 2 | C76: =IF(D76=0,"",(IF(LEFT(D76,3)="ATK","ATK",IF(LEFT(D76,2)="AT",D76,"ATK")))) -> ATK | D76: 한광식 | E76: 43836 | F76: 43840 | G76: =IF(F76>0,MONTH(F76),"") -> 1 | H76: =IF(I76=0,"",IF(RIGHT(I76,2)="완료","완료",IF(RIGHT(I76,2)="불가","수리불가",IF(RIGHT(I76,1)="중","수리중","Other")))) -> 완료 | I76: 수리완료 | J76: F | K76: 5T2P | L76: =LEFT(K76,3) -> 5T2 | M76: N/A | N76: UPS | O76: SMART-1500 | P76: Battery 방전 | R76: 1 | S76: 1500 | T76: =(S76*50)/100*R76 -> 750 | U76: 150 | V76: =T76-U76 -> 600 | W76: 자체 | Y76: 2 | Z76: =F76-E76 -> 4 | AA76: 허준영 | AC76: =U76/1100 -> 0.13636364
B77: =IF(F77>0,IFERROR(WEEKNUM(F77),""),"") -> 2 | C77: =IF(D77=0,"",(IF(LEFT(D77,3)="ATK","ATK",IF(LEFT(D77,2)="AT",D77,"ATK")))) -> ATK | D77: 장대호 | E77: 43840 | F77: 43840 | G77: =IF(F77>0,MONTH(F77),"") -> 1 | H77: =IF(I77=0,"",IF(RIGHT(I77,2)="완료","완료",IF(RIGHT(I77,2)="불가","수리불가",IF(RIGHT(I77,1)="중","수리중","Other")))) -> 완료 | I77: 수리완료 | J77: B | K77: 2T3P | L77: =LEFT(K77,3) -> 2T3 | M77: wire bonding | N77: K&S Iconn | O77: Wire Clamp Board | P77: Wire Clamp 동작 X | R77: 1 | S77: 2200 | T77: =(S77*50)/100*R77 -> 1100 | U77: 30 | V77: =T77-U77 -> 1070 | W77: 자체 | Y77: 2 | Z77: =F77-E77 -> 0 | AA77: 허준영 | AC77: =U77/1100 -> 0.027272727
B78: =IF(F78>0,IFERROR(WEEKNUM(F78),""),"") -> 3 | C78: =IF(D78=0,"",(IF(LEFT(D78,3)="ATK","ATK",IF(LEFT(D78,2)="AT",D78,"ATK")))) -> ATK | D78: 이만기 | E78: 43840 | F78: 43843 | G78: =IF(F78>0,MONTH(F78),"") -> 1 | H78: =IF(I78=0,"",IF(RIGHT(I78,2)="완료","완료",IF(RIGHT(I78,2)="불가","수리불가",IF(RIGHT(I78,1)="중","수리중","Other")))) -> 완료 | I78: 수리완료 | J78: F | K78: 5T1P | L78: =LEFT(K78,3) -> 5T1 | M78: F/C | N78: CM602 | O78: MR-J2S-40A | P78: AL24 MODULE OUT | R78: 1 | S78: 1000 | T78: =(S78*50)/100*R78 -> 500 | U78: 50 | V78: =T78-U78 -> 450 | W78: 자체 | Y78: 7 | Z78: =F78-E78 -> 3 | AA78: 강영구 | AC78: =U78/1100 -> 0.045454545
B79: =IF(F79>0,IFERROR(WEEKNUM(F79),""),"") -> 3 | C79: =IF(D79=0,"",(IF(LEFT(D79,3)="ATK","ATK",IF(LEFT(D79,2)="AT",D79,"ATK")))) -> ATK | D79: 윤준상 | E79: 43839 | F79: 43843 | G79: =IF(F79>0,MONTH(F79),"") -> 1 | H79: =IF(I79=0,"",IF(RIGHT(I79,2)="완료","완료",IF(RIGHT(I79,2)="불가","수리불가",IF(RIGHT(I79,1)="중","수리중","Other")))) -> 완료 | I79: 수리완료 | J79: PM | K79: PM | L79: =LEFT(K79,3) -> PM | M79: N/A | N79: N/A | O79: 온습도계 | R79: 1 | S79: 400 | T79: =(S79*50)/100*R79 -> 200 | U79: 0 | V79: =T79-U79 -> 200 | W79: 자체 | Y79: 1 | Z79: =F79-E79 -> 4 | AA79: 장은철 | AC79: =U79/1100 -> 0
B80: =IF(F80>0,IFERROR(WEEKNUM(F80),""),"") -> 3 | C80: =IF(D80=0,"",(IF(LEFT(D80,3)="ATK","ATK",IF(LEFT(D80,2)="AT",D80,"ATK")))) -> ATK | D80: 김현만 | E80: 43843 | F80: 43844 | G80: =IF(F80>0,MONTH(F80),"") -> 1 | H80: =IF(I80=0,"",IF(RIGHT(I80,2)="완료","완료",IF(RIGHT(I80,2)="불가","수리불가",IF(RIGHT(I80,1)="중","수리중","Other")))) -> 완료 | I80: 수리완료 | J80: C | K80: 5T1P | L80: =LEFT(K80,3) -> 5T1 | M80: f/c | N80: mr-j2s-20a | O80: AC SERVO DRIVER | P80: e9 error | R80: 2 | S80: 1000 | T80: =(S80*50)/100*R80 -> 1000 | U80: 50 | V80: =T80-U80 -> 950 | W80: 자체 | Y80: 4 | Z80: =F80-E80 -> 1 | AA80: 강영구 | AC80: =U80/1100 -> 0.045454545
B81: =IF(F81>0,IFERROR(WEEKNUM(F81),""),"") -> 5 | C81: =IF(D81=0,"",(IF(LEFT(D81,3)="ATK","ATK",IF(LEFT(D81,2)="AT",D81,"ATK")))) -> ATK | D81: 신명호 | E81: 43843 | F81: 43859 | G81: =IF(F81>0,MONTH(F81),"") -> 1 | H81: =IF(I81=0,"",IF(RIGHT(I81,2)="완료","완료",IF(RIGHT(I81,2)="불가","수리불가",IF(RIGHT(I81,1)="중","수리중","Other")))) -> 완료 | I81: 외주수리완료 | J81: C | K81: 3T4P | L81: =LEFT(K81,3) -> 3T4 | M81: TCNCP | N81: TORAY | O81: Pendant | Q81: MK1369-70823B | R81: 1 | S81: 1500 | T81: =(S81*50)/100*R81 -> 750 | U81: 300 | V81: =T81-U81 -> 450 | W81: 외주 | X81: 씨맥스 | Y81: 1 | Z81: =F81-E81 -> 16 | AA81: 장은철 | AC81: =U81/1100 -> 0.27272727
B82: =IF(F82>0,IFERROR(WEEKNUM(F82),""),"") -> 5 | C82: =IF(D82=0,"",(IF(LEFT(D82,3)="ATK","ATK",IF(LEFT(D82,2)="AT",D82,"ATK")))) -> ATK | D82: 신명호 | E82: 43843 | F82: 43859 | G82: =IF(F82>0,MONTH(F82),"") -> 1 | H82: =IF(I82=0,"",IF(RIGHT(I82,2)="완료","완료",IF(RIGHT(I82,2)="불가","수리불가",IF(RIGHT(I82,1)="중","수리중","Other")))) -> 완료 | I82: 외주수리완료 | J82: C | K82: 3T4P | L82: =LEFT(K82,3) -> 3T4 | M82: TCNCP | N82: TORAY | O82: Pendant | Q82: MK1369-78903B | R82: 1 | S82: 1500 | T82: =(S82*50)/100*R82 -> 750 | U82: 300 | V82: =T82-U82 -> 450 | W82: 외주 | X82: 씨맥스 | Y82: 1 | Z82: =F82-E82 -> 16 | AA82: 장은철 | AC82: =U82/1100 -> 0.27272727
B83: =IF(F83>0,IFERROR(WEEKNUM(F83),""),"") -> 5 | C83: =IF(D83=0,"",(IF(LEFT(D83,3)="ATK","ATK",IF(LEFT(D83,2)="AT",D83,"ATK")))) -> ATK | D83: 신명호 | E83: 43843 | F83: 43859 | G83: =IF(F83>0,MONTH(F83),"") -> 1 | H83: =IF(I83=0,"",IF(RIGHT(I83,2)="완료","완료",IF(RIGHT(I83,2)="불가","수리불가",IF(RIGHT(I83,1)="중","수리중","Other")))) -> 완료 | I83: 외주수리완료 | J83: C | K83: 3T4P | L83: =LEFT(K83,3) -> 3T4 | M83: TCNCP | N83: TORAY | O83: Pendant | Q83: MK1369-70Z06B | R83: 1 | S83: 1500 | T83: =(S83*50)/100*R83 -> 750 | U83: 300 | V83: =T83-U83 -> 450 | W83: 외주 | X83: 씨맥스 | Y83: 1 | Z83: =F83-E83 -> 16 | AA83: 장은철 | AC83: =U83/1100 -> 0.27272727
B84: =IF(F84>0,IFERROR(WEEKNUM(F84),""),"") -> 3 | C84: =IF(D84=0,"",(IF(LEFT(D84,3)="ATK","ATK",IF(LEFT(D84,2)="AT",D84,"ATK")))) -> ATK | D84: 안세왕 | E84: 43813 | F84: 43843 | G84: =IF(F84>0,MONTH(F84),"") -> 1 | H84: =IF(I84=0,"",IF(RIGHT(I84,2)="완료","완료",IF(RIGHT(I84,2)="불가","수리불가",IF(RIGHT(I84,1)="중","수리중","Other")))) -> 완료 | I84: 수리완료 | J84: C | K84: 3T1P | L84: =LEFT(K84,3) -> 3T1 | M84: N/A | N84: 24VDC Power Supply | O84: VSF220-24 | P84: 220V에 110V인가하여 Fuse Burn | R84: 1 | S84: 450 | T84: =(S84*50)/100*R84 -> 225 | U84: 1 | V84: =T84-U84 -> 224 | W84: 자체 | Y84: 2 | Z84: =F84-E84 -> 30 | AA84: 허준영 | AC84: =U84/1100 -> 0.00090909091
B85: =IF(F85>0,IFERROR(WEEKNUM(F85),""),"") -> 3 | C85: =IF(D85=0,"",(IF(LEFT(D85,3)="ATK","ATK",IF(LEFT(D85,2)="AT",D85,"ATK")))) -> ATK | D85: 한승진 | E85: 43843 | F85: 43843 | G85: =IF(F85>0,MONTH(F85),"") -> 1 | H85: =IF(I85=0,"",IF(RIGHT(I85,2)="완료","완료",IF(RIGHT(I85,2)="불가","수리불가",IF(RIGHT(I85,1)="중","수리중","Other")))) -> 완료 | I85: 수리완료 | J85: G | K85: 6T2P | L85: =LEFT(K85,3) -> 6T2 | M85: W/G/B | N85: mr-j2s-10a | O85: ac servo driver | R85: 2 | S85: 1500 | T85: =(S85*50)/100*R85 -> 1500 | V85: =T85-U85 -> 1500 | W85: 자체 | Y85: 8 | Z85: =F85-E85 -> 0 | AA85: 박병대 | AC85: =U85/1100 -> 0
B86: =IF(F86>0,IFERROR(WEEKNUM(F86),""),"") -> 3 | C86: =IF(D86=0,"",(IF(LEFT(D86,3)="ATK","ATK",IF(LEFT(D86,2)="AT",D86,"ATK")))) -> ATP | D86: ATP | E86: 43843 | F86: 43846 | G86: =IF(F86>0,MONTH(F86),"") -> 1 | H86: =IF(I86=0,"",IF(RIGHT(I86,2)="완료","완료",IF(RIGHT(I86,2)="불가","수리불가",IF(RIGHT(I86,1)="중","수리중","Other")))) -> 완료 | I86: 수리완료 | J86: ATP | K86: ATP | L86: =LEFT(K86,3) -> ATP | M86: OVEN | N86: LS | O86: USED Touchscreen Monitor | P86: No Video Burnout U47 IC | Q86: 50061211B7D | R86: 1 | S86: 469.8 | T86: =(S86*50)/100*R86 -> 234.9 | U86: 20 | V86: =T86-U86 -> 214.9 | W86: 자체 | Y86: 2 | Z86: =F86-E86 -> 3 | AA86: 장은철 | AC86: =U86/1100 -> 0.018181818
B87: =IF(F87>0,IFERROR(WEEKNUM(F87),""),"") -> 3 | C87: =IF(D87=0,"",(IF(LEFT(D87,3)="ATK","ATK",IF(LEFT(D87,2)="AT",D87,"ATK")))) -> ATP | D87: ATP | E87: 43843 | F87: 43846 | G87: =IF(F87>0,MONTH(F87),"") -> 1 | H87: =IF(I87=0,"",IF(RIGHT(I87,2)="완료","완료",IF(RIGHT(I87,2)="불가","수리불가",IF(RIGHT(I87,1)="중","수리중","Other")))) -> 완료 | I87: 수리완료 | J87: ATP | K87: ATP | L87: =LEFT(K87,3) -> ATP | M87: OVEN | N87: LS | O87: USED Touchscreen Monitor | P87: No Video Burnout U47 IC | Q87: 5005C151CA6 | R87: 1 | S87: 469.8 | T87: =(S87*50)/100*R87 -> 234.9 | U87: 20 | V87: =T87-U87 -> 214.9 | W87: 자체 | Y87: 2 | Z87: =F87-E87 -> 3 | AA87: 장은철 | AC87: =U87/1100 -> 0.018181818
B88: =IF(F88>0,IFERROR(WEEKNUM(F88),""),"") -> 3 | C88: =IF(D88=0,"",(IF(LEFT(D88,3)="ATK","ATK",IF(LEFT(D88,2)="AT",D88,"ATK")))) -> ATP | D88: ATP | E88: 43843 | F88: 43846 | G88: =IF(F88>0,MONTH(F88),"") -> 1 | H88: =IF(I88=0,"",IF(RIGHT(I88,2)="완료","완료",IF(RIGHT(I88,2)="불가","수리불가",IF(RIGHT(I88,1)="중","수리중","Other")))) -> 완료 | I88: 수리완료 | J88: ATP | K88: ATP | L88: =LEFT(K88,3) -> ATP | M88: OVEN | N88: LS | O88: USED Touchscreen Monitor | P88: Garbage video, Mainboard problem | Q88: 50061211B79 | R88: 1 | S88: 469.8 | T88: =(S88*50)/100*R88 -> 234.9 | U88: 20 | V88: =T88-U88 -> 214.9 | W88: 자체 | Y88: 2 | Z88: =F88-E88 -> 3 | AA88: 장은철 | AC88: =U88/1100 -> 0.018181818
B89: =IF(F89>0,IFERROR(WEEKNUM(F89),""),"") -> 8 | C89: =IF(D89=0,"",(IF(LEFT(D89,3)="ATK","ATK",IF(LEFT(D89,2)="AT",D89,"ATK")))) -> ATP | D89: ATP | E89: 43843 | F89: 43878 | G89: =IF(F89>0,MONTH(F89),"") -> 2 | H89: =IF(I89=0,"",IF(RIGHT(I89,2)="완료","완료",IF(RIGHT(I89,2)="불가","수리불가",IF(RIGHT(I89,1)="중","수리중","Other")))) -> 완료 | I89: 수리완료 | J89: ATP | K89: ATP | L89: =LEFT(K89,3) -> ATP | M89: ALL | N89: DATAPAQ | O89: USED Temperature Logger | P89: No Comm to PC, Unable to download data. | Q89: SN: 332401 | R89: 1 | S89: 5800 | T89: =(S89*50)/100*R89 -> 2900 | U89: 0 | V89: =T89-U89 -> 2900 | W89: 자체 | Y89: 3 | Z89: =F89-E89 -> 35 | AA89: 장은철 | AC89: =U89/1100 -> 0
B90: =IF(F90>0,IFERROR(WEEKNUM(F90),""),"") -> 4 | C90: =IF(D90=0,"",(IF(LEFT(D90,3)="ATK","ATK",IF(LEFT(D90,2)="AT",D90,"ATK")))) -> ATP | D90: ATP | E90: 43843 | F90: 43853 | G90: =IF(F90>0,MONTH(F90),"") -> 1 | H90: =IF(I90=0,"",IF(RIGHT(I90,2)="완료","완료",IF(RIGHT(I90,2)="불가","수리불가",IF(RIGHT(I90,1)="중","수리중","Other")))) -> 수리불가 | I90: 수리불가 | J90: ATP | K90: ATP | L90: =LEFT(K90,3) -> ATP | M90: SAW SING. | N90: JMT | O90: USED TENKEY CONSOLE | P90: Umable to communicate to Master | Q90: JMBT13A01 | R90: 1 | S90: 3480 | T90: =(S90*50)/100*R90 -> 1740 | U90: 30 | V90: =T90-U90 -> 1710 | W90: 자체 | Y90: 5 | Z90: =F90-E90 -> 10 | AA90: 장은철 | AC90: =U90/1100 -> 0.027272727
B91: =IF(F91>0,IFERROR(WEEKNUM(F91),""),"") -> 8 | C91: =IF(D91=0,"",(IF(LEFT(D91,3)="ATK","ATK",IF(LEFT(D91,2)="AT",D91,"ATK")))) -> ATP | D91: ATP | E91: 43843 | F91: 43878 | G91: =IF(F91>0,MONTH(F91),"") -> 2 | H91: =IF(I91=0,"",IF(RIGHT(I91,2)="완료","완료",IF(RIGHT(I91,2)="불가","수리불가",IF(RIGHT(I91,1)="중","수리중","Other")))) -> 완료 | I91: 수리완료 | J91: ATP | K91: ATP | L91: =LEFT(K91,3) -> ATP | M91: wire bonding | N91: ASM | O91: USED SPARK GENERATOR | P91: Firing problem | Q91: 101115738 | R91: 1 | S91: 3480 | T91: =(S91*50)/100*R91 -> 1740 | U91: 90 | V91: =T91-U91 -> 1650 | W91: 자체 | Y91: 2 | Z91: =F91-E91 -> 35 | AA91: 박병대 | AC91: =U91/1100 -> 0.081818182
B92: =IF(F92>0,IFERROR(WEEKNUM(F92),""),"") -> 7 | C92: =IF(D92=0,"",(IF(LEFT(D92,3)="ATK","ATK",IF(LEFT(D92,2)="AT",D92,"ATK")))) -> ATP | D92: ATP | E92: 43843 | F92: 43874 | G92: =IF(F92>0,MONTH(F92),"") -> 2 | H92: =IF(I92=0,"",IF(RIGHT(I92,2)="완료","완료",IF(RIGHT(I92,2)="불가","수리불가",IF(RIGHT(I92,1)="중","수리중","Other")))) -> 수리불가 | I92: 외주수리불가 | J92: ATP | K92: ATP | L92: =LEFT(K92,3) -> ATP | M92: UNDER FILL | N92: SARTORIUS | O92: USED WEIGHING CELL | P92: Unable to initialize. No reading. Damaged mechanical assy. | Q92: 36403908 | R92: 1 | S92: 11600 | T92: =(S92*50)/100*R92 -> 5800 | U92: 0 | V92: =T92-U92 -> 5800 | W92: 외주 | X92: 씨맥스 | Y92: 1 | Z92: =F92-E92 -> 31 | AA92: 장은철 | AC92: =U92/1100 -> 0
B93: =IF(F93>0,IFERROR(WEEKNUM(F93),""),"") -> 3 | C93: =IF(D93=0,"",(IF(LEFT(D93,3)="ATK","ATK",IF(LEFT(D93,2)="AT",D93,"ATK")))) -> ATP | D93: ATP | E93: 43843 | F93: 43846 | G93: =IF(F93>0,MONTH(F93),"") -> 1 | H93: =IF(I93=0,"",IF(RIGHT(I93,2)="완료","완료",IF(RIGHT(I93,2)="불가","수리불가",IF(RIGHT(I93,1)="중","수리중","Other")))) -> 완료 | I93: 수리완료 | J93: ATP | K93: ATP | L93: =LEFT(K93,3) -> ATP | M93: wire bonding | N93: KNS | O93: USED VME CPU1 BOARD PCOAB | P93: Bootup OK. NO LAN COMM on eCIM | Q93: S372205- TAB77317 | R93: 1 | S93: 4640 | T93: =(S93*50)/100*R93 -> 2320 | U93: 50 | V93: =T93-U93 -> 2270 | W93: 자체 | Y93: 4 | Z93: =F93-E93 -> 3 | AA93: 허준영 | AC93: =U93/1100 -> 0.045454545
B94: =IF(F94>0,IFERROR(WEEKNUM(F94),""),"") -> 4 | C94: =IF(D94=0,"",(IF(LEFT(D94,3)="ATK","ATK",IF(LEFT(D94,2)="AT",D94,"ATK")))) -> ATP | D94: ATP | E94: 43843 | F94: 43850 | G94: =IF(F94>0,MONTH(F94),"") -> 1 | H94: =IF(I94=0,"",IF(RIGHT(I94,2)="완료","완료",IF(RIGHT(I94,2)="불가","수리불가",IF(RIGHT(I94,1)="중","수리중","Other")))) -> 완료 | I94: 수리완료 | J94: ATP | K94: ATP | L94: =LEFT(K94,3) -> ATP | M94: wire bonding | N94: KNS | O94: USED VME CPU1 BOARD PCOAB | P94: Boot failure | Q94: S372205- BL24002 | R94: 1 | S94: 4640 | T94: =(S94*50)/100*R94 -> 2320 | U94: 50 | V94: =T94-U94 -> 2270 | W94: 자체 | Y94: 4 | Z94: =F94-E94 -> 7 | AA94: 허준영 | AC94: =U94/1100 -> 0.045454545
B95: =IF(F95>0,IFERROR(WEEKNUM(F95),""),"") -> 3 | C95: =IF(D95=0,"",(IF(LEFT(D95,3)="ATK","ATK",IF(LEFT(D95,2)="AT",D95,"ATK")))) -> ATP | D95: ATP | E95: 43843 | F95: 43846 | G95: =IF(F95>0,MONTH(F95),"") -> 1 | H95: =IF(I95=0,"",IF(RIGHT(I95,2)="완료","완료",IF(RIGHT(I95,2)="불가","수리불가",IF(RIGHT(I95,1)="중","수리중","Other")))) -> 완료 | I95: 수리완료 | J95: ATP | K95: ATP | L95: =LEFT(K95,3) -> ATP | M95: wire bonding | N95: KNS | O95: USED EFO BOX | P95: EFO OPEN ALARM | Q95: S27009-9135C945 | R95: 1 | S95: 1948.8 | T95: =(S95*50)/100*R95 -> 974.4 | U95: 50 | V95: =T95-U95 -> 924.4 | W95: 자체 | Y95: 3 | Z95: =F95-E95 -> 3 | AA95: 정기수 | AC95: =U95/1100 -> 0.045454545
B96: =IF(F96>0,IFERROR(WEEKNUM(F96),""),"") -> 8 | C96: =IF(D96=0,"",(IF(LEFT(D96,3)="ATK","ATK",IF(LEFT(D96,2)="AT",D96,"ATK")))) -> ATP | D96: ATP | E96: 43843 | F96: 43880 | G96: =IF(F96>0,MONTH(F96),"") -> 2 | H96: =IF(I96=0,"",IF(RIGHT(I96,2)="완료","완료",IF(RIGHT(I96,2)="불가","수리불가",IF(RIGHT(I96,1)="중","수리중","Other")))) -> 완료 | I96: 수리완료 | J96: ATP | K96: ATP | L96: =LEFT(K96,3) -> ATP | M96: wire bonding | N96: KNS | O96: USED EFO BOX | P96: EFO OPEN ALARM | Q96: S68333-91264297 | R96: 1 | S96: 1948.8 | T96: =(S96*50)/100*R96 -> 974.4 | U96: 50 | V96: =T96-U96 -> 924.4 | W96: 자체 | Y96: 3 | Z96: =F96-E96 -> 37 | AA96: 정기수 | AC96: =U96/1100 -> 0.045454545
B97: =IF(F97>0,IFERROR(WEEKNUM(F97),""),"") -> 8 | C97: =IF(D97=0,"",(IF(LEFT(D97,3)="ATK","ATK",IF(LEFT(D97,2)="AT",D97,"ATK")))) -> ATP | D97: ATP | E97: 43843 | F97: 43880 | G97: =IF(F97>0,MONTH(F97),"") -> 2 | H97: =IF(I97=0,"",IF(RIGHT(I97,2)="완료","완료",IF(RIGHT(I97,2)="불가","수리불가",IF(RIGHT(I97,1)="중","수리중","Other")))) -> 완료 | I97: 수리완료 | J97: ATP | K97: ATP | L97: =LEFT(K97,3) -> ATP | M97: wire bonding | N97: KNS | O97: USED EFO BOX | P97: EFO OPEN ALARM | Q97: S68333-9116E972 | R97: 1 | S97: 1948.8 | T97: =(S97*50)/100*R97 -> 974.4 | U97: 50 | V97: =T97-U97 -> 924.4 | W97: 자체 | Y97: 1 | Z97: =F97-E97 -> 37 | AA97: 정기수 | AC97: =U97/1100 -> 0.045454545
B98: =IF(F98>0,IFERROR(WEEKNUM(F98),""),"") -> 8 | C98: =IF(D98=0,"",(IF(LEFT(D98,3)="ATK","ATK",IF(LEFT(D98,2)="AT",D98,"ATK")))) -> ATP | D98: ATP | E98: 43843 | F98: 43880 | G98: =IF(F98>0,MONTH(F98),"") -> 2 | H98: =IF(I98=0,"",IF(RIGHT(I98,2)="완료","완료",IF(RIGHT(I98,2)="불가","수리불가",IF(RIGHT(I98,1)="중","수리중","Other")))) -> 완료 | I98: 수리완료 | J98: ATP | K98: ATP | L98: =LEFT(K98,3) -> ATP | M98: wire bonding | N98: KNS | O98: USED EFO BOX | P98: EFO OPEN ALARM | Q98: S68333-9116D847 | R98: 1 | S98: 1948.8 | T98: =(S98*50)/100*R98 -> 974.4 | U98: 50 | V98: =T98-U98 -> 924.4 | W98: 자체 | Y98: 1 | Z98: =F98-E98 -> 37 | AA98: 정기수 | AC98: =U98/1100 -> 0.045454545
B99: =IF(F99>0,IFERROR(WEEKNUM(F99),""),"") -> 3 | C99: =IF(D99=0,"",(IF(LEFT(D99,3)="ATK","ATK",IF(LEFT(D99,2)="AT",D99,"ATK")))) -> ATP | D99: ATP | E99: 43843 | F99: 43846 | G99: =IF(F99>0,MONTH(F99),"") -> 1 | H99: =IF(I99=0,"",IF(RIGHT(I99,2)="완료","완료",IF(RIGHT(I99,2)="불가","수리불가",IF(RIGHT(I99,1)="중","수리중","Other")))) -> 완료 | I99: 수리완료 | J99: ATP | K99: ATP | L99: =LEFT(K99,3) -> ATP | M99: wire bonding | N99: KNS | O99: USED EFO BOX | P99: EFO OPEN ALARM | Q99: S68333-91252877 | R99: 1 | S99: 1948.8 | T99: =(S99*50)/100*R99 -> 974.4 | U99: 50 | V99: =T99-U99 -> 924.4 | W99: 자체 | Y99: 1 | Z99: =F99-E99 -> 3 | AA99: 정기수 | AC99: =U99/1100 -> 0.045454545
B100: =IF(F100>0,IFERROR(WEEKNUM(F100),""),"") -> 3 | C100: =IF(D100=0,"",(IF(LEFT(D100,3)="ATK","ATK",IF(LEFT(D100,2)="AT",D100,"ATK")))) -> ATP | D100: ATP | E100: 43843 | F100: 43846 | G100: =IF(F100>0,MONTH(F100),"") -> 1 | H100: =IF(I100=0,"",IF(RIGHT(I100,2)="완료","완료",IF(RIGHT(I100,2)="불가","수리불가",IF(RIGHT(I100,1)="중","수리중","Other")))) -> 완료 | I100: 수리완료 | J100: ATP | K100: ATP | L100: =LEFT(K100,3) -> ATP | M100: wire bonding | N100: KNS | O100: USED EFO BOX | P100: EFO OPEN ALARM | Q100: S68333-91231459 | R100: 1 | S100: 1948.8 | T100: =(S100*50)/100*R100 -> 974.4 | U100: 50 | V100: =T100-U100 -> 924.4 | W100: 자체 | Y100: 3 | Z100: =F100-E100 -> 3 | AA100: 정기수 | AC100: =U100/1100 -> 0.045454545
...

Sheet E-Board
B1: 2020 AAW E-Board Repair Count(Q'ty) & Cost Reduction
Q2: Currency | R2: K$ | T2: AWW Report Form | Y2: EXR | Z2: =R3 -> 1100
B3: *요청 수량기준 | Q3: EXR (\/$): | R3: 1100 | T3: *완료 건수기준 | Z3: By Count
B4: Month | C4: ATK | E4: ATP | G4: ATC | I4: ATT | K4: ATM | M4: ATJ | O4: ATEP | Q4: Total(Mon) | T4: Factory | U4: Request eBoard (Q'ty) | V4: Repair Success (Q'ty) | W4: Repair Impossible (Q'ty) | X4: Return Shipping (Q'ty) | Y4: Repair Ongoing (Q'ty) | Z4: R&M Cost Save (K$)
C5: Count | D5: Cost Save | E5: Count | F5: Cost Save | G5: Count | H5: Cost Save | I5: Count | J5: Cost Save | K5: Count | L5: Cost Save | M5: Count | N5: Cost Save | O5: Count | P5: Cost Save | Q5: Count | R5: cost save
B6: Jan. | C6: =SUMPRODUCT(SUMIFS(Daily!$R:$R,Daily!$G:$G,"1",Daily!$C:$C,"ATK",Daily!$I:$I,"수리완료")) + SUMPRODUCT(SUMIFS(Daily!$R:$R,Daily!$G:$G,"1",Daily!$C:$C,"ATK",Daily!$I:$I,"외주수리완료")) -> 145 | D6: =IF($R$2="K\",(SUMPRODUCT(SUMIFS(Daily!$V:$V,Daily!$G:$G,"1",Daily!$C:$C,"ATK",Daily!$I:$I,"수리완료")) + SUMPRODUCT(SUMIFS(Daily!$V:$V,Daily!$G:$G,"1",Daily!$C:$C,"ATK",Daily!$I:$I,"외주수리완료"))),(SUMPRODUCT(SUMIFS(Daily!$V:$V,Daily!$G:$G,"1",Daily!$C:$C,"ATK",Daily!$I:$I,"수리완료")) + SUMPRODUCT(SUMIFS(Daily!$V:$V,Daily!$G:$G,"1",Daily!$C:$C,"ATK",Daily!$I:$I,"외주수리완료")))/$R$3) -> 148.95273 | E6: =SUMIFS(Daily!$R:$R,Daily!$G:$G,1,Daily!$I:$I,{"수리완료"},Daily!$C:$C,"ATP")+SUMIFS(Daily!$R:$R,Daily!$G:$G,1,Daily!$I:$I,{"외주수리완료"},Daily!$C:$C,"ATP") -> 22 | F6: =IF($R$2="K\",SUMIFS(Daily!$V:$V,Daily!$G:$G,1,Daily!$I:$I,{"수리완료"},Daily!$C:$C,"ATP")+SUMIFS(Daily!$V:$V,Daily!$G:$G,1,Daily!$I:$I,{"외주수리완료"},Daily!$C:$C,"ATP"),(SUMIFS(Daily!$V:$V,Daily!$G:$G,1,Daily!$I:$I,{"수리완료"},Daily!$C:$C,"ATP")+SUMIFS(Daily!$V:$V,Daily!$G:$G,1,Daily!$I:$I,{"외주수리완료"},Daily!$C:$C,"ATP"))/$R$3) -> 17.235436 | G6: =SUMIFS(Daily!$R:$R,Daily!$G:$G,1,Daily!$I:$I,{"수리완료"},Daily!$C:$C,"ATC")+SUMIFS(Daily!$R:$R,Daily!$G:$G,1,Daily!$I:$I,{"외주수리완료"},Daily!$C:$C,"ATC") -> 0 | H6: =IF($R$2="K\",SUMIFS(Daily!$V:$V,Daily!$G:$G,1,Daily!$I:$I,{"수리완료"},Daily!$C:$C,"ATC")+SUMIFS(Daily!$V:$V,Daily!$G:$G,1,Daily!$I:$I,{"외주수리완료"},Daily!$C:$C,"ATC"),(SUMIFS(Daily!$V:$V,Daily!$G:$G,1,Daily!$I:$I,{"수리완료"},Daily!$C:$C,"ATC")+SUMIFS(Daily!$V:$V,Daily!$G:$G,1,Daily!$I:$I,{"외주수리완료"},Daily!$C:$C,"ATC"))/$R$3) -> 0 | I6: =SUMIFS(Daily!$R:$R,Daily!$G:$G,1,Daily!$I:$I,{"수리완료"},Daily!$C:$C,"ATT")+SUMIFS(Daily!$R:$R,Daily!$G:$G,1,Daily!$I:$I,{"외주수리완료"},Daily!$C:$C,"ATT") -> 0 | J6: =IF($R$2="K\",SUMIFS(Daily!$V:$V,Daily!$G:$G,1,Daily!$I:$I,{"수리완료"},Daily!$C:$C,"ATT")+SUMIFS(Daily!$V:$V,Daily!$G:$G,1,Daily!$I:$I,{"외주수리완료"},Daily!$C:$C,"ATT"),(SUMIFS(Daily!$V:$V,Daily!$G:$G,1,Daily!$I:$I,{"수리완료"},Daily!$C:$C,"ATT")+SUMIFS(Daily!$V:$V,Daily!$G:$G,1,Daily!$I:$I,{"외주수리완료"},Daily!$C:$C,"ATT"))/$R$3) -> 0 | K6: =SUMIFS(Daily!$R:$R,Daily!$G:$G,1,Daily!$I:$I,{"수리완료"},Daily!$C:$C,"ATM")+SUMIFS(Daily!$R:$R,Daily!$G:$G,1,Daily!$I:$I,{"외주수리완료"},Daily!$C:$C,"ATM") -> 0 | L6: =IF($R$2="K\",SUMIFS(Daily!$V:$V,Daily!$G:$G,1,Daily!$I:$I,{"수리완료"},Daily!$C:$C,"ATM")+SUMIFS(Daily!$V:$V,Daily!$G:$G,1,Daily!$I:$I,{"외주수리완료"},Daily!$C:$C,"ATM"),(SUMIFS(Daily!$V:$V,Daily!$G:$G,1,Daily!$I:$I,{"수리완료"},Daily!$C:$C,"ATM")+SUMIFS(Daily!$V:$V,Daily!$G:$G,1,Daily!$I:$I,{"외주수리완료"},Daily!$C:$C,"ATM"))/$R$3) -> 0 | M6: =SUMIFS(Daily!$R:$R,Daily!$G:$G,1,Daily!$I:$I,{"수리완료"},Daily!$C:$C,"ATJ")+SUMIFS(Daily!$R:$R,Daily!$G:$G,1,Daily!$I:$I,{"외주수리완료"},Daily!$C:$C,"ATJ") -> 0 | N6: =IF($R$2="K\",SUMIFS(Daily!$V:$V,Daily!$G:$G,1,Daily!$I:$I,{"수리완료"},Daily!$C:$C,"ATJ")+SUMIFS(Daily!$V:$V,Daily!$G:$G,1,Daily!$I:$I,{"외주수리완료"},Daily!$C:$C,"ATJ"),(SUMIFS(Daily!$V:$V,Daily!$G:$G,1,Daily!$I:$I,{"수리완료"},Daily!$C:$C,"ATJ")+SUMIFS(Daily!$V:$V,Daily!$G:$G,1,Daily!$I:$I,{"외주수리완료"},Daily!$C:$C,"ATJ"))/$R$3) -> 0 | O6: =SUMIFS(Daily!$R:$R,Daily!$G:$G,1,Daily!$I:$I,{"*수리완료"},Daily!$C:$C,"ATEP") -> 0 | P6: =IF($R$2="K\",SUMIFS(Daily!$V:$V,Daily!$G:$G,1,Daily!$I:$I,{"수리완료"},Daily!$C:$C,"ATEP")+SUMIFS(Daily!$V:$V,Daily!$G:$G,1,Daily!$I:$I,{"외주수리완료"},Daily!$C:$C,"ATEP"),(SUMIFS(Daily!$V:$V,Daily!$G:$G,1,Daily!$I:$I,{"수리완료"},Daily!$C:$C,"ATEP")+SUMIFS(Daily!$V:$V,Daily!$G:$G,1,Daily!$I:$I,{"외주수리완료"},Daily!$C:$C,"ATEP"))/$R$3) -> 0 | Q6: =C6+E6+G6+I6+K6+M6+O6 -> 167 | R6: =D6+F6+H6+J6+L6+N6+P6 -> 166.18816 | T6: ATK | U6: =COUNTIF(Daily!C:C, T6)-COUNTIFS(Daily!C:C, T6, Daily!I:I, "Other") -> 1577 | V6: =COUNTIFS(Daily!C:C, T6, Daily!I:I, "수리완료")+COUNTIFS(Daily!C:C, T6, Daily!I:I, "외주수리완료") -> 1503 | W6: =COUNTIFS(Daily!C:C, T6, Daily!I:I, "수리불가")+COUNTIFS(Daily!C:C, T6, Daily!I:I, "외주수리불가")+COUNTIFS(Daily!C:C, T6, Daily!I:I, "폐기") -> 74 | X6: 0 | Y6: =COUNTIFS(Daily!C:C, T6, Daily!I:I, "수리중")+COUNTIFS(Daily!C:C, T6, Daily!I:I, "외주수리중") -> 0 | Z6: =(SUMIFS(Daily!V:V, Daily!C:C, T6, Daily!I:I, "수리완료")+SUMIFS(Daily!V:V, Daily!C:C, T6, Daily!I:I, "외주수리완료"))/$Z$2 -> 1838.3355
B7: Feb. | C7: =SUMPRODUCT(SUMIFS(Daily!$R:$R,Daily!$G:$G,"2",Daily!$C:$C,"ATK",Daily!$I:$I,"수리완료")) + SUMPRODUCT(SUMIFS(Daily!$R:$R,Daily!$G:$G,"2",Daily!$C:$C,"ATK",Daily!$I:$I,"외주수리완료")) -> 153 | D7: =IF($R$2="K\",(SUMPRODUCT(SUMIFS(Daily!$V:$V,Daily!$G:$G,"2",Daily!$C:$C,"ATK",Daily!$I:$I,"수리완료")) + SUMPRODUCT(SUMIFS(Daily!$V:$V,Daily!$G:$G,"2",Daily!$C:$C,"ATK",Daily!$I:$I,"외주수리완료"))),(SUMPRODUCT(SUMIFS(Daily!$V:$V,Daily!$G:$G,"2",Daily!$C:$C,"ATK",Daily!$I:$I,"수리완료")) + SUMPRODUCT(SUMIFS(Daily!$V:$V,Daily!$G:$G,"2",Daily!$C:$C,"ATK",Daily!$I:$I,"외주수리완료")))/$R$3) -> 130.93182 | E7: =SUMIFS(Daily!$R:$R,Daily!$G:$G,2,Daily!$I:$I,{"수리완료"},Daily!$C:$C,"ATP")+SUMIFS(Daily!$R:$R,Daily!$G:$G,2,Daily!$I:$I,{"외주수리완료"},Daily!$C:$C,"ATP") -> 12 | F7: =IF($R$2="K\",SUMIFS(Daily!$V:$V,Daily!$G:$G,2,Daily!$I:$I,{"수리완료"},Daily!$C:$C,"ATP")+SUMIFS(Daily!$V:$V,Daily!$G:$G,2,Daily!$I:$I,{"외주수리완료"},Daily!$C:$C,"ATP"),(SUMIFS(Daily!$V:$V,Daily!$G:$G,2,Daily!$I:$I,{"수리완료"},Daily!$C:$C,"ATP")+SUMIFS(Daily!$V:$V,Daily!$G:$G,2,Daily!$I:$I,{"외주수리완료"},Daily!$C:$C,"ATP"))/$R$3) -> 13.375636 | G7: =SUMIFS(Daily!$R:$R,Daily!$G:$G,2,Daily!$I:$I,{"수리완료"},Daily!$C:$C,"ATC")+SUMIFS(Daily!$R:$R,Daily!$G:$G,2,Daily!$I:$I,{"외주수리완료"},Daily!$C:$C,"ATC") -> 0 | H7: =IF($R$2="K\",SUMIFS(Daily!$V:$V,Daily!$G:$G,2,Daily!$I:$I,{"수리완료"},Daily!$C:$C,"ATC")+SUMIFS(Daily!$V:$V,Daily!$G:$G,2,Daily!$I:$I,{"외주수리완료"},Daily!$C:$C,"ATC"),(SUMIFS(Daily!$V:$V,Daily!$G:$G,2,Daily!$I:$I,{"수리완료"},Daily!$C:$C,"ATC")+SUMIFS(Daily!$V:$V,Daily!$G:$G,2,Daily!$I:$I,{"외주수리완료"},Daily!$C:$C,"ATC"))/$R$3) -> 0 | I7: =SUMIFS(Daily!$R:$R,Daily!$G:$G,2,Daily!$I:$I,{"수리완료"},Daily!$C:$C,"ATT")+SUMIFS(Daily!$R:$R,Daily!$G:$G,2,Daily!$I:$I,{"외주수리완료"},Daily!$C:$C,"ATT") -> 0 | J7: =IF($R$2="K\",SUMIFS(Daily!$V:$V,Daily!$G:$G,2,Daily!$I:$I,{"수리완료"},Daily!$C:$C,"ATT")+SUMIFS(Daily!$V:$V,Daily!$G:$G,2,Daily!$I:$I,{"외주수리완료"},Daily!$C:$C,"ATT"),(SUMIFS(Daily!$V:$V,Daily!$G:$G,2,Daily!$I:$I,{"수리완료"},Daily!$C:$C,"ATT")+SUMIFS(Daily!$V:$V,Daily!$G:$G,2,Daily!$I:$I,{"외주수리완료"},Daily!$C:$C,"ATT"))/$R$3) -> 0 | K7: =SUMIFS(Daily!$R:$R,Daily!$G:$G,2,Daily!$I:$I,{"수리완료"},Daily!$C:$C,"ATM")+SUMIFS(Daily!$R:$R,Daily!$G:$G,2,Daily!$I:$I,{"외주수리완료"},Daily!$C:$C,"ATM") -> 0 | L7: =IF($R$2="K\",SUMIFS(Daily!$V:$V,Daily!$G:$G,2,Daily!$I:$I,{"수리완료"},Daily!$C:$C,"ATM")+SUMIFS(Daily!$V:$V,Daily!$G:$G,2,Daily!$I:$I,{"외주수리완료"},Daily!$C:$C,"ATM"),(SUMIFS(Daily!$V:$V,Daily!$G:$G,2,Daily!$I:$I,{"수리완료"},Daily!$C:$C,"ATM")+SUMIFS(Daily!$V:$V,Daily!$G:$G,2,Daily!$I:$I,{"외주수리완료"},Daily!$C:$C,"ATM"))/$R$3) -> 0 | M7: =SUMIFS(Daily!$R:$R,Daily!$G:$G,2,Daily!$I:$I,{"수리완료"},Daily!$C:$C,"ATJ")+SUMIFS(Daily!$R:$R,Daily!$G:$G,2,Daily!$I:$I,{"외주수리완료"},Daily!$C:$C,"ATJ") -> 0 | N7: =IF($R$2="K\",SUMIFS(Daily!$V:$V,Daily!$G:$G,2,Daily!$I:$I,{"수리완료"},Daily!$C:$C,"ATJ")+SUMIFS(Daily!$V:$V,Daily!$G:$G,2,Daily!$I:$I,{"외주수리완료"},Daily!$C:$C,"ATJ"),(SUMIFS(Daily!$V:$V,Daily!$G:$G,2,Daily!$I:$I,{"수리완료"},Daily!$C:$C,"ATJ")+SUMIFS(Daily!$V:$V,Daily!$G:$G,2,Daily!$I:$I,{"외주수리완료"},Daily!$C:$C,"ATJ"))/$R$3) -> 0 | O7: =SUMIFS(Daily!$R:$R,Daily!$G:$G,2,Daily!$I:$I,{"*수리완료"},Daily!$C:$C,"ATEP") -> 0 | P7: =IF($R$2="K\",SUMIFS(Daily!$V:$V,Daily!$G:$G,2,Daily!$I:$I,{"수리완료"},Daily!$C:$C,"ATEP")+SUMIFS(Daily!$V:$V,Daily!$G:$G,2,Daily!$I:$I,{"외주수리완료"},Daily!$C:$C,"ATEP"),(SUMIFS(Daily!$V:$V,Daily!$G:$G,2,Daily!$I:$I,{"수리완료"},Daily!$C:$C,"ATEP")+SUMIFS(Daily!$V:$V,Daily!$G:$G,2,Daily!$I:$I,{"외주수리완료"},Daily!$C:$C,"ATEP"))/$R$3) -> 0 | Q7: =C7+E7+G7+I7+K7+M7+O7 -> 165 | R7: =D7+F7+H7+J7+L7+N7+P7 -> 144.30745 | T7: ATP | U7: =COUNTIF(Daily!C:C, T7)-COUNTIFS(Daily!C:C, T7, Daily!I:I, "Other") -> 79 | V7: =COUNTIFS(Daily!C:C, T7, Daily!I:I, "수리완료")+COUNTIFS(Daily!C:C, T7, Daily!I:I, "외주수리완료") -> 68 | W7: =COUNTIFS(Daily!C:C, T7, Daily!I:I, "수리불가")+COUNTIFS(Daily!C:C, T7, Daily!I:I, "외주수리불가")+COUNTIFS(Daily!C:C, T7, Daily!I:I, "폐기") -> 11 | X7: 0 | Y7: =COUNTIFS(Daily!C:C, T7, Daily!I:I, "수리중")+COUNTIFS(Daily!C:C, T7, Daily!I:I, "외주수리중") -> 0 | Z7: =(SUMIFS(Daily!V:V, Daily!C:C, T7, Daily!I:I, "수리완료")+SUMIFS(Daily!V:V, Daily!C:C, T7, Daily!I:I, "외주수리완료"))/$Z$2 -> 75.397582
B8: Mar. | C8: =SUMPRODUCT(SUMIFS(Daily!$R:$R,Daily!$G:$G,"3",Daily!$C:$C,"ATK",Daily!$I:$I,"수리완료")) + SUMPRODUCT(SUMIFS(Daily!$R:$R,Daily!$G:$G,"3",Daily!$C:$C,"ATK",Daily!$I:$I,"외주수리완료")) -> 157 | D8: =IF($R$2="K\",(SUMPRODUCT(SUMIFS(Daily!$V:$V,Daily!$G:$G,"3",Daily!$C:$C,"ATK",Daily!$I:$I,"수리완료")) + SUMPRODUCT(SUMIFS(Daily!$V:$V,Daily!$G:$G,"3",Daily!$C:$C,"ATK",Daily!$I:$I,"외주수리완료"))),(SUMPRODUCT(SUMIFS(Daily!$V:$V,Daily!$G:$G,"3",Daily!$C:$C,"ATK",Daily!$I:$I,"수리완료")) + SUMPRODUCT(SUMIFS(Daily!$V:$V,Daily!$G:$G,"3",Daily!$C:$C,"ATK",Daily!$I:$I,"외주수리완료")))/$R$3) -> 127.31735 | E8: =SUMIFS(Daily!$R:$R,Daily!$G:$G,3,Daily!$I:$I,{"수리완료"},Daily!$C:$C,"ATP")+SUMIFS(Daily!$R:$R,Daily!$G:$G,3,Daily!$I:$I,{"외주수리완료"},Daily!$C:$C,"ATP") -> 6 | F8: =IF($R$2="K\",SUMIFS(Daily!$V:$V,Daily!$G:$G,3,Daily!$I:$I,{"수리완료"},Daily!$C:$C,"ATP")+SUMIFS(Daily!$V:$V,Daily!$G:$G,3,Daily!$I:$I,{"외주수리완료"},Daily!$C:$C,"ATP"),(SUMIFS(Daily!$V:$V,Daily!$G:$G,3,Daily!$I:$I,{"수리완료"},Daily!$C:$C,"ATP")+SUMIFS(Daily!$V:$V,Daily!$G:$G,3,Daily!$I:$I,{"외주수리완료"},Daily!$C:$C,"ATP"))/$R$3) -> 4.3381818 | G8: =SUMIFS(Daily!$R:$R,Daily!$G:$G,3,Daily!$I:$I,{"수리완료"},Daily!$C:$C,"ATC")+SUMIFS(Daily!$R:$R,Daily!$G:$G,3,Daily!$I:$I,{"외주수리완료"},Daily!$C:$C,"ATC") -> 0 | H8: =IF($R$2="K\",SUMIFS(Daily!$V:$V,Daily!$G:$G,3,Daily!$I:$I,{"수리완료"},Daily!$C:$C,"ATC")+SUMIFS(Daily!$V:$V,Daily!$G:$G,3,Daily!$I:$I,{"외주수리완료"},Daily!$C:$C,"ATC"),(SUMIFS(Daily!$V:$V,Daily!$G:$G,3,Daily!$I:$I,{"수리완료"},Daily!$C:$C,"ATC")+SUMIFS(Daily!$V:$V,Daily!$G:$G,3,Daily!$I:$I,{"외주수리완료"},Daily!$C:$C,"ATC"))/$R$3) -> 0 | I8: =SUMIFS(Daily!$R:$R,Daily!$G:$G,3,Daily!$I:$I,{"수리완료"},Daily!$C:$C,"ATT")+SUMIFS(Daily!$R:$R,Daily!$G:$G,3,Daily!$I:$I,{"외주수리완료"},Daily!$C:$C,"ATT") -> 0 | J8: =IF($R$2="K\",SUMIFS(Daily!$V:$V,Daily!$G:$G,3,Daily!$I:$I,{"수리완료"},Daily!$C:$C,"ATT")+SUMIFS(Daily!$V:$V,Daily!$G:$G,3,Daily!$I:$I,{"외주수리완료"},Daily!$C:$C,"ATT"),(SUMIFS(Daily!$V:$V,Daily!$G:$G,3,Daily!$I:$I,{"수리완료"},Daily!$C:$C,"ATT")+SUMIFS(Daily!$V:$V,Daily!$G:$G,3,Daily!$I:$I,{"외주수리완료"},Daily!$C:$C,"ATT"))/$R$3) -> 0 | K8: =SUMIFS(Daily!$R:$R,Daily!$G:$G,3,Daily!$I:$I,{"수리완료"},Daily!$C:$C,"ATM")+SUMIFS(Daily!$R:$R,Daily!$G:$G,3,Daily!$I:$I,{"외주수리완료"},Daily!$C:$C,"ATM") -> 0 | L8: =IF($R$2="K\",SUMIFS(Daily!$V:$V,Daily!$G:$G,3,Daily!$I:$I,{"수리완료"},Daily!$C:$C,"ATM")+SUMIFS(Daily!$V:$V,Daily!$G:$G,3,Daily!$I:$I,{"외주수리완료"},Daily!$C:$C,"ATM"),(SUMIFS(Daily!$V:$V,Daily!$G:$G,3,Daily!$I:$I,{"수리완료"},Daily!$C:$C,"ATM")+SUMIFS(Daily!$V:$V,Daily!$G:$G,3,Daily!$I:$I,{"외주수리완료"},Daily!$C:$C,"ATM"))/$R$3) -> 0 | M8: =SUMIFS(Daily!$R:$R,Daily!$G:$G,3,Daily!$I:$I,{"수리완료"},Daily!$C:$C,"ATJ")+SUMIFS(Daily!$R:$R,Daily!$G:$G,3,Daily!$I:$I,{"외주수리완료"},Daily!$C:$C,"ATJ") -> 0 | N8: =IF($R$2="K\",SUMIFS(Daily!$V:$V,Daily!$G:$G,3,Daily!$I:$I,{"수리완료"},Daily!$C:$C,"ATJ")+SUMIFS(Daily!$V:$V,Daily!$G:$G,3,Daily!$I:$I,{"외주수리완료"},Daily!$C:$C,"ATJ"),(SUMIFS(Daily!$V:$V,Daily!$G:$G,3,Daily!$I:$I,{"수리완료"},Daily!$C:$C,"ATJ")+SUMIFS(Daily!$V:$V,Daily!$G:$G,3,Daily!$I:$I,{"외주수리완료"},Daily!$C:$C,"ATJ"))/$R$3) -> 0 | O8: =SUMIFS(Daily!$R:$R,Daily!$G:$G,3,Daily!$I:$I,{"*수리완료"},Daily!$C:$C,"ATEP") -> 0 | P8: =IF($R$2="K\",SUMIFS(Daily!$V:$V,Daily!$G:$G,3,Daily!$I:$I,{"수리완료"},Daily!$C:$C,"ATEP")+SUMIFS(Daily!$V:$V,Daily!$G:$G,3,Daily!$I:$I,{"외주수리완료"},Daily!$C:$C,"ATEP"),(SUMIFS(Daily!$V:$V,Daily!$G:$G,3,Daily!$I:$I,{"수리완료"},Daily!$C:$C,"ATEP")+SUMIFS(Daily!$V:$V,Daily!$G:$G,3,Daily!$I:$I,{"외주수리완료"},Daily!$C:$C,"ATEP"))/$R$3) -> 0 | Q8: =C8+E8+G8+I8+K8+M8+O8 -> 163 | R8: =D8+F8+H8+J8+L8+N8+P8 -> 131.65553 | T8: ATT | U8: =COUNTIF(Daily!C:C, T8)-COUNTIFS(Daily!C:C, T8, Daily!I:I, "Other") -> 0 | V8: =COUNTIFS(Daily!C:C, T8, Daily!I:I, "수리완료")+COUNTIFS(Daily!C:C, T8, Daily!I:I, "외주수리완료") -> 0 | W8: =COUNTIFS(Daily!C:C, T8, Daily!I:I, "수리불가")+COUNTIFS(Daily!C:C, T8, Daily!I:I, "외주수리불가")+COUNTIFS(Daily!C:C, T8, Daily!I:I, "폐기") -> 0 | X8: 0 | Y8: =COUNTIFS(Daily!C:C, T8, Daily!I:I, "수리중")+COUNTIFS(Daily!C:C, T8, Daily!I:I, "외주수리중") -> 0 | Z8: =(SUMIFS(Daily!V:V, Daily!C:C, T8, Daily!I:I, "수리완료")+SUMIFS(Daily!V:V, Daily!C:C, T8, Daily!I:I, "외주수리완료"))/$Z$2 -> 0
B9: Apr. | C9: =SUMPRODUCT(SUMIFS(Daily!$R:$R,Daily!$G:$G,"4",Daily!$C:$C,"ATK",Daily!$I:$I,"수리완료")) + SUMPRODUCT(SUMIFS(Daily!$R:$R,Daily!$G:$G,"4",Daily!$C:$C,"ATK",Daily!$I:$I,"외주수리완료")) -> 167 | D9: =IF($R$2="K\",(SUMPRODUCT(SUMIFS(Daily!$V:$V,Daily!$G:$G,"4",Daily!$C:$C,"ATK",Daily!$I:$I,"수리완료")) + SUMPRODUCT(SUMIFS(Daily!$V:$V,Daily!$G:$G,"4",Daily!$C:$C,"ATK",Daily!$I:$I,"외주수리완료"))),(SUMPRODUCT(SUMIFS(Daily!$V:$V,Daily!$G:$G,"4",Daily!$C:$C,"ATK",Daily!$I:$I,"수리완료")) + SUMPRODUCT(SUMIFS(Daily!$V:$V,Daily!$G:$G,"4",Daily!$C:$C,"ATK",Daily!$I:$I,"외주수리완료")))/$R$3) -> 191.82636 | E9: =SUMIFS(Daily!$R:$R,Daily!$G:$G,4,Daily!$I:$I,{"수리완료"},Daily!$C:$C,"ATP")+SUMIFS(Daily!$R:$R,Daily!$G:$G,4,Daily!$I:$I,{"외주수리완료"},Daily!$C:$C,"ATP") -> 0 | F9: =IF($R$2="K\",SUMIFS(Daily!$V:$V,Daily!$G:$G,4,Daily!$I:$I,{"수리완료"},Daily!$C:$C,"ATP")+SUMIFS(Daily!$V:$V,Daily!$G:$G,4,Daily!$I:$I,{"외주수리완료"},Daily!$C:$C,"ATP"),(SUMIFS(Daily!$V:$V,Daily!$G:$G,4,Daily!$I:$I,{"수리완료"},Daily!$C:$C,"ATP")+SUMIFS(Daily!$V:$V,Daily!$G:$G,4,Daily!$I:$I,{"외주수리완료"},Daily!$C:$C,"ATP"))/$R$3) -> 0 | G9: =SUMIFS(Daily!$R:$R,Daily!$G:$G,4,Daily!$I:$I,{"수리완료"},Daily!$C:$C,"ATC")+SUMIFS(Daily!$R:$R,Daily!$G:$G,4,Daily!$I:$I,{"외주수리완료"},Daily!$C:$C,"ATC") -> 0 | H9: =IF($R$2="K\",SUMIFS(Daily!$V:$V,Daily!$G:$G,4,Daily!$I:$I,{"수리완료"},Daily!$C:$C,"ATC")+SUMIFS(Daily!$V:$V,Daily!$G:$G,4,Daily!$I:$I,{"외주수리완료"},Daily!$C:$C,"ATC"),(SUMIFS(Daily!$V:$V,Daily!$G:$G,4,Daily!$I:$I,{"수리완료"},Daily!$C:$C,"ATC")+SUMIFS(Daily!$V:$V,Daily!$G:$G,4,Daily!$I:$I,{"외주수리완료"},Daily!$C:$C,"ATC"))/$R$3) -> 0 | I9: =SUMIFS(Daily!$R:$R,Daily!$G:$G,4,Daily!$I:$I,{"수리완료"},Daily!$C:$C,"ATT")+SUMIFS(Daily!$R:$R,Daily!$G:$G,4,Daily!$I:$I,{"외주수리완료"},Daily!$C:$C,"ATT") -> 0 | J9: =IF($R$2="K\",SUMIFS(Daily!$V:$V,Daily!$G:$G,4,Daily!$I:$I,{"수리완료"},Daily!$C:$C,"ATT")+SUMIFS(Daily!$V:$V,Daily!$G:$G,4,Daily!$I:$I,{"외주수리완료"},Daily!$C:$C,"ATT"),(SUMIFS(Daily!$V:$V,Daily!$G:$G,4,Daily!$I:$I,{"수리완료"},Daily!$C:$C,"ATT")+SUMIFS(Daily!$V:$V,Daily!$G:$G,4,Daily!$I:$I,{"외주수리완료"},Daily!$C:$C,"ATT"))/$R$3) -> 0 | K9: =SUMIFS(Daily!$R:$R,Daily!$G:$G,4,Daily!$I:$I,{"수리완료"},Daily!$C:$C,"ATM")+SUMIFS(Daily!$R:$R,Daily!$G:$G,4,Daily!$I:$I,{"외주수리완료"},Daily!$C:$C,"ATM") -> 0 | L9: =IF($R$2="K\",SUMIFS(Daily!$V:$V,Daily!$G:$G,4,Daily!$I:$I,{"수리완료"},Daily!$C:$C,"ATM")+SUMIFS(Daily!$V:$V,Daily!$G:$G,4,Daily!$I:$I,{"외주수리완료"},Daily!$C:$C,"ATM"),(SUMIFS(Daily!$V:$V,Daily!$G:$G,4,Daily!$I:$I,{"수리완료"},Daily!$C:$C,"ATM")+SUMIFS(Daily!$V:$V,Daily!$G:$G,4,Daily!$I:$I,{"외주수리완료"},Daily!$C:$C,"ATM"))/$R$3) -> 0 | M9: =SUMIFS(Daily!$R:$R,Daily!$G:$G,4,Daily!$I:$I,{"수리완료"},Daily!$C:$C,"ATJ")+SUMIFS(Daily!$R:$R,Daily!$G:$G,4,Daily!$I:$I,{"외주수리완료"},Daily!$C:$C,"ATJ") -> 0 | N9: =IF($R$2="K\",SUMIFS(Daily!$V:$V,Daily!$G:$G,4,Daily!$I:$I,{"수리완료"},Daily!$C:$C,"ATJ")+SUMIFS(Daily!$V:$V,Daily!$G:$G,4,Daily!$I:$I,{"외주수리완료"},Daily!$C:$C,"ATJ"),(SUMIFS(Daily!$V:$V,Daily!$G:$G,4,Daily!$I:$I,{"수리완료"},Daily!$C:$C,"ATJ")+SUMIFS(Daily!$V:$V,Daily!$G:$G,4,Daily!$I:$I,{"외주수리완료"},Daily!$C:$C,"ATJ"))/$R$3) -> 0 | O9: =SUMIFS(Daily!$R:$R,Daily!$G:$G,4,Daily!$I:$I,{"*수리완료"},Daily!$C:$C,"ATEP") -> 0 | P9: =IF($R$2="K\",SUMIFS(Daily!$V:$V,Daily!$G:$G,4,Daily!$I:$I,{"수리완료"},Daily!$C:$C,"ATEP")+SUMIFS(Daily!$V:$V,Daily!$G:$G,4,Daily!$I:$I,{"외주수리완료"},Daily!$C:$C,"ATEP"),(SUMIFS(Daily!$V:$V,Daily!$G:$G,4,Daily!$I:$I,{"수리완료"},Daily!$C:$C,"ATEP")+SUMIFS(Daily!$V:$V,Daily!$G:$G,4,Daily!$I:$I,{"외주수리완료"},Daily!$C:$C,"ATEP"))/$R$3) -> 0 | Q9: =C9+E9+G9+I9+K9+M9+O9 -> 167 | R9: =D9+F9+H9+J9+L9+N9+P9 -> 191.82636 | T9: ATC | U9: =COUNTIF(Daily!C:C, T9)-COUNTIFS(Daily!C:C, T9, Daily!I:I, "Other") -> 1 | V9: =COUNTIFS(Daily!C:C, T9, Daily!I:I, "수리완료")+COUNTIFS(Daily!C:C, T9, Daily!I:I, "외주수리완료") -> 1 | W9: =COUNTIFS(Daily!C:C, T9, Daily!I:I, "수리불가")+COUNTIFS(Daily!C:C, T9, Daily!I:I, "외주수리불가")+COUNTIFS(Daily!C:C, T9, Daily!I:I, "폐기") -> 0 | X9: 0 | Y9: =COUNTIFS(Daily!C:C, T9, Daily!I:I, "수리중")+COUNTIFS(Daily!C:C, T9, Daily!I:I, "외주수리중") -> 0 | Z9: =(SUMIFS(Daily!V:V, Daily!C:C, T9, Daily!I:I, "수리완료")+SUMIFS(Daily!V:V, Daily!C:C, T9, Daily!I:I, "외주수리완료"))/$Z$2 -> 3.6272727
B10: May | C10: =SUMPRODUCT(SUMIFS(Daily!$R:$R,Daily!$G:$G,"5",Daily!$C:$C,"ATK",Daily!$I:$I,"수리완료")) + SUMPRODUCT(SUMIFS(Daily!$R:$R,Daily!$G:$G,"5",Daily!$C:$C,"ATK",Daily!$I:$I,"외주수리완료")) -> 156 | D10: =IF($R$2="K\",(SUMPRODUCT(SUMIFS(Daily!$V:$V,Daily!$G:$G,"5",Daily!$C:$C,"ATK",Daily!$I:$I,"수리완료")) + SUMPRODUCT(SUMIFS(Daily!$V:$V,Daily!$G:$G,"5",Daily!$C:$C,"ATK",Daily!$I:$I,"외주수리완료"))),(SUMPRODUCT(SUMIFS(Daily!$V:$V,Daily!$G:$G,"5",Daily!$C:$C,"ATK",Daily!$I:$I,"수리완료")) + SUMPRODUCT(SUMIFS(Daily!$V:$V,Daily!$G:$G,"5",Daily!$C:$C,"ATK",Daily!$I:$I,"외주수리완료")))/$R$3) -> 125.60045 | E10: =SUMIFS(Daily!$R:$R,Daily!$G:$G,5,Daily!$I:$I,{"수리완료"},Daily!$C:$C,"ATP")+SUMIFS(Daily!$R:$R,Daily!$G:$G,5,Daily!$I:$I,{"외주수리완료"},Daily!$C:$C,"ATP") -> 0 | F10: =IF($R$2="K\",SUMIFS(Daily!$V:$V,Daily!$G:$G,5,Daily!$I:$I,{"수리완료"},Daily!$C:$C,"ATP")+SUMIFS(Daily!$V:$V,Daily!$G:$G,5,Daily!$I:$I,{"외주수리완료"},Daily!$C:$C,"ATP"),(SUMIFS(Daily!$V:$V,Daily!$G:$G,5,Daily!$I:$I,{"수리완료"},Daily!$C:$C,"ATP")+SUMIFS(Daily!$V:$V,Daily!$G:$G,5,Daily!$I:$I,{"외주수리완료"},Daily!$C:$C,"ATP"))/$R$3) -> 0 | G10: =SUMIFS(Daily!$R:$R,Daily!$G:$G,5,Daily!$I:$I,{"수리완료"},Daily!$C:$C,"ATC")+SUMIFS(Daily!$R:$R,Daily!$G:$G,5,Daily!$I:$I,{"외주수리완료"},Daily!$C:$C,"ATC") -> 0 | H10: =IF($R$2="K\",SUMIFS(Daily!$V:$V,Daily!$G:$G,5,Daily!$I:$I,{"수리완료"},Daily!$C:$C,"ATC")+SUMIFS(Daily!$V:$V,Daily!$G:$G,5,Daily!$I:$I,{"외주수리완료"},Daily!$C:$C,"ATC"),(SUMIFS(Daily!$V:$V,Daily!$G:$G,5,Daily!$I:$I,{"수리완료"},Daily!$C:$C,"ATC")+SUMIFS(Daily!$V:$V,Daily!$G:$G,5,Daily!$I:$I,{"외주수리완료"},Daily!$C:$C,"ATC"))/$R$3) -> 0 | I10: =SUMIFS(Daily!$R:$R,Daily!$G:$G,5,Daily!$I:$I,{"수리완료"},Daily!$C:$C,"ATT")+SUMIFS(Daily!$R:$R,Daily!$G:$G,5,Daily!$I:$I,{"외주수리완료"},Daily!$C:$C,"ATT") -> 0 | J10: =IF($R$2="K\",SUMIFS(Daily!$V:$V,Daily!$G:$G,5,Daily!$I:$I,{"수리완료"},Daily!$C:$C,"ATT")+SUMIFS(Daily!$V:$V,Daily!$G:$G,5,Daily!$I:$I,{"외주수리완료"},Daily!$C:$C,"ATT"),(SUMIFS(Daily!$V:$V,Daily!$G:$G,5,Daily!$I:$I,{"수리완료"},Daily!$C:$C,"ATT")+SUMIFS(Daily!$V:$V,Daily!$G:$G,5,Daily!$I:$I,{"외주수리완료"},Daily!$C:$C,"ATT"))/$R$3) -> 0 | K10: =SUMIFS(Daily!$R:$R,Daily!$G:$G,5,Daily!$I:$I,{"수리완료"},Daily!$C:$C,"ATM")+SUMIFS(Daily!$R:$R,Daily!$G:$G,5,Daily!$I:$I,{"외주수리완료"},Daily!$C:$C,"ATM") -> 0 | L10: =IF($R$2="K\",SUMIFS(Daily!$V:$V,Daily!$G:$G,5,Daily!$I:$I,{"수리완료"},Daily!$C:$C,"ATM")+SUMIFS(Daily!$V:$V,Daily!$G:$G,5,Daily!$I:$I,{"외주수리완료"},Daily!$C:$C,"ATM"),(SUMIFS(Daily!$V:$V,Daily!$G:$G,5,Daily!$I:$I,{"수리완료"},Daily!$C:$C,"ATM")+SUMIFS(Daily!$V:$V,Daily!$G:$G,5,Daily!$I:$I,{"외주수리완료"},Daily!$C:$C,"ATM"))/$R$3) -> 0 | M10: =SUMIFS(Daily!$R:$R,Daily!$G:$G,5,Daily!$I:$I,{"수리완료"},Daily!$C:$C,"ATJ")+SUMIFS(Daily!$R:$R,Daily!$G:$G,5,Daily!$I:$I,{"외주수리완료"},Daily!$C:$C,"ATJ") -> 0 | N10: =IF($R$2="K\",SUMIFS(Daily!$V:$V,Daily!$G:$G,5,Daily!$I:$I,{"수리완료"},Daily!$C:$C,"ATJ")+SUMIFS(Daily!$V:$V,Daily!$G:$G,5,Daily!$I:$I,{"외주수리완료"},Daily!$C:$C,"ATJ"),(SUMIFS(Daily!$V:$V,Daily!$G:$G,5,Daily!$I:$I,{"수리완료"},Daily!$C:$C,"ATJ")+SUMIFS(Daily!$V:$V,Daily!$G:$G,5,Daily!$I:$I,{"외주수리완료"},Daily!$C:$C,"ATJ"))/$R$3) -> 0 | O10: =SUMIFS(Daily!$R:$R,Daily!$G:$G,5,Daily!$I:$I,{"*수리완료"},Daily!$C:$C,"ATEP") -> 3 | P10: =IF($R$2="K\",SUMIFS(Daily!$V:$V,Daily!$G:$G,5,Daily!$I:$I,{"수리완료"},Daily!$C:$C,"ATEP")+SUMIFS(Daily!$V:$V,Daily!$G:$G,5,Daily!$I:$I,{"외주수리완료"},Daily!$C:$C,"ATEP"),(SUMIFS(Daily!$V:$V,Daily!$G:$G,5,Daily!$I:$I,{"수리완료"},Daily!$C:$C,"ATEP")+SUMIFS(Daily!$V:$V,Daily!$G:$G,5,Daily!$I:$I,{"외주수리완료"},Daily!$C:$C,"ATEP"))/$R$3) -> 9.3504545 | Q10: =C10+E10+G10+I10+K10+M10+O10 -> 159 | R10: =D10+F10+H10+J10+L10+N10+P10 -> 134.95091 | T10: ATM | U10: =COUNTIF(Daily!C:C, T10)-COUNTIFS(Daily!C:C, T10, Daily!I:I, "Other") -> 0 | V10: =COUNTIFS(Daily!C:C, T10, Daily!I:I, "수리완료")+COUNTIFS(Daily!C:C, T10, Daily!I:I, "외주수리완료") -> 0 | W10: =COUNTIFS(Daily!C:C, T10, Daily!I:I, "수리불가")+COUNTIFS(Daily!C:C, T10, Daily!I:I, "외주수리불가")+COUNTIFS(Daily!C:C, T10, Daily!I:I, "폐기") -> 0 | X10: 0 | Y10: =COUNTIFS(Daily!C:C, T10, Daily!I:I, "수리중")+COUNTIFS(Daily!C:C, T10, Daily!I:I, "외주수리중") -> 0 | Z10: =(SUMIFS(Daily!V:V, Daily!C:C, T10, Daily!I:I, "수리완료")+SUMIFS(Daily!V:V, Daily!C:C, T10, Daily!I:I, "외주수리완료"))/$Z$2 -> 0
B11: Jun. | C11: =SUMPRODUCT(SUMIFS(Daily!$R:$R,Daily!$G:$G,"6",Daily!$C:$C,"ATK",Daily!$I:$I,"수리완료")) + SUMPRODUCT(SUMIFS(Daily!$R:$R,Daily!$G:$G,"6",Daily!$C:$C,"ATK",Daily!$I:$I,"외주수리완료")) -> 164 | D11: =IF($R$2="K\",(SUMPRODUCT(SUMIFS(Daily!$V:$V,Daily!$G:$G,"6",Daily!$C:$C,"ATK",Daily!$I:$I,"수리완료")) + SUMPRODUCT(SUMIFS(Daily!$V:$V,Daily!$G:$G,"6",Daily!$C:$C,"ATK",Daily!$I:$I,"외주수리완료"))),(SUMPRODUCT(SUMIFS(Daily!$V:$V,Daily!$G:$G,"6",Daily!$C:$C,"ATK",Daily!$I:$I,"수리완료")) + SUMPRODUCT(SUMIFS(Daily!$V:$V,Daily!$G:$G,"6",Daily!$C:$C,"ATK",Daily!$I:$I,"외주수리완료")))/$R$3) -> 231.89182 | E11: =SUMIFS(Daily!$R:$R,Daily!$G:$G,6,Daily!$I:$I,{"수리완료"},Daily!$C:$C,"ATP")+SUMIFS(Daily!$R:$R,Daily!$G:$G,6,Daily!$I:$I,{"외주수리완료"},Daily!$C:$C,"ATP") -> 3 | F11: =IF($R$2="K\",SUMIFS(Daily!$V:$V,Daily!$G:$G,6,Daily!$I:$I,{"수리완료"},Daily!$C:$C,"ATP")+SUMIFS(Daily!$V:$V,Daily!$G:$G,6,Daily!$I:$I,{"외주수리완료"},Daily!$C:$C,"ATP"),(SUMIFS(Daily!$V:$V,Daily!$G:$G,6,Daily!$I:$I,{"수리완료"},Daily!$C:$C,"ATP")+SUMIFS(Daily!$V:$V,Daily!$G:$G,6,Daily!$I:$I,{"외주수리완료"},Daily!$C:$C,"ATP"))/$R$3) -> 3.8772727 | G11: =SUMIFS(Daily!$R:$R,Daily!$G:$G,6,Daily!$I:$I,{"수리완료"},Daily!$C:$C,"ATC")+SUMIFS(Daily!$R:$R,Daily!$G:$G,6,Daily!$I:$I,{"외주수리완료"},Daily!$C:$C,"ATC") -> 0 | H11: =IF($R$2="K\",SUMIFS(Daily!$V:$V,Daily!$G:$G,6,Daily!$I:$I,{"수리완료"},Daily!$C:$C,"ATC")+SUMIFS(Daily!$V:$V,Daily!$G:$G,6,Daily!$I:$I,{"외주수리완료"},Daily!$C:$C,"ATC"),(SUMIFS(Daily!$V:$V,Daily!$G:$G,6,Daily!$I:$I,{"수리완료"},Daily!$C:$C,"ATC")+SUMIFS(Daily!$V:$V,Daily!$G:$G,6,Daily!$I:$I,{"외주수리완료"},Daily!$C:$C,"ATC"))/$R$3) -> 0 | I11: =SUMIFS(Daily!$R:$R,Daily!$G:$G,6,Daily!$I:$I,{"수리완료"},Daily!$C:$C,"ATT")+SUMIFS(Daily!$R:$R,Daily!$G:$G,6,Daily!$I:$I,{"외주수리완료"},Daily!$C:$C,"ATT") -> 0 | J11: =IF($R$2="K\",SUMIFS(Daily!$V:$V,Daily!$G:$G,6,Daily!$I:$I,{"수리완료"},Daily!$C:$C,"ATT")+SUMIFS(Daily!$V:$V,Daily!$G:$G,6,Daily!$I:$I,{"외주수리완료"},Daily!$C:$C,"ATT"),(SUMIFS(Daily!$V:$V,Daily!$G:$G,6,Daily!$I:$I,{"수리완료"},Daily!$C:$C,"ATT")+SUMIFS(Daily!$V:$V,Daily!$G:$G,6,Daily!$I:$I,{"외주수리완료"},Daily!$C:$C,"ATT"))/$R$3) -> 0 | K11: =SUMIFS(Daily!$R:$R,Daily!$G:$G,6,Daily!$I:$I,{"수리완료"},Daily!$C:$C,"ATM")+SUMIFS(Daily!$R:$R,Daily!$G:$G,6,Daily!$I:$I,{"외주수리완료"},Daily!$C:$C,"ATM") -> 0 | L11: =IF($R$2="K\",SUMIFS(Daily!$V:$V,Daily!$G:$G,6,Daily!$I:$I,{"수리완료"},Daily!$C:$C,"ATM")+SUMIFS(Daily!$V:$V,Daily!$G:$G,6,Daily!$I:$I,{"외주수리완료"},Daily!$C:$C,"ATM"),(SUMIFS(Daily!$V:$V,Daily!$G:$G,6,Daily!$I:$I,{"수리완료"},Daily!$C:$C,"ATM")+SUMIFS(Daily!$V:$V,Daily!$G:$G,6,Daily!$I:$I,{"외주수리완료"},Daily!$C:$C,"ATM"))/$R$3) -> 0 | M11: =SUMIFS(Daily!$R:$R,Daily!$G:$G,6,Daily!$I:$I,{"수리완료"},Daily!$C:$C,"ATJ")+SUMIFS(Daily!$R:$R,Daily!$G:$G,6,Daily!$I:$I,{"외주수리완료"},Daily!$C:$C,"ATJ") -> 0 | N11: =IF($R$2="K\",SUMIFS(Daily!$V:$V,Daily!$G:$G,6,Daily!$I:$I,{"수리완료"},Daily!$C:$C,"ATJ")+SUMIFS(Daily!$V:$V,Daily!$G:$G,6,Daily!$I:$I,{"외주수리완료"},Daily!$C:$C,"ATJ"),(SUMIFS(Daily!$V:$V,Daily!$G:$G,6,Daily!$I:$I,{"수리완료"},Daily!$C:$C,"ATJ")+SUMIFS(Daily!$V:$V,Daily!$G:$G,6,Daily!$I:$I,{"외주수리완료"},Daily!$C:$C,"ATJ"))/$R$3) -> 0 | O11: =SUMIFS(Daily!$R:$R,Daily!$G:$G,6,Daily!$I:$I,{"*수리완료"},Daily!$C:$C,"ATEP") -> 0 | P11: =IF($R$2="K\",SUMIFS(Daily!$V:$V,Daily!$G:$G,6,Daily!$I:$I,{"수리완료"},Daily!$C:$C,"ATEP")+SUMIFS(Daily!$V:$V,Daily!$G:$G,6,Daily!$I:$I,{"외주수리완료"},Daily!$C:$C,"ATEP"),(SUMIFS(Daily!$V:$V,Daily!$G:$G,6,Daily!$I:$I,{"수리완료"},Daily!$C:$C,"ATEP")+SUMIFS(Daily!$V:$V,Daily!$G:$G,6,Daily!$I:$I,{"외주수리완료"},Daily!$C:$C,"ATEP"))/$R$3) -> 0 | Q11: =C11+E11+G11+I11+K11+M11+O11 -> 167 | R11: =D11+F11+H11+J11+L11+N11+P11 -> 235.76909 | T11: ATEP | U11: =COUNTIF(Daily!C:C, T11)-COUNTIFS(Daily!C:C, T11, Daily!I:I, "Other") -> 3 | V11: =COUNTIFS(Daily!C:C, T11, Daily!I:I, "수리완료")+COUNTIFS(Daily!C:C, T11, Daily!I:I, "외주수리완료") -> 3 | W11: =COUNTIFS(Daily!C:C, T11, Daily!I:I, "수리불가")+COUNTIFS(Daily!C:C, T11, Daily!I:I, "외주수리불가")+COUNTIFS(Daily!C:C, T11, Daily!I:I, "폐기") -> 0 | X11: 0 | Y11: =COUNTIFS(Daily!C:C, T11, Daily!I:I, "수리중")+COUNTIFS(Daily!C:C, T11, Daily!I:I, "외주수리중") -> 0 | Z11: =(SUMIFS(Daily!V:V, Daily!C:C, T11, Daily!I:I, "수리완료")+SUMIFS(Daily!V:V, Daily!C:C, T11, Daily!I:I, "외주수리완료"))/$Z$2 -> 9.3504545
B12: Jul | C12: =SUMPRODUCT(SUMIFS(Daily!$R:$R,Daily!$G:$G,"7",Daily!$C:$C,"ATK",Daily!$I:$I,"수리완료")) + SUMPRODUCT(SUMIFS(Daily!$R:$R,Daily!$G:$G,"7",Daily!$C:$C,"ATK",Daily!$I:$I,"외주수리완료")) -> 208 | D12: =IF($R$2="K\",(SUMPRODUCT(SUMIFS(Daily!$V:$V,Daily!$G:$G,"7",Daily!$C:$C,"ATK",Daily!$I:$I,"수리완료")) + SUMPRODUCT(SUMIFS(Daily!$V:$V,Daily!$G:$G,"7",Daily!$C:$C,"ATK",Daily!$I:$I,"외주수리완료"))),(SUMPRODUCT(SUMIFS(Daily!$V:$V,Daily!$G:$G,"7",Daily!$C:$C,"ATK",Daily!$I:$I,"수리완료")) + SUMPRODUCT(SUMIFS(Daily!$V:$V,Daily!$G:$G,"7",Daily!$C:$C,"ATK",Daily!$I:$I,"외주수리완료")))/$R$3) -> 150.79955 | E12: =SUMIFS(Daily!$R:$R,Daily!$G:$G,7,Daily!$I:$I,{"수리완료"},Daily!$C:$C,"ATP")+SUMIFS(Daily!$R:$R,Daily!$G:$G,7,Daily!$I:$I,{"외주수리완료"},Daily!$C:$C,"ATP") -> 7 | F12: =IF($R$2="K\",SUMIFS(Daily!$V:$V,Daily!$G:$G,7,Daily!$I:$I,{"수리완료"},Daily!$C:$C,"ATP")+SUMIFS(Daily!$V:$V,Daily!$G:$G,7,Daily!$I:$I,{"외주수리완료"},Daily!$C:$C,"ATP"),(SUMIFS(Daily!$V:$V,Daily!$G:$G,7,Daily!$I:$I,{"수리완료"},Daily!$C:$C,"ATP")+SUMIFS(Daily!$V:$V,Daily!$G:$G,7,Daily!$I:$I,{"외주수리완료"},Daily!$C:$C,"ATP"))/$R$3) -> 10.472727 | G12: =SUMIFS(Daily!$R:$R,Daily!$G:$G,7,Daily!$I:$I,{"수리완료"},Daily!$C:$C,"ATC")+SUMIFS(Daily!$R:$R,Daily!$G:$G,7,Daily!$I:$I,{"외주수리완료"},Daily!$C:$C,"ATC") -> 0 | H12: =IF($R$2="K\",SUMIFS(Daily!$V:$V,Daily!$G:$G,7,Daily!$I:$I,{"수리완료"},Daily!$C:$C,"ATC")+SUMIFS(Daily!$V:$V,Daily!$G:$G,7,Daily!$I:$I,{"외주수리완료"},Daily!$C:$C,"ATC"),(SUMIFS(Daily!$V:$V,Daily!$G:$G,7,Daily!$I:$I,{"수리완료"},Daily!$C:$C,"ATC")+SUMIFS(Daily!$V:$V,Daily!$G:$G,7,Daily!$I:$I,{"외주수리완료"},Daily!$C:$C,"ATC"))/$R$3) -> 0 | I12: =SUMIFS(Daily!$R:$R,Daily!$G:$G,7,Daily!$I:$I,{"수리완료"},Daily!$C:$C,"ATT")+SUMIFS(Daily!$R:$R,Daily!$G:$G,7,Daily!$I:$I,{"외주수리완료"},Daily!$C:$C,"ATT") -> 0 | J12: =IF($R$2="K\",SUMIFS(Daily!$V:$V,Daily!$G:$G,7,Daily!$I:$I,{"수리완료"},Daily!$C:$C,"ATT")+SUMIFS(Daily!$V:$V,Daily!$G:$G,7,Daily!$I:$I,{"외주수리완료"},Daily!$C:$C,"ATT"),(SUMIFS(Daily!$V:$V,Daily!$G:$G,7,Daily!$I:$I,{"수리완료"},Daily!$C:$C,"ATT")+SUMIFS(Daily!$V:$V,Daily!$G:$G,7,Daily!$I:$I,{"외주수리완료"},Daily!$C:$C,"ATT"))/$R$3) -> 0 | K12: =SUMIFS(Daily!$R:$R,Daily!$G:$G,7,Daily!$I:$I,{"수리완료"},Daily!$C:$C,"ATM")+SUMIFS(Daily!$R:$R,Daily!$G:$G,7,Daily!$I:$I,{"외주수리완료"},Daily!$C:$C,"ATM") -> 0 | L12: =IF($R$2="K\",SUMIFS(Daily!$V:$V,Daily!$G:$G,7,Daily!$I:$I,{"수리완료"},Daily!$C:$C,"ATM")+SUMIFS(Daily!$V:$V,Daily!$G:$G,7,Daily!$I:$I,{"외주수리완료"},Daily!$C:$C,"ATM"),(SUMIFS(Daily!$V:$V,Daily!$G:$G,7,Daily!$I:$I,{"수리완료"},Daily!$C:$C,"ATM")+SUMIFS(Daily!$V:$V,Daily!$G:$G,7,Daily!$I:$I,{"외주수리완료"},Daily!$C:$C,"ATM"))/$R$3) -> 0 | M12: =SUMIFS(Daily!$R:$R,Daily!$G:$G,7,Daily!$I:$I,{"수리완료"},Daily!$C:$C,"ATJ")+SUMIFS(Daily!$R:$R,Daily!$G:$G,7,Daily!$I:$I,{"외주수리완료"},Daily!$C:$C,"ATJ") -> 0 | N12: =IF($R$2="K\",SUMIFS(Daily!$V:$V,Daily!$G:$G,7,Daily!$I:$I,{"수리완료"},Daily!$C:$C,"ATJ")+SUMIFS(Daily!$V:$V,Daily!$G:$G,7,Daily!$I:$I,{"외주수리완료"},Daily!$C:$C,"ATJ"),(SUMIFS(Daily!$V:$V,Daily!$G:$G,7,Daily!$I:$I,{"수리완료"},Daily!$C:$C,"ATJ")+SUMIFS(Daily!$V:$V,Daily!$G:$G,7,Daily!$I:$I,{"외주수리완료"},Daily!$C:$C,"ATJ"))/$R$3) -> 0 | O12: =SUMIFS(Daily!$R:$R,Daily!$G:$G,7,Daily!$I:$I,{"*수리완료"},Daily!$C:$C,"ATEP") -> 0 | P12: =IF($R$2="K\",SUMIFS(Daily!$V:$V,Daily!$G:$G,7,Daily!$I:$I,{"수리완료"},Daily!$C:$C,"ATEP")+SUMIFS(Daily!$V:$V,Daily!$G:$G,7,Daily!$I:$I,{"외주수리완료"},Daily!$C:$C,"ATEP"),(SUMIFS(Daily!$V:$V,Daily!$G:$G,7,Daily!$I:$I,{"수리완료"},Daily!$C:$C,"ATEP")+SUMIFS(Daily!$V:$V,Daily!$G:$G,7,Daily!$I:$I,{"외주수리완료"},Daily!$C:$C,"ATEP"))/$R$3) -> 0 | Q12: =C12+E12+G12+I12+K12+M12+O12 -> 215 | R12: =D12+F12+H12+J12+L12+N12+P12 -> 161.27227 | T12: ATJ | U12: =COUNTIF(Daily!C:C, T12)-COUNTIFS(Daily!C:C, T12, Daily!I:I, "Other") -> 5 | V12: =COUNTIFS(Daily!C:C, T12, Daily!I:I, "수리완료")+COUNTIFS(Daily!C:C, T12, Daily!I:I, "외주수리완료") -> 5 | W12: =COUNTIFS(Daily!C:C, T12, Daily!I:I, "수리불가")+COUNTIFS(Daily!C:C, T12, Daily!I:I, "외주수리불가")+COUNTIFS(Daily!C:C, T12, Daily!I:I, "폐기") -> 0 | X12: 0 | Y12: =COUNTIFS(Daily!C:C, T12, Daily!I:I, "수리중")+COUNTIFS(Daily!C:C, T12, Daily!I:I, "외주수리중") -> 0 | Z12: =(SUMIFS(Daily!V:V, Daily!C:C, T12, Daily!I:I, "수리완료")+SUMIFS(Daily!V:V, Daily!C:C, T12, Daily!I:I, "외주수리완료"))/$Z$2 -> 6.0904545
B13: Aug. | C13: =SUMPRODUCT(SUMIFS(Daily!$R:$R,Daily!$G:$G,"8",Daily!$C:$C,"ATK",Daily!$I:$I,"수리완료")) + SUMPRODUCT(SUMIFS(Daily!$R:$R,Daily!$G:$G,"8",Daily!$C:$C,"ATK",Daily!$I:$I,"외주수리완료")) -> 140 | D13: =IF($R$2="K\",(SUMPRODUCT(SUMIFS(Daily!$V:$V,Daily!$G:$G,"8",Daily!$C:$C,"ATK",Daily!$I:$I,"수리완료")) + SUMPRODUCT(SUMIFS(Daily!$V:$V,Daily!$G:$G,"8",Daily!$C:$C,"ATK",Daily!$I:$I,"외주수리완료"))),(SUMPRODUCT(SUMIFS(Daily!$V:$V,Daily!$G:$G,"8",Daily!$C:$C,"ATK",Daily!$I:$I,"수리완료")) + SUMPRODUCT(SUMIFS(Daily!$V:$V,Daily!$G:$G,"8",Daily!$C:$C,"ATK",Daily!$I:$I,"외주수리완료")))/$R$3) -> 160.70864 | E13: =SUMIFS(Daily!$R:$R,Daily!$G:$G,8,Daily!$I:$I,{"수리완료"},Daily!$C:$C,"ATP")+SUMIFS(Daily!$R:$R,Daily!$G:$G,8,Daily!$I:$I,{"외주수리완료"},Daily!$C:$C,"ATP") -> 0 | F13: =IF($R$2="K\",SUMIFS(Daily!$V:$V,Daily!$G:$G,8,Daily!$I:$I,{"수리완료"},Daily!$C:$C,"ATP")+SUMIFS(Daily!$V:$V,Daily!$G:$G,8,Daily!$I:$I,{"외주수리완료"},Daily!$C:$C,"ATP"),(SUMIFS(Daily!$V:$V,Daily!$G:$G,8,Daily!$I:$I,{"수리완료"},Daily!$C:$C,"ATP")+SUMIFS(Daily!$V:$V,Daily!$G:$G,8,Daily!$I:$I,{"외주수리완료"},Daily!$C:$C,"ATP"))/$R$3) -> 0 | G13: =SUMIFS(Daily!$R:$R,Daily!$G:$G,8,Daily!$I:$I,{"수리완료"},Daily!$C:$C,"ATC")+SUMIFS(Daily!$R:$R,Daily!$G:$G,8,Daily!$I:$I,{"외주수리완료"},Daily!$C:$C,"ATC") -> 0 | H13: =IF($R$2="K\",SUMIFS(Daily!$V:$V,Daily!$G:$G,8,Daily!$I:$I,{"수리완료"},Daily!$C:$C,"ATC")+SUMIFS(Daily!$V:$V,Daily!$G:$G,8,Daily!$I:$I,{"외주수리완료"},Daily!$C:$C,"ATC"),(SUMIFS(Daily!$V:$V,Daily!$G:$G,8,Daily!$I:$I,{"수리완료"},Daily!$C:$C,"ATC")+SUMIFS(Daily!$V:$V,Daily!$G:$G,8,Daily!$I:$I,{"외주수리완료"},Daily!$C:$C,"ATC"))/$R$3) -> 0 | I13: =SUMIFS(Daily!$R:$R,Daily!$G:$G,8,Daily!$I:$I,{"수리완료"},Daily!$C:$C,"ATT")+SUMIFS(Daily!$R:$R,Daily!$G:$G,8,Daily!$I:$I,{"외주수리완료"},Daily!$C:$C,"ATT") -> 0 | J13: =IF($R$2="K\",SUMIFS(Daily!$V:$V,Daily!$G:$G,8,Daily!$I:$I,{"수리완료"},Daily!$C:$C,"ATT")+SUMIFS(Daily!$V:$V,Daily!$G:$G,8,Daily!$I:$I,{"외주수리완료"},Daily!$C:$C,"ATT"),(SUMIFS(Daily!$V:$V,Daily!$G:$G,8,Daily!$I:$I,{"수리완료"},Daily!$C:$C,"ATT")+SUMIFS(Daily!$V:$V,Daily!$G:$G,8,Daily!$I:$I,{"외주수리완료"},Daily!$C:$C,"ATT"))/$R$3) -> 0 | K13: =SUMIFS(Daily!$R:$R,Daily!$G:$G,8,Daily!$I:$I,{"수리완료"},Daily!$C:$C,"ATM")+SUMIFS(Daily!$R:$R,Daily!$G:$G,8,Daily!$I:$I,{"외주수리완료"},Daily!$C:$C,"ATM") -> 0 | L13: =IF($R$2="K\",SUMIFS(Daily!$V:$V,Daily!$G:$G,8,Daily!$I:$I,{"수리완료"},Daily!$C:$C,"ATM")+SUMIFS(Daily!$V:$V,Daily!$G:$G,8,Daily!$I:$I,{"외주수리완료"},Daily!$C:$C,"ATM"),(SUMIFS(Daily!$V:$V,Daily!$G:$G,8,Daily!$I:$I,{"수리완료"},Daily!$C:$C,"ATM")+SUMIFS(Daily!$V:$V,Daily!$G:$G,8,Daily!$I:$I,{"외주수리완료"},Daily!$C:$C,"ATM"))/$R$3) -> 0 | M13: =SUMIFS(Daily!$R:$R,Daily!$G:$G,8,Daily!$I:$I,{"수리완료"},Daily!$C:$C,"ATJ")+SUMIFS(Daily!$R:$R,Daily!$G:$G,8,Daily!$I:$I,{"외주수리완료"},Daily!$C:$C,"ATJ") -> 0 | N13: =IF($R$2="K\",SUMIFS(Daily!$V:$V,Daily!$G:$G,8,Daily!$I:$I,{"수리완료"},Daily!$C:$C,"ATJ")+SUMIFS(Daily!$V:$V,Daily!$G:$G,8,Daily!$I:$I,{"외주수리완료"},Daily!$C:$C,"ATJ"),(SUMIFS(Daily!$V:$V,Daily!$G:$G,8,Daily!$I:$I,{"수리완료"},Daily!$C:$C,"ATJ")+SUMIFS(Daily!$V:$V,Daily!$G:$G,8,Daily!$I:$I,{"외주수리완료"},Daily!$C:$C,"ATJ"))/$R$3) -> 0 | O13: =SUMIFS(Daily!$R:$R,Daily!$G:$G,8,Daily!$I:$I,{"*수리완료"},Daily!$C:$C,"ATEP") -> 0 | P13: =IF($R$2="K\",SUMIFS(Daily!$V:$V,Daily!$G:$G,8,Daily!$I:$I,{"수리완료"},Daily!$C:$C,"ATEP")+SUMIFS(Daily!$V:$V,Daily!$G:$G,8,Daily!$I:$I,{"외주수리완료"},Daily!$C:$C,"ATEP"),(SUMIFS(Daily!$V:$V,Daily!$G:$G,8,Daily!$I:$I,{"수리완료"},Daily!$C:$C,"ATEP")+SUMIFS(Daily!$V:$V,Daily!$G:$G,8,Daily!$I:$I,{"외주수리완료"},Daily!$C:$C,"ATEP"))/$R$3) -> 0 | Q13: =C13+E13+G13+I13+K13+M13+O13 -> 140 | R13: =D13+F13+H13+J13+L13+N13+P13 -> 160.70864 | T13: Total | U13: =SUM(U6:U12) -> 1665 | V13: =SUM(V6:V12) -> 1580 | W13: =SUM(W6:W12) -> 85 | X13: =SUM(X6:X12) -> 0 | Y13: =SUM(Y6:Y12) -> 0 | Z13: =SUM(Z6:Z12) -> 1932.8013
B14: Sep. | C14: =SUMPRODUCT(SUMIFS(Daily!$R:$R,Daily!$G:$G,"9",Daily!$C:$C,"ATK",Daily!$I:$I,"수리완료")) + SUMPRODUCT(SUMIFS(Daily!$R:$R,Daily!$G:$G,"9",Daily!$C:$C,"ATK",Daily!$I:$I,"외주수리완료")) -> 118 | D14: =IF($R$2="K\",(SUMPRODUCT(SUMIFS(Daily!$V:$V,Daily!$G:$G,"9",Daily!$C:$C,"ATK",Daily!$I:$I,"수리완료")) + SUMPRODUCT(SUMIFS(Daily!$V:$V,Daily!$G:$G,"9",Daily!$C:$C,"ATK",Daily!$I:$I,"외주수리완료"))),(SUMPRODUCT(SUMIFS(Daily!$V:$V,Daily!$G:$G,"9",Daily!$C:$C,"ATK",Daily!$I:$I,"수리완료")) + SUMPRODUCT(SUMIFS(Daily!$V:$V,Daily!$G:$G,"9",Daily!$C:$C,"ATK",Daily!$I:$I,"외주수리완료")))/$R$3) -> 128.21545 | E14: =SUMIFS(Daily!$R:$R,Daily!$G:$G,9,Daily!$I:$I,{"수리완료"},Daily!$C:$C,"ATP")+SUMIFS(Daily!$R:$R,Daily!$G:$G,9,Daily!$I:$I,{"외주수리완료"},Daily!$C:$C,"ATP") -> 4 | F14: =IF($R$2="K\",SUMIFS(Daily!$V:$V,Daily!$G:$G,9,Daily!$I:$I,{"수리완료"},Daily!$C:$C,"ATP")+SUMIFS(Daily!$V:$V,Daily!$G:$G,9,Daily!$I:$I,{"외주수리완료"},Daily!$C:$C,"ATP"),(SUMIFS(Daily!$V:$V,Daily!$G:$G,9,Daily!$I:$I,{"수리완료"},Daily!$C:$C,"ATP")+SUMIFS(Daily!$V:$V,Daily!$G:$G,9,Daily!$I:$I,{"외주수리완료"},Daily!$C:$C,"ATP"))/$R$3) -> 6.6583273 | G14: =SUMIFS(Daily!$R:$R,Daily!$G:$G,9,Daily!$I:$I,{"수리완료"},Daily!$C:$C,"ATC")+SUMIFS(Daily!$R:$R,Daily!$G:$G,9,Daily!$I:$I,{"외주수리완료"},Daily!$C:$C,"ATC") -> 0 | H14: =IF($R$2="K\",SUMIFS(Daily!$V:$V,Daily!$G:$G,9,Daily!$I:$I,{"수리완료"},Daily!$C:$C,"ATC")+SUMIFS(Daily!$V:$V,Daily!$G:$G,9,Daily!$I:$I,{"외주수리완료"},Daily!$C:$C,"ATC"),(SUMIFS(Daily!$V:$V,Daily!$G:$G,9,Daily!$I:$I,{"수리완료"},Daily!$C:$C,"ATC")+SUMIFS(Daily!$V:$V,Daily!$G:$G,9,Daily!$I:$I,{"외주수리완료"},Daily!$C:$C,"ATC"))/$R$3) -> 0 | I14: =SUMIFS(Daily!$R:$R,Daily!$G:$G,9,Daily!$I:$I,{"수리완료"},Daily!$C:$C,"ATT")+SUMIFS(Daily!$R:$R,Daily!$G:$G,9,Daily!$I:$I,{"외주수리완료"},Daily!$C:$C,"ATT") -> 0 | J14: =IF($R$2="K\",SUMIFS(Daily!$V:$V,Daily!$G:$G,9,Daily!$I:$I,{"수리완료"},Daily!$C:$C,"ATT")+SUMIFS(Daily!$V:$V,Daily!$G:$G,9,Daily!$I:$I,{"외주수리완료"},Daily!$C:$C,"ATT"),(SUMIFS(Daily!$V:$V,Daily!$G:$G,9,Daily!$I:$I,{"수리완료"},Daily!$C:$C,"ATT")+SUMIFS(Daily!$V:$V,Daily!$G:$G,9,Daily!$I:$I,{"외주수리완료"},Daily!$C:$C,"ATT"))/$R$3) -> 0 | K14: =SUMIFS(Daily!$R:$R,Daily!$G:$G,9,Daily!$I:$I,{"수리완료"},Daily!$C:$C,"ATM")+SUMIFS(Daily!$R:$R,Daily!$G:$G,9,Daily!$I:$I,{"외주수리완료"},Daily!$C:$C,"ATM") -> 0 | L14: =IF($R$2="K\",SUMIFS(Daily!$V:$V,Daily!$G:$G,9,Daily!$I:$I,{"수리완료"},Daily!$C:$C,"ATM")+SUMIFS(Daily!$V:$V,Daily!$G:$G,9,Daily!$I:$I,{"외주수리완료"},Daily!$C:$C,"ATM"),(SUMIFS(Daily!$V:$V,Daily!$G:$G,9,Daily!$I:$I,{"수리완료"},Daily!$C:$C,"ATM")+SUMIFS(Daily!$V:$V,Daily!$G:$G,9,Daily!$I:$I,{"외주수리완료"},Daily!$C:$C,"ATM"))/$R$3) -> 0 | M14: =SUMIFS(Daily!$R:$R,Daily!$G:$G,9,Daily!$I:$I,{"수리완료"},Daily!$C:$C,"ATJ")+SUMIFS(Daily!$R:$R,Daily!$G:$G,9,Daily!$I:$I,{"외주수리완료"},Daily!$C:$C,"ATJ") -> 0 | N14: =IF($R$2="K\",SUMIFS(Daily!$V:$V,Daily!$G:$G,9,Daily!$I:$I,{"수리완료"},Daily!$C:$C,"ATJ")+SUMIFS(Daily!$V:$V,Daily!$G:$G,9,Daily!$I:$I,{"외주수리완료"},Daily!$C:$C,"ATJ"),(SUMIFS(Daily!$V:$V,Daily!$G:$G,9,Daily!$I:$I,{"수리완료"},Daily!$C:$C,"ATJ")+SUMIFS(Daily!$V:$V,Daily!$G:$G,9,Daily!$I:$I,{"외주수리완료"},Daily!$C:$C,"ATJ"))/$R$3) -> 0 | O14: =SUMIFS(Daily!$R:$R,Daily!$G:$G,9,Daily!$I:$I,{"*수리완료"},Daily!$C:$C,"ATEP") -> 0 | P14: =IF($R$2="K\",SUMIFS(Daily!$V:$V,Daily!$G:$G,9,Daily!$I:$I,{"수리완료"},Daily!$C:$C,"ATEP")+SUMIFS(Daily!$V:$V,Daily!$G:$G,9,Daily!$I:$I,{"외주수리완료"},Daily!$C:$C,"ATEP"),(SUMIFS(Daily!$V:$V,Daily!$G:$G,9,Daily!$I:$I,{"수리완료"},Daily!$C:$C,"ATEP")+SUMIFS(Daily!$V:$V,Daily!$G:$G,9,Daily!$I:$I,{"외주수리완료"},Daily!$C:$C,"ATEP"))/$R$3) -> 0 | Q14: =C14+E14+G14+I14+K14+M14+O14 -> 122 | R14: =D14+F14+H14+J14+L14+N14+P14 -> 134.87378
B15: Oct. | C15: =SUMPRODUCT(SUMIFS(Daily!$R:$R,Daily!$G:$G,"10",Daily!$C:$C,"ATK",Daily!$I:$I,"수리완료")) + SUMPRODUCT(SUMIFS(Daily!$R:$R,Daily!$G:$G,"10",Daily!$C:$C,"ATK",Daily!$I:$I,"외주수리완료")) -> 140 | D15: =IF($R$2="K\",(SUMPRODUCT(SUMIFS(Daily!$V:$V,Daily!$G:$G,"10",Daily!$C:$C,"ATK",Daily!$I:$I,"수리완료")) + SUMPRODUCT(SUMIFS(Daily!$V:$V,Daily!$G:$G,"10",Daily!$C:$C,"ATK",Daily!$I:$I,"외주수리완료"))),(SUMPRODUCT(SUMIFS(Daily!$V:$V,Daily!$G:$G,"10",Daily!$C:$C,"ATK",Daily!$I:$I,"수리완료")) + SUMPRODUCT(SUMIFS(Daily!$V:$V,Daily!$G:$G,"10",Daily!$C:$C,"ATK",Daily!$I:$I,"외주수리완료")))/$R$3) -> 156.56 | E15: =SUMIFS(Daily!$R:$R,Daily!$G:$G,10,Daily!$I:$I,{"수리완료"},Daily!$C:$C,"ATP")+SUMIFS(Daily!$R:$R,Daily!$G:$G,10,Daily!$I:$I,{"외주수리완료"},Daily!$C:$C,"ATP") -> 9 | F15: =IF($R$2="K\",SUMIFS(Daily!$V:$V,Daily!$G:$G,10,Daily!$I:$I,{"수리완료"},Daily!$C:$C,"ATP")+SUMIFS(Daily!$V:$V,Daily!$G:$G,10,Daily!$I:$I,{"외주수리완료"},Daily!$C:$C,"ATP"),(SUMIFS(Daily!$V:$V,Daily!$G:$G,10,Daily!$I:$I,{"수리완료"},Daily!$C:$C,"ATP")+SUMIFS(Daily!$V:$V,Daily!$G:$G,10,Daily!$I:$I,{"외주수리완료"},Daily!$C:$C,"ATP"))/$R$3) -> 9.2127273 | G15: =SUMIFS(Daily!$R:$R,Daily!$G:$G,10,Daily!$I:$I,{"수리완료"},Daily!$C:$C,"ATC")+SUMIFS(Daily!$R:$R,Daily!$G:$G,10,Daily!$I:$I,{"외주수리완료"},Daily!$C:$C,"ATC") -> 0 | H15: =IF($R$2="K\",SUMIFS(Daily!$V:$V,Daily!$G:$G,10,Daily!$I:$I,{"수리완료"},Daily!$C:$C,"ATC")+SUMIFS(Daily!$V:$V,Daily!$G:$G,10,Daily!$I:$I,{"외주수리완료"},Daily!$C:$C,"ATC"),(SUMIFS(Daily!$V:$V,Daily!$G:$G,10,Daily!$I:$I,{"수리완료"},Daily!$C:$C,"ATC")+SUMIFS(Daily!$V:$V,Daily!$G:$G,10,Daily!$I:$I,{"외주수리완료"},Daily!$C:$C,"ATC"))/$R$3) -> 0 | I15: =SUMIFS(Daily!$R:$R,Daily!$G:$G,10,Daily!$I:$I,{"수리완료"},Daily!$C:$C,"ATT")+SUMIFS(Daily!$R:$R,Daily!$G:$G,10,Daily!$I:$I,{"외주수리완료"},Daily!$C:$C,"ATT") -> 0 | J15: =IF($R$2="K\",SUMIFS(Daily!$V:$V,Daily!$G:$G,10,Daily!$I:$I,{"수리완료"},Daily!$C:$C,"ATT")+SUMIFS(Daily!$V:$V,Daily!$G:$G,10,Daily!$I:$I,{"외주수리완료"},Daily!$C:$C,"ATT"),(SUMIFS(Daily!$V:$V,Daily!$G:$G,10,Daily!$I:$I,{"수리완료"},Daily!$C:$C,"ATT")+SUMIFS(Daily!$V:$V,Daily!$G:$G,10,Daily!$I:$I,{"외주수리완료"},Daily!$C:$C,"ATT"))/$R$3) -> 0 | K15: =SUMIFS(Daily!$R:$R,Daily!$G:$G,10,Daily!$I:$I,{"수리완료"},Daily!$C:$C,"ATM")+SUMIFS(Daily!$R:$R,Daily!$G:$G,10,Daily!$I:$I,{"외주수리완료"},Daily!$C:$C,"ATM") -> 0 | L15: =IF($R$2="K\",SUMIFS(Daily!$V:$V,Daily!$G:$G,10,Daily!$I:$I,{"수리완료"},Daily!$C:$C,"ATM")+SUMIFS(Daily!$V:$V,Daily!$G:$G,10,Daily!$I:$I,{"외주수리완료"},Daily!$C:$C,"ATM"),(SUMIFS(Daily!$V:$V,Daily!$G:$G,10,Daily!$I:$I,{"수리완료"},Daily!$C:$C,"ATM")+SUMIFS(Daily!$V:$V,Daily!$G:$G,10,Daily!$I:$I,{"외주수리완료"},Daily!$C:$C,"ATM"))/$R$3) -> 0 | M15: =SUMIFS(Daily!$R:$R,Daily!$G:$G,10,Daily!$I:$I,{"수리완료"},Daily!$C:$C,"ATJ")+SUMIFS(Daily!$R:$R,Daily!$G:$G,10,Daily!$I:$I,{"외주수리완료"},Daily!$C:$C,"ATJ") -> 0 | N15: =IF($R$2="K\",SUMIFS(Daily!$V:$V,Daily!$G:$G,10,Daily!$I:$I,{"수리완료"},Daily!$C:$C,"ATJ")+SUMIFS(Daily!$V:$V,Daily!$G:$G,10,Daily!$I:$I,{"외주수리완료"},Daily!$C:$C,"ATJ"),(SUMIFS(Daily!$V:$V,Daily!$G:$G,10,Daily!$I:$I,{"수리완료"},Daily!$C:$C,"ATJ")+SUMIFS(Daily!$V:$V,Daily!$G:$G,10,Daily!$I:$I,{"외주수리완료"},Daily!$C:$C,"ATJ"))/$R$3) -> 0 | O15: =SUMIFS(Daily!$R:$R,Daily!$G:$G,10,Daily!$I:$I,{"*수리완료"},Daily!$C:$C,"ATEP") -> 0 | P15: =IF($R$2="K\",SUMIFS(Daily!$V:$V,Daily!$G:$G,10,Daily!$I:$I,{"수리완료"},Daily!$C:$C,"ATEP")+SUMIFS(Daily!$V:$V,Daily!$G:$G,10,Daily!$I:$I,{"외주수리완료"},Daily!$C:$C,"ATEP"),(SUMIFS(Daily!$V:$V,Daily!$G:$G,10,Daily!$I:$I,{"수리완료"},Daily!$C:$C,"ATEP")+SUMIFS(Daily!$V:$V,Daily!$G:$G,10,Daily!$I:$I,{"외주수리완료"},Daily!$C:$C,"ATEP"))/$R$3) -> 0 | Q15: =C15+E15+G15+I15+K15+M15+O15 -> 149 | R15: =D15+F15+H15+J15+L15+N15+P15 -> 165.77273
B16: Nov. | C16: =SUMPRODUCT(SUMIFS(Daily!$R:$R,Daily!$G:$G,"11",Daily!$C:$C,"ATK",Daily!$I:$I,"수리완료")) + SUMPRODUCT(SUMIFS(Daily!$R:$R,Daily!$G:$G,"11",Daily!$C:$C,"ATK",Daily!$I:$I,"외주수리완료")) -> 147 | D16: =IF($R$2="K\",(SUMPRODUCT(SUMIFS(Daily!$V:$V,Daily!$G:$G,"11",Daily!$C:$C,"ATK",Daily!$I:$I,"수리완료")) + SUMPRODUCT(SUMIFS(Daily!$V:$V,Daily!$G:$G,"11",Daily!$C:$C,"ATK",Daily!$I:$I,"외주수리완료"))),(SUMPRODUCT(SUMIFS(Daily!$V:$V,Daily!$G:$G,"11",Daily!$C:$C,"ATK",Daily!$I:$I,"수리완료")) + SUMPRODUCT(SUMIFS(Daily!$V:$V,Daily!$G:$G,"11",Daily!$C:$C,"ATK",Daily!$I:$I,"외주수리완료")))/$R$3) -> 143.59727 | E16: =SUMIFS(Daily!$R:$R,Daily!$G:$G,11,Daily!$I:$I,{"수리완료"},Daily!$C:$C,"ATP")+SUMIFS(Daily!$R:$R,Daily!$G:$G,11,Daily!$I:$I,{"외주수리완료"},Daily!$C:$C,"ATP") -> 0 | F16: =IF($R$2="K\",SUMIFS(Daily!$V:$V,Daily!$G:$G,11,Daily!$I:$I,{"수리완료"},Daily!$C:$C,"ATP")+SUMIFS(Daily!$V:$V,Daily!$G:$G,11,Daily!$I:$I,{"외주수리완료"},Daily!$C:$C,"ATP"),(SUMIFS(Daily!$V:$V,Daily!$G:$G,11,Daily!$I:$I,{"수리완료"},Daily!$C:$C,"ATP")+SUMIFS(Daily!$V:$V,Daily!$G:$G,11,Daily!$I:$I,{"외주수리완료"},Daily!$C:$C,"ATP"))/$R$3) -> 0 | G16: =SUMIFS(Daily!$R:$R,Daily!$G:$G,11,Daily!$I:$I,{"수리완료"},Daily!$C:$C,"ATC")+SUMIFS(Daily!$R:$R,Daily!$G:$G,11,Daily!$I:$I,{"외주수리완료"},Daily!$C:$C,"ATC") -> 0 | H16: =IF($R$2="K\",SUMIFS(Daily!$V:$V,Daily!$G:$G,11,Daily!$I:$I,{"수리완료"},Daily!$C:$C,"ATC")+SUMIFS(Daily!$V:$V,Daily!$G:$G,11,Daily!$I:$I,{"외주수리완료"},Daily!$C:$C,"ATC"),(SUMIFS(Daily!$V:$V,Daily!$G:$G,11,Daily!$I:$I,{"수리완료"},Daily!$C:$C,"ATC")+SUMIFS(Daily!$V:$V,Daily!$G:$G,11,Daily!$I:$I,{"외주수리완료"},Daily!$C:$C,"ATC"))/$R$3) -> 0 | I16: =SUMIFS(Daily!$R:$R,Daily!$G:$G,11,Daily!$I:$I,{"수리완료"},Daily!$C:$C,"ATT")+SUMIFS(Daily!$R:$R,Daily!$G:$G,11,Daily!$I:$I,{"외주수리완료"},Daily!$C:$C,"ATT") -> 0 | J16: =IF($R$2="K\",SUMIFS(Daily!$V:$V,Daily!$G:$G,11,Daily!$I:$I,{"수리완료"},Daily!$C:$C,"ATT")+SUMIFS(Daily!$V:$V,Daily!$G:$G,11,Daily!$I:$I,{"외주수리완료"},Daily!$C:$C,"ATT"),(SUMIFS(Daily!$V:$V,Daily!$G:$G,11,Daily!$I:$I,{"수리완료"},Daily!$C:$C,"ATT")+SUMIFS(Daily!$V:$V,Daily!$G:$G,11,Daily!$I:$I,{"외주수리완료"},Daily!$C:$C,"ATT"))/$R$3) -> 0 | K16: =SUMIFS(Daily!$R:$R,Daily!$G:$G,11,Daily!$I:$I,{"수리완료"},Daily!$C:$C,"ATM")+SUMIFS(Daily!$R:$R,Daily!$G:$G,11,Daily!$I:$I,{"외주수리완료"},Daily!$C:$C,"ATM") -> 0 | L16: =IF($R$2="K\",SUMIFS(Daily!$V:$V,Daily!$G:$G,11,Daily!$I:$I,{"수리완료"},Daily!$C:$C,"ATM")+SUMIFS(Daily!$V:$V,Daily!$G:$G,11,Daily!$I:$I,{"외주수리완료"},Daily!$C:$C,"ATM"),(SUMIFS(Daily!$V:$V,Daily!$G:$G,11,Daily!$I:$I,{"수리완료"},Daily!$C:$C,"ATM")+SUMIFS(Daily!$V:$V,Daily!$G:$G,11,Daily!$I:$I,{"외주수리완료"},Daily!$C:$C,"ATM"))/$R$3) -> 0 | M16: =SUMIFS(Daily!$R:$R,Daily!$G:$G,11,Daily!$I:$I,{"수리완료"},Daily!$C:$C,"ATJ")+SUMIFS(Daily!$R:$R,Daily!$G:$G,11,Daily!$I:$I,{"외주수리완료"},Daily!$C:$C,"ATJ") -> 0 | N16: =IF($R$2="K\",SUMIFS(Daily!$V:$V,Daily!$G:$G,11,Daily!$I:$I,{"수리완료"},Daily!$C:$C,"ATJ")+SUMIFS(Daily!$V:$V,Daily!$G:$G,11,Daily!$I:$I,{"외주수리완료"},Daily!$C:$C,"ATJ"),(SUMIFS(Daily!$V:$V,Daily!$G:$G,11,Daily!$I:$I,{"수리완료"},Daily!$C:$C,"ATJ")+SUMIFS(Daily!$V:$V,Daily!$G:$G,11,Daily!$I:$I,{"외주수리완료"},Daily!$C:$C,"ATJ"))/$R$3) -> 0 | O16: =SUMIFS(Daily!$R:$R,Daily!$G:$G,11,Daily!$I:$I,{"*수리완료"},Daily!$C:$C,"ATEP") -> 0 | P16: =IF($R$2="K\",SUMIFS(Daily!$V:$V,Daily!$G:$G,11,Daily!$I:$I,{"수리완료"},Daily!$C:$C,"ATEP")+SUMIFS(Daily!$V:$V,Daily!$G:$G,11,Daily!$I:$I,{"외주수리완료"},Daily!$C:$C,"ATEP"),(SUMIFS(Daily!$V:$V,Daily!$G:$G,11,Daily!$I:$I,{"수리완료"},Daily!$C:$C,"ATEP")+SUMIFS(Daily!$V:$V,Daily!$G:$G,11,Daily!$I:$I,{"외주수리완료"},Daily!$C:$C,"ATEP"))/$R$3) -> 0 | Q16: =C16+E16+G16+I16+K16+M16+O16 -> 147 | R16: =D16+F16+H16+J16+L16+N16+P16 -> 143.59727 | T16: Including Ongoing | U16: (K\) | V16: K$
B17: Dec. | C17: =SUMPRODUCT(SUMIFS(Daily!$R:$R,Daily!$G:$G,"12",Daily!$C:$C,"ATK",Daily!$I:$I,"수리완료")) + SUMPRODUCT(SUMIFS(Daily!$R:$R,Daily!$G:$G,"12",Daily!$C:$C,"ATK",Daily!$I:$I,"외주수리완료")) -> 134 | D17: =IF($R$2="K\",(SUMPRODUCT(SUMIFS(Daily!$V:$V,Daily!$G:$G,"12",Daily!$C:$C,"ATK",Daily!$I:$I,"수리완료")) + SUMPRODUCT(SUMIFS(Daily!$V:$V,Daily!$G:$G,"12",Daily!$C:$C,"ATK",Daily!$I:$I,"외주수리완료"))),(SUMPRODUCT(SUMIFS(Daily!$V:$V,Daily!$G:$G,"12",Daily!$C:$C,"ATK",Daily!$I:$I,"수리완료")) + SUMPRODUCT(SUMIFS(Daily!$V:$V,Daily!$G:$G,"12",Daily!$C:$C,"ATK",Daily!$I:$I,"외주수리완료")))/$R$3) -> 141.93409 | E17: =SUMIFS(Daily!$R:$R,Daily!$G:$G,12,Daily!$I:$I,{"수리완료"},Daily!$C:$C,"ATP")+SUMIFS(Daily!$R:$R,Daily!$G:$G,12,Daily!$I:$I,{"외주수리완료"},Daily!$C:$C,"ATP") -> 5 | F17: =IF($R$2="K\",SUMIFS(Daily!$V:$V,Daily!$G:$G,12,Daily!$I:$I,{"수리완료"},Daily!$C:$C,"ATP")+SUMIFS(Daily!$V:$V,Daily!$G:$G,12,Daily!$I:$I,{"외주수리완료"},Daily!$C:$C,"ATP"),(SUMIFS(Daily!$V:$V,Daily!$G:$G,12,Daily!$I:$I,{"수리완료"},Daily!$C:$C,"ATP")+SUMIFS(Daily!$V:$V,Daily!$G:$G,12,Daily!$I:$I,{"외주수리완료"},Daily!$C:$C,"ATP"))/$R$3) -> 10.227273 | G17: =SUMIFS(Daily!$R:$R,Daily!$G:$G,12,Daily!$I:$I,{"수리완료"},Daily!$C:$C,"ATC")+SUMIFS(Daily!$R:$R,Daily!$G:$G,12,Daily!$I:$I,{"외주수리완료"},Daily!$C:$C,"ATC") -> 5 | H17: =IF($R$2="K\",SUMIFS(Daily!$V:$V,Daily!$G:$G,12,Daily!$I:$I,{"수리완료"},Daily!$C:$C,"ATC")+SUMIFS(Daily!$V:$V,Daily!$G:$G,12,Daily!$I:$I,{"외주수리완료"},Daily!$C:$C,"ATC"),(SUMIFS(Daily!$V:$V,Daily!$G:$G,12,Daily!$I:$I,{"수리완료"},Daily!$C:$C,"ATC")+SUMIFS(Daily!$V:$V,Daily!$G:$G,12,Daily!$I:$I,{"외주수리완료"},Daily!$C:$C,"ATC"))/$R$3) -> 3.6272727 | I17: =SUMIFS(Daily!$R:$R,Daily!$G:$G,12,Daily!$I:$I,{"수리완료"},Daily!$C:$C,"ATT")+SUMIFS(Daily!$R:$R,Daily!$G:$G,12,Daily!$I:$I,{"외주수리완료"},Daily!$C:$C,"ATT") -> 0 | J17: =IF($R$2="K\",SUMIFS(Daily!$V:$V,Daily!$G:$G,12,Daily!$I:$I,{"수리완료"},Daily!$C:$C,"ATT")+SUMIFS(Daily!$V:$V,Daily!$G:$G,12,Daily!$I:$I,{"외주수리완료"},Daily!$C:$C,"ATT"),(SUMIFS(Daily!$V:$V,Daily!$G:$G,12,Daily!$I:$I,{"수리완료"},Daily!$C:$C,"ATT")+SUMIFS(Daily!$V:$V,Daily!$G:$G,12,Daily!$I:$I,{"외주수리완료"},Daily!$C:$C,"ATT"))/$R$3) -> 0 | K17: =SUMIFS(Daily!$R:$R,Daily!$G:$G,12,Daily!$I:$I,{"수리완료"},Daily!$C:$C,"ATM")+SUMIFS(Daily!$R:$R,Daily!$G:$G,12,Daily!$I:$I,{"외주수리완료"},Daily!$C:$C,"ATM") -> 0 | L17: =IF($R$2="K\",SUMIFS(Daily!$V:$V,Daily!$G:$G,12,Daily!$I:$I,{"수리완료"},Daily!$C:$C,"ATM")+SUMIFS(Daily!$V:$V,Daily!$G:$G,12,Daily!$I:$I,{"외주수리완료"},Daily!$C:$C,"ATM"),(SUMIFS(Daily!$V:$V,Daily!$G:$G,12,Daily!$I:$I,{"수리완료"},Daily!$C:$C,"ATM")+SUMIFS(Daily!$V:$V,Daily!$G:$G,12,Daily!$I:$I,{"외주수리완료"},Daily!$C:$C,"ATM"))/$R$3) -> 0 | M17: =SUMIFS(Daily!$R:$R,Daily!$G:$G,12,Daily!$I:$I,{"수리완료"},Daily!$C:$C,"ATJ")+SUMIFS(Daily!$R:$R,Daily!$G:$G,12,Daily!$I:$I,{"외주수리완료"},Daily!$C:$C,"ATJ") -> 5 | N17: =IF($R$2="K\",SUMIFS(Daily!$V:$V,Daily!$G:$G,12,Daily!$I:$I,{"수리완료"},Daily!$C:$C,"ATJ")+SUMIFS(Daily!$V:$V,Daily!$G:$G,12,Daily!$I:$I,{"외주수리완료"},Daily!$C:$C,"ATJ"),(SUMIFS(Daily!$V:$V,Daily!$G:$G,12,Daily!$I:$I,{"수리완료"},Daily!$C:$C,"ATJ")+SUMIFS(Daily!$V:$V,Daily!$G:$G,12,Daily!$I:$I,{"외주수리완료"},Daily!$C:$C,"ATJ"))/$R$3) -> 6.0904545 | O17: =SUMIFS(Daily!$R:$R,Daily!$G:$G,12,Daily!$I:$I,{"*수리완료"},Daily!$C:$C,"ATEP") -> 0 | P17: =IF($R$2="K\",SUMIFS(Daily!$V:$V,Daily!$G:$G,12,Daily!$I:$I,{"수리완료"},Daily!$C:$C,"ATEP")+SUMIFS(Daily!$V:$V,Daily!$G:$G,12,Daily!$I:$I,{"외주수리완료"},Daily!$C:$C,"ATEP"),(SUMIFS(Daily!$V:$V,Daily!$G:$G,12,Daily!$I:$I,{"수리완료"},Daily!$C:$C,"ATEP")+SUMIFS(Daily!$V:$V,Daily!$G:$G,12,Daily!$I:$I,{"외주수리완료"},Daily!$C:$C,"ATEP"))/$R$3) -> 0 | Q17: =C17+E17+G17+I17+K17+M17+O17 -> 149 | R17: =D17+F17+H17+J17+L17+N17+P17 -> 161.87909 | T17: Outsourcing Price | U17: =INT(SUM(Daily!T:T)) -> 2362552 | V17: =U17/$R$3 -> 2147.7745
B18: Other | T18: In-House Price | U18: =SUM(Daily!U:U) -> 110198 | V18: =U18/$R$3 -> 100.18
B19: Total(Site) | C19: =SUM(C6:C17) -> 1829 | D19: =SUM(D6:D17) -> 1838.3355 | E19: =SUM(E6:E17) -> 68 | F19: =SUM(F6:F17) -> 75.397582 | G19: =SUM(G6:G17) -> 5 | H19: =SUM(H6:H17) -> 3.6272727 | I19: =SUM(I6:I17) -> 0 | J19: =SUM(J6:J17) -> 0 | ... P19: =SUM(P6:P17) -> 9.3504545 | Q19: =C19+E19+G19+I19+K19+M19+O19 -> 1910 | R19: =D19+F19+H19+J19+L19+N19+P19 -> 1932.8013 | T19: Cost Save | U19: =U17-U18 -> 2252354 | V19: =U19/$R$3 -> 2047.5945
B20: Ratio(%) | C20: =C19/($C$19+$E$19+$G$19+$I$19+$K$19+$M$19+$O$19) -> 0.95759162 | D20: =D19/($D$19+$F$19+$H$19+$J$19+$L$19+$N$19+$P$19) -> 0.95112495 | E20: =E19/($C$19+$E$19+$G$19+$I$19+$K$19+$M$19+$O$19) -> 0.035602094 | F20: =F19/($D$19+$F$19+$H$19+$J$19+$L$19+$N$19+$P$19) -> 0.039009484 | G20: =G19/($C$19+$E$19+$G$19+$I$19+$K$19+$M$19+$O$19) -> 0.002617801 | H20: =H19/($D$19+$F$19+$H$19+$J$19+$L$19+$N$19+$P$19) -> 0.001876692 | I20: =I19/($C$19+$E$19+$G$19+$I$19+$K$19+$M$19+$O$19) -> 0 | J20: =J19/($D$19+$F$19+$H$19+$J$19+$L$19+$N$19+$P$19) -> 0 | K20: =K19/($C$19+$E$19+$G$19+$I$19+$K$19+$M$19+$O$19) -> 0 | L20: =L19/($D$19+$F$19+$H$19+$J$19+$L$19+$N$19+$P$19) -> 0 | M20: =M19/($C$19+$E$19+$G$19+$I$19+$K$19+$M$19+$O$19) -> 0.002617801 | N20: =N19/($D$19+$F$19+$H$19+$J$19+$L$19+$N$19+$P$19) -> 0.0031511023 | O20: =O19/($C$19+$E$19+$G$19+$I$19+$K$19+$M$19+$O$19) -> 0.0015706806 | P20: =P19/($D$19+$F$19+$H$19+$J$19+$L$19+$N$19+$P$19) -> 0.0048377733 | Q20: =C20+E20+G20+I20+K20+M20+O20 -> 1 | R20: =D20+F20+H20+J20+L20+N20+P20 -> 1 | V20: =335951/1100 -> 305.41
V21: =156284/1100 -> 142.07636
V22: =95618/1100 -> 86.925455

Sheet Weekly Performance
A1: Weekly Performance
A2: 53 | B2: Technical Support(Complete) | F2: (Ongoing) | H2: Other
B3: 건수 | C3: 시간 | D3: Cost Save(K\) | E3: / K$ | F3: 건수 | G3: 시간 | H3: 건수 | I3: 시간
A4: 강영구 | B4: =SUMIFS(Daily!$R:$R, Daily!$AA:$AA, "*강영구*", Daily!$I:$I, "*수리완료",Daily!$F:$F,"<>",Daily!B:B,'Weekly Performance'!A2) -> 2 | C4: =SUMIFS(Daily!$Y:$Y, Daily!$AA:$AA, "*강영구*", Daily!$I:$I, "*수리완료",Daily!$F:$F,"<>",Daily!B:B,'Weekly Performance'!A2)+SUMIFS(Daily!$Y:$Y, Daily!$AA:$AA, "*강영구*", Daily!$I:$I, "수리불가",Daily!$F:$F,"<>",Daily!B:B,'Weekly Performance'!A2)+SUMIFS(Daily!$Y:$Y, Daily!$AA:$AA, "*강영구*", Daily!$I:$I, "폐기",Daily!$F:$F,"<>",Daily!B:B,'Weekly Performance'!A2) -> 8 | D4: =SUMIFS(Daily!V:V, Daily!$AA:$AA,"*강영구*", Daily!$I:$I, "수리완료",Daily!$F:$F,"<>", Daily!B:B,'Weekly Performance'!A2)+SUMIFS(Daily!V:V, Daily!$AA:$AA,"*강영구*", Daily!$I:$I, "외주수리완료",Daily!$F:$F,"<>", Daily!B:B,'Weekly Performance'!A2) -> 980 | E4: =D4/1100 -> 0.89090909 | F4: =SUMIFS(Daily!$R:$R, Daily!$AA:$AA, "*강영구*", Daily!$I:$I, "*수리중") -> 0 | G4: =SUMIFS(Daily!$Y:$Y, Daily!$AA:$AA, "*강영구*", Daily!$I:$I, "*수리중") -> 0 | H4: =SUMIFS(Daily!$R:$R, Daily!$AA:$AA, "*강영구*", Daily!$I:$I, "Other", Daily!$F:$F,"<>",Daily!B:B,'Weekly Performance'!A2) -> 0 | I4: =SUMIFS(Daily!$Y:$Y, Daily!$AA:$AA, "*강영구*", Daily!$I:$I, "Other",Daily!$F:$F,"<>", Daily!B:B,'Weekly Performance'!A2) -> 0
A5: 장은철 | B5: =SUMIFS(Daily!$R:$R, Daily!$AA:$AA, "*장은철*", Daily!$I:$I, "수리완료",Daily!$F:$F,"<>",Daily!B:B,'Weekly Performance'!A2)+SUMIFS(Daily!$R:$R, Daily!$AA:$AA, "*장은철*", Daily!$I:$I, "외주수리완료",Daily!$F:$F,"<>",Daily!B:B,'Weekly Performance'!A2) -> 6 | C5: =SUMIFS(Daily!$Y:$Y, Daily!$AA:$AA, "*장은철*", Daily!$I:$I, "*수리완료",Daily!$F:$F,"<>",Daily!B:B,'Weekly Performance'!A2)+SUMIFS(Daily!$Y:$Y, Daily!$AA:$AA, "*장은철*", Daily!$I:$I, "수리불가",Daily!$F:$F,"<>",Daily!B:B,'Weekly Performance'!A2)+SUMIFS(Daily!$Y:$Y, Daily!$AA:$AA, "*장은철*", Daily!$I:$I, "폐기",Daily!$F:$F,"<>",Daily!B:B,'Weekly Performance'!A2) -> 7 | D5: =SUMIFS(Daily!V:V, Daily!$AA:$AA,"*장은철*", Daily!$I:$I, "수리완료",Daily!$F:$F,"<>", Daily!B:B,'Weekly Performance'!A2)+SUMIFS(Daily!V:V, Daily!$AA:$AA,"*장은철*", Daily!$I:$I, "외주수리완료",Daily!$F:$F,"<>", Daily!B:B,'Weekly Performance'!A2) -> 6734 | E5: =D5/1100 -> 6.1218182 | F5: =SUMIFS(Daily!$R:$R, Daily!$AA:$AA, "*장은철*", Daily!$I:$I, "*수리중") -> 0 | G5: =SUMIFS(Daily!$Y:$Y, Daily!$AA:$AA, "*장은철*", Daily!$I:$I, "*수리중") -> 0 | H5: =SUMIFS(Daily!$R:$R, Daily!$AA:$AA, "*장은철*", Daily!$I:$I, "Other", Daily!$F:$F,"<>",Daily!B:B,'Weekly Performance'!A2) -> 0 | I5: =SUMIFS(Daily!$Y:$Y, Daily!$AA:$AA, "*장은철*", Daily!$I:$I, "Other",Daily!$F:$F,"<>", Daily!B:B,'Weekly Performance'!A2) -> 0
A6: 허준영 | B6: =SUMIFS(Daily!$R:$R, Daily!$AA:$AA, "*허준영*", Daily!$I:$I, "수리완료",Daily!$F:$F,"<>",Daily!B:B,'Weekly Performance'!A2)+SUMIFS(Daily!$R:$R, Daily!$AA:$AA, "*허준영*", Daily!$I:$I, "외주수리완료",Daily!$F:$F,"<>",Daily!B:B,'Weekly Performance'!A2) -> 4 | C6: =SUMIFS(Daily!$Y:$Y, Daily!$AA:$AA, "*허준영*", Daily!$I:$I, "*수리완료",Daily!$F:$F,"<>",Daily!B:B,'Weekly Performance'!A2)+SUMIFS(Daily!$Y:$Y, Daily!$AA:$AA, "*허준영*", Daily!$I:$I, "수리불가",Daily!$F:$F,"<>",Daily!B:B,'Weekly Performance'!A2)+SUMIFS(Daily!$Y:$Y, Daily!$AA:$AA, "*허준영*", Daily!$I:$I, "폐기",Daily!$F:$F,"<>",Daily!B:B,'Weekly Performance'!A2) -> 18 | D6: =SUMIFS(Daily!V:V, Daily!$AA:$AA,"*허준영*", Daily!$I:$I, "수리완료",Daily!$F:$F,"<>", Daily!B:B,'Weekly Performance'!A2)+SUMIFS(Daily!V:V, Daily!$AA:$AA,"*허준영*", Daily!$I:$I, "외주수리완료",Daily!$F:$F,"<>", Daily!B:B,'Weekly Performance'!A2) -> 9700 | E6: =D6/1100 -> 8.8181818 | F6: =SUMIFS(Daily!$R:$R, Daily!$AA:$AA, "*허준영*", Daily!$I:$I, "*수리중") -> 0 | G6: =SUMIFS(Daily!$Y:$Y, Daily!$AA:$AA, "*허준영*", Daily!$I:$I, "*수리중") -> 0 | H6: =SUMIFS(Daily!$R:$R, Daily!$AA:$AA, "*허준영*", Daily!$I:$I, "Other", Daily!$F:$F,"<>",Daily!B:B,'Weekly Performance'!A2) -> 0 | I6: =SUMIFS(Daily!$Y:$Y, Daily!$AA:$AA, "*허준영*", Daily!$I:$I, "Other",Daily!$F:$F,"<>", Daily!B:B,'Weekly Performance'!A2) -> 0
A7: 박병대 | B7: =SUMIFS(Daily!$R:$R, Daily!$AA:$AA, "*박병대*", Daily!$I:$I, "수리완료",Daily!$F:$F,"<>",Daily!B:B,'Weekly Performance'!A2)+SUMIFS(Daily!$R:$R, Daily!$AA:$AA, "*박병대*", Daily!$I:$I, "외주수리완료",Daily!$F:$F,"<>",Daily!B:B,'Weekly Performance'!A2) -> 0 | C7: =SUMIFS(Daily!$Y:$Y, Daily!$AA:$AA, "*박병대*", Daily!$I:$I, "*수리완료",Daily!$F:$F,"<>",Daily!B:B,'Weekly Performance'!A2)+SUMIFS(Daily!$Y:$Y, Daily!$AA:$AA, "*박병대*", Daily!$I:$I, "수리불가",Daily!$F:$F,"<>",Daily!B:B,'Weekly Performance'!A2)+SUMIFS(Daily!$Y:$Y, Daily!$AA:$AA, "*박병대*", Daily!$I:$I, "폐기",Daily!$F:$F,"<>",Daily!B:B,'Weekly Performance'!A2) -> 0 | D7: =SUMIFS(Daily!V:V, Daily!$AA:$AA,"*박병대*", Daily!$I:$I, "수리완료",Daily!$F:$F,"<>", Daily!B:B,'Weekly Performance'!A2)+SUMIFS(Daily!V:V, Daily!$AA:$AA,"*박병대*", Daily!$I:$I, "외주수리완료",Daily!$F:$F,"<>", Daily!B:B,'Weekly Performance'!A2) -> 0 | E7: =D7/1100 -> 0 | F7: =SUMIFS(Daily!$R:$R, Daily!$AA:$AA, "*박병대*", Daily!$I:$I, "*수리중") -> 0 | G7: =SUMIFS(Daily!$Y:$Y, Daily!$AA:$AA, "*박병대*", Daily!$I:$I, "*수리중") -> 0 | H7: =SUMIFS(Daily!$R:$R, Daily!$AA:$AA, "*박병대*", Daily!$I:$I, "Other", Daily!$F:$F,"<>",Daily!B:B,'Weekly Performance'!A2) -> 0 | I7: =SUMIFS(Daily!$Y:$Y, Daily!$AA:$AA, "*박병대*", Daily!$I:$I, "Other",Daily!$F:$F,"<>", Daily!B:B,'Weekly Performance'!A2) -> 0
A8: 최준영 | B8: =SUMIFS(Daily!$R:$R, Daily!$AA:$AA, "*최준영*", Daily!$I:$I, "수리완료",Daily!$F:$F,"<>",Daily!B:B,'Weekly Performance'!A2)+SUMIFS(Daily!$R:$R, Daily!$AA:$AA, "*최준영*", Daily!$I:$I, "외주수리완료",Daily!$F:$F,"<>",Daily!B:B,'Weekly Performance'!A2) -> 3 | C8: =SUMIFS(Daily!$Y:$Y, Daily!$AA:$AA, "*최준영*", Daily!$I:$I, "*수리완료",Daily!$F:$F,"<>",Daily!B:B,'Weekly Performance'!A2)+SUMIFS(Daily!$Y:$Y, Daily!$AA:$AA, "*최준영*", Daily!$I:$I, "수리불가",Daily!$F:$F,"<>",Daily!B:B,'Weekly Performance'!A2)+SUMIFS(Daily!$Y:$Y, Daily!$AA:$AA, "*최준영*", Daily!$I:$I, "폐기",Daily!$F:$F,"<>",Daily!B:B,'Weekly Performance'!A2) -> 15 | D8: =SUMIFS(Daily!V:V, Daily!$AA:$AA,"*최준영*", Daily!$I:$I, "수리완료",Daily!$F:$F,"<>", Daily!B:B,'Weekly Performance'!A2)+SUMIFS(Daily!V:V, Daily!$AA:$AA,"*최준영*", Daily!$I:$I, "외주수리완료",Daily!$F:$F,"<>", Daily!B:B,'Weekly Performance'!A2) -> 6841 | E8: =D8/1100 -> 6.2190909 | F8: =SUMIFS(Daily!$R:$R, Daily!$AA:$AA, "*최준영*", Daily!$I:$I, "*수리중") -> 0 | G8: =SUMIFS(Daily!$Y:$Y, Daily!$AA:$AA, "*최준영*", Daily!$I:$I, "*수리중") -> 0 | H8: =SUMIFS(Daily!$R:$R, Daily!$AA:$AA, "*최준영*", Daily!$I:$I, "Other", Daily!$F:$F,"<>",Daily!B:B,'Weekly Performance'!A2) -> 0 | I8: =SUMIFS(Daily!$Y:$Y, Daily!$AA:$AA, "*최준영*", Daily!$I:$I, "Other",Daily!$F:$F,"<>", Daily!B:B,'Weekly Performance'!A2) -> 0
A9: 정기수 | B9: =SUMIFS(Daily!$R:$R, Daily!$AA:$AA, "*정기수*", Daily!$I:$I, "수리완료",Daily!$F:$F,"<>",Daily!B:B,'Weekly Performance'!A2)+SUMIFS(Daily!$R:$R, Daily!$AA:$AA, "*정기수*", Daily!$I:$I, "외주수리완료",Daily!$F:$F,"<>",Daily!B:B,'Weekly Performance'!A2) -> 2 | C9: =SUMIFS(Daily!$Y:$Y, Daily!$AA:$AA, "*정기수*", Daily!$I:$I, "*수리완료",Daily!$F:$F,"<>",Daily!B:B,'Weekly Performance'!A2)+SUMIFS(Daily!$Y:$Y, Daily!$AA:$AA, "*정기수*", Daily!$I:$I, "수리불가",Daily!$F:$F,"<>",Daily!B:B,'Weekly Performance'!A2)+SUMIFS(Daily!$Y:$Y, Daily!$AA:$AA, "*정기수*", Daily!$I:$I, "폐기",Daily!$F:$F,"<>",Daily!B:B,'Weekly Performance'!A2) -> 8 | D9: =SUMIFS(Daily!V:V, Daily!$AA:$AA,"*정기수*", Daily!$I:$I, "수리완료",Daily!$F:$F,"<>", Daily!B:B,'Weekly Performance'!A2)+SUMIFS(Daily!V:V, Daily!$AA:$AA,"*정기수*", Daily!$I:$I, "외주수리완료",Daily!$F:$F,"<>", Daily!B:B,'Weekly Performance'!A2) -> 4500 | E9: =D9/1100 -> 4.0909091 | F9: =SUMIFS(Daily!$R:$R, Daily!$AA:$AA, "*정기수*", Daily!$I:$I, "*수리중") -> 0 | G9: =SUMIFS(Daily!$Y:$Y, Daily!$AA:$AA, "*정기수*", Daily!$I:$I, "*수리중") -> 0 | H9: =SUMIFS(Daily!$R:$R, Daily!$AA:$AA, "*정기수*", Daily!$I:$I, "Other", Daily!$F:$F,"<>",Daily!B:B,'Weekly Performance'!A2) -> 0 | I9: =SUMIFS(Daily!$Y:$Y, Daily!$AA:$AA, "*정기수*", Daily!$I:$I, "Other",Daily!$F:$F,"<>", Daily!B:B,'Weekly Performance'!A2) -> 0
B10: =SUMIFS(Daily!$R:$R, Daily!$AA:$AA, "*하주용*", Daily!$I:$I, "수리완료",Daily!$F:$F,"<>",Daily!B:B,'Weekly Performance'!A2)+SUMIFS(Daily!$R:$R, Daily!$AA:$AA, "*하주용*", Daily!$I:$I, "외주수리완료",Daily!$F:$F,"<>",Daily!B:B,'Weekly Performance'!A2) -> 0 | C10: =SUMIFS(Daily!$Y:$Y, Daily!$AA:$AA, "*하주용*", Daily!$I:$I, "*수리완료",Daily!$F:$F,"<>",Daily!B:B,'Weekly Performance'!A2)+SUMIFS(Daily!$Y:$Y, Daily!$AA:$AA, "*하주용*", Daily!$I:$I, "수리불가",Daily!$F:$F,"<>",Daily!B:B,'Weekly Performance'!A2)+SUMIFS(Daily!$Y:$Y, Daily!$AA:$AA, "*하주용*", Daily!$I:$I, "폐기",Daily!$F:$F,"<>",Daily!B:B,'Weekly Performance'!A2) -> 0 | D10: =SUMIFS(Daily!V:V, Daily!$AA:$AA,"*하주용*", Daily!$I:$I, "수리완료",Daily!$F:$F,"<>", Daily!B:B,'Weekly Performance'!A2)+SUMIFS(Daily!V:V, Daily!$AA:$AA,"*하주용*", Daily!$I:$I, "외주수리완료",Daily!$F:$F,"<>", Daily!B:B,'Weekly Performance'!A2) -> 0 | E10: =D10/1100 -> 0 | F10: =SUMIFS(Daily!$R:$R, Daily!$AA:$AA, "*하주용*", Daily!$I:$I, "*수리중",Daily!B:B,'Weekly Performance'!A2) -> 0 | G10: =SUMIFS(Daily!$Y:$Y, Daily!$AA:$AA, "*하주용*", Daily!$I:$I, "*수리중",Daily!B:B,'Weekly Performance'!A2) -> 0 | H10: =SUMIFS(Daily!$R:$R, Daily!$AA:$AA, "*하주용*", Daily!$I:$I, "Other", Daily!$F:$F,"<>",Daily!B:B,'Weekly Performance'!A2) -> 0 | I10: =SUMIFS(Daily!$Y:$Y, Daily!$AA:$AA, "*하주용*", Daily!$I:$I, "Other",Daily!$F:$F,"<>", Daily!B:B,'Weekly Performance'!A2) -> 0
A11: Total | B11: =SUM(B4:B10) -> 17 | C11: =SUM(C4:C10) -> 56 | D11: =SUM(D4:D10) -> 28755 | E11: =SUM(E4:E10) -> 26.140909 | F11: =SUM(F4:F10) -> 0 | G11: =SUM(G4:G10) -> 0 | H11: =SUM(H4:H10) -> 0 | I11: =SUM(I4:I10) -> 0

Sheet Monthly Performance
A1: Monthly Performance
A2: 12 | B2: Technical Support(Complete) | F2: Other
B3: 건수 | C3: 시간 | D3: Cost Save(K\) | E3: / K$ | F3: 건수 | G3: 시간
A4: 강영구 | B4: =SUMIFS(Daily!$R:$R, Daily!$AA:$AA, "*강영구*", Daily!$I:$I, "수리완료",Daily!$F:$F,"<>",Daily!G:G,'Monthly Performance'!A2)+SUMIFS(Daily!$R:$R, Daily!$AA:$AA, "*강영구*", Daily!$I:$I, "외주수리완료",Daily!$F:$F,"<>",Daily!G:G,'Monthly Performance'!A2) -> 26 | C4: =SUMIFS(Daily!$Y:$Y, Daily!$AA:$AA, "*강영구*", Daily!$I:$I, "*수리완료",Daily!$F:$F,"<>", Daily!G:G,'Monthly Performance'!A2)+SUMIFS(Daily!$Y:$Y, Daily!$AA:$AA, "*강영구*", Daily!$I:$I, "폐기",Daily!$F:$F,"<>", Daily!G:G,'Monthly Performance'!A2)+SUMIFS(Daily!$Y:$Y, Daily!$AA:$AA, "*강영구*", Daily!$I:$I, "수리불가",Daily!$F:$F,"<>", Daily!G:G,'Monthly Performance'!A2) -> 100 | D4: =SUMIFS(Daily!V:V, Daily!$AA:$AA,"*강영구*", Daily!$I:$I, "수리완료",Daily!$F:$F,"<>", Daily!G:G,'Monthly Performance'!A2)+SUMIFS(Daily!V:V, Daily!$AA:$AA,"*강영구*", Daily!$I:$I, "외주수리완료",Daily!$F:$F,"<>", Daily!G:G,'Monthly Performance'!A2) -> 13992 | E4: =D4/1100 -> 12.72 | F4: =SUMIFS(Daily!$R:$R, Daily!$AA:$AA, "*강영구*", Daily!$I:$I, "Other", Daily!$F:$F,"<>",Daily!G:G,'Monthly Performance'!A2) -> 0 | G4: =SUMIFS(Daily!$Y:$Y, Daily!$AA:$AA, "*강영구*", Daily!$I:$I, "Other",Daily!$F:$F,"<>", Daily!G:G,'Monthly Performance'!A2) -> 0
A5: 장은철 | B5: =SUMIFS(Daily!$R:$R, Daily!$AA:$AA, "*장은철*", Daily!$I:$I, "수리완료",Daily!$F:$F,"<>",Daily!G:G,'Monthly Performance'!A2)+SUMIFS(Daily!$R:$R, Daily!$AA:$AA, "*장은철*", Daily!$I:$I, "외주수리완료",Daily!$F:$F,"<>",Daily!G:G,'Monthly Performance'!A2) -> 43 | C5: =SUMIFS(Daily!$Y:$Y, Daily!$AA:$AA, "*장은철*", Daily!$I:$I, "*수리완료",Daily!$F:$F,"<>", Daily!G:G,'Monthly Performance'!A2)+SUMIFS(Daily!$Y:$Y, Daily!$AA:$AA, "*장은철*", Daily!$I:$I, "폐기",Daily!$F:$F,"<>", Daily!G:G,'Monthly Performance'!A2)+SUMIFS(Daily!$Y:$Y, Daily!$AA:$AA, "*장은철*", Daily!$I:$I, "수리불가",Daily!$F:$F,"<>", Daily!G:G,'Monthly Performance'!A2) -> 95 | D5: =SUMIFS(Daily!V:V, Daily!$AA:$AA,"*장은철*", Daily!$I:$I, "수리완료",Daily!$F:$F,"<>", Daily!G:G,'Monthly Performance'!A2)+SUMIFS(Daily!V:V, Daily!$AA:$AA,"*장은철*", Daily!$I:$I, "외주수리완료",Daily!$F:$F,"<>", Daily!G:G,'Monthly Performance'!A2) -> 87355 | E5: =D5/1100 -> 79.413636 | F5: =SUMIFS(Daily!$R:$R, Daily!$AA:$AA, "*장은철*", Daily!$I:$I, "Other", Daily!$F:$F,"<>",Daily!G:G,'Monthly Performance'!A2) -> 12 | G5: =SUMIFS(Daily!$Y:$Y, Daily!$AA:$AA, "*장은철*", Daily!$I:$I, "Other",Daily!$F:$F,"<>", Daily!G:G,'Monthly Performance'!A2) -> 12
A6: 허준영 | B6: =SUMIFS(Daily!$R:$R, Daily!$AA:$AA, "*허준영*", Daily!$I:$I, "수리완료",Daily!$F:$F,"<>",Daily!G:G,'Monthly Performance'!A2)+SUMIFS(Daily!$R:$R, Daily!$AA:$AA, "*허준영*", Daily!$I:$I, "외주수리완료",Daily!$F:$F,"<>",Daily!G:G,'Monthly Performance'!A2) -> 27 | C6: =SUMIFS(Daily!$Y:$Y, Daily!$AA:$AA, "*허준영*", Daily!$I:$I, "*수리완료",Daily!$F:$F,"<>", Daily!G:G,'Monthly Performance'!A2)+SUMIFS(Daily!$Y:$Y, Daily!$AA:$AA, "*허준영*", Daily!$I:$I, "폐기",Daily!$F:$F,"<>", Daily!G:G,'Monthly Performance'!A2)+SUMIFS(Daily!$Y:$Y, Daily!$AA:$AA, "*허준영*", Daily!$I:$I, "수리불가",Daily!$F:$F,"<>", Daily!G:G,'Monthly Performance'!A2) -> 71 | D6: =SUMIFS(Daily!V:V, Daily!$AA:$AA,"*허준영*", Daily!$I:$I, "수리완료",Daily!$F:$F,"<>", Daily!G:G,'Monthly Performance'!A2)+SUMIFS(Daily!V:V, Daily!$AA:$AA,"*허준영*", Daily!$I:$I, "외주수리완료",Daily!$F:$F,"<>", Daily!G:G,'Monthly Performance'!A2) -> 28188 | E6: =D6/1100 -> 25.625455 | F6: =SUMIFS(Daily!$R:$R, Daily!$AA:$AA, "*허준영*", Daily!$I:$I, "Other", Daily!$F:$F,"<>",Daily!G:G,'Monthly Performance'!A2) -> 4 | G6: =SUMIFS(Daily!$Y:$Y, Daily!$AA:$AA, "*허준영*", Daily!$I:$I, "Other",Daily!$F:$F,"<>", Daily!G:G,'Monthly Performance'!A2) -> 14
A7: 박병대 | B7: =SUMIFS(Daily!$R:$R, Daily!$AA:$AA, "*박병대*", Daily!$I:$I, "수리완료",Daily!$F:$F,"<>",Daily!G:G,'Monthly Performance'!A2)+SUMIFS(Daily!$R:$R, Daily!$AA:$AA, "*박병대*", Daily!$I:$I, "외주수리완료",Daily!$F:$F,"<>",Daily!G:G,'Monthly Performance'!A2) -> 0 | C7: =SUMIFS(Daily!$Y:$Y, Daily!$AA:$AA, "*박병대*", Daily!$I:$I, "*수리완료",Daily!$F:$F,"<>", Daily!G:G,'Monthly Performance'!A2)+SUMIFS(Daily!$Y:$Y, Daily!$AA:$AA, "*박병대*", Daily!$I:$I, "폐기",Daily!$F:$F,"<>", Daily!G:G,'Monthly Performance'!A2)+SUMIFS(Daily!$Y:$Y, Daily!$AA:$AA, "*박병대*", Daily!$I:$I, "수리불가",Daily!$F:$F,"<>", Daily!G:G,'Monthly Performance'!A2) -> 0 | D7: =SUMIFS(Daily!V:V, Daily!$AA:$AA,"*박병대*", Daily!$I:$I, "수리완료",Daily!$F:$F,"<>", Daily!G:G,'Monthly Performance'!A2)+SUMIFS(Daily!V:V, Daily!$AA:$AA,"*박병대*", Daily!$I:$I, "외주수리완료",Daily!$F:$F,"<>", Daily!G:G,'Monthly Performance'!A2) -> 0 | E7: =D7/1100 -> 0 | F7: =SUMIFS(Daily!$R:$R, Daily!$AA:$AA, "*박병대*", Daily!$I:$I, "Other", Daily!$F:$F,"<>",Daily!G:G,'Monthly Performance'!A2) -> 0 | G7: =SUMIFS(Daily!$Y:$Y, Daily!$AA:$AA, "*박병대*", Daily!$I:$I, "Other",Daily!$F:$F,"<>", Daily!G:G,'Monthly Performance'!A2) -> 0
A8: 최준영 | B8: =SUMIFS(Daily!$R:$R, Daily!$AA:$AA, "*최준영*", Daily!$I:$I, "수리완료",Daily!$F:$F,"<>",Daily!G:G,'Monthly Performance'!A2)+SUMIFS(Daily!$R:$R, Daily!$AA:$AA, "*최준영*", Daily!$I:$I, "외주수리완료",Daily!$F:$F,"<>",Daily!G:G,'Monthly Performance'!A2) -> 19 | C8: =SUMIFS(Daily!$Y:$Y, Daily!$AA:$AA, "*최준영*", Daily!$I:$I, "*수리완료",Daily!$F:$F,"<>", Daily!G:G,'Monthly Performance'!A2)+SUMIFS(Daily!$Y:$Y, Daily!$AA:$AA, "*최준영*", Daily!$I:$I, "폐기",Daily!$F:$F,"<>", Daily!G:G,'Monthly Performance'!A2)+SUMIFS(Daily!$Y:$Y, Daily!$AA:$AA, "*최준영*", Daily!$I:$I, "수리불가",Daily!$F:$F,"<>", Daily!G:G,'Monthly Performance'!A2) -> 74 | D8: =SUMIFS(Daily!V:V, Daily!$AA:$AA,"*최준영*", Daily!$I:$I, "수리완료",Daily!$F:$F,"<>", Daily!G:G,'Monthly Performance'!A2)+SUMIFS(Daily!V:V, Daily!$AA:$AA,"*최준영*", Daily!$I:$I, "외주수리완료",Daily!$F:$F,"<>", Daily!G:G,'Monthly Performance'!A2) -> 21907 | E8: =D8/1100 -> 19.915455 | F8: =SUMIFS(Daily!$R:$R, Daily!$AA:$AA, "*최준영*", Daily!$I:$I, "Other", Daily!$F:$F,"<>",Daily!G:G,'Monthly Performance'!A2) -> 0 | G8: =SUMIFS(Daily!$Y:$Y, Daily!$AA:$AA, "*최준영*", Daily!$I:$I, "Other",Daily!$F:$F,"<>", Daily!G:G,'Monthly Performance'!A2) -> 0
A9: 정기수 | B9: =SUMIFS(Daily!$R:$R, Daily!$AA:$AA, "*정기수*", Daily!$I:$I, "수리완료",Daily!$F:$F,"<>",Daily!G:G,'Monthly Performance'!A2)+SUMIFS(Daily!$R:$R, Daily!$AA:$AA, "*정기수*", Daily!$I:$I, "외주수리완료",Daily!$F:$F,"<>",Daily!G:G,'Monthly Performance'!A2) -> 34 | C9: =SUMIFS(Daily!$Y:$Y, Daily!$AA:$AA, "*정기수*", Daily!$I:$I, "*수리완료",Daily!$F:$F,"<>", Daily!G:G,'Monthly Performance'!A2)+SUMIFS(Daily!$Y:$Y, Daily!$AA:$AA, "*정기수*", Daily!$I:$I, "폐기",Daily!$F:$F,"<>", Daily!G:G,'Monthly Performance'!A2)+SUMIFS(Daily!$Y:$Y, Daily!$AA:$AA, "*정기수*", Daily!$I:$I, "수리불가",Daily!$F:$F,"<>", Daily!G:G,'Monthly Performance'!A2) -> 80 | D9: =SUMIFS(Daily!V:V, Daily!$AA:$AA,"*정기수*", Daily!$I:$I, "수리완료",Daily!$F:$F,"<>", Daily!G:G,'Monthly Performance'!A2)+SUMIFS(Daily!V:V, Daily!$AA:$AA,"*정기수*", Daily!$I:$I, "외주수리완료",Daily!$F:$F,"<>", Daily!G:G,'Monthly Performance'!A2) -> 26625 | E9: =D9/1100 -> 24.204545 | F9: =SUMIFS(Daily!$R:$R, Daily!$AA:$AA, "*정기수*", Daily!$I:$I, "Other", Daily!$F:$F,"<>",Daily!G:G,'Monthly Performance'!A2) -> 18 | G9: =SUMIFS(Daily!$Y:$Y, Daily!$AA:$AA, "*정기수*", Daily!$I:$I, "Other",Daily!$F:$F,"<>", Daily!G:G,'Monthly Performance'!A2) -> 30
A10: Total | B10: =SUM(B4:B9) -> 149 | C10: =SUM(C4:C9) -> 420 | D10: =SUM(D4:D9) -> 178067 | E10: =SUM(E4:E9) -> 161.87909 | F10: =SUM(F4:F9) -> 34 | G10: =SUM(G4:G9) -> 56

Sheet Yearly Performance
A1: 2020 e-board Repair Performance
A2: 2020 | B2: Technical Support | F2: Other
B3: 건수 | C3: 시간 | D3: Cost Save(K\) | E3: / K$ | F3: 건수 | G3: 시간
A4: 강영구 | B4: =SUMIFS(Daily!$R:$R, Daily!$AA:$AA, "*강영구*", Daily!$I:$I, "*수리완료",Daily!$F:$F,"<>") -> 269 | C4: =SUMIFS(Daily!$Y:$Y, Daily!$AA:$AA, "*강영구*", Daily!$I:$I, "수리완료",Daily!$F:$F,"<>")+SUMIFS(Daily!$Y:$Y, Daily!$AA:$AA, "*강영구*", Daily!$I:$I, "폐기",Daily!$F:$F,"<>")+SUMIFS(Daily!$Y:$Y, Daily!$AA:$AA, "*강영구*", Daily!$I:$I, "수리불가",Daily!$F:$F,"<>") -> 1033 | D4: =SUMIFS(Daily!V:V, Daily!$AA:$AA,"*강영구*", Daily!$I:$I, "*수리완료",Daily!$F:$F,"<>") -> 245546 | E4: =D4/1100 -> 223.22364 | F4: =SUMIFS(Daily!$R:$R, Daily!$AA:$AA, "*강영구*", Daily!$I:$I, "Other", Daily!$F:$F,"<>") -> 0 | G4: =SUMIFS(Daily!$Y:$Y, Daily!$AA:$AA, "*강영구*", Daily!$I:$I, "Other",Daily!$F:$F,"<>") -> 0
A5: 장은철 | B5: =SUMIFS(Daily!$R:$R, Daily!$AA:$AA, "*장은철*", Daily!$I:$I, "*수리완료",Daily!$F:$F,"<>") -> 475 | C5: =SUMIFS(Daily!$Y:$Y, Daily!$AA:$AA, "*장은철*", Daily!$I:$I, "수리완료",Daily!$F:$F,"<>")+SUMIFS(Daily!$Y:$Y, Daily!$AA:$AA, "*장은철*", Daily!$I:$I, "폐기",Daily!$F:$F,"<>")+SUMIFS(Daily!$Y:$Y, Daily!$AA:$AA, "*장은철*", Daily!$I:$I, "수리불가",Daily!$F:$F,"<>") -> 884 | D5: =SUMIFS(Daily!V:V, Daily!$AA:$AA,"*장은철*", Daily!$I:$I, "*수리완료",Daily!$F:$F,"<>") -> 745695.7 | E5: =D5/1100 -> 677.90518 | F5: =SUMIFS(Daily!$R:$R, Daily!$AA:$AA, "*장은철*", Daily!$I:$I, "Other", Daily!$F:$F,"<>") -> 44 | G5: =SUMIFS(Daily!$Y:$Y, Daily!$AA:$AA, "*장은철*", Daily!$I:$I, "Other",Daily!$F:$F,"<>") -> 132
A6: 허준영 | B6: =SUMIFS(Daily!$R:$R, Daily!$AA:$AA, "*허준영*", Daily!$I:$I, "*수리완료",Daily!$F:$F,"<>") -> 319 | C6: =SUMIFS(Daily!$Y:$Y, Daily!$AA:$AA, "*허준영*", Daily!$I:$I, "수리완료",Daily!$F:$F,"<>")+SUMIFS(Daily!$Y:$Y, Daily!$AA:$AA, "*허준영*", Daily!$I:$I, "폐기",Daily!$F:$F,"<>")+SUMIFS(Daily!$Y:$Y, Daily!$AA:$AA, "*허준영*", Daily!$I:$I, "수리불가",Daily!$F:$F,"<>") -> 1008 | D6: =SUMIFS(Daily!V:V, Daily!$AA:$AA,"*허준영*", Daily!$I:$I, "*수리완료",Daily!$F:$F,"<>") -> 417739 | E6: =D6/1100 -> 379.76273 | F6: =SUMIFS(Daily!$R:$R, Daily!$AA:$AA, "*허준영*", Daily!$I:$I, "Other", Daily!$F:$F,"<>") -> 55 | G6: =SUMIFS(Daily!$Y:$Y, Daily!$AA:$AA, "*허준영*", Daily!$I:$I, "Other",Daily!$F:$F,"<>") -> 237
A7: 박병대 | B7: =SUMIFS(Daily!$R:$R, Daily!$AA:$AA, "*박병대*", Daily!$I:$I, "*수리완료",Daily!$F:$F,"<>") -> 190 | C7: =SUMIFS(Daily!$Y:$Y, Daily!$AA:$AA, "*박병대*", Daily!$I:$I, "수리완료",Daily!$F:$F,"<>")+SUMIFS(Daily!$Y:$Y, Daily!$AA:$AA, "*박병대*", Daily!$I:$I, "폐기",Daily!$F:$F,"<>")+SUMIFS(Daily!$Y:$Y, Daily!$AA:$AA, "*박병대*", Daily!$I:$I, "수리불가",Daily!$F:$F,"<>") -> 674 | D7: =SUMIFS(Daily!V:V, Daily!$AA:$AA,"*박병대*", Daily!$I:$I, "*수리완료",Daily!$F:$F,"<>") -> 141583 | E7: =D7/1100 -> 128.71182 | F7: =SUMIFS(Daily!$R:$R, Daily!$AA:$AA, "*박병대*", Daily!$I:$I, "Other", Daily!$F:$F,"<>") -> 3 | G7: =SUMIFS(Daily!$Y:$Y, Daily!$AA:$AA, "*박병대*", Daily!$I:$I, "Other",Daily!$F:$F,"<>") -> 24
A8: 최준영 | B8: =SUMIFS(Daily!$R:$R, Daily!$AA:$AA, "*최준영*", Daily!$I:$I, "*수리완료",Daily!$F:$F,"<>") -> 267 | C8: =SUMIFS(Daily!$Y:$Y, Daily!$AA:$AA, "*최준영*", Daily!$I:$I, "수리완료",Daily!$F:$F,"<>")+SUMIFS(Daily!$Y:$Y, Daily!$AA:$AA, "*최준영*", Daily!$I:$I, "폐기",Daily!$F:$F,"<>")+SUMIFS(Daily!$Y:$Y, Daily!$AA:$AA, "*최준영*", Daily!$I:$I, "수리불가",Daily!$F:$F,"<>") -> 1015 | D8: =SUMIFS(Daily!V:V, Daily!$AA:$AA,"*최준영*", Daily!$I:$I, "*수리완료",Daily!$F:$F,"<>") -> 341015 | E8: =D8/1100 -> 310.01364 | F8: =SUMIFS(Daily!$R:$R, Daily!$AA:$AA, "*최준영*", Daily!$I:$I, "Other", Daily!$F:$F,"<>") -> 0 | G8: =SUMIFS(Daily!$Y:$Y, Daily!$AA:$AA, "*최준영*", Daily!$I:$I, "Other",Daily!$F:$F,"<>") -> 0
A9: 정기수 | B9: =SUMIFS(Daily!$R:$R, Daily!$AA:$AA, "*정기수*", Daily!$I:$I, "*수리완료",Daily!$F:$F,"<>") -> 390 | C9: =SUMIFS(Daily!$Y:$Y, Daily!$AA:$AA, "*정기수*", Daily!$I:$I, "수리완료",Daily!$F:$F,"<>")+SUMIFS(Daily!$Y:$Y, Daily!$AA:$AA, "*정기수*", Daily!$I:$I, "폐기",Daily!$F:$F,"<>")+SUMIFS(Daily!$Y:$Y, Daily!$AA:$AA, "*정기수*", Daily!$I:$I, "수리불가",Daily!$F:$F,"<>") -> 954 | D9: =SUMIFS(Daily!V:V, Daily!$AA:$AA,"*정기수*", Daily!$I:$I, "*수리완료",Daily!$F:$F,"<>") -> 234502.72 | E9: =D9/1100 -> 213.18429 | F9: =SUMIFS(Daily!$R:$R, Daily!$AA:$AA, "*정기수*", Daily!$I:$I, "Other", Daily!$F:$F,"<>") -> 56 | G9: =SUMIFS(Daily!$Y:$Y, Daily!$AA:$AA, "*정기수*", Daily!$I:$I, "Other",Daily!$F:$F,"<>") -> 178
A10: Total | B10: =SUM(B4:B9) -> 1910 | C10: =SUM(C4:C9) -> 5568 | D10: =SUM(D4:D9) -> 2126081.4 | E10: =SUM(E4:E9) -> 1932.8013 | F10: =SUM(F4:F9) -> 158 | G10: =SUM(G4:G9) -> 571

Sheet 자체.외주수리비율
A1: 2020 Electric Board Repair Performance
B2: Jan | C2: Feb | D2: Mar | E2: Apr | F2: May | G2: Jun | H2: Jul | I2: Aug | J2: Sep | K2: Oct | L2: Nov | M2: Dec | N2: Total | O2: Ratio(%)
A3: 자체수리 | B3: =SUMIFS(Daily!R:R,Daily!I:I,"수리완료",Daily!G:G,"=1",Daily!F:F,"<>") -> 160 | C3: =SUMIFS(Daily!R:R,Daily!I:I,"수리완료",Daily!G:G,"=2") -> 140 | D3: =SUMIFS(Daily!R:R,Daily!I:I,"수리완료",Daily!G:G,"=3") -> 157 | E3: =SUMIFS(Daily!R:R,Daily!I:I,"수리완료",Daily!G:G,"=4") -> 161 | F3: =SUMIFS(Daily!R:R,Daily!I:I,"수리완료",Daily!G:G,"=5") -> 155 | G3: =SUMIFS(Daily!R:R,Daily!I:I,"수리완료",Daily!G:G,"=6") -> 160 | H3: =SUMIFS(Daily!R:R,Daily!I:I,"수리완료",Daily!G:G,"=7") -> 207 | I3: =SUMIFS(Daily!R:R,Daily!I:I,"수리완료",Daily!G:G,"=8") -> 131 | J3: =SUMIFS(Daily!R:R,Daily!I:I,"수리완료",Daily!G:G,"=9") -> 121 | K3: =SUMIFS(Daily!R:R,Daily!I:I,"수리완료",Daily!G:G,"=10") -> 146 | L3: =SUMIFS(Daily!R:R,Daily!I:I,"수리완료",Daily!G:G,"=11") -> 145 | M3: =SUMIFS(Daily!R:R,Daily!I:I,"수리완료",Daily!G:G,"=12") -> 134 | N3: =SUM(B3:M3) -> 1817 | O3: =N3/N5 -> 0.9513089
A4: 외주수리 | B4: =SUMIFS(Daily!R:R,Daily!I:I,"외주수리완료",Daily!G:G,"=1",Daily!F:F,"<>") -> 7 | C4: =SUMIFS(Daily!R:R,Daily!I:I,"외주수리완료",Daily!G:G,"=2") -> 25 | D4: =SUMIFS(Daily!R:R,Daily!I:I,"외주수리완료",Daily!G:G,"=3") -> 6 | E4: =SUMIFS(Daily!R:R,Daily!I:I,"외주수리완료",Daily!G:G,"=4") -> 6 | F4: =SUMIFS(Daily!R:R,Daily!I:I,"외주수리완료",Daily!G:G,"=5") -> 4 | G4: =SUMIFS(Daily!R:R,Daily!I:I,"외주수리완료",Daily!G:G,"=6") -> 7 | H4: =SUMIFS(Daily!R:R,Daily!I:I,"외주수리완료",Daily!G:G,"=7") -> 8 | I4: =SUMIFS(Daily!R:R,Daily!I:I,"외주수리완료",Daily!G:G,"=8") -> 9 | J4: =SUMIFS(Daily!R:R,Daily!I:I,"외주수리완료",Daily!G:G,"=9") -> 1 | K4: =SUMIFS(Daily!R:R,Daily!I:I,"외주수리완료",Daily!G:G,"=10") -> 3 | L4: =SUMIFS(Daily!R:R,Daily!I:I,"외주수리완료",Daily!G:G,"=11") -> 2 | M4: =SUMIFS(Daily!R:R,Daily!I:I,"외주수리완료",Daily!G:G,"=12") -> 15 | N4: =SUM(B4:M4) -> 93 | O4: =N4/N5 -> 0.048691099
A5: 총 합계(건수) | B5: =SUM(B3:B4) -> 167 | C5: =SUM(C3:C4) -> 165 | D5: =SUM(D3:D4) -> 163 | E5: =SUM(E3:E4) -> 167 | F5: =SUM(F3:F4) -> 159 | G5: =SUM(G3:G4) -> 167 | H5: =SUM(H3:H4) -> 215 | I5: =SUM(I3:I4) -> 140 | ... O5: =SUM(O3:O4) -> 1
A6: 외주수리율(%) | B6: =IFERROR(B4/B5,"") -> 0.041916168 | C6: =IFERROR(C4/C5,"") -> 0.15151515 | D6: =IFERROR(D4/D5,"") -> 0.036809816 | E6: =IFERROR(E4/E5,"") -> 0.035928144 | F6: =IFERROR(F4/F5,"") -> 0.025157233 | G6: =IFERROR(G4/G5,"") -> 0.041916168 | H6: =IFERROR(H4/H5,"") -> 0.037209302 | I6: =IFERROR(I4/I5,"") -> 0.064285714 | ... M6: =IFERROR(M4/M5,"") -> 0.10067114 | O6: =IFERROR(O4/O5,"") -> 0.048691099
A7: 외주비용(K\) | B7: =IFERROR(SUMIFS(Daily!U:U,Daily!I:I,"외주수리완료",Daily!G:G,"1",Daily!F:F,"<>"),"") -> 5050 | C7: =IFERROR(SUMIFS(Daily!U:U,Daily!I:I,"외주수리완료",Daily!G:G,"2",Daily!F:F,"<>"),"") -> 10420 | D7: =IFERROR(SUMIFS(Daily!U:U,Daily!I:I,"외주수리완료",Daily!G:G,"3",Daily!F:F,"<>"),"") -> 4800 | E7: =IFERROR(SUMIFS(Daily!U:U,Daily!I:I,"외주수리완료",Daily!G:G,"4",Daily!F:F,"<>"),"") -> 5600 | F7: =IFERROR(SUMIFS(Daily!U:U,Daily!I:I,"외주수리완료",Daily!G:G,"5",Daily!F:F,"<>"),"") -> 4390 | G7: =IFERROR(SUMIFS(Daily!U:U,Daily!I:I,"외주수리완료",Daily!G:G,"6",Daily!F:F,"<>"),"") -> 4310 | H7: =IFERROR(SUMIFS(Daily!U:U,Daily!I:I,"외주수리완료",Daily!G:G,"7",Daily!F:F,"<>"),"") -> 11330 | I7: =IFERROR(SUMIFS(Daily!U:U,Daily!I:I,"외주수리완료",Daily!G:G,"8",Daily!F:F,"<>"),"") -> 10820 | J7: =IFERROR(SUMIFS(Daily!U:U,Daily!I:I,"외주수리완료",Daily!G:G,"9",Daily!F:F,"<>"),"") -> 800 | K7: =IFERROR(SUMIFS(Daily!U:U,Daily!I:I,"외주수리완료",Daily!G:G,"10",Daily!F:F,"<>"),"") -> 5300 | L7: =IFERROR(SUMIFS(Daily!U:U,Daily!I:I,"외주수리완료",Daily!G:G,"11",Daily!F:F,"<>"),"") -> 3000 | M7: =IFERROR(SUMIFS(Daily!U:U,Daily!I:I,"외주수리완료",Daily!G:G,"12",Daily!F:F,"<>"),"") -> 4060 | N7: =SUM(B7:M7) -> 69880
A28: 2020 Electric Board 외주수리업체별 현황
A29: Maker | B29: Jan | C29: Feb | D29: Mar | E29: Apr | F29: May | G29: Jun | H29: Jul | I29: Aug | J29: Sep | K29: Oct | L29: Nov | M29: Dec | N29: Total | O29: Ratio(%)
A30: 디에이테크 | B30: =SUMIFS(Daily!R:R,Daily!I:I,"외주수리완료",Daily!X:X,"디에이테크",Daily!G:G,"1",Daily!F:F,"<>") -> 0 | C30: =SUMIFS(Daily!R:R,Daily!I:I,"외주수리완료",Daily!X:X,"디에이테크",Daily!G:G,"2",Daily!E:E,"<>") -> 2 | D30: =SUMIFS(Daily!R:R,Daily!I:I,"외주수리완료",Daily!X:X,"디에이테크",Daily!G:G,"3",Daily!E:E,"<>") -> 0 | E30: =SUMIFS(Daily!R:R,Daily!I:I,"외주수리완료",Daily!X:X,"디에이테크",Daily!G:G,"4",Daily!E:E,"<>") -> 1 | F30: =SUMIFS(Daily!R:R,Daily!I:I,"외주수리완료",Daily!X:X,"디에이테크",Daily!G:G,"5",Daily!E:E,"<>") -> 1 | G30: =SUMIFS(Daily!R:R,Daily!I:I,"외주수리완료",Daily!X:X,"디에이테크",Daily!G:G,"6",Daily!E:E,"<>") -> 1 | H30: =SUMIFS(Daily!R:R,Daily!I:I,"외주수리완료",Daily!X:X,"디에이테크",Daily!G:G,"7",Daily!E:E,"<>") -> 0 | I30: =SUMIFS(Daily!R:R,Daily!I:I,"외주수리완료",Daily!X:X,"디에이테크",Daily!G:G,"8",Daily!E:E,"<>") -> 0 | J30: =SUMIFS(Daily!R:R,Daily!I:I,"외주수리완료",Daily!X:X,"디에이테크",Daily!G:G,"9",Daily!E:E,"<>") -> 1 | K30: =SUMIFS(Daily!R:R,Daily!I:I,"외주수리완료",Daily!X:X,"디에이테크",Daily!G:G,"10",Daily!E:E,"<>") -> 0 | L30: =SUMIFS(Daily!R:R,Daily!I:I,"외주수리완료",Daily!X:X,"디에이테크",Daily!G:G,"11",Daily!E:E,"<>") -> 0 | M30: =SUMIFS(Daily!R:R,Daily!I:I,"외주수리완료",Daily!X:X,"디에이테크",Daily!G:G,"12",Daily!E:E,"<>") -> 0 | N30: =SUM(B30:M30) -> 6 | O30: =N30/N36 -> 0.064516129
A31: 큐텍코리아 | B31: =SUMIFS(Daily!R:R,Daily!I:I,"외주수리완료",Daily!X:X,"큐텍코리아",Daily!G:G,"1",Daily!F:F,"<>") -> 3 | C31: =SUMIFS(Daily!R:R,Daily!I:I,"외주수리완료",Daily!X:X,"큐텍코리아",Daily!G:G,"2",Daily!E:E,"<>") -> 13 | D31: =SUMIFS(Daily!R:R,Daily!I:I,"외주수리완료",Daily!X:X,"큐텍코리아",Daily!G:G,"3",Daily!E:E,"<>") -> 6 | E31: =SUMIFS(Daily!R:R,Daily!I:I,"외주수리완료",Daily!X:X,"큐텍코리아",Daily!G:G,"4",Daily!E:E,"<>") -> 5 | F31: =SUMIFS(Daily!R:R,Daily!I:I,"외주수리완료",Daily!X:X,"큐텍코리아",Daily!G:G,"5",Daily!E:E,"<>") -> 3 | G31: =SUMIFS(Daily!R:R,Daily!I:I,"외주수리완료",Daily!X:X,"큐텍코리아",Daily!G:G,"6",Daily!E:E,"<>") -> 4 | H31: =SUMIFS(Daily!R:R,Daily!I:I,"외주수리완료",Daily!X:X,"큐텍코리아",Daily!G:G,"7",Daily!E:E,"<>") -> 6 | I31: =SUMIFS(Daily!R:R,Daily!I:I,"외주수리완료",Daily!X:X,"큐텍코리아",Daily!G:G,"8",Daily!E:E,"<>") -> 4 | J31: =SUMIFS(Daily!R:R,Daily!I:I,"외주수리완료",Daily!X:X,"큐텍코리아",Daily!G:G,"9",Daily!E:E,"<>") -> 0 | K31: =SUMIFS(Daily!R:R,Daily!I:I,"외주수리완료",Daily!X:X,"큐텍코리아",Daily!G:G,"10",Daily!E:E,"<>") -> 3 | L31: =SUMIFS(Daily!R:R,Daily!I:I,"외주수리완료",Daily!X:X,"큐텍코리아",Daily!G:G,"11",Daily!E:E,"<>") -> 2 | M31: =SUMIFS(Daily!R:R,Daily!I:I,"외주수리완료",Daily!X:X,"큐텍코리아",Daily!G:G,"12",Daily!E:E,"<>") -> 2 | N31: =SUM(B31:M31) -> 51 | O31: =N31/N36 -> 0.5483871
A32: 이엔아이 | B32: =SUMIFS(Daily!R:R,Daily!I:I,"외주수리완료",Daily!X:X,"이엔아이",Daily!G:G,"1",Daily!E:E,"<>") -> 0 | C32: =SUMIFS(Daily!R:R,Daily!I:I,"외주수리완료",Daily!X:X,"이엔아이",Daily!G:G,"2",Daily!E:E,"<>") -> 0 | D32: =SUMIFS(Daily!R:R,Daily!I:I,"외주수리완료",Daily!X:X,"이엔아이",Daily!G:G,"3",Daily!E:E,"<>") -> 0 | E32: =SUMIFS(Daily!R:R,Daily!I:I,"외주수리완료",Daily!X:X,"이엔아이",Daily!G:G,"4",Daily!E:E,"<>") -> 0 | F32: =SUMIFS(Daily!R:R,Daily!I:I,"외주수리완료",Daily!X:X,"이엔아이",Daily!G:G,"5",Daily!E:E,"<>") -> 0 | G32: =SUMIFS(Daily!R:R,Daily!I:I,"외주수리완료",Daily!X:X,"이엔아이",Daily!G:G,"6",Daily!E:E,"<>") -> 0 | H32: =SUMIFS(Daily!R:R,Daily!I:I,"외주수리완료",Daily!X:X,"이엔아이",Daily!G:G,"7",Daily!E:E,"<>") -> 0 | I32: =SUMIFS(Daily!R:R,Daily!I:I,"외주수리완료",Daily!X:X,"이엔아이",Daily!G:G,"8",Daily!E:E,"<>") -> 0 | J32: =SUMIFS(Daily!R:R,Daily!I:I,"외주수리완료",Daily!X:X,"이엔아이",Daily!G:G,"9",Daily!E:E,"<>") -> 0 | K32: =SUMIFS(Daily!R:R,Daily!I:I,"외주수리완료",Daily!X:X,"이엔아이",Daily!G:G,"10",Daily!E:E,"<>") -> 0 | L32: =SUMIFS(Daily!R:R,Daily!I:I,"외주수리완료",Daily!X:X,"이엔아이",Daily!G:G,"11",Daily!E:E,"<>") -> 0 | M32: =SUMIFS(Daily!R:R,Daily!I:I,"외주수리완료",Daily!X:X,"이엔아이",Daily!G:G,"12",Daily!E:E,"<>") -> 0 | N32: =SUM(B32:M32) -> 0 | O32: =N32/N36 -> 0
A33: 씨맥스 | B33: =SUMIFS(Daily!R:R,Daily!I:I,"외주수리완료",Daily!X:X,"씨맥스",Daily!G:G,"1",Daily!E:E,"<>") -> 3 | C33: =SUMIFS(Daily!R:R,Daily!I:I,"외주수리완료",Daily!X:X,"씨맥스",Daily!G:G,"2",Daily!E:E,"<>") -> 10 | D33: =SUMIFS(Daily!R:R,Daily!I:I,"외주수리완료",Daily!X:X,"씨맥스",Daily!G:G,"3",Daily!E:E,"<>") -> 0 | E33: =SUMIFS(Daily!R:R,Daily!I:I,"외주수리완료",Daily!X:X,"씨맥스",Daily!G:G,"4",Daily!E:E,"<>") -> 0 | F33: =SUMIFS(Daily!R:R,Daily!I:I,"외주수리완료",Daily!X:X,"씨맥스",Daily!G:G,"5",Daily!E:E,"<>") -> 0 | G33: =SUMIFS(Daily!R:R,Daily!I:I,"외주수리완료",Daily!X:X,"씨맥스",Daily!G:G,"6",Daily!E:E,"<>") -> 0 | H33: =SUMIFS(Daily!R:R,Daily!I:I,"외주수리완료",Daily!X:X,"씨맥스",Daily!G:G,"7",Daily!E:E,"<>") -> 0 | I33: =SUMIFS(Daily!R:R,Daily!I:I,"외주수리완료",Daily!X:X,"씨맥스",Daily!G:G,"8",Daily!E:E,"<>") -> 0 | J33: =SUMIFS(Daily!R:R,Daily!I:I,"외주수리완료",Daily!X:X,"씨맥스",Daily!G:G,"9",Daily!E:E,"<>") -> 0 | K33: =SUMIFS(Daily!R:R,Daily!I:I,"외주수리완료",Daily!X:X,"씨맥스",Daily!G:G,"10",Daily!E:E,"<>") -> 0 | L33: =SUMIFS(Daily!R:R,Daily!I:I,"외주수리완료",Daily!X:X,"씨맥스",Daily!G:G,"11",Daily!E:E,"<>") -> 0 | M33: =SUMIFS(Daily!R:R,Daily!I:I,"외주수리완료",Daily!X:X,"씨맥스",Daily!G:G,"12",Daily!E:E,"<>") -> 0 | N33: =SUM(B33:M33) -> 13 | O33: =N33/N36 -> 0.13978495
A34: 인베닉스 | B34: =SUMIFS(Daily!R:R,Daily!I:I,"외주수리완료",Daily!X:X,"인베닉스",Daily!G:G,"1",Daily!E:E,"<>") -> 0 | C34: =SUMIFS(Daily!R:R,Daily!I:I,"외주수리완료",Daily!X:X,"인베닉스",Daily!G:G,"2",Daily!E:E,"<>") -> 0 | D34: =SUMIFS(Daily!R:R,Daily!I:I,"외주수리완료",Daily!X:X,"인베닉스",Daily!G:G,"3",Daily!E:E,"<>") -> 0 | E34: =SUMIFS(Daily!R:R,Daily!I:I,"외주수리완료",Daily!X:X,"인베닉스",Daily!G:G,"4",Daily!E:E,"<>") -> 0 | F34: =SUMIFS(Daily!R:R,Daily!I:I,"외주수리완료",Daily!X:X,"인베닉스",Daily!G:G,"5",Daily!E:E,"<>") -> 0 | G34: =SUMIFS(Daily!R:R,Daily!I:I,"외주수리완료",Daily!X:X,"인베닉스",Daily!G:G,"6",Daily!E:E,"<>") -> 0 | H34: =SUMIFS(Daily!R:R,Daily!I:I,"외주수리완료",Daily!X:X,"인베닉스",Daily!G:G,"7",Daily!E:E,"<>") -> 0 | I34: =SUMIFS(Daily!R:R,Daily!I:I,"외주수리완료",Daily!X:X,"인베닉스",Daily!G:G,"8",Daily!E:E,"<>") -> 0 | J34: =SUMIFS(Daily!R:R,Daily!I:I,"외주수리완료",Daily!X:X,"인베닉스",Daily!G:G,"9",Daily!E:E,"<>") -> 0 | K34: =SUMIFS(Daily!R:R,Daily!I:I,"외주수리완료",Daily!X:X,"인베닉스",Daily!G:G,"10",Daily!E:E,"<>") -> 0 | L34: =SUMIFS(Daily!R:R,Daily!I:I,"외주수리완료",Daily!X:X,"인베닉스",Daily!G:G,"11",Daily!E:E,"<>") -> 0 | M34: =SUMIFS(Daily!R:R,Daily!I:I,"외주수리완료",Daily!X:X,"인베닉스",Daily!G:G,"12",Daily!E:E,"<>") -> 0 | N34: =SUM(B34:M34) -> 0 | O34: =N34/N36 -> 0
A35: 기타 | B35: =SUMIFS(Daily!R:R,Daily!I:I,"외주수리완료",Daily!X:X,"기타",Daily!G:G,"1",Daily!E:E,"<>") -> 1 | C35: =SUMIFS(Daily!R:R,Daily!I:I,"외주수리완료",Daily!X:X,"기타",Daily!G:G,"2",Daily!E:E,"<>") -> 0 | D35: =SUMIFS(Daily!R:R,Daily!I:I,"외주수리완료",Daily!X:X,"기타",Daily!G:G,"3",Daily!E:E,"<>") -> 0 | E35: =SUMIFS(Daily!R:R,Daily!I:I,"외주수리완료",Daily!X:X,"기타",Daily!G:G,"4",Daily!E:E,"<>") -> 0 | F35: =SUMIFS(Daily!R:R,Daily!I:I,"외주수리완료",Daily!X:X,"기타",Daily!G:G,"5",Daily!E:E,"<>") -> 0 | G35: =SUMIFS(Daily!R:R,Daily!I:I,"외주수리완료",Daily!X:X,"기타",Daily!G:G,"6",Daily!E:E,"<>") -> 2 | H35: =SUMIFS(Daily!R:R,Daily!I:I,"외주수리완료",Daily!X:X,"기타",Daily!G:G,"7",Daily!E:E,"<>") -> 2 | I35: =SUMIFS(Daily!R:R,Daily!I:I,"외주수리완료",Daily!X:X,"기타",Daily!G:G,"8",Daily!E:E,"<>") -> 5 | J35: =SUMIFS(Daily!R:R,Daily!I:I,"외주수리완료",Daily!X:X,"기타",Daily!G:G,"9",Daily!E:E,"<>") -> 0 | K35: =SUMIFS(Daily!R:R,Daily!I:I,"외주수리완료",Daily!X:X,"기타",Daily!G:G,"10",Daily!E:E,"<>") -> 0 | L35: =SUMIFS(Daily!R:R,Daily!I:I,"외주수리완료",Daily!X:X,"기타",Daily!G:G,"11",Daily!E:E,"<>") -> 0 | M35: =SUMIFS(Daily!R:R,Daily!I:I,"외주수리완료",Daily!X:X,"기타",Daily!G:G,"12",Daily!E:E,"<>") -> 13 | N35: =SUM(B35:M35) -> 23 | O35: =N35/N36 -> 0.24731183
A36: Total | B36: =SUM(B30:B35) -> 7 | C36: =SUM(C30:C35) -> 25 | D36: =SUM(D30:D35) -> 6 | E36: =SUM(E30:E35) -> 6 | F36: =SUM(F30:F35) -> 4 | G36: =SUM(G30:G35) -> 7 | H36: =SUM(H30:H35) -> 8 | I36: =SUM(I30:I35) -> 9 | ... O36: =SUM(O30:O35) -> 1

Sheet Ionizer
B1: Ionizer Cumulative frequency graph
B4: Month | C4: Repair Count | D4: Cost Save (Unit : KWon)
B6: Jan. | C6: =SUMIFS(Daily!R:R,Daily!I:I,"수리완료",Daily!M:M,"Ionizer",Daily!G:G,1,Daily!F:F,"<>")+SUMIFS(Daily!R:R,Daily!I:I,"외주수리완료",Daily!M:M,"Ionizer",Daily!G:G,1,Daily!F:F,"<>") -> 8 | D6: =SUMIFS(Daily!V:V,Daily!I:I,"수리완료",Daily!M:M,"Ionizer",Daily!G:G,1,Daily!F:F,"<>")+SUMIFS(Daily!V:V,Daily!I:I,"외주수리완료",Daily!M:M,"Ionizer",Daily!G:G,1,Daily!F:F,"<>") -> 4166
B7: Feb. | C7: =SUMIFS(Daily!R:R,Daily!I:I,"수리완료",Daily!M:M,"Ionizer",Daily!G:G,2,Daily!F:F,"<>")+SUMIFS(Daily!R:R,Daily!I:I,"외주수리완료",Daily!M:M,"Ionizer",Daily!G:G,2,Daily!F:F,"<>") -> 6 | D7: =SUMIFS(Daily!V:V,Daily!I:I,"수리완료",Daily!M:M,"Ionizer",Daily!G:G,2,Daily!F:F,"<>")+SUMIFS(Daily!V:V,Daily!I:I,"외주수리완료",Daily!M:M,"Ionizer",Daily!G:G,2,Daily!F:F,"<>") -> 2122
B8: Mar. | C8: =SUMIFS(Daily!R:R,Daily!I:I,"수리완료",Daily!M:M,"Ionizer",Daily!G:G,3,Daily!F:F,"<>")+SUMIFS(Daily!R:R,Daily!I:I,"외주수리완료",Daily!M:M,"Ionizer",Daily!G:G,3,Daily!F:F,"<>") -> 12 | D8: =SUMIFS(Daily!V:V,Daily!I:I,"수리완료",Daily!M:M,"Ionizer",Daily!G:G,3,Daily!F:F,"<>")+SUMIFS(Daily!V:V,Daily!I:I,"외주수리완료",Daily!M:M,"Ionizer",Daily!G:G,3,Daily!F:F,"<>") -> 5460
B9: Apr. | C9: =SUMIFS(Daily!R:R,Daily!I:I,"수리완료",Daily!M:M,"Ionizer",Daily!G:G,4,Daily!F:F,"<>")+SUMIFS(Daily!R:R,Daily!I:I,"외주수리완료",Daily!M:M,"Ionizer",Daily!G:G,4,Daily!F:F,"<>") -> 3 | D9: =SUMIFS(Daily!V:V,Daily!I:I,"수리완료",Daily!M:M,"Ionizer",Daily!G:G,4,Daily!F:F,"<>")+SUMIFS(Daily!V:V,Daily!I:I,"외주수리완료",Daily!M:M,"Ionizer",Daily!G:G,4,Daily!F:F,"<>") -> 1350
B10: May | C10: =SUMIFS(Daily!R:R,Daily!I:I,"수리완료",Daily!M:M,"Ionizer",Daily!G:G,5,Daily!F:F,"<>")+SUMIFS(Daily!R:R,Daily!I:I,"외주수리완료",Daily!M:M,"Ionizer",Daily!G:G,5,Daily!F:F,"<>") -> 20 | D10: =SUMIFS(Daily!V:V,Daily!I:I,"수리완료",Daily!M:M,"Ionizer",Daily!G:G,5,Daily!F:F,"<>")+SUMIFS(Daily!V:V,Daily!I:I,"외주수리완료",Daily!M:M,"Ionizer",Daily!G:G,5,Daily!F:F,"<>") -> 9929
B11: Jun. | C11: =SUMIFS(Daily!R:R,Daily!I:I,"수리완료",Daily!M:M,"Ionizer",Daily!G:G,6,Daily!F:F,"<>")+SUMIFS(Daily!R:R,Daily!I:I,"외주수리완료",Daily!M:M,"Ionizer",Daily!G:G,6,Daily!F:F,"<>") -> 11 | D11: =SUMIFS(Daily!V:V,Daily!I:I,"수리완료",Daily!M:M,"Ionizer",Daily!G:G,6,Daily!F:F,"<>")+SUMIFS(Daily!V:V,Daily!I:I,"외주수리완료",Daily!M:M,"Ionizer",Daily!G:G,6,Daily!F:F,"<>") -> 5420
B12: Jul | C12: =SUMIFS(Daily!R:R,Daily!I:I,"수리완료",Daily!M:M,"Ionizer",Daily!G:G,7,Daily!F:F,"<>")+SUMIFS(Daily!R:R,Daily!I:I,"외주수리완료",Daily!M:M,"Ionizer",Daily!G:G,7,Daily!F:F,"<>") -> 28 | D12: =SUMIFS(Daily!V:V,Daily!I:I,"수리완료",Daily!M:M,"Ionizer",Daily!G:G,7,Daily!F:F,"<>")+SUMIFS(Daily!V:V,Daily!I:I,"외주수리완료",Daily!M:M,"Ionizer",Daily!G:G,7,Daily!F:F,"<>") -> 10911.5
B13: Aug. | C13: =SUMIFS(Daily!R:R,Daily!I:I,"수리완료",Daily!M:M,"Ionizer",Daily!G:G,8,Daily!F:F,"<>")+SUMIFS(Daily!R:R,Daily!I:I,"외주수리완료",Daily!M:M,"Ionizer",Daily!G:G,8,Daily!F:F,"<>") -> 13 | D13: =SUMIFS(Daily!V:V,Daily!I:I,"수리완료",Daily!M:M,"Ionizer",Daily!G:G,8,Daily!F:F,"<>")+SUMIFS(Daily!V:V,Daily!I:I,"외주수리완료",Daily!M:M,"Ionizer",Daily!G:G,8,Daily!F:F,"<>") -> 5337.5
B14: Sep. | C14: =SUMIFS(Daily!R:R,Daily!I:I,"수리완료",Daily!M:M,"Ionizer",Daily!G:G,9,Daily!F:F,"<>")+SUMIFS(Daily!R:R,Daily!I:I,"외주수리완료",Daily!M:M,"Ionizer",Daily!G:G,9,Daily!F:F,"<>") -> 8 | D14: =SUMIFS(Daily!V:V,Daily!I:I,"수리완료",Daily!M:M,"Ionizer",Daily!G:G,9,Daily!F:F,"<>")+SUMIFS(Daily!V:V,Daily!I:I,"외주수리완료",Daily!M:M,"Ionizer",Daily!G:G,9,Daily!F:F,"<>") -> 4376
B15: Oct. | C15: =SUMIFS(Daily!R:R,Daily!I:I,"수리완료",Daily!M:M,"Ionizer",Daily!G:G,10,Daily!F:F,"<>")+SUMIFS(Daily!R:R,Daily!I:I,"외주수리완료",Daily!M:M,"Ionizer",Daily!G:G,10,Daily!F:F,"<>") -> 12 | D15: =SUMIFS(Daily!V:V,Daily!I:I,"수리완료",Daily!M:M,"Ionizer",Daily!G:G,10,Daily!F:F,"<>")+SUMIFS(Daily!V:V,Daily!I:I,"외주수리완료",Daily!M:M,"Ionizer",Daily!G:G,10,Daily!F:F,"<>") -> 5105
B16: Nov. | C16: =SUMIFS(Daily!R:R,Daily!I:I,"수리완료",Daily!M:M,"Ionizer",Daily!G:G,11,Daily!F:F,"<>")+SUMIFS(Daily!R:R,Daily!I:I,"외주수리완료",Daily!M:M,"Ionizer",Daily!G:G,11,Daily!F:F,"<>") -> 9 | D16: =SUMIFS(Daily!V:V,Daily!I:I,"수리완료",Daily!M:M,"Ionizer",Daily!G:G,11,Daily!F:F,"<>")+SUMIFS(Daily!V:V,Daily!I:I,"외주수리완료",Daily!M:M,"Ionizer",Daily!G:G,11,Daily!F:F,"<>") -> 4865
B17: Dec. | C17: =SUMIFS(Daily!R:R,Daily!I:I,"수리완료",Daily!M:M,"Ionizer",Daily!G:G,12,Daily!F:F,"<>")+SUMIFS(Daily!R:R,Daily!I:I,"외주수리완료",Daily!M:M,"Ionizer",Daily!G:G,12,Daily!F:F,"<>") -> 8 | D17: =SUMIFS(Daily!V:V,Daily!I:I,"수리완료",Daily!M:M,"Ionizer",Daily!G:G,12,Daily!F:F,"<>")+SUMIFS(Daily!V:V,Daily!I:I,"외주수리완료",Daily!M:M,"Ionizer",Daily!G:G,12,Daily!F:F,"<>") -> 2995.5
B18: TOTAL | C18: =SUM(C6:C17) -> 138 | D18: =SUM(D6:D17) -> 62037.5

Sheet 강영구sum
B1: Person Activity Summary
B2: Month | C2: Category | K2: TTL
C3: Project | E3: Technical Support | G3: Overhaul | I3: Other
C4: 건수 | D4: 시간 | E4: 건수 | F4: 시간 | G4: 건수 | H4: 시간 | I4: 건수 | J4: 시간 | K4: 건수 | L4: 시간
B5: Jan | E5: =SUMIFS(Daily!$R:$R, Daily!$AA:$AA, "*강영구*", Daily!$I:$I, "*수리완료",Daily!$F:$F,"<>", Daily!$G:$G, "=1") -> 27 | F5: =SUMIFS(Daily!$Y:$Y, Daily!$AA:$AA, "*강영구*", Daily!$I:$I, "*수리완료",Daily!$F:$F,"<>", Daily!$G:$G, "=1")+SUMIFS(Daily!$Y:$Y, Daily!$AA:$AA, "*강영구*", Daily!$I:$I, "폐기",Daily!$F:$F,"<>", Daily!$G:$G, "=1")+SUMIFS(Daily!$Y:$Y, Daily!$AA:$AA, "*강영구*", Daily!$I:$I, "수리불가",Daily!$F:$F,"<>", Daily!$G:$G, "=1") -> 104 | I5: =SUMIFS(Daily!$R:$R, Daily!$AA:$AA, "*강영구*", Daily!$I:$I, "Other", Daily!$F:$F,"<>", Daily!$G:$G, "=1") -> 0 | J5: =SUMIFS(Daily!$Y:$Y, Daily!$AA:$AA, "*강영구*", Daily!$I:$I, "Other",Daily!$F:$F,"<>", Daily!$G:$G, "=1") -> 0 | K5: =C5+E5+G5+I5 -> 27 | L5: =D5+F5+H5+J5 -> 104
B6: Feb | E6: =SUMIFS(Daily!$R:$R, Daily!$AA:$AA, "*강영구*", Daily!$I:$I, "*수리완료",Daily!$F:$F,"<>", Daily!$G:$G, "=2") -> 19 | F6: =SUMIFS(Daily!$Y:$Y, Daily!$AA:$AA, "*강영구*", Daily!$I:$I, "*수리완료",Daily!$F:$F,"<>", Daily!$G:$G, "=2")+SUMIFS(Daily!$Y:$Y, Daily!$AA:$AA, "*강영구*", Daily!$I:$I, "폐기",Daily!$F:$F,"<>", Daily!$G:$G, "=2")+SUMIFS(Daily!$Y:$Y, Daily!$AA:$AA, "*강영구*", Daily!$I:$I, "수리불가",Daily!$F:$F,"<>", Daily!$G:$G, "=2") -> 92 | I6: =SUMIFS(Daily!$R:$R, Daily!$AA:$AA, "*강영구*", Daily!$I:$I, "Other", Daily!$F:$F,"<>", Daily!$G:$G, "=2") -> 0 | J6: =SUMIFS(Daily!$Y:$Y, Daily!$AA:$AA, "*강영구*", Daily!$I:$I, "Other",Daily!$F:$F,"<>", Daily!$G:$G, "=2") -> 0 | K6: =C6+E6+G6+I6 -> 19 | L6: =D6+F6+H6+J6 -> 92
B7: Mar | E7: =SUMIFS(Daily!$R:$R, Daily!$AA:$AA, "*강영구*", Daily!$I:$I, "*수리완료",Daily!$F:$F,"<>", Daily!$G:$G, "=3") -> 20 | F7: =SUMIFS(Daily!$Y:$Y, Daily!$AA:$AA, "*강영구*", Daily!$I:$I, "*수리완료",Daily!$F:$F,"<>", Daily!$G:$G, "=3")+SUMIFS(Daily!$Y:$Y, Daily!$AA:$AA, "*강영구*", Daily!$I:$I, "폐기",Daily!$F:$F,"<>", Daily!$G:$G, "=3")+SUMIFS(Daily!$Y:$Y, Daily!$AA:$AA, "*강영구*", Daily!$I:$I, "수리불가",Daily!$F:$F,"<>", Daily!$G:$G, "=3") -> 105 | I7: =SUMIFS(Daily!$R:$R, Daily!$AA:$AA, "*강영구*", Daily!$I:$I, "Other", Daily!$F:$F,"<>", Daily!$G:$G, "=3") -> 0 | J7: =SUMIFS(Daily!$Y:$Y, Daily!$AA:$AA, "*강영구*", Daily!$I:$I, "Other",Daily!$F:$F,"<>", Daily!$G:$G, "=3") -> 0 | K7: =C7+E7+G7+I7 -> 20 | L7: =D7+F7+H7+J7 -> 105
B8: Apr | E8: =SUMIFS(Daily!$R:$R, Daily!$AA:$AA, "*강영구*", Daily!$I:$I, "*수리완료",Daily!$F:$F,"<>", Daily!$G:$G, "=4") -> 20 | F8: =SUMIFS(Daily!$Y:$Y, Daily!$AA:$AA, "*강영구*", Daily!$I:$I, "*수리완료",Daily!$F:$F,"<>", Daily!$G:$G, "=4")+SUMIFS(Daily!$Y:$Y, Daily!$AA:$AA, "*강영구*", Daily!$I:$I, "폐기",Daily!$F:$F,"<>", Daily!$G:$G, "=4")+SUMIFS(Daily!$Y:$Y, Daily!$AA:$AA, "*강영구*", Daily!$I:$I, "수리불가",Daily!$F:$F,"<>", Daily!$G:$G, "=4") -> 69 | I8: =SUMIFS(Daily!$R:$R, Daily!$AA:$AA, "*강영구*", Daily!$I:$I, "Other", Daily!$F:$F,"<>", Daily!$G:$G, "=4") -> 0 | J8: =SUMIFS(Daily!$Y:$Y, Daily!$AA:$AA, "*강영구*", Daily!$I:$I, "Other",Daily!$F:$F,"<>", Daily!$G:$G, "=4") -> 0 | K8: =C8+E8+G8+I8 -> 20 | L8: =D8+F8+H8+J8 -> 69
B9: May | E9: =SUMIFS(Daily!$R:$R, Daily!$AA:$AA, "*강영구*", Daily!$I:$I, "*수리완료",Daily!$F:$F,"<>", Daily!$G:$G, "=5") -> 18 | F9: =SUMIFS(Daily!$Y:$Y, Daily!$AA:$AA, "*강영구*", Daily!$I:$I, "*수리완료",Daily!$F:$F,"<>", Daily!$G:$G, "=5")+SUMIFS(Daily!$Y:$Y, Daily!$AA:$AA, "*강영구*", Daily!$I:$I, "폐기",Daily!$F:$F,"<>", Daily!$G:$G, "=5")+SUMIFS(Daily!$Y:$Y, Daily!$AA:$AA, "*강영구*", Daily!$I:$I, "수리불가",Daily!$F:$F,"<>", Daily!$G:$G, "=5") -> 92 | I9: =SUMIFS(Daily!$R:$R, Daily!$AA:$AA, "*강영구*", Daily!$I:$I, "Other", Daily!$F:$F,"<>", Daily!$G:$G, "=5") -> 0 | J9: =SUMIFS(Daily!$Y:$Y, Daily!$AA:$AA, "*강영구*", Daily!$I:$I, "Other",Daily!$F:$F,"<>", Daily!$G:$G, "=5") -> 0 | K9: =C9+E9+G9+I9 -> 18 | L9: =D9+F9+H9+J9 -> 92
B10: Jun | E10: =SUMIFS(Daily!$R:$R, Daily!$AA:$AA, "*강영구*", Daily!$I:$I, "*수리완료",Daily!$F:$F,"<>", Daily!$G:$G, "=6") -> 21 | F10: =SUMIFS(Daily!$Y:$Y, Daily!$AA:$AA, "*강영구*", Daily!$I:$I, "*수리완료",Daily!$F:$F,"<>", Daily!$G:$G, "=6")+SUMIFS(Daily!$Y:$Y, Daily!$AA:$AA, "*강영구*", Daily!$I:$I, "폐기",Daily!$F:$F,"<>", Daily!$G:$G, "=6")+SUMIFS(Daily!$Y:$Y, Daily!$AA:$AA, "*강영구*", Daily!$I:$I, "수리불가",Daily!$F:$F,"<>", Daily!$G:$G, "=6") -> 100 | I10: =SUMIFS(Daily!$R:$R, Daily!$AA:$AA, "*강영구*", Daily!$I:$I, "Other", Daily!$F:$F,"<>", Daily!$G:$G, "=6") -> 0 | J10: =SUMIFS(Daily!$Y:$Y, Daily!$AA:$AA, "*강영구*", Daily!$I:$I, "Other",Daily!$F:$F,"<>", Daily!$G:$G, "=6") -> 0 | K10: =C10+E10+G10+I10 -> 21 | L10: =D10+F10+H10+J10 -> 100
B11: Jul | E11: =SUMIFS(Daily!$R:$R, Daily!$AA:$AA, "*강영구*", Daily!$I:$I, "*수리완료",Daily!$F:$F,"<>", Daily!$G:$G, "=7") -> 21 | F11: =SUMIFS(Daily!$Y:$Y, Daily!$AA:$AA, "*강영구*", Daily!$I:$I, "*수리완료",Daily!$F:$F,"<>", Daily!$G:$G, "=7")+SUMIFS(Daily!$Y:$Y, Daily!$AA:$AA, "*강영구*", Daily!$I:$I, "폐기",Daily!$F:$F,"<>", Daily!$G:$G, "=7")+SUMIFS(Daily!$Y:$Y, Daily!$AA:$AA, "*강영구*", Daily!$I:$I, "수리불가",Daily!$F:$F,"<>", Daily!$G:$G, "=7") -> 96 | I11: =SUMIFS(Daily!$R:$R, Daily!$AA:$AA, "*강영구*", Daily!$I:$I, "Other", Daily!$F:$F,"<>", Daily!$G:$G, "=7") -> 0 | J11: =SUMIFS(Daily!$Y:$Y, Daily!$AA:$AA, "*강영구*", Daily!$I:$I, "Other",Daily!$F:$F,"<>", Daily!$G:$G, "=7") -> 0 | K11: =C11+E11+G11+I11 -> 21 | L11: =D11+F11+H11+J11 -> 96
B12: Aug | E12: =SUMIFS(Daily!$R:$R, Daily!$AA:$AA, "*강영구*", Daily!$I:$I, "*수리완료",Daily!$F:$F,"<>", Daily!$G:$G, "=8") -> 20 | F12: =SUMIFS(Daily!$Y:$Y, Daily!$AA:$AA, "*강영구*", Daily!$I:$I, "*수리완료",Daily!$F:$F,"<>", Daily!$G:$G, "=8")+SUMIFS(Daily!$Y:$Y, Daily!$AA:$AA, "*강영구*", Daily!$I:$I, "폐기",Daily!$F:$F,"<>", Daily!$G:$G, "=8")+SUMIFS(Daily!$Y:$Y, Daily!$AA:$AA, "*강영구*", Daily!$I:$I, "수리불가",Daily!$F:$F,"<>", Daily!$G:$G, "=8") -> 58 | I12: =SUMIFS(Daily!$R:$R, Daily!$AA:$AA, "*강영구*", Daily!$I:$I, "Other", Daily!$F:$F,"<>", Daily!$G:$G, "=8") -> 0 | J12: =SUMIFS(Daily!$Y:$Y, Daily!$AA:$AA, "*강영구*", Daily!$I:$I, "Other",Daily!$F:$F,"<>", Daily!$G:$G, "=8") -> 0 | K12: =C12+E12+G12+I12 -> 20 | L12: =D12+F12+H12+J12 -> 58
B13: Sep | E13: =SUMIFS(Daily!$R:$R, Daily!$AA:$AA, "*강영구*", Daily!$I:$I, "*수리완료",Daily!$F:$F,"<>", Daily!$G:$G, "=9") -> 16 | F13: =SUMIFS(Daily!$Y:$Y, Daily!$AA:$AA, "*강영구*", Daily!$I:$I, "*수리완료",Daily!$F:$F,"<>", Daily!$G:$G, "=9")+SUMIFS(Daily!$Y:$Y, Daily!$AA:$AA, "*강영구*", Daily!$I:$I, "폐기",Daily!$F:$F,"<>", Daily!$G:$G, "=9")+SUMIFS(Daily!$Y:$Y, Daily!$AA:$AA, "*강영구*", Daily!$I:$I, "수리불가",Daily!$F:$F,"<>", Daily!$G:$G, "=9") -> 59 | I13: =SUMIFS(Daily!$R:$R, Daily!$AA:$AA, "*강영구*", Daily!$I:$I, "Other", Daily!$F:$F,"<>", Daily!$G:$G, "=9") -> 0 | J13: =SUMIFS(Daily!$Y:$Y, Daily!$AA:$AA, "*강영구*", Daily!$I:$I, "Other",Daily!$F:$F,"<>", Daily!$G:$G, "=9") -> 0 | K13: =C13+E13+G13+I13 -> 16 | L13: =D13+F13+H13+J13 -> 59
B14: Oct | E14: =SUMIFS(Daily!$R:$R, Daily!$AA:$AA, "*강영구*", Daily!$I:$I, "*수리완료",Daily!$F:$F,"<>", Daily!$G:$G, "=10") -> 29 | F14: =SUMIFS(Daily!$Y:$Y, Daily!$AA:$AA, "*강영구*", Daily!$I:$I, "*수리완료",Daily!$F:$F,"<>", Daily!$G:$G, "=10")+SUMIFS(Daily!$Y:$Y, Daily!$AA:$AA, "*강영구*", Daily!$I:$I, "폐기",Daily!$F:$F,"<>", Daily!$G:$G, "=10")+SUMIFS(Daily!$Y:$Y, Daily!$AA:$AA, "*강영구*", Daily!$I:$I, "수리불가",Daily!$F:$F,"<>", Daily!$G:$G, "=10") -> 96 | I14: =SUMIFS(Daily!$R:$R, Daily!$AA:$AA, "*강영구*", Daily!$I:$I, "Other", Daily!$F:$F,"<>", Daily!$G:$G, "=10") -> 0 | J14: =SUMIFS(Daily!$Y:$Y, Daily!$AA:$AA, "*강영구*", Daily!$I:$I, "Other",Daily!$F:$F,"<>", Daily!$G:$G, "=10") -> 0 | K14: =C14+E14+G14+I14 -> 29 | L14: =D14+F14+H14+J14 -> 96
B15: Nov | E15: =SUMIFS(Daily!$R:$R, Daily!$AA:$AA, "*강영구*", Daily!$I:$I, "*수리완료",Daily!$F:$F,"<>", Daily!$G:$G, "=11") -> 32 | F15: =SUMIFS(Daily!$Y:$Y, Daily!$AA:$AA, "*강영구*", Daily!$I:$I, "*수리완료",Daily!$F:$F,"<>", Daily!$G:$G, "=11")+SUMIFS(Daily!$Y:$Y, Daily!$AA:$AA, "*강영구*", Daily!$I:$I, "폐기",Daily!$F:$F,"<>", Daily!$G:$G, "=11")+SUMIFS(Daily!$Y:$Y, Daily!$AA:$AA, "*강영구*", Daily!$I:$I, "수리불가",Daily!$F:$F,"<>", Daily!$G:$G, "=11") -> 74 | I15: =SUMIFS(Daily!$R:$R, Daily!$AA:$AA, "*강영구*", Daily!$I:$I, "Other", Daily!$F:$F,"<>", Daily!$G:$G, "=11") -> 0 | J15: =SUMIFS(Daily!$Y:$Y, Daily!$AA:$AA, "*강영구*", Daily!$I:$I, "Other",Daily!$F:$F,"<>", Daily!$G:$G, "=11") -> 0 | K15: =C15+E15+G15+I15 -> 32 | L15: =D15+F15+H15+J15 -> 74
B16: Dec | E16: =SUMIFS(Daily!$R:$R, Daily!$AA:$AA, "*강영구*", Daily!$I:$I, "*수리완료",Daily!$F:$F,"<>", Daily!$G:$G, "=12") -> 26 | F16: =SUMIFS(Daily!$Y:$Y, Daily!$AA:$AA, "*강영구*", Daily!$I:$I, "수리완료",Daily!$F:$F,"<>", Daily!$G:$G, "=12")+SUMIFS(Daily!$Y:$Y, Daily!$AA:$AA, "*강영구*", Daily!$I:$I, "폐기",Daily!$F:$F,"<>", Daily!$G:$G, "=12")+SUMIFS(Daily!$Y:$Y, Daily!$AA:$AA, "*강영구*", Daily!$I:$I, "수리불가",Daily!$F:$F,"<>", Daily!$G:$G, "=12") -> 100 | I16: =SUMIFS(Daily!$R:$R, Daily!$AA:$AA, "*강영구*", Daily!$I:$I, "Other", Daily!$F:$F,"<>", Daily!$G:$G, "=12") -> 0 | J16: =SUMIFS(Daily!$Y:$Y, Daily!$AA:$AA, "*강영구*", Daily!$I:$I, "Other",Daily!$F:$F,"<>", Daily!$G:$G, "=12") -> 0 | K16: =C16+E16+G16+I16 -> 26 | L16: =D16+F16+H16+J16 -> 100
B17: TTL | C17: =SUM(C5:C16) -> 0 | D17: =SUM(D5:D16) -> 0 | E17: =SUM(E5:E16) -> 269 | F17: =SUM(F5:F16) -> 1045 | G17: =SUM(G5:G16) -> 0 | H17: =SUM(H5:H16) -> 0 | I17: =SUM(I5:I16) -> 0 | J17: =SUM(J5:J16) -> 0 | ... L17: =SUM(L5:L16) -> 1045

Sheet 장은철sum
B1: Person Activity Summary
B2: Month | C2: Category | K2: TTL
C3: Project | E3: Technical Support | G3: Overhaul | I3: Other
C4: 건수 | D4: 시간 | E4: 건수 | F4: 시간 | G4: 건수 | H4: 시간 | I4: 건수 | J4: 시간 | K4: 건수 | L4: 시간
B5: Jan | E5: =SUMIFS(Daily!$R:$R, Daily!$AA:$AA, "*장은철*", Daily!$I:$I, "수리완료",Daily!$F:$F,"<>", Daily!$G:$G, "=1")+SUMIFS(Daily!$R:$R, Daily!$AA:$AA, "*장은철*", Daily!$I:$I, "외주수리완료",Daily!$F:$F,"<>", Daily!$G:$G, "=1") -> 42 | F5: =SUMIFS(Daily!$Y:$Y, Daily!$AA:$AA, "*장은철*", Daily!$I:$I, "*수리완료",Daily!$F:$F,"<>", Daily!$G:$G, "=1")+SUMIFS(Daily!$Y:$Y, Daily!$AA:$AA, "*장은철*", Daily!$I:$I, "수리불가",Daily!$F:$F,"<>", Daily!$G:$G, "=1")+SUMIFS(Daily!$Y:$Y, Daily!$AA:$AA, "*장은철*", Daily!$I:$I, "폐기",Daily!$F:$F,"<>", Daily!$G:$G, "=1") -> 101 | I5: =SUMIFS(Daily!$R:$R, Daily!$AA:$AA, "*장은철*", Daily!$I:$I, "Other", Daily!$F:$F,"<>", Daily!$G:$G, "=1") -> 1 | J5: =SUMIFS(Daily!$Y:$Y, Daily!$AA:$AA, "*장은철*", Daily!$I:$I, "Other",Daily!$F:$F,"<>", Daily!$G:$G, "=1") -> 3 | K5: =C5+E5+G5+I5 -> 43 | L5: =D5+F5+H5+J5 -> 104
B6: Feb | E6: =SUMIFS(Daily!$R:$R, Daily!$AA:$AA, "*장은철*", Daily!$I:$I, "수리완료",Daily!$F:$F,"<>", Daily!$G:$G, "=2")+SUMIFS(Daily!$R:$R, Daily!$AA:$AA, "*장은철*", Daily!$I:$I, "외주수리완료",Daily!$F:$F,"<>", Daily!$G:$G, "=2") -> 45 | F6: =SUMIFS(Daily!$Y:$Y, Daily!$AA:$AA, "*장은철*", Daily!$I:$I, "*수리완료",Daily!$F:$F,"<>", Daily!$G:$G, "=2")+SUMIFS(Daily!$Y:$Y, Daily!$AA:$AA, "*장은철*", Daily!$I:$I, "폐기",Daily!$F:$F,"<>", Daily!$G:$G, "=2")+SUMIFS(Daily!$Y:$Y, Daily!$AA:$AA, "*장은철*", Daily!$I:$I, "수리불가",Daily!$F:$F,"<>", Daily!$G:$G, "=2") -> 87 | I6: =SUMIFS(Daily!$R:$R, Daily!$AA:$AA, "*장은철*", Daily!$I:$I, "Other", Daily!$F:$F,"<>", Daily!$G:$G, "=2") -> 0 | J6: =SUMIFS(Daily!$Y:$Y, Daily!$AA:$AA, "*장은철*", Daily!$I:$I, "Other",Daily!$F:$F,"<>", Daily!$G:$G, "=2") -> 0 | K6: =C6+E6+G6+I6 -> 45 | L6: =D6+F6+H6+J6 -> 87
B7: Mar | E7: =SUMIFS(Daily!$R:$R, Daily!$AA:$AA, "*장은철*", Daily!$I:$I, "수리완료",Daily!$F:$F,"<>", Daily!$G:$G, "=3")+SUMIFS(Daily!$R:$R, Daily!$AA:$AA, "*장은철*", Daily!$I:$I, "외주수리완료",Daily!$F:$F,"<>", Daily!$G:$G, "=3") -> 39 | F7: =SUMIFS(Daily!$Y:$Y, Daily!$AA:$AA, "*장은철*", Daily!$I:$I, "*수리완료",Daily!$F:$F,"<>", Daily!$G:$G, "=3")+SUMIFS(Daily!$Y:$Y, Daily!$AA:$AA, "*장은철*", Daily!$I:$I, "폐기",Daily!$F:$F,"<>", Daily!$G:$G, "=3")+SUMIFS(Daily!$Y:$Y, Daily!$AA:$AA, "*장은철*", Daily!$I:$I, "수리불가",Daily!$F:$F,"<>", Daily!$G:$G, "=3") -> 70 | I7: =SUMIFS(Daily!$R:$R, Daily!$AA:$AA, "*장은철*", Daily!$I:$I, "Other", Daily!$F:$F,"<>", Daily!$G:$G, "=3") -> 0 | J7: =SUMIFS(Daily!$Y:$Y, Daily!$AA:$AA, "*장은철*", Daily!$I:$I, "Other",Daily!$F:$F,"<>", Daily!$G:$G, "=3") -> 0 | K7: =C7+E7+G7+I7 -> 39 | L7: =D7+F7+H7+J7 -> 70
B8: Apr | E8: =SUMIFS(Daily!$R:$R, Daily!$AA:$AA, "*장은철*", Daily!$I:$I, "수리완료",Daily!$F:$F,"<>", Daily!$G:$G, "=4")+SUMIFS(Daily!$R:$R, Daily!$AA:$AA, "*장은철*", Daily!$I:$I, "외주수리완료",Daily!$F:$F,"<>", Daily!$G:$G, "=4") -> 42 | F8: =SUMIFS(Daily!$Y:$Y, Daily!$AA:$AA, "*장은철*", Daily!$I:$I, "*수리완료",Daily!$F:$F,"<>", Daily!$G:$G, "=4")+SUMIFS(Daily!$Y:$Y, Daily!$AA:$AA, "*장은철*", Daily!$I:$I, "폐기",Daily!$F:$F,"<>", Daily!$G:$G, "=4")+SUMIFS(Daily!$Y:$Y, Daily!$AA:$AA, "*장은철*", Daily!$I:$I, "수리불가",Daily!$F:$F,"<>", Daily!$G:$G, "=4") -> 83 | I8: =SUMIFS(Daily!$R:$R, Daily!$AA:$AA, "*장은철*", Daily!$I:$I, "Other", Daily!$F:$F,"<>", Daily!$G:$G, "=4") -> 0 | J8: =SUMIFS(Daily!$Y:$Y, Daily!$AA:$AA, "*장은철*", Daily!$I:$I, "Other",Daily!$F:$F,"<>", Daily!$G:$G, "=4") -> 0 | K8: =C8+E8+G8+I8 -> 42 | L8: =D8+F8+H8+J8 -> 83
B9: May | E9: =SUMIFS(Daily!$R:$R, Daily!$AA:$AA, "*장은철*", Daily!$I:$I, "수리완료",Daily!$F:$F,"<>", Daily!$G:$G, "=5")+SUMIFS(Daily!$R:$R, Daily!$AA:$AA, "*장은철*", Daily!$I:$I, "외주수리완료",Daily!$F:$F,"<>", Daily!$G:$G, "=5") -> 35 | F9: =SUMIFS(Daily!$Y:$Y, Daily!$AA:$AA, "*장은철*", Daily!$I:$I, "*수리완료",Daily!$F:$F,"<>", Daily!$G:$G, "=5")+SUMIFS(Daily!$Y:$Y, Daily!$AA:$AA, "*장은철*", Daily!$I:$I, "폐기",Daily!$F:$F,"<>", Daily!$G:$G, "=5")+SUMIFS(Daily!$Y:$Y, Daily!$AA:$AA, "*장은철*", Daily!$I:$I, "수리불가",Daily!$F:$F,"<>", Daily!$G:$G, "=5") -> 64 | I9: =SUMIFS(Daily!$R:$R, Daily!$AA:$AA, "*장은철*", Daily!$I:$I, "Other", Daily!$F:$F,"<>", Daily!$G:$G, "=5") -> 3 | J9: =SUMIFS(Daily!$Y:$Y, Daily!$AA:$AA, "*장은철*", Daily!$I:$I, "Other",Daily!$F:$F,"<>", Daily!$G:$G, "=5") -> 23 | K9: =C9+E9+G9+I9 -> 38 | L9: =D9+F9+H9+J9 -> 87
B10: Jun | E10: =SUMIFS(Daily!$R:$R, Daily!$AA:$AA, "*장은철*", Daily!$I:$I, "수리완료",Daily!$F:$F,"<>", Daily!$G:$G, "=6")+SUMIFS(Daily!$R:$R, Daily!$AA:$AA, "*장은철*", Daily!$I:$I, "외주수리완료",Daily!$F:$F,"<>", Daily!$G:$G, "=6") -> 33 | F10: =SUMIFS(Daily!$Y:$Y, Daily!$AA:$AA, "*장은철*", Daily!$I:$I, "*수리완료",Daily!$F:$F,"<>", Daily!$G:$G, "=6")+SUMIFS(Daily!$Y:$Y, Daily!$AA:$AA, "*장은철*", Daily!$I:$I, "폐기",Daily!$F:$F,"<>", Daily!$G:$G, "=6")+SUMIFS(Daily!$Y:$Y, Daily!$AA:$AA, "*장은철*", Daily!$I:$I, "수리불가",Daily!$F:$F,"<>", Daily!$G:$G, "=6") -> 83 | I10: =SUMIFS(Daily!$R:$R, Daily!$AA:$AA, "*장은철*", Daily!$I:$I, "Other", Daily!$F:$F,"<>", Daily!$G:$G, "=6") -> 1 | J10: =SUMIFS(Daily!$Y:$Y, Daily!$AA:$AA, "*장은철*", Daily!$I:$I, "Other",Daily!$F:$F,"<>", Daily!$G:$G, "=6") -> 2 | K10: =C10+E10+G10+I10 -> 34 | L10: =D10+F10+H10+J10 -> 85
B11: Jul | E11: =SUMIFS(Daily!$R:$R, Daily!$AA:$AA, "*장은철*", Daily!$I:$I, "수리완료",Daily!$F:$F,"<>", Daily!$G:$G, "=7")+SUMIFS(Daily!$R:$R, Daily!$AA:$AA, "*장은철*", Daily!$I:$I, "외주수리완료",Daily!$F:$F,"<>", Daily!$G:$G, "=7") -> 38 | F11: =SUMIFS(Daily!$Y:$Y, Daily!$AA:$AA, "*장은철*", Daily!$I:$I, "*수리완료",Daily!$F:$F,"<>", Daily!$G:$G, "=7")+SUMIFS(Daily!$Y:$Y, Daily!$AA:$AA, "*장은철*", Daily!$I:$I, "폐기",Daily!$F:$F,"<>", Daily!$G:$G, "=7")+SUMIFS(Daily!$Y:$Y, Daily!$AA:$AA, "*장은철*", Daily!$I:$I, "수리불가",Daily!$F:$F,"<>", Daily!$G:$G, "=7") -> 72 | I11: =SUMIFS(Daily!$R:$R, Daily!$AA:$AA, "*장은철*", Daily!$I:$I, "Other", Daily!$F:$F,"<>", Daily!$G:$G, "=7") -> 3 | J11: =SUMIFS(Daily!$Y:$Y, Daily!$AA:$AA, "*장은철*", Daily!$I:$I, "Other",Daily!$F:$F,"<>", Daily!$G:$G, "=7") -> 12 | K11: =C11+E11+G11+I11 -> 41 | L11: =D11+F11+H11+J11 -> 84
B12: Aug | E12: =SUMIFS(Daily!$R:$R, Daily!$AA:$AA, "*장은철*", Daily!$I:$I, "수리완료",Daily!$F:$F,"<>", Daily!$G:$G, "=8")+SUMIFS(Daily!$R:$R, Daily!$AA:$AA, "*장은철*", Daily!$I:$I, "외주수리완료",Daily!$F:$F,"<>", Daily!$G:$G, "=8") -> 41 | F12: =SUMIFS(Daily!$Y:$Y, Daily!$AA:$AA, "*장은철*", Daily!$I:$I, "*수리완료",Daily!$F:$F,"<>", Daily!$G:$G, "=8")+SUMIFS(Daily!$Y:$Y, Daily!$AA:$AA, "*장은철*", Daily!$I:$I, "폐기",Daily!$F:$F,"<>", Daily!$G:$G, "=8")+SUMIFS(Daily!$Y:$Y, Daily!$AA:$AA, "*장은철*", Daily!$I:$I, "수리불가",Daily!$F:$F,"<>", Daily!$G:$G, "=8") -> 75 | I12: =SUMIFS(Daily!$R:$R, Daily!$AA:$AA, "*장은철*", Daily!$I:$I, "Other", Daily!$F:$F,"<>", Daily!$G:$G, "=8") -> 6 | J12: =SUMIFS(Daily!$Y:$Y, Daily!$AA:$AA, "*장은철*", Daily!$I:$I, "Other",Daily!$F:$F,"<>", Daily!$G:$G, "=8") -> 21 | K12: =C12+E12+G12+I12 -> 47 | L12: =D12+F12+H12+J12 -> 96
B13: Sep | E13: =SUMIFS(Daily!$R:$R, Daily!$AA:$AA, "*장은철*", Daily!$I:$I, "수리완료",Daily!$F:$F,"<>", Daily!$G:$G, "=9")+SUMIFS(Daily!$R:$R, Daily!$AA:$AA, "*장은철*", Daily!$I:$I, "외주수리완료",Daily!$F:$F,"<>", Daily!$G:$G, "=9") -> 40 | F13: =SUMIFS(Daily!$Y:$Y, Daily!$AA:$AA, "*장은철*", Daily!$I:$I, "*수리완료",Daily!$F:$F,"<>", Daily!$G:$G, "=9")+SUMIFS(Daily!$Y:$Y, Daily!$AA:$AA, "*장은철*", Daily!$I:$I, "폐기",Daily!$F:$F,"<>", Daily!$G:$G, "=9")+SUMIFS(Daily!$Y:$Y, Daily!$AA:$AA, "*장은철*", Daily!$I:$I, "수리불가",Daily!$F:$F,"<>", Daily!$G:$G, "=9") -> 93 | I13: =SUMIFS(Daily!$R:$R, Daily!$AA:$AA, "*장은철*", Daily!$I:$I, "Other", Daily!$F:$F,"<>", Daily!$G:$G, "=9") -> 3 | J13: =SUMIFS(Daily!$Y:$Y, Daily!$AA:$AA, "*장은철*", Daily!$I:$I, "Other",Daily!$F:$F,"<>", Daily!$G:$G, "=9") -> 10 | K13: =C13+E13+G13+I13 -> 43 | L13: =D13+F13+H13+J13 -> 103
B14: Oct | E14: =SUMIFS(Daily!$R:$R, Daily!$AA:$AA, "*장은철*", Daily!$I:$I, "수리완료",Daily!$F:$F,"<>", Daily!$G:$G, "=10")+SUMIFS(Daily!$R:$R, Daily!$AA:$AA, "*장은철*", Daily!$I:$I, "외주수리완료",Daily!$F:$F,"<>", Daily!$G:$G, "=10") -> 29 | F14: =SUMIFS(Daily!$Y:$Y, Daily!$AA:$AA, "*장은철*", Daily!$I:$I, "*수리완료",Daily!$F:$F,"<>", Daily!$G:$G, "=10")+SUMIFS(Daily!$Y:$Y, Daily!$AA:$AA, "*장은철*", Daily!$I:$I, "폐기",Daily!$F:$F,"<>", Daily!$G:$G, "=10")+SUMIFS(Daily!$Y:$Y, Daily!$AA:$AA, "*장은철*", Daily!$I:$I, "수리불가",Daily!$F:$F,"<>", Daily!$G:$G, "=10") -> 86 | I14: =SUMIFS(Daily!$R:$R, Daily!$AA:$AA, "*장은철*", Daily!$I:$I, "Other", Daily!$F:$F,"<>", Daily!$G:$G, "=10") -> 2 | J14: =SUMIFS(Daily!$Y:$Y, Daily!$AA:$AA, "*장은철*", Daily!$I:$I, "Other",Daily!$F:$F,"<>", Daily!$G:$G, "=10") -> 28 | K14: =C14+E14+G14+I14 -> 31 | L14: =D14+F14+H14+J14 -> 114
B15: Nov | E15: =SUMIFS(Daily!$R:$R, Daily!$AA:$AA, "*장은철*", Daily!$I:$I, "수리완료",Daily!$F:$F,"<>", Daily!$G:$G, "=11")+SUMIFS(Daily!$R:$R, Daily!$AA:$AA, "*장은철*", Daily!$I:$I, "외주수리완료",Daily!$F:$F,"<>", Daily!$G:$G, "=11") -> 48 | F15: =SUMIFS(Daily!$Y:$Y, Daily!$AA:$AA, "*장은철*", Daily!$I:$I, "*수리완료",Daily!$F:$F,"<>", Daily!$G:$G, "=11")+SUMIFS(Daily!$Y:$Y, Daily!$AA:$AA, "*장은철*", Daily!$I:$I, "폐기",Daily!$F:$F,"<>", Daily!$G:$G, "=11")+SUMIFS(Daily!$Y:$Y, Daily!$AA:$AA, "*장은철*", Daily!$I:$I, "수리불가",Daily!$F:$F,"<>", Daily!$G:$G, "=11") -> 83 | I15: =SUMIFS(Daily!$R:$R, Daily!$AA:$AA, "*장은철*", Daily!$I:$I, "Other", Daily!$F:$F,"<>", Daily!$G:$G, "=11") -> 13 | J15: =SUMIFS(Daily!$Y:$Y, Daily!$AA:$AA, "*장은철*", Daily!$I:$I, "Other",Daily!$F:$F,"<>", Daily!$G:$G, "=11") -> 21 | K15: =C15+E15+G15+I15 -> 61 | L15: =D15+F15+H15+J15 -> 104
B16: Dec | E16: =SUMIFS(Daily!$R:$R, Daily!$AA:$AA, "*장은철*", Daily!$I:$I, "수리완료",Daily!$F:$F,"<>", Daily!$G:$G, "=12")+SUMIFS(Daily!$R:$R, Daily!$AA:$AA, "*장은철*", Daily!$I:$I, "외주수리완료",Daily!$F:$F,"<>", Daily!$G:$G, "=12") -> 43 | F16: =SUMIFS(Daily!$Y:$Y, Daily!$AA:$AA, "*장은철*", Daily!$I:$I, "*수리완료",Daily!$F:$F,"<>", Daily!$G:$G, "=12")+SUMIFS(Daily!$Y:$Y, Daily!$AA:$AA, "*장은철*", Daily!$I:$I, "폐기",Daily!$F:$F,"<>", Daily!$G:$G, "=12")+SUMIFS(Daily!$Y:$Y, Daily!$AA:$AA, "*장은철*", Daily!$I:$I, "수리불가",Daily!$F:$F,"<>", Daily!$G:$G, "=12") -> 95 | I16: =SUMIFS(Daily!$R:$R, Daily!$AA:$AA, "*장은철*", Daily!$I:$I, "Other", Daily!$F:$F,"<>", Daily!$G:$G, "=12") -> 12 | J16: =SUMIFS(Daily!$Y:$Y, Daily!$AA:$AA, "*장은철*", Daily!$I:$I, "Other",Daily!$F:$F,"<>", Daily!$G:$G, "=12") -> 12 | K16: =C16+E16+G16+I16 -> 55 | L16: =D16+F16+H16+J16 -> 107
B17: TTL | C17: =SUM(C5:C16) -> 0 | D17: =SUM(D5:D16) -> 0 | E17: =SUM(E5:E16) -> 475 | F17: =SUM(F5:F16) -> 992 | G17: =SUM(G5:G16) -> 0 | H17: =SUM(H5:H16) -> 0 | I17: =SUM(I5:I16) -> 44 | J17: =SUM(J5:J16) -> 132 | ... L17: =SUM(L5:L16) -> 1124

Sheet 허준영sum
B1: Person Activity Summary
B2: Month | C2: Category | K2: TTL
C3: Project | E3: Technical Support | G3: Overhaul | I3: Other
C4: 건수 | D4: 시간 | E4: 건수 | F4: 시간 | G4: 건수 | H4: 시간 | I4: 건수 | J4: 시간 | K4: 건수 | L4: 시간
B5: Jan | E5: =SUMIFS(Daily!$R:$R, Daily!$AA:$AA, "*허준영*", Daily!$I:$I, "수리완료",Daily!$F:$F,"<>", Daily!$G:$G, "=1")+SUMIFS(Daily!$R:$R, Daily!$AA:$AA, "*허준영*", Daily!$I:$I, "외주수리완료",Daily!$F:$F,"<>", Daily!$G:$G, "=1") -> 27 | F5: =SUMIFS(Daily!$Y:$Y, Daily!$AA:$AA, "*허준영*", Daily!$I:$I, "*수리완료",Daily!$F:$F,"<>", Daily!$G:$G, "=1")+SUMIFS(Daily!$Y:$Y, Daily!$AA:$AA, "*허준영*", Daily!$I:$I, "폐기",Daily!$F:$F,"<>", Daily!$G:$G, "=1")+SUMIFS(Daily!$Y:$Y, Daily!$AA:$AA, "*허준영*", Daily!$I:$I, "수리불가",Daily!$F:$F,"<>", Daily!$G:$G, "=1") -> 103 | I5: =SUMIFS(Daily!$R:$R, Daily!$AA:$AA, "*허준영*", Daily!$I:$I, "Other", Daily!$F:$F,"<>", Daily!$G:$G, "=1") -> 4 | J5: =SUMIFS(Daily!$Y:$Y, Daily!$AA:$AA, "*허준영*", Daily!$I:$I, "Other",Daily!$F:$F,"<>", Daily!$G:$G, "=1") -> 8 | K5: =C5+E5+G5+I5 -> 31 | L5: =D5+F5+H5+J5 -> 111
B6: Feb | E6: =SUMIFS(Daily!$R:$R, Daily!$AA:$AA, "*허준영*", Daily!$I:$I, "수리완료",Daily!$F:$F,"<>", Daily!$G:$G, "=2")+SUMIFS(Daily!$R:$R, Daily!$AA:$AA, "*허준영*", Daily!$I:$I, "외주수리완료",Daily!$F:$F,"<>", Daily!$G:$G, "=2") -> 35 | F6: =SUMIFS(Daily!$Y:$Y, Daily!$AA:$AA, "*허준영*", Daily!$I:$I, "*수리완료",Daily!$F:$F,"<>", Daily!$G:$G, "=2")+SUMIFS(Daily!$Y:$Y, Daily!$AA:$AA, "*허준영*", Daily!$I:$I, "폐기",Daily!$F:$F,"<>", Daily!$G:$G, "=2")+SUMIFS(Daily!$Y:$Y, Daily!$AA:$AA, "*허준영*", Daily!$I:$I, "수리불가",Daily!$F:$F,"<>", Daily!$G:$G, "=2") -> 104 | I6: =SUMIFS(Daily!$R:$R, Daily!$AA:$AA, "*허준영*", Daily!$I:$I, "Other", Daily!$F:$F,"<>", Daily!$G:$G, "=2") -> 1 | J6: =SUMIFS(Daily!$Y:$Y, Daily!$AA:$AA, "*허준영*", Daily!$I:$I, "Other",Daily!$F:$F,"<>", Daily!$G:$G, "=2") -> 2 | K6: =C6+E6+G6+I6 -> 36 | L6: =D6+F6+H6+J6 -> 106
B7: Mar | E7: =SUMIFS(Daily!$R:$R, Daily!$AA:$AA, "*허준영*", Daily!$I:$I, "수리완료",Daily!$F:$F,"<>", Daily!$G:$G, "=3")+SUMIFS(Daily!$R:$R, Daily!$AA:$AA, "*허준영*", Daily!$I:$I, "외주수리완료",Daily!$F:$F,"<>", Daily!$G:$G, "=3") -> 33 | F7: =SUMIFS(Daily!$Y:$Y, Daily!$AA:$AA, "*허준영*", Daily!$I:$I, "*수리완료",Daily!$F:$F,"<>", Daily!$G:$G, "=3")+SUMIFS(Daily!$Y:$Y, Daily!$AA:$AA, "*허준영*", Daily!$I:$I, "폐기",Daily!$F:$F,"<>", Daily!$G:$G, "=3")+SUMIFS(Daily!$Y:$Y, Daily!$AA:$AA, "*허준영*", Daily!$I:$I, "수리불가",Daily!$F:$F,"<>", Daily!$G:$G, "=3") -> 102 | I7: =SUMIFS(Daily!$R:$R, Daily!$AA:$AA, "*허준영*", Daily!$I:$I, "Other", Daily!$F:$F,"<>", Daily!$G:$G, "=3") -> 0 | J7: =SUMIFS(Daily!$Y:$Y, Daily!$AA:$AA, "*허준영*", Daily!$I:$I, "Other",Daily!$F:$F,"<>", Daily!$G:$G, "=3") -> 0 | K7: =C7+E7+G7+I7 -> 33 | L7: =D7+F7+H7+J7 -> 102
B8: Apr | E8: =SUMIFS(Daily!$R:$R, Daily!$AA:$AA, "*허준영*", Daily!$I:$I, "수리완료",Daily!$F:$F,"<>", Daily!$G:$G, "=4")+SUMIFS(Daily!$R:$R, Daily!$AA:$AA, "*허준영*", Daily!$I:$I, "외주수리완료",Daily!$F:$F,"<>", Daily!$G:$G, "=4") -> 25 | F8: =SUMIFS(Daily!$Y:$Y, Daily!$AA:$AA, "*허준영*", Daily!$I:$I, "*수리완료",Daily!$F:$F,"<>", Daily!$G:$G, "=4")+SUMIFS(Daily!$Y:$Y, Daily!$AA:$AA, "*허준영*", Daily!$I:$I, "폐기",Daily!$F:$F,"<>", Daily!$G:$G, "=4")+SUMIFS(Daily!$Y:$Y, Daily!$AA:$AA, "*허준영*", Daily!$I:$I, "수리불가",Daily!$F:$F,"<>", Daily!$G:$G, "=4") -> 99 | I8: =SUMIFS(Daily!$R:$R, Daily!$AA:$AA, "*허준영*", Daily!$I:$I, "Other", Daily!$F:$F,"<>", Daily!$G:$G, "=4") -> 0 | J8: =SUMIFS(Daily!$Y:$Y, Daily!$AA:$AA, "*허준영*", Daily!$I:$I, "Other",Daily!$F:$F,"<>", Daily!$G:$G, "=4") -> 0 | K8: =C8+E8+G8+I8 -> 25 | L8: =D8+F8+H8+J8 -> 99
B9: May | E9: =SUMIFS(Daily!$R:$R, Daily!$AA:$AA, "*허준영*", Daily!$I:$I, "수리완료",Daily!$F:$F,"<>", Daily!$G:$G, "=5")+SUMIFS(Daily!$R:$R, Daily!$AA:$AA, "*허준영*", Daily!$I:$I, "외주수리완료",Daily!$F:$F,"<>", Daily!$G:$G, "=5") -> 21 | F9: =SUMIFS(Daily!$Y:$Y, Daily!$AA:$AA, "*허준영*", Daily!$I:$I, "*수리완료",Daily!$F:$F,"<>", Daily!$G:$G, "=5")+SUMIFS(Daily!$Y:$Y, Daily!$AA:$AA, "*허준영*", Daily!$I:$I, "폐기",Daily!$F:$F,"<>", Daily!$G:$G, "=5")+SUMIFS(Daily!$Y:$Y, Daily!$AA:$AA, "*허준영*", Daily!$I:$I, "수리불가",Daily!$F:$F,"<>", Daily!$G:$G, "=5") -> 59 | I9: =SUMIFS(Daily!$R:$R, Daily!$AA:$AA, "*허준영*", Daily!$I:$I, "Other", Daily!$F:$F,"<>", Daily!$G:$G, "=5") -> 4 | J9: =SUMIFS(Daily!$Y:$Y, Daily!$AA:$AA, "*허준영*", Daily!$I:$I, "Other",Daily!$F:$F,"<>", Daily!$G:$G, "=5") -> 27 | K9: =C9+E9+G9+I9 -> 25 | L9: =D9+F9+H9+J9 -> 86
B10: Jun | E10: =SUMIFS(Daily!$R:$R, Daily!$AA:$AA, "*허준영*", Daily!$I:$I, "수리완료",Daily!$F:$F,"<>", Daily!$G:$G, "=6")+SUMIFS(Daily!$R:$R, Daily!$AA:$AA, "*허준영*", Daily!$I:$I, "외주수리완료",Daily!$F:$F,"<>", Daily!$G:$G, "=6") -> 28 | F10: =SUMIFS(Daily!$Y:$Y, Daily!$AA:$AA, "*허준영*", Daily!$I:$I, "*수리완료",Daily!$F:$F,"<>", Daily!$G:$G, "=6")+SUMIFS(Daily!$Y:$Y, Daily!$AA:$AA, "*허준영*", Daily!$I:$I, "폐기",Daily!$F:$F,"<>", Daily!$G:$G, "=6")+SUMIFS(Daily!$Y:$Y, Daily!$AA:$AA, "*허준영*", Daily!$I:$I, "수리불가",Daily!$F:$F,"<>", Daily!$G:$G, "=6") -> 108 | I10: =SUMIFS(Daily!$R:$R, Daily!$AA:$AA, "*허준영*", Daily!$I:$I, "Other", Daily!$F:$F,"<>", Daily!$G:$G, "=6") -> 4 | J10: =SUMIFS(Daily!$Y:$Y, Daily!$AA:$AA, "*허준영*", Daily!$I:$I, "Other",Daily!$F:$F,"<>", Daily!$G:$G, "=6") -> 13 | K10: =C10+E10+G10+I10 -> 32 | L10: =D10+F10+H10+J10 -> 121
B11: Jul | E11: =SUMIFS(Daily!$R:$R, Daily!$AA:$AA, "*허준영*", Daily!$I:$I, "수리완료",Daily!$F:$F,"<>", Daily!$G:$G, "=7")+SUMIFS(Daily!$R:$R, Daily!$AA:$AA, "*허준영*", Daily!$I:$I, "외주수리완료",Daily!$F:$F,"<>", Daily!$G:$G, "=7") -> 30 | F11: =SUMIFS(Daily!$Y:$Y, Daily!$AA:$AA, "*허준영*", Daily!$I:$I, "*수리완료",Daily!$F:$F,"<>", Daily!$G:$G, "=7")+SUMIFS(Daily!$Y:$Y, Daily!$AA:$AA, "*허준영*", Daily!$I:$I, "폐기",Daily!$F:$F,"<>", Daily!$G:$G, "=7")+SUMIFS(Daily!$Y:$Y, Daily!$AA:$AA, "*허준영*", Daily!$I:$I, "수리불가",Daily!$F:$F,"<>", Daily!$G:$G, "=7") -> 96 | I11: =SUMIFS(Daily!$R:$R, Daily!$AA:$AA, "*허준영*", Daily!$I:$I, "Other", Daily!$F:$F,"<>", Daily!$G:$G, "=7") -> 7 | J11: =SUMIFS(Daily!$Y:$Y, Daily!$AA:$AA, "*허준영*", Daily!$I:$I, "Other",Daily!$F:$F,"<>", Daily!$G:$G, "=7") -> 16 | K11: =C11+E11+G11+I11 -> 37 | L11: =D11+F11+H11+J11 -> 112
B12: Aug | E12: =SUMIFS(Daily!$R:$R, Daily!$AA:$AA, "*허준영*", Daily!$I:$I, "수리완료",Daily!$F:$F,"<>", Daily!$G:$G, "=8")+SUMIFS(Daily!$R:$R, Daily!$AA:$AA, "*허준영*", Daily!$I:$I, "외주수리완료",Daily!$F:$F,"<>", Daily!$G:$G, "=8") -> 18 | F12: =SUMIFS(Daily!$Y:$Y, Daily!$AA:$AA, "*허준영*", Daily!$I:$I, "*수리완료",Daily!$F:$F,"<>", Daily!$G:$G, "=8")+SUMIFS(Daily!$Y:$Y, Daily!$AA:$AA, "*허준영*", Daily!$I:$I, "폐기",Daily!$F:$F,"<>", Daily!$G:$G, "=8")+SUMIFS(Daily!$Y:$Y, Daily!$AA:$AA, "*허준영*", Daily!$I:$I, "수리불가",Daily!$F:$F,"<>", Daily!$G:$G, "=8") -> 66 | I12: =SUMIFS(Daily!$R:$R, Daily!$AA:$AA, "*허준영*", Daily!$I:$I, "Other", Daily!$F:$F,"<>", Daily!$G:$G, "=8") -> 14 | J12: =SUMIFS(Daily!$Y:$Y, Daily!$AA:$AA, "*허준영*", Daily!$I:$I, "Other",Daily!$F:$F,"<>", Daily!$G:$G, "=8") -> 56 | K12: =C12+E12+G12+I12 -> 32 | L12: =D12+F12+H12+J12 -> 122
B13: Sep | E13: =SUMIFS(Daily!$R:$R, Daily!$AA:$AA, "*허준영*", Daily!$I:$I, "수리완료",Daily!$F:$F,"<>", Daily!$G:$G, "=9")+SUMIFS(Daily!$R:$R, Daily!$AA:$AA, "*허준영*", Daily!$I:$I, "외주수리완료",Daily!$F:$F,"<>", Daily!$G:$G, "=9") -> 24 | F13: =SUMIFS(Daily!$Y:$Y, Daily!$AA:$AA, "*허준영*", Daily!$I:$I, "*수리완료",Daily!$F:$F,"<>", Daily!$G:$G, "=9")+SUMIFS(Daily!$Y:$Y, Daily!$AA:$AA, "*허준영*", Daily!$I:$I, "폐기",Daily!$F:$F,"<>", Daily!$G:$G, "=9")+SUMIFS(Daily!$Y:$Y, Daily!$AA:$AA, "*허준영*", Daily!$I:$I, "수리불가",Daily!$F:$F,"<>", Daily!$G:$G, "=9") -> 60 | I13: =SUMIFS(Daily!$R:$R, Daily!$AA:$AA, "*허준영*", Daily!$I:$I, "Other", Daily!$F:$F,"<>", Daily!$G:$G, "=9") -> 6 | J13: =SUMIFS(Daily!$Y:$Y, Daily!$AA:$AA, "*허준영*", Daily!$I:$I, "Other",Daily!$F:$F,"<>", Daily!$G:$G, "=9") -> 38 | K13: =C13+E13+G13+I13 -> 30 | L13: =D13+F13+H13+J13 -> 98
B14: Oct | E14: =SUMIFS(Daily!$R:$R, Daily!$AA:$AA, "*허준영*", Daily!$I:$I, "수리완료",Daily!$F:$F,"<>", Daily!$G:$G, "=10")+SUMIFS(Daily!$R:$R, Daily!$AA:$AA, "*허준영*", Daily!$I:$I, "외주수리완료",Daily!$F:$F,"<>", Daily!$G:$G, "=10") -> 25 | F14: =SUMIFS(Daily!$Y:$Y, Daily!$AA:$AA, "*허준영*", Daily!$I:$I, "*수리완료",Daily!$F:$F,"<>", Daily!$G:$G, "=10")+SUMIFS(Daily!$Y:$Y, Daily!$AA:$AA, "*허준영*", Daily!$I:$I, "폐기",Daily!$F:$F,"<>", Daily!$G:$G, "=10")+SUMIFS(Daily!$Y:$Y, Daily!$AA:$AA, "*허준영*", Daily!$I:$I, "수리불가",Daily!$F:$F,"<>", Daily!$G:$G, "=10") -> 94 | I14: =SUMIFS(Daily!$R:$R, Daily!$AA:$AA, "*허준영*", Daily!$I:$I, "Other", Daily!$F:$F,"<>", Daily!$G:$G, "=10") -> 4 | J14: =SUMIFS(Daily!$Y:$Y, Daily!$AA:$AA, "*허준영*", Daily!$I:$I, "Other",Daily!$F:$F,"<>", Daily!$G:$G, "=10") -> 42 | K14: =C14+E14+G14+I14 -> 29 | L14: =D14+F14+H14+J14 -> 136
B15: Nov | E15: =SUMIFS(Daily!$R:$R, Daily!$AA:$AA, "*허준영*", Daily!$I:$I, "수리완료",Daily!$F:$F,"<>", Daily!$G:$G, "=11")+SUMIFS(Daily!$R:$R, Daily!$AA:$AA, "*허준영*", Daily!$I:$I, "외주수리완료",Daily!$F:$F,"<>", Daily!$G:$G, "=11") -> 26 | F15: =SUMIFS(Daily!$Y:$Y, Daily!$AA:$AA, "*허준영*", Daily!$I:$I, "*수리완료",Daily!$F:$F,"<>", Daily!$G:$G, "=11")+SUMIFS(Daily!$Y:$Y, Daily!$AA:$AA, "*허준영*", Daily!$I:$I, "폐기",Daily!$F:$F,"<>", Daily!$G:$G, "=11")+SUMIFS(Daily!$Y:$Y, Daily!$AA:$AA, "*허준영*", Daily!$I:$I, "수리불가",Daily!$F:$F,"<>", Daily!$G:$G, "=11") -> 83 | I15: =SUMIFS(Daily!$R:$R, Daily!$AA:$AA, "*허준영*", Daily!$I:$I, "Other", Daily!$F:$F,"<>", Daily!$G:$G, "=11") -> 7 | J15: =SUMIFS(Daily!$Y:$Y, Daily!$AA:$AA, "*허준영*", Daily!$I:$I, "Other",Daily!$F:$F,"<>", Daily!$G:$G, "=11") -> 21 | K15: =C15+E15+G15+I15 -> 33 | L15: =D15+F15+H15+J15 -> 104
B16: Dec | E16: =SUMIFS(Daily!$R:$R, Daily!$AA:$AA, "*허준영*", Daily!$I:$I, "수리완료",Daily!$F:$F,"<>", Daily!$G:$G, "=12")+SUMIFS(Daily!$R:$R, Daily!$AA:$AA, "*허준영*", Daily!$I:$I, "외주수리완료",Daily!$F:$F,"<>", Daily!$G:$G, "=12") -> 27 | F16: =SUMIFS(Daily!$Y:$Y, Daily!$AA:$AA, "*허준영*", Daily!$I:$I, "*수리완료",Daily!$F:$F,"<>", Daily!$G:$G, "=12")+SUMIFS(Daily!$Y:$Y, Daily!$AA:$AA, "*허준영*", Daily!$I:$I, "폐기",Daily!$F:$F,"<>", Daily!$G:$G, "=12")+SUMIFS(Daily!$Y:$Y, Daily!$AA:$AA, "*허준영*", Daily!$I:$I, "수리불가",Daily!$F:$F,"<>", Daily!$G:$G, "=12") -> 71 | I16: =SUMIFS(Daily!$R:$R, Daily!$AA:$AA, "*허준영*", Daily!$I:$I, "Other", Daily!$F:$F,"<>", Daily!$G:$G, "=12") -> 4 | J16: =SUMIFS(Daily!$Y:$Y, Daily!$AA:$AA, "*허준영*", Daily!$I:$I, "Other",Daily!$F:$F,"<>", Daily!$G:$G, "=12") -> 14 | K16: =C16+E16+G16+I16 -> 31 | L16: =D16+F16+H16+J16 -> 85
B17: TTL | C17: =SUM(C5:C16) -> 0 | D17: =SUM(D5:D16) -> 0 | E17: =SUM(E5:E16) -> 319 | F17: =SUM(F5:F16) -> 1045 | G17: =SUM(G5:G16) -> 0 | H17: =SUM(H5:H16) -> 0 | I17: =SUM(I5:I16) -> 55 | J17: =SUM(J5:J16) -> 237 | ... L17: =SUM(L5:L16) -> 1282

Sheet 박병대sum
B1: Person Activity Summary
B2: Month | C2: Category | K2: TTL
C3: Project | E3: Technical Support | G3: Overhaul | I3: Other
C4: 건수 | D4: 시간 | E4: 건수 | F4: 시간 | G4: 건수 | H4: 시간 | I4: 건수 | J4: 시간 | K4: 건수 | L4: 시간
B5: Jan | E5: =SUMIFS(Daily!$R:$R, Daily!$AA:$AA, "*박병대*", Daily!$I:$I, "수리완료",Daily!$F:$F,"<>", Daily!$G:$G, "=1")+SUMIFS(Daily!$R:$R, Daily!$AA:$AA, "*박병대*", Daily!$I:$I, "외주수리완료",Daily!$F:$F,"<>", Daily!$G:$G, "=1") -> 26 | F5: =SUMIFS(Daily!$Y:$Y, Daily!$AA:$AA, "*박병대*", Daily!$I:$I, "*수리완료",Daily!$F:$F,"<>", Daily!$G:$G, "=1")+SUMIFS(Daily!$Y:$Y, Daily!$AA:$AA, "*박병대*", Daily!$I:$I, "폐기",Daily!$F:$F,"<>", Daily!$G:$G, "=1")+SUMIFS(Daily!$Y:$Y, Daily!$AA:$AA, "*박병대*", Daily!$I:$I, "수리불가",Daily!$F:$F,"<>", Daily!$G:$G, "=1") -> 136 | I5: =SUMIFS(Daily!$R:$R, Daily!$AA:$AA, "*박병대*", Daily!$I:$I, "Other", Daily!$F:$F,"<>", Daily!$G:$G, "=1") -> 0 | J5: =SUMIFS(Daily!$Y:$Y, Daily!$AA:$AA, "*박병대*", Daily!$I:$I, "Other",Daily!$F:$F,"<>", Daily!$G:$G, "=1") -> 0 | K5: =C5+E5+G5+I5 -> 26 | L5: =D5+F5+H5+J5 -> 136
B6: Feb | E6: =SUMIFS(Daily!$R:$R, Daily!$AA:$AA, "*박병대*", Daily!$I:$I, "수리완료",Daily!$F:$F,"<>", Daily!$G:$G, "=2")+SUMIFS(Daily!$R:$R, Daily!$AA:$AA, "*박병대*", Daily!$I:$I, "외주수리완료",Daily!$F:$F,"<>", Daily!$G:$G, "=2") -> 24 | F6: =SUMIFS(Daily!$Y:$Y, Daily!$AA:$AA, "*박병대*", Daily!$I:$I, "*수리완료",Daily!$F:$F,"<>", Daily!$G:$G, "=2")+SUMIFS(Daily!$Y:$Y, Daily!$AA:$AA, "*박병대*", Daily!$I:$I, "폐기",Daily!$F:$F,"<>", Daily!$G:$G, "=2")+SUMIFS(Daily!$Y:$Y, Daily!$AA:$AA, "*박병대*", Daily!$I:$I, "수리불가",Daily!$F:$F,"<>", Daily!$G:$G, "=2") -> 88 | I6: =SUMIFS(Daily!$R:$R, Daily!$AA:$AA, "*박병대*", Daily!$I:$I, "Other", Daily!$F:$F,"<>", Daily!$G:$G, "=2") -> 0 | J6: =SUMIFS(Daily!$Y:$Y, Daily!$AA:$AA, "*박병대*", Daily!$I:$I, "Other",Daily!$F:$F,"<>", Daily!$G:$G, "=2") -> 0 | K6: =C6+E6+G6+I6 -> 24 | L6: =D6+F6+H6+J6 -> 88
B7: Mar | E7: =SUMIFS(Daily!$R:$R, Daily!$AA:$AA, "*박병대*", Daily!$I:$I, "수리완료",Daily!$F:$F,"<>", Daily!$G:$G, "=3")+SUMIFS(Daily!$R:$R, Daily!$AA:$AA, "*박병대*", Daily!$I:$I, "외주수리완료",Daily!$F:$F,"<>", Daily!$G:$G, "=3") -> 23 | F7: =SUMIFS(Daily!$Y:$Y, Daily!$AA:$AA, "*박병대*", Daily!$I:$I, "*수리완료",Daily!$F:$F,"<>", Daily!$G:$G, "=3")+SUMIFS(Daily!$Y:$Y, Daily!$AA:$AA, "*박병대*", Daily!$I:$I, "폐기",Daily!$F:$F,"<>", Daily!$G:$G, "=3")+SUMIFS(Daily!$Y:$Y, Daily!$AA:$AA, "*박병대*", Daily!$I:$I, "수리불가",Daily!$F:$F,"<>", Daily!$G:$G, "=3") -> 116 | I7: =SUMIFS(Daily!$R:$R, Daily!$AA:$AA, "*박병대*", Daily!$I:$I, "Other", Daily!$F:$F,"<>", Daily!$G:$G, "=3") -> 0 | J7: =SUMIFS(Daily!$Y:$Y, Daily!$AA:$AA, "*박병대*", Daily!$I:$I, "Other",Daily!$F:$F,"<>", Daily!$G:$G, "=3") -> 0 | K7: =C7+E7+G7+I7 -> 23 | L7: =D7+F7+H7+J7 -> 116
B8: Apr | E8: =SUMIFS(Daily!$R:$R, Daily!$AA:$AA, "*박병대*", Daily!$I:$I, "수리완료",Daily!$F:$F,"<>", Daily!$G:$G, "=4")+SUMIFS(Daily!$R:$R, Daily!$AA:$AA, "*박병대*", Daily!$I:$I, "외주수리완료",Daily!$F:$F,"<>", Daily!$G:$G, "=4") -> 33 | F8: =SUMIFS(Daily!$Y:$Y, Daily!$AA:$AA, "*박병대*", Daily!$I:$I, "*수리완료",Daily!$F:$F,"<>", Daily!$G:$G, "=4")+SUMIFS(Daily!$Y:$Y, Daily!$AA:$AA, "*박병대*", Daily!$I:$I, "폐기",Daily!$F:$F,"<>", Daily!$G:$G, "=4")+SUMIFS(Daily!$Y:$Y, Daily!$AA:$AA, "*박병대*", Daily!$I:$I, "수리불가",Daily!$F:$F,"<>", Daily!$G:$G, "=4") -> 85 | I8: =SUMIFS(Daily!$R:$R, Daily!$AA:$AA, "*박병대*", Daily!$I:$I, "Other", Daily!$F:$F,"<>", Daily!$G:$G, "=4") -> 0 | J8: =SUMIFS(Daily!$Y:$Y, Daily!$AA:$AA, "*박병대*", Daily!$I:$I, "Other",Daily!$F:$F,"<>", Daily!$G:$G, "=4") -> 0 | K8: =C8+E8+G8+I8 -> 33 | L8: =D8+F8+H8+J8 -> 85
B9: May | E9: =SUMIFS(Daily!$R:$R, Daily!$AA:$AA, "*박병대*", Daily!$I:$I, "수리완료",Daily!$F:$F,"<>", Daily!$G:$G, "=5")+SUMIFS(Daily!$R:$R, Daily!$AA:$AA, "*박병대*", Daily!$I:$I, "외주수리완료",Daily!$F:$F,"<>", Daily!$G:$G, "=5") -> 25 | F9: =SUMIFS(Daily!$Y:$Y, Daily!$AA:$AA, "*박병대*", Daily!$I:$I, "*수리완료",Daily!$F:$F,"<>", Daily!$G:$G, "=5")+SUMIFS(Daily!$Y:$Y, Daily!$AA:$AA, "*박병대*", Daily!$I:$I, "폐기",Daily!$F:$F,"<>", Daily!$G:$G, "=5")+SUMIFS(Daily!$Y:$Y, Daily!$AA:$AA, "*박병대*", Daily!$I:$I, "수리불가",Daily!$F:$F,"<>", Daily!$G:$G, "=5") -> 62 | I9: =SUMIFS(Daily!$R:$R, Daily!$AA:$AA, "*박병대*", Daily!$I:$I, "Other", Daily!$F:$F,"<>", Daily!$G:$G, "=5") -> 0 | J9: =SUMIFS(Daily!$Y:$Y, Daily!$AA:$AA, "*박병대*", Daily!$I:$I, "Other",Daily!$F:$F,"<>", Daily!$G:$G, "=5") -> 0 | K9: =C9+E9+G9+I9 -> 25 | L9: =D9+F9+H9+J9 -> 62
B10: Jun | E10: =SUMIFS(Daily!$R:$R, Daily!$AA:$AA, "*박병대*", Daily!$I:$I, "수리완료",Daily!$F:$F,"<>", Daily!$G:$G, "=6")+SUMIFS(Daily!$R:$R, Daily!$AA:$AA, "*박병대*", Daily!$I:$I, "외주수리완료",Daily!$F:$F,"<>", Daily!$G:$G, "=6") -> 18 | F10: =SUMIFS(Daily!$Y:$Y, Daily!$AA:$AA, "*박병대*", Daily!$I:$I, "*수리완료",Daily!$F:$F,"<>", Daily!$G:$G, "=6")+SUMIFS(Daily!$Y:$Y, Daily!$AA:$AA, "*박병대*", Daily!$I:$I, "폐기",Daily!$F:$F,"<>", Daily!$G:$G, "=6")+SUMIFS(Daily!$Y:$Y, Daily!$AA:$AA, "*박병대*", Daily!$I:$I, "수리불가",Daily!$F:$F,"<>", Daily!$G:$G, "=6") -> 59 | I10: =SUMIFS(Daily!$R:$R, Daily!$AA:$AA, "*박병대*", Daily!$I:$I, "Other", Daily!$F:$F,"<>", Daily!$G:$G, "=6") -> 0 | J10: =SUMIFS(Daily!$Y:$Y, Daily!$AA:$AA, "*박병대*", Daily!$I:$I, "Other",Daily!$F:$F,"<>", Daily!$G:$G, "=6") -> 0 | K10: =C10+E10+G10+I10 -> 18 | L10: =D10+F10+H10+J10 -> 59
B11: Jul | E11: =SUMIFS(Daily!$R:$R, Daily!$AA:$AA, "*박병대*", Daily!$I:$I, "수리완료",Daily!$F:$F,"<>", Daily!$G:$G, "=7")+SUMIFS(Daily!$R:$R, Daily!$AA:$AA, "*박병대*", Daily!$I:$I, "외주수리완료",Daily!$F:$F,"<>", Daily!$G:$G, "=7") -> 23 | F11: =SUMIFS(Daily!$Y:$Y, Daily!$AA:$AA, "*박병대*", Daily!$I:$I, "*수리완료",Daily!$F:$F,"<>", Daily!$G:$G, "=7")+SUMIFS(Daily!$Y:$Y, Daily!$AA:$AA, "*박병대*", Daily!$I:$I, "폐기",Daily!$F:$F,"<>", Daily!$G:$G, "=7")+SUMIFS(Daily!$Y:$Y, Daily!$AA:$AA, "*박병대*", Daily!$I:$I, "수리불가",Daily!$F:$F,"<>", Daily!$G:$G, "=7") -> 70 | I11: =SUMIFS(Daily!$R:$R, Daily!$AA:$AA, "*박병대*", Daily!$I:$I, "Other", Daily!$F:$F,"<>", Daily!$G:$G, "=7") -> 0 | J11: =SUMIFS(Daily!$Y:$Y, Daily!$AA:$AA, "*박병대*", Daily!$I:$I, "Other",Daily!$F:$F,"<>", Daily!$G:$G, "=7") -> 0 | K11: =C11+E11+G11+I11 -> 23 | L11: =D11+F11+H11+J11 -> 70
B12: Aug | E12: =SUMIFS(Daily!$R:$R, Daily!$AA:$AA, "*박병대*", Daily!$I:$I, "수리완료",Daily!$F:$F,"<>", Daily!$G:$G, "=8")+SUMIFS(Daily!$R:$R, Daily!$AA:$AA, "*박병대*", Daily!$I:$I, "외주수리완료",Daily!$F:$F,"<>", Daily!$G:$G, "=8") -> 16 | F12: =SUMIFS(Daily!$Y:$Y, Daily!$AA:$AA, "*박병대*", Daily!$I:$I, "*수리완료",Daily!$F:$F,"<>", Daily!$G:$G, "=8")+SUMIFS(Daily!$Y:$Y, Daily!$AA:$AA, "*박병대*", Daily!$I:$I, "폐기",Daily!$F:$F,"<>", Daily!$G:$G, "=8")+SUMIFS(Daily!$Y:$Y, Daily!$AA:$AA, "*박병대*", Daily!$I:$I, "수리불가",Daily!$F:$F,"<>", Daily!$G:$G, "=8") -> 50 | I12: =SUMIFS(Daily!$R:$R, Daily!$AA:$AA, "*박병대*", Daily!$I:$I, "Other", Daily!$F:$F,"<>", Daily!$G:$G, "=8") -> 0 | J12: =SUMIFS(Daily!$Y:$Y, Daily!$AA:$AA, "*박병대*", Daily!$I:$I, "Other",Daily!$F:$F,"<>", Daily!$G:$G, "=8") -> 0 | K12: =C12+E12+G12+I12 -> 16 | L12: =D12+F12+H12+J12 -> 50
B13: Sep | E13: =SUMIFS(Daily!$R:$R, Daily!$AA:$AA, "*박병대*", Daily!$I:$I, "수리완료",Daily!$F:$F,"<>", Daily!$G:$G, "=9")+SUMIFS(Daily!$R:$R, Daily!$AA:$AA, "*박병대*", Daily!$I:$I, "외주수리완료",Daily!$F:$F,"<>", Daily!$G:$G, "=9") -> 2 | F13: =SUMIFS(Daily!$Y:$Y, Daily!$AA:$AA, "*박병대*", Daily!$I:$I, "*수리완료",Daily!$F:$F,"<>", Daily!$G:$G, "=9")+SUMIFS(Daily!$Y:$Y, Daily!$AA:$AA, "*박병대*", Daily!$I:$I, "폐기",Daily!$F:$F,"<>", Daily!$G:$G, "=9")+SUMIFS(Daily!$Y:$Y, Daily!$AA:$AA, "*박병대*", Daily!$I:$I, "수리불가",Daily!$F:$F,"<>", Daily!$G:$G, "=9") -> 8 | I13: =SUMIFS(Daily!$R:$R, Daily!$AA:$AA, "*박병대*", Daily!$I:$I, "Other", Daily!$F:$F,"<>", Daily!$G:$G, "=9") -> 3 | J13: =SUMIFS(Daily!$Y:$Y, Daily!$AA:$AA, "*박병대*", Daily!$I:$I, "Other",Daily!$F:$F,"<>", Daily!$G:$G, "=9") -> 24 | K13: =C13+E13+G13+I13 -> 5 | L13: =D13+F13+H13+J13 -> 32
B14: Oct | E14: =SUMIFS(Daily!$R:$R, Daily!$AA:$AA, "*박병대*", Daily!$I:$I, "수리완료",Daily!$F:$F,"<>", Daily!$G:$G, "=10")+SUMIFS(Daily!$R:$R, Daily!$AA:$AA, "*박병대*", Daily!$I:$I, "외주수리완료",Daily!$F:$F,"<>", Daily!$G:$G, "=10") -> 0 | F14: =SUMIFS(Daily!$Y:$Y, Daily!$AA:$AA, "*박병대*", Daily!$I:$I, "*수리완료",Daily!$F:$F,"<>", Daily!$G:$G, "=10")+SUMIFS(Daily!$Y:$Y, Daily!$AA:$AA, "*박병대*", Daily!$I:$I, "폐기",Daily!$F:$F,"<>", Daily!$G:$G, "=10")+SUMIFS(Daily!$Y:$Y, Daily!$AA:$AA, "*박병대*", Daily!$I:$I, "수리불가",Daily!$F:$F,"<>", Daily!$G:$G, "=10") -> 0 | I14: =SUMIFS(Daily!$R:$R, Daily!$AA:$AA, "*박병대*", Daily!$I:$I, "Other", Daily!$F:$F,"<>", Daily!$G:$G, "=10") -> 0 | J14: =SUMIFS(Daily!$Y:$Y, Daily!$AA:$AA, "*박병대*", Daily!$I:$I, "Other",Daily!$F:$F,"<>", Daily!$G:$G, "=10") -> 0 | K14: =C14+E14+G14+I14 -> 0 | L14: =D14+F14+H14+J14 -> 0
B15: Nov | E15: =SUMIFS(Daily!$R:$R, Daily!$AA:$AA, "*박병대*", Daily!$I:$I, "수리완료",Daily!$F:$F,"<>", Daily!$G:$G, "=11")+SUMIFS(Daily!$R:$R, Daily!$AA:$AA, "*박병대*", Daily!$I:$I, "외주수리완료",Daily!$F:$F,"<>", Daily!$G:$G, "=11") -> 0 | F15: =SUMIFS(Daily!$Y:$Y, Daily!$AA:$AA, "*박병대*", Daily!$I:$I, "*수리완료",Daily!$F:$F,"<>", Daily!$G:$G, "=11")+SUMIFS(Daily!$Y:$Y, Daily!$AA:$AA, "*박병대*", Daily!$I:$I, "폐기",Daily!$F:$F,"<>", Daily!$G:$G, "=11")+SUMIFS(Daily!$Y:$Y, Daily!$AA:$AA, "*박병대*", Daily!$I:$I, "수리불가",Daily!$F:$F,"<>", Daily!$G:$G, "=11") -> 0 | I15: =SUMIFS(Daily!$R:$R, Daily!$AA:$AA, "*박병대*", Daily!$I:$I, "Other", Daily!$F:$F,"<>", Daily!$G:$G, "=11") -> 0 | J15: =SUMIFS(Daily!$Y:$Y, Daily!$AA:$AA, "*박병대*", Daily!$I:$I, "Other",Daily!$F:$F,"<>", Daily!$G:$G, "=11") -> 0 | K15: =C15+E15+G15+I15 -> 0 | L15: =D15+F15+H15+J15 -> 0
B16: Dec | E16: =SUMIFS(Daily!$R:$R, Daily!$AA:$AA, "*박병대*", Daily!$I:$I, "수리완료",Daily!$F:$F,"<>", Daily!$G:$G, "=12")+SUMIFS(Daily!$R:$R, Daily!$AA:$AA, "*박병대*", Daily!$I:$I, "외주수리완료",Daily!$F:$F,"<>", Daily!$G:$G, "=12") -> 0 | F16: =SUMIFS(Daily!$Y:$Y, Daily!$AA:$AA, "*박병대*", Daily!$I:$I, "*수리완료",Daily!$F:$F,"<>", Daily!$G:$G, "=12")+SUMIFS(Daily!$Y:$Y, Daily!$AA:$AA, "*박병대*", Daily!$I:$I, "폐기",Daily!$F:$F,"<>", Daily!$G:$G, "=12")+SUMIFS(Daily!$Y:$Y, Daily!$AA:$AA, "*박병대*", Daily!$I:$I, "수리불가",Daily!$F:$F,"<>", Daily!$G:$G, "=12") -> 0 | I16: =SUMIFS(Daily!$R:$R, Daily!$AA:$AA, "*박병대*", Daily!$I:$I, "Other", Daily!$F:$F,"<>", Daily!$G:$G, "=12") -> 0 | J16: =SUMIFS(Daily!$Y:$Y, Daily!$AA:$AA, "*박병대*", Daily!$I:$I, "Other",Daily!$F:$F,"<>", Daily!$G:$G, "=12") -> 0 | K16: =C16+E16+G16+I16 -> 0 | L16: =D16+F16+H16+J16 -> 0
B17: TTL | C17: =SUM(C5:C16) -> 0 | D17: =SUM(D5:D16) -> 0 | E17: =SUM(E5:E16) -> 190 | F17: =SUM(F5:F16) -> 674 | G17: =SUM(G5:G16) -> 0 | H17: =SUM(H5:H16) -> 0 | I17: =SUM(I5:I16) -> 3 | J17: =SUM(J5:J16) -> 24 | ... L17: =SUM(L5:L16) -> 698

Sheet 최준영sum
B1: Person Activity Summary
B2: Month | C2: Category | K2: TTL
C3: Project | E3: Technical Support | G3: Overhaul | I3: Other
C4: 건수 | D4: 시간 | E4: 건수 | F4: 시간 | G4: 건수 | H4: 시간 | I4: 건수 | J4: 시간 | K4: 건수 | L4: 시간
B5: Jan | E5: =SUMIFS(Daily!$R:$R, Daily!$AA:$AA, "*최준영*", Daily!$I:$I, "*수리완료",Daily!$F:$F,"<>", Daily!$G:$G, "=1") -> 16 | F5: =SUMIFS(Daily!$Y:$Y, Daily!$AA:$AA, "*최준영*", Daily!$I:$I, "*수리완료",Daily!$F:$F,"<>", Daily!$G:$G, "=1")+SUMIFS(Daily!$Y:$Y, Daily!$AA:$AA, "*최준영*", Daily!$I:$I, "폐기",Daily!$F:$F,"<>", Daily!$G:$G, "=1")+SUMIFS(Daily!$Y:$Y, Daily!$AA:$AA, "*최준영*", Daily!$I:$I, "수리불가",Daily!$F:$F,"<>", Daily!$G:$G, "=1") -> 99 | I5: =SUMIFS(Daily!$R:$R, Daily!$AA:$AA, "*최준영*", Daily!$I:$I, "Other", Daily!$F:$F,"<>", Daily!$G:$G, "=1") -> 0 | J5: =SUMIFS(Daily!$Y:$Y, Daily!$AA:$AA, "*최준영*", Daily!$I:$I, "Other",Daily!$F:$F,"<>", Daily!$G:$G, "=1") -> 0 | K5: =C5+E5+G5+I5 -> 16 | L5: =D5+F5+H5+J5 -> 99
B6: Feb | E6: =SUMIFS(Daily!$R:$R, Daily!$AA:$AA, "*최준영*", Daily!$I:$I, "*수리완료",Daily!$F:$F,"<>", Daily!$G:$G, "=2") -> 21 | F6: =SUMIFS(Daily!$Y:$Y, Daily!$AA:$AA, "*최준영*", Daily!$I:$I, "*수리완료",Daily!$F:$F,"<>", Daily!$G:$G, "=2")+SUMIFS(Daily!$Y:$Y, Daily!$AA:$AA, "*최준영*", Daily!$I:$I, "폐기",Daily!$F:$F,"<>", Daily!$G:$G, "=2")+SUMIFS(Daily!$Y:$Y, Daily!$AA:$AA, "*최준영*", Daily!$I:$I, "수리불가",Daily!$F:$F,"<>", Daily!$G:$G, "=2") -> 96 | I6: =SUMIFS(Daily!$R:$R, Daily!$AA:$AA, "*최준영*", Daily!$I:$I, "Other", Daily!$F:$F,"<>", Daily!$G:$G, "=2") -> 0 | J6: =SUMIFS(Daily!$Y:$Y, Daily!$AA:$AA, "*최준영*", Daily!$I:$I, "Other",Daily!$F:$F,"<>", Daily!$G:$G, "=2") -> 0 | K6: =C6+E6+G6+I6 -> 21 | L6: =D6+F6+H6+J6 -> 96
B7: Mar | E7: =SUMIFS(Daily!$R:$R, Daily!$AA:$AA, "*최준영*", Daily!$I:$I, "*수리완료",Daily!$F:$F,"<>", Daily!$G:$G, "=3") -> 15 | F7: =SUMIFS(Daily!$Y:$Y, Daily!$AA:$AA, "*최준영*", Daily!$I:$I, "*수리완료",Daily!$F:$F,"<>", Daily!$G:$G, "=3")+SUMIFS(Daily!$Y:$Y, Daily!$AA:$AA, "*최준영*", Daily!$I:$I, "폐기",Daily!$F:$F,"<>", Daily!$G:$G, "=3")+SUMIFS(Daily!$Y:$Y, Daily!$AA:$AA, "*최준영*", Daily!$I:$I, "수리불가",Daily!$F:$F,"<>", Daily!$G:$G, "=3") -> 53 | I7: =SUMIFS(Daily!$R:$R, Daily!$AA:$AA, "*최준영*", Daily!$I:$I, "Other", Daily!$F:$F,"<>", Daily!$G:$G, "=3") -> 0 | J7: =SUMIFS(Daily!$Y:$Y, Daily!$AA:$AA, "*최준영*", Daily!$I:$I, "Other",Daily!$F:$F,"<>", Daily!$G:$G, "=3") -> 0 | K7: =C7+E7+G7+I7 -> 15 | L7: =D7+F7+H7+J7 -> 53
B8: Apr | E8: =SUMIFS(Daily!$R:$R, Daily!$AA:$AA, "*최준영*", Daily!$I:$I, "*수리완료",Daily!$F:$F,"<>", Daily!$G:$G, "=4") -> 18 | F8: =SUMIFS(Daily!$Y:$Y, Daily!$AA:$AA, "*최준영*", Daily!$I:$I, "*수리완료",Daily!$F:$F,"<>", Daily!$G:$G, "=4")+SUMIFS(Daily!$Y:$Y, Daily!$AA:$AA, "*최준영*", Daily!$I:$I, "폐기",Daily!$F:$F,"<>", Daily!$G:$G, "=4")+SUMIFS(Daily!$Y:$Y, Daily!$AA:$AA, "*최준영*", Daily!$I:$I, "수리불가",Daily!$F:$F,"<>", Daily!$G:$G, "=4") -> 73 | I8: =SUMIFS(Daily!$R:$R, Daily!$AA:$AA, "*최준영*", Daily!$I:$I, "Other", Daily!$F:$F,"<>", Daily!$G:$G, "=4") -> 0 | J8: =SUMIFS(Daily!$Y:$Y, Daily!$AA:$AA, "*최준영*", Daily!$I:$I, "Other",Daily!$F:$F,"<>", Daily!$G:$G, "=4") -> 0 | K8: =C8+E8+G8+I8 -> 18 | L8: =D8+F8+H8+J8 -> 73
B9: May | E9: =SUMIFS(Daily!$R:$R, Daily!$AA:$AA, "*최준영*", Daily!$I:$I, "*수리완료",Daily!$F:$F,"<>", Daily!$G:$G, "=5") -> 21 | F9: =SUMIFS(Daily!$Y:$Y, Daily!$AA:$AA, "*최준영*", Daily!$I:$I, "*수리완료",Daily!$F:$F,"<>", Daily!$G:$G, "=5")+SUMIFS(Daily!$Y:$Y, Daily!$AA:$AA, "*최준영*", Daily!$I:$I, "폐기",Daily!$F:$F,"<>", Daily!$G:$G, "=5")+SUMIFS(Daily!$Y:$Y, Daily!$AA:$AA, "*최준영*", Daily!$I:$I, "수리불가",Daily!$F:$F,"<>", Daily!$G:$G, "=5") -> 74 | I9: =SUMIFS(Daily!$R:$R, Daily!$AA:$AA, "*최준영*", Daily!$I:$I, "Other", Daily!$F:$F,"<>", Daily!$G:$G, "=5") -> 0 | J9: =SUMIFS(Daily!$Y:$Y, Daily!$AA:$AA, "*최준영*", Daily!$I:$I, "Other",Daily!$F:$F,"<>", Daily!$G:$G, "=5") -> 0 | K9: =C9+E9+G9+I9 -> 21 | L9: =D9+F9+H9+J9 -> 74
B10: Jun | E10: =SUMIFS(Daily!$R:$R, Daily!$AA:$AA, "*최준영*", Daily!$I:$I, "*수리완료",Daily!$F:$F,"<>", Daily!$G:$G, "=6") -> 27 | F10: =SUMIFS(Daily!$Y:$Y, Daily!$AA:$AA, "*최준영*", Daily!$I:$I, "*수리완료",Daily!$F:$F,"<>", Daily!$G:$G, "=6")+SUMIFS(Daily!$Y:$Y, Daily!$AA:$AA, "*최준영*", Daily!$I:$I, "폐기",Daily!$F:$F,"<>", Daily!$G:$G, "=6")+SUMIFS(Daily!$Y:$Y, Daily!$AA:$AA, "*최준영*", Daily!$I:$I, "수리불가",Daily!$F:$F,"<>", Daily!$G:$G, "=6") -> 101 | I10: =SUMIFS(Daily!$R:$R, Daily!$AA:$AA, "*최준영*", Daily!$I:$I, "Other", Daily!$F:$F,"<>", Daily!$G:$G, "=6") -> 0 | J10: =SUMIFS(Daily!$Y:$Y, Daily!$AA:$AA, "*최준영*", Daily!$I:$I, "Other",Daily!$F:$F,"<>", Daily!$G:$G, "=6") -> 0 | K10: =C10+E10+G10+I10 -> 27 | L10: =D10+F10+H10+J10 -> 101
B11: Jul | E11: =SUMIFS(Daily!$R:$R, Daily!$AA:$AA, "*최준영*", Daily!$I:$I, "*수리완료",Daily!$F:$F,"<>", Daily!$G:$G, "=7") -> 45 | F11: =SUMIFS(Daily!$Y:$Y, Daily!$AA:$AA, "*최준영*", Daily!$I:$I, "*수리완료",Daily!$F:$F,"<>", Daily!$G:$G, "=7")+SUMIFS(Daily!$Y:$Y, Daily!$AA:$AA, "*최준영*", Daily!$I:$I, "폐기",Daily!$F:$F,"<>", Daily!$G:$G, "=7")+SUMIFS(Daily!$Y:$Y, Daily!$AA:$AA, "*최준영*", Daily!$I:$I, "수리불가",Daily!$F:$F,"<>", Daily!$G:$G, "=7") -> 127 | I11: =SUMIFS(Daily!$R:$R, Daily!$AA:$AA, "*최준영*", Daily!$I:$I, "Other", Daily!$F:$F,"<>", Daily!$G:$G, "=7") -> 0 | J11: =SUMIFS(Daily!$Y:$Y, Daily!$AA:$AA, "*최준영*", Daily!$I:$I, "Other",Daily!$F:$F,"<>", Daily!$G:$G, "=7") -> 0 | K11: =C11+E11+G11+I11 -> 45 | L11: =D11+F11+H11+J11 -> 127
B12: Aug | E12: =SUMIFS(Daily!$R:$R, Daily!$AA:$AA, "*최준영*", Daily!$I:$I, "*수리완료",Daily!$F:$F,"<>", Daily!$G:$G, "=8") -> 25 | F12: =SUMIFS(Daily!$Y:$Y, Daily!$AA:$AA, "*최준영*", Daily!$I:$I, "*수리완료",Daily!$F:$F,"<>", Daily!$G:$G, "=8")+SUMIFS(Daily!$Y:$Y, Daily!$AA:$AA, "*최준영*", Daily!$I:$I, "폐기",Daily!$F:$F,"<>", Daily!$G:$G, "=8")+SUMIFS(Daily!$Y:$Y, Daily!$AA:$AA, "*최준영*", Daily!$I:$I, "수리불가",Daily!$F:$F,"<>", Daily!$G:$G, "=8") -> 74 | I12: =SUMIFS(Daily!$R:$R, Daily!$AA:$AA, "*최준영*", Daily!$I:$I, "Other", Daily!$F:$F,"<>", Daily!$G:$G, "=8") -> 0 | J12: =SUMIFS(Daily!$Y:$Y, Daily!$AA:$AA, "*최준영*", Daily!$I:$I, "Other",Daily!$F:$F,"<>", Daily!$G:$G, "=8") -> 0 | K12: =C12+E12+G12+I12 -> 25 | L12: =D12+F12+H12+J12 -> 74
B13: Sep | E13: =SUMIFS(Daily!$R:$R, Daily!$AA:$AA, "*최준영*", Daily!$I:$I, "*수리완료",Daily!$F:$F,"<>", Daily!$G:$G, "=9") -> 25 | F13: =SUMIFS(Daily!$Y:$Y, Daily!$AA:$AA, "*최준영*", Daily!$I:$I, "*수리완료",Daily!$F:$F,"<>", Daily!$G:$G, "=9")+SUMIFS(Daily!$Y:$Y, Daily!$AA:$AA, "*최준영*", Daily!$I:$I, "폐기",Daily!$F:$F,"<>", Daily!$G:$G, "=9")+SUMIFS(Daily!$Y:$Y, Daily!$AA:$AA, "*최준영*", Daily!$I:$I, "수리불가",Daily!$F:$F,"<>", Daily!$G:$G, "=9") -> 102 | I13: =SUMIFS(Daily!$R:$R, Daily!$AA:$AA, "*최준영*", Daily!$I:$I, "Other", Daily!$F:$F,"<>", Daily!$G:$G, "=9") -> 0 | J13: =SUMIFS(Daily!$Y:$Y, Daily!$AA:$AA, "*최준영*", Daily!$I:$I, "Other",Daily!$F:$F,"<>", Daily!$G:$G, "=9") -> 0 | K13: =C13+E13+G13+I13 -> 25 | L13: =D13+F13+H13+J13 -> 102
B14: Oct | E14: =SUMIFS(Daily!$R:$R, Daily!$AA:$AA, "*최준영*", Daily!$I:$I, "*수리완료",Daily!$F:$F,"<>", Daily!$G:$G, "=10") -> 23 | F14: =SUMIFS(Daily!$Y:$Y, Daily!$AA:$AA, "*최준영*", Daily!$I:$I, "*수리완료",Daily!$F:$F,"<>", Daily!$G:$G, "=10")+SUMIFS(Daily!$Y:$Y, Daily!$AA:$AA, "*최준영*", Daily!$I:$I, "폐기",Daily!$F:$F,"<>", Daily!$G:$G, "=10")+SUMIFS(Daily!$Y:$Y, Daily!$AA:$AA, "*최준영*", Daily!$I:$I, "수리불가",Daily!$F:$F,"<>", Daily!$G:$G, "=10") -> 89 | I14: =SUMIFS(Daily!$R:$R, Daily!$AA:$AA, "*최준영*", Daily!$I:$I, "Other", Daily!$F:$F,"<>", Daily!$G:$G, "=10") -> 0 | J14: =SUMIFS(Daily!$Y:$Y, Daily!$AA:$AA, "*최준영*", Daily!$I:$I, "Other",Daily!$F:$F,"<>", Daily!$G:$G, "=10") -> 0 | K14: =C14+E14+G14+I14 -> 23 | L14: =D14+F14+H14+J14 -> 89
B15: Nov | E15: =SUMIFS(Daily!$R:$R, Daily!$AA:$AA, "*최준영*", Daily!$I:$I, "*수리완료",Daily!$F:$F,"<>", Daily!$G:$G, "=11") -> 12 | F15: =SUMIFS(Daily!$Y:$Y, Daily!$AA:$AA, "*최준영*", Daily!$I:$I, "*수리완료",Daily!$F:$F,"<>", Daily!$G:$G, "=11")+SUMIFS(Daily!$Y:$Y, Daily!$AA:$AA, "*최준영*", Daily!$I:$I, "폐기",Daily!$F:$F,"<>", Daily!$G:$G, "=11")+SUMIFS(Daily!$Y:$Y, Daily!$AA:$AA, "*최준영*", Daily!$I:$I, "수리불가",Daily!$F:$F,"<>", Daily!$G:$G, "=11") -> 53 | I15: =SUMIFS(Daily!$R:$R, Daily!$AA:$AA, "*최준영*", Daily!$I:$I, "Other", Daily!$F:$F,"<>", Daily!$G:$G, "=11") -> 0 | J15: =SUMIFS(Daily!$Y:$Y, Daily!$AA:$AA, "*최준영*", Daily!$I:$I, "Other",Daily!$F:$F,"<>", Daily!$G:$G, "=11") -> 0 | K15: =C15+E15+G15+I15 -> 12 | L15: =D15+F15+H15+J15 -> 53
B16: Dec | E16: =SUMIFS(Daily!$R:$R, Daily!$AA:$AA, "*최준영*", Daily!$I:$I, "*수리완료",Daily!$F:$F,"<>", Daily!$G:$G, "=12") -> 19 | F16: =SUMIFS(Daily!$Y:$Y, Daily!$AA:$AA, "*최준영*", Daily!$I:$I, "*수리완료",Daily!$F:$F,"<>", Daily!$G:$G, "=12")+SUMIFS(Daily!$Y:$Y, Daily!$AA:$AA, "*최준영*", Daily!$I:$I, "폐기",Daily!$F:$F,"<>", Daily!$G:$G, "=12")+SUMIFS(Daily!$Y:$Y, Daily!$AA:$AA, "*최준영*", Daily!$I:$I, "수리불가",Daily!$F:$F,"<>", Daily!$G:$G, "=12") -> 74 | I16: =SUMIFS(Daily!$R:$R, Daily!$AA:$AA, "*최준영*", Daily!$I:$I, "Other", Daily!$F:$F,"<>", Daily!$G:$G, "=12") -> 0 | J16: =SUMIFS(Daily!$Y:$Y, Daily!$AA:$AA, "*최준영*", Daily!$I:$I, "Other",Daily!$F:$F,"<>", Daily!$G:$G, "=12") -> 0 | K16: =C16+E16+G16+I16 -> 19 | L16: =D16+F16+H16+J16 -> 74
B17: TTL | C17: =SUM(C5:C16) -> 0 | D17: =SUM(D5:D16) -> 0 | E17: =SUM(E5:E16) -> 267 | F17: =SUM(F5:F16) -> 1015 | G17: =SUM(G5:G16) -> 0 | H17: =SUM(H5:H16) -> 0 | I17: =SUM(I5:I16) -> 0 | J17: =SUM(J5:J16) -> 0 | ... L17: =SUM(L5:L16) -> 1015

Sheet 정기수sum
B1: Person Activity Summary
B2: Month | C2: Category | K2: TTL
C3: Project | G3: Overhaul | I3: Other
C4: 건수 | D4: 시간 | E4: 건수 | F4: 시간 | G4: 건수 | H4: 시간 | I4: 건수 | J4: 시간 | K4: 건수 | L4: 시간
