Workbook
Name APR: 'Raw Data'!$AU:$AU
Name AUG: 'Raw Data'!$AY:$AY
Name DEC: 'Raw Data'!$BC:$BC
Name FEB: 'Raw Data'!$AS:$AS
Name JAN: 'Raw Data'!$AR:$AR
Name JUL: 'Raw Data'!$AX:$AX
Name JUN: 'Raw Data'!$AW:$AW
Name MAR: 'Raw Data'!$AT:$AT
Name MAY: 'Raw Data'!$AV:$AV
Name NOV: 'Raw Data'!$BB:$BB
Name OCT: 'Raw Data'!$BA:$BA
Name SEP: 'Raw Data'!$AZ:$AZ

Sheet Summary
B2: Completed Item Summary of ATKEE Activities in 2021 (ww03) | AH2: Quarterly Performance | BY2: Monthly Performance Summary
B3: Site | C3: 2020 COST REDUCTION PERFORMANCE | M3: 1H | W3: 2H | AH3: 1Q | AR3: 2Q | BB3: 3Q | BL3: 4Q | BV3: PLAN | BY3: Site | BZ3: Cost Reduction Performance
C4: Capex | E4: R&M | G4: Support | K4: Sum | M4: Capex | O4: R&M | Q4: Support | U4: Sum | W4: Capex | Y4: R&M | AA4: Support | AE4: Sum | AH4: Capex | AJ4: R&M | AL4: Support | AP4: Sum | AR4: Capex | AT4: R&M | AV4: Support | AZ4: Sum | BB4: Capex | BD4: R&M | BF4: Support | BJ4: Sum | BL4: Capex | BN4: R&M | BP4: Support | BT4: Sum | BV4: Sum | BZ4: Jan | CC4: Feb | CF4: Mar | CI4: 1Q | CL4: Apr | CM4: Apr | CN4: Apr | CO4: May | CP4: May | CQ4: May | CR4: Jun | CS4: Jun | CT4: Jun | CU4: 2Q | CX4: Jul | CY4: Jul | CZ4: Jul | DA4: Aug | DB4: Aug | DC4: Aug | DD4: Sep | DE4: Sep | DF4: Sep | DG4: 3Q | DJ4: Oct | DK4: Oct | DL4: Oct | DM4: Nov | DN4: Nov | DO4: Nov | DP4: Dec | DQ4: Dec | DR4: Dec | DS4: 4Q | DV4: TTL | DW4: TTL | DX4: TTL
C5: Q'ty | D5: Effect | E5: Q'ty | F5: Effect | G5: Q'ty | H5: HR | I5: Day | J5: Day(sum) | K5: Q'ty | L5: Effect | M5: Q'ty | N5: Effect | O5: Q'ty | P5: Effect | Q5: Q'ty | R5: HR | S5: Day | T5: Day(sum) | U5: Q'ty | V5: Effect | W5: Q'ty | X5: Effect | Y5: Q'ty | Z5: Effect | AA5: Q'ty | AB5: HR | AC5: Day | AD5: Day(sum) | AE5: Q'ty | AF5: Effect | AH5: 건수 | AI5: Effect | AJ5: 건수 | AK5: Effect | AL5: 건수 | AM5: 인원 | AN5: 일 | AO5: 일(TTL) | AP5: 건수 | AQ5: Effect | AR5: 건수 | AS5: Effect | AT5: 건수 | AU5: Effect | AV5: 건수 | AW5: 인원 | AX5: 일 | AY5: 일(TTL) | AZ5: 건수 | BA5: Effect | BB5: 건수 | BC5: Effect | BD5: 건수 | BE5: Effect | BF5: 건수 | BG5: 인원 | BH5: 일 | BI5: 일(TTL) | BJ5: 건수 | BK5: Effect | BL5: 건수 | BM5: Effect | BN5: 건수 | BO5: Effect | BP5: 건수 | BQ5: 인원 | BR5: 일 | BS5: 일(TTL) | BT5: 건수 | BU5: Effect | BV5: Effect | BZ5: S | CA5: P | CB5: E | CC5: S | CD5: P | CE5: E | CF5: S | CG5: P | CH5: E | CI5: S | CJ5: P | CK5: E | CL5: S | CM5: P | CN5: E | CO5: S | CP5: P | CQ5: E | CR5: S | CS5: P | CT5: E | CU5: S | CV5: P | CW5: E | CX5: S | CY5: P | CZ5: E | DA5: S | DB5: P | DC5: E | DD5: S | DE5: P | DF5: E | DG5: S | DH5: P | DI5: E | DJ5: S | DK5: P | DL5: E | DM5: S | DN5: P | DO5: E | DP5: S | DQ5: P | DR5: E | DS5: S | DT5: P | DU5: E | DV5: S | DW5: P | DX5: E
B6: ATK | C6: =SUM(AH6,AR6,BB6,BL6) -> 0 | D6: =SUM(AI6,AS6,BC6,BM6) -> 0 | E6: =SUM(AJ6,AT6,BD6,BN6) -> 0 | F6: =SUM(AK6,AU6,BE6,BO6) -> 0 | G6: =SUM(AL6,AV6,BF6,BP6) -> 0 | H6: =SUM(AM6,AW6,BG6,BQ6) -> 0 | I6: =SUM(AN6,AX6,BH6,BR6) -> 0 | J6: =H6*I6 -> 0 | K6: =SUM(C6,E6,G6) -> 0 | L6: =SUM(D6,F6) -> 0 | M6: =AH6+AR6 -> 0 | N6: =AI6+AS6 -> 0 | O6: =AJ6+AT6 -> 0 | P6: =AK6+AU6 -> 0 | Q6: =AL6+AV6 -> 0 | R6: =AM6+AW6 -> 0 | S6: =AN6+AX6 -> 0 | T6: =AO6+AY6 -> 0 | ... V6: =AQ6+BA6 -> 0 | W6: =BB6+BL6 -> 0 | X6: =BC6+BM6 -> 0 | Y6: =BD6+BN6 -> 0 | Z6: =BE6+BO6 -> 0 | AA6: =BF6+BP6 -> 0 | AB6: =BG6+BQ6 -> 0 | AC6: =BH6+BR6 -> 0 | AD6: =BI6+BS6 -> 0 | ... AF6: =BK6+BU6 -> 0 | AH6: =COUNTIFS('Raw Data'!$G$6:$G$640,"Capex",'Raw Data'!$F$6:$F$640,B6,'Raw Data'!$Z$6:$Z$640,">=0")+COUNTIFS('Raw Data'!$G$6:$G$640,"Capex",'Raw Data'!$F$6:$F$640,B6,'Raw Data'!$AA$6:$AA$640,">=0")+COUNTIFS('Raw Data'!$G$6:$G$640,"Capex",'Raw Data'!$F$6:$F$640,B6,'Raw Data'!$AB$6:$AB$640,">=0") -> 0 | AI6: =SUMIFS('Raw Data'!$R$6:$R$640,'Raw Data'!$G$6:$G$640,"Capex",'Raw Data'!$F$6:$F$640,B6) -> 0 | AJ6: =COUNTIFS('Raw Data'!$G$6:$G$640,"R&M",'Raw Data'!$F$6:$F$640,B6,'Raw Data'!$Z$6:$Z$640,">0")+COUNTIFS('Raw Data'!$G$6:$G$640,"R&M",'Raw Data'!$F$6:$F$640,B6,'Raw Data'!$AA$6:$AA$640,">0")+COUNTIFS('Raw Data'!$G$6:$G$640,"R&M",'Raw Data'!$F$6:$F$640,B6,'Raw Data'!$AB$6:$AB$640,">0") -> 0 | AK6: =SUMIFS('Raw Data'!$R$6:$R$640,'Raw Data'!$G$6:$G$640,$AJ$4,'Raw Data'!$F$6:$F$640,B6) -> 0 | AL6: =COUNTIFS('Raw Data'!$G$6:$G$640,"Support",'Raw Data'!$F$6:$F$640,B6,'Raw Data'!$Z$6:$Z$640,">0")+COUNTIFS('Raw Data'!$G$6:$G$640,"Support",'Raw Data'!$F$6:$F$640,B6,'Raw Data'!$AA$6:$AA$640,">0")+COUNTIFS('Raw Data'!$G$6:$G$640,"Support",'Raw Data'!$F$6:$F$640,B6,'Raw Data'!$AB$6:$AB$640,">0") -> 0 | AM6: =SUMIFS('Raw Data'!$X$6:$X$640,'Raw Data'!$G$6:$G$640,"Support",'Raw Data'!$F$6:$F$640,B6,'Raw Data'!$Z$6:$Z$640,">0")+SUMIFS('Raw Data'!$X$6:$X$640,'Raw Data'!$G$6:$G$640,"Support",'Raw Data'!$F$6:$F$640,B6,'Raw Data'!$AA$6:$AA$640,">0")+SUMIFS('Raw Data'!$X$6:$X$640,'Raw Data'!$G$6:$G$640,"Support",'Raw Data'!$F$6:$F$640,B6,'Raw Data'!$AB$6:$AB$640,">0") -> 0 | AN6: =SUMIFS('Raw Data'!$Y$6:$Y$640,'Raw Data'!$G$6:$G$640,"Support",'Raw Data'!$F$6:$F$640,B6,'Raw Data'!$Z$6:$Z$640,">0")+SUMIFS('Raw Data'!$Y$6:$Y$640,'Raw Data'!$G$6:$G$640,"Support",'Raw Data'!$F$6:$F$640,B6,'Raw Data'!$AA$6:$AA$640,">0")+SUMIFS('Raw Data'!$Y$6:$Y$640,'Raw Data'!$G$6:$G$640,"Support",'Raw Data'!$F$6:$F$640,B6,'Raw Data'!$AB$6:$AB$640,">0") -> 0 | AO6: =AM6*AN6 -> 0 | AP6: =SUM(AH6,AJ6,AL6) -> 0 | AQ6: =SUM(AI6,AK6) -> 0 | AR6: =COUNTIFS('Raw Data'!$G$6:$G$640,"Capex",'Raw Data'!$F$6:$F$640,B6,'Raw Data'!$AC$6:$AC$640,">0")+COUNTIFS('Raw Data'!$G$6:$G$640,"Capex",'Raw Data'!$F$6:$F$640,B6,'Raw Data'!$AD$6:$AD$640,">0")+COUNTIFS('Raw Data'!$G$6:$G$640,"Capex",'Raw Data'!$F$6:$F$640,B6,'Raw Data'!$AE$6:$AE$640,">0") -> 0 | AS6: =SUMIFS('Raw Data'!$S$6:$S$640,'Raw Data'!$G$6:$G$640,"Capex",'Raw Data'!$F$6:$F$640,B6) -> 0 | AT6: =COUNTIFS('Raw Data'!$G$6:$G$640,"R&M",'Raw Data'!$F$6:$F$640,B6,'Raw Data'!$AC$6:$AC$640,">0")+COUNTIFS('Raw Data'!$G$6:$G$640,"R&M",'Raw Data'!$F$6:$F$640,B6,'Raw Data'!$AD$6:$AD$640,">0")+COUNTIFS('Raw Data'!$G$6:$G$640,"R&M",'Raw Data'!$F$6:$F$640,B6,'Raw Data'!$AE$6:$AE$640,">0") -> 0 | AU6: =SUMIFS('Raw Data'!$S$6:$S$640,'Raw Data'!$G$6:$G$640,"R&M",'Raw Data'!$F$6:$F$640,B6) -> 0 | AV6: =COUNTIFS('Raw Data'!$G$6:$G$340,"Support",'Raw Data'!$F$6:$F$340,B6,'Raw Data'!$AC$6:$AC$340,">0")+COUNTIFS('Raw Data'!$G$6:$G$340,"Support",'Raw Data'!$F$6:$F$340,B6,'Raw Data'!$AD$6:$AD$340,">0")+COUNTIFS('Raw Data'!$G$6:$G$340,"Support",'Raw Data'!$F$6:$F$340,B6,'Raw Data'!$AE$6:$AE$340,">0") -> 0 | AW6: =SUMIFS('Raw Data'!$X$6:$X$640,'Raw Data'!$G$6:$G$640,"Support",'Raw Data'!$F$6:$F$640,B6,'Raw Data'!$AC$6:$AC$640,">0")+SUMIFS('Raw Data'!$X$6:$X$640,'Raw Data'!$G$6:$G$640,"Support",'Raw Data'!$F$6:$F$640,B6,'Raw Data'!$AD$6:$AD$640,">0")+SUMIFS('Raw Data'!$X$6:$X$640,'Raw Data'!$G$6:$G$640,"Support",'Raw Data'!$F$6:$F$640,B6,'Raw Data'!$AE$6:$AE$640,">0") -> 0 | AX6: =SUMIFS('Raw Data'!$Y$6:$Y$640,'Raw Data'!$G$6:$G$640,"Support",'Raw Data'!$F$6:$F$640,B6,'Raw Data'!$AC$6:$AC$640,">0")+SUMIFS('Raw Data'!$Y$6:$Y$640,'Raw Data'!$G$6:$G$640,"Support",'Raw Data'!$F$6:$F$640,B6,'Raw Data'!$AD$6:$AD$640,">0")+SUMIFS('Raw Data'!$Y$6:$Y$640,'Raw Data'!$G$6:$G$640,"Support",'Raw Data'!$F$6:$F$640,B6,'Raw Data'!$AE$6:$AE$640,">0") -> 0 | AY6: =AW6*AX6 -> 0 | AZ6: =SUM(AR6,AT6,AV6) -> 0 | BA6: =SUM(AS6,AU6) -> 0 | BB6: =COUNTIFS('Raw Data'!$G$6:$G$640,"Capex",'Raw Data'!$F$6:$F$640,B6,'Raw Data'!$AF$6:$AF$640,">0")+COUNTIFS('Raw Data'!$G$6:$G$640,"Capex",'Raw Data'!$F$6:$F$640,B6,'Raw Data'!$AG$6:$AG$640,">0")+COUNTIFS('Raw Data'!$G$6:$G$640,"Capex",'Raw Data'!$F$6:$F$640,B6,'Raw Data'!$AH$6:$AH$640,">0") -> 0 | BC6: =SUMIFS('Raw Data'!$T$6:$T$640,'Raw Data'!$G$6:$G$640,"Capex",'Raw Data'!$F$6:$F$640,B6) -> 0 | BD6: =COUNTIFS('Raw Data'!$G$6:$G$640,"R&M",'Raw Data'!$F$6:$F$640,B6,'Raw Data'!$AF$6:$AF$640,">0")+COUNTIFS('Raw Data'!$G$6:$G$640,"R&M",'Raw Data'!$F$6:$F$640,B6,'Raw Data'!$AG$6:$AG$640,">0")+COUNTIFS('Raw Data'!$G$6:$G$640,"R&M",'Raw Data'!$F$6:$F$640,B6,'Raw Data'!$AH$6:$AH$640,">0") -> 0 | BE6: =SUMIFS('Raw Data'!$T$6:$T$640,'Raw Data'!$G$6:$G$640,"R&M",'Raw Data'!$F$6:$F$640,B6) -> 0 | BF6: =COUNTIFS('Raw Data'!$G$6:$G$640,"Support",'Raw Data'!$F$6:$F$640,B6,'Raw Data'!$AF$6:$AF$640,">0")+COUNTIFS('Raw Data'!$G$6:$G$640,"Support",'Raw Data'!$F$6:$F$640,B6,'Raw Data'!$AG$6:$AG$640,">0")+COUNTIFS('Raw Data'!$G$6:$G$640,"Support",'Raw Data'!$F$6:$F$640,B6,'Raw Data'!$AH$6:$AH$640,">0") -> 0 | BG6: =SUMIFS('Raw Data'!$X$6:$X$640,'Raw Data'!$G$6:$G$640,"Support",'Raw Data'!$F$6:$F$640,B6,'Raw Data'!$AF$6:$AF$640,">0")+SUMIFS('Raw Data'!$X$6:$X$640,'Raw Data'!$G$6:$G$640,"Support",'Raw Data'!$F$6:$F$640,B6,'Raw Data'!$AG$6:$AG$640,">0")+SUMIFS('Raw Data'!$X$6:$X$640,'Raw Data'!$G$6:$G$640,"Support",'Raw Data'!$F$6:$F$640,B6,'Raw Data'!$AH$6:$AH$640,">0") -> 0 | BH6: =SUMIFS('Raw Data'!$Y$6:$Y$640,'Raw Data'!$G$6:$G$640,"Support",'Raw Data'!$F$6:$F$640,B6,'Raw Data'!$AF$6:$AF$640,">0")+SUMIFS('Raw Data'!$Y$6:$Y$640,'Raw Data'!$G$6:$G$640,"Support",'Raw Data'!$F$6:$F$640,B6,'Raw Data'!$AG$6:$AG$640,">0")+SUMIFS('Raw Data'!$Y$6:$Y$640,'Raw Data'!$G$6:$G$640,"Support",'Raw Data'!$F$6:$F$640,B6,'Raw Data'!$AH$6:$AH$640,">0") -> 0 | BI6: =BG6*BH6 -> 0 | BJ6: =SUM(BB6,BD6,BF6) -> 0 | BK6: =SUM(BC6,BE6) -> 0 | BL6: =COUNTIFS('Raw Data'!$G$6:$G$640,"Capex",'Raw Data'!$F$6:$F$640,B6,'Raw Data'!$AI$6:$AI$640,">0")+COUNTIFS('Raw Data'!$G$6:$G$640,"Capex",'Raw Data'!$F$6:$F$640,B6,'Raw Data'!$AJ$6:$AJ$640,">0")+COUNTIFS('Raw Data'!$G$6:$G$640,"Capex",'Raw Data'!$F$6:$F$640,B6,'Raw Data'!$AK$6:$AK$640,">0") -> 0 | BM6: =SUMIFS('Raw Data'!$U$6:$U$640,'Raw Data'!$G$6:$G$640,"Capex",'Raw Data'!$F$6:$F$640,B6) -> 0 | BN6: =COUNTIFS('Raw Data'!$G$6:$G$640,"R&M",'Raw Data'!$F$6:$F$640,B6,'Raw Data'!$AI$6:$AI$640,">0")+COUNTIFS('Raw Data'!$G$6:$G$640,"R&M",'Raw Data'!$F$6:$F$640,B6,'Raw Data'!$AJ$6:$AJ$640,">0")+COUNTIFS('Raw Data'!$G$6:$G$640,"R&M",'Raw Data'!$F$6:$F$640,B6,'Raw Data'!$AK$6:$AK$640,">0") -> 0 | BO6: =SUMIFS('Raw Data'!$U$6:$U$640,'Raw Data'!$G$6:$G$640,"R&M",'Raw Data'!$F$6:$F$640,B6) -> 0 | BP6: =COUNTIFS('Raw Data'!$G$6:$G$640,"Support",'Raw Data'!$F$6:$F$640,B6,'Raw Data'!$AI$6:$AI$640,">0")+COUNTIFS('Raw Data'!$G$6:$G$640,"Support",'Raw Data'!$F$6:$F$640,B6,'Raw Data'!$AJ$6:$AJ$640,">0")+COUNTIFS('Raw Data'!$G$6:$G$640,"Support",'Raw Data'!$F$6:$F$640,B6,'Raw Data'!$AK$6:$AK$640,">0") -> 0 | BQ6: =SUMIFS('Raw Data'!$X$6:$X$640,'Raw Data'!$G$6:$G$640,"Support",'Raw Data'!$F$6:$F$640,B6,'Raw Data'!$AI$6:$AI$640,">0")+SUMIFS('Raw Data'!$X$6:$X$640,'Raw Data'!$G$6:$G$640,"Support",'Raw Data'!$F$6:$F$640,B6,'Raw Data'!$AJ$6:$AJ$640,">0")+SUMIFS('Raw Data'!$X$6:$X$640,'Raw Data'!$G$6:$G$640,"Support",'Raw Data'!$F$6:$F$640,B6,'Raw Data'!$AK$6:$AK$640,">0") -> 0 | BR6: =SUMIFS('Raw Data'!$Y$6:$Y$640,'Raw Data'!$G$6:$G$640,"Support",'Raw Data'!$F$6:$F$640,B6,'Raw Data'!$AI$6:$AI$640,">0")+SUMIFS('Raw Data'!$Y$6:$Y$640,'Raw Data'!$G$6:$G$640,"Support",'Raw Data'!$F$6:$F$640,B6,'Raw Data'!$AJ$6:$AJ$640,">0")+SUMIFS('Raw Data'!$Y$6:$Y$640,'Raw Data'!$G$6:$G$640,"Support",'Raw Data'!$F$6:$F$640,B6,'Raw Data'!$AK$6:$AK$640,">0") -> 0 | BS6: =BQ6*BR6 -> 0 | BT6: =SUM(BL6,BN6,BP6) -> 0 | BU6: =SUM(BM6,BO6) -> 0 | BV6: =650*12 -> 7800 | BY6: ATK | BZ6: =COUNTIFS('Raw Data'!$F:$F,Summary!$B7,'Raw Data'!K:K,Summary!BZ$4,'Raw Data'!X:X,">") -> 0 | CA6: =COUNTIFS('Raw Data'!$F:$F,Summary!$B6,'Raw Data'!Z:Z,">0") -> 0 | CB6: =SUMIFS('Raw Data'!$W:$W,'Raw Data'!$F:$F,Summary!$B6,'Raw Data'!Z:Z,">0") -> 0 | CC6: =COUNTIFS('Raw Data'!$F:$F,Summary!$B7,'Raw Data'!L:L,Summary!CC$4,'Raw Data'!Y:Y,">") -> 0 | CD6: =COUNTIFS('Raw Data'!$F:$F,Summary!$B6,'Raw Data'!AA:AA,">0") -> 0 | CE6: =SUMIFS('Raw Data'!$W:$W,'Raw Data'!$F:$F,Summary!$B6,'Raw Data'!AA:AA,">0") -> 0 | CF6: =COUNTIFS('Raw Data'!$F:$F,Summary!$B7,'Raw Data'!M:M,Summary!CF$4,'Raw Data'!Z:Z,">") -> 0 | CG6: =COUNTIFS('Raw Data'!$F:$F,Summary!$B6,'Raw Data'!AB:AB,">0") -> 0 | CH6: =SUMIFS('Raw Data'!$W:$W,'Raw Data'!$F:$F,Summary!$B6,'Raw Data'!AB:AB,">0") -> 0 | CI6: =BZ6+CC6+CF6 -> 0 | CJ6: =CA6+CD6+CG6 -> 0 | CK6: =CB6+CE6+CH6 -> 0 | CL6: =COUNTIFS('Raw Data'!$F:$F,Summary!$B7,'Raw Data'!N:N,Summary!CL$4,'Raw Data'!AA:AA,">") -> 0 | CM6: =COUNTIFS('Raw Data'!$F:$F,Summary!$B6,'Raw Data'!AC:AC,">0") -> 0 | CN6: =SUMIFS('Raw Data'!$W:$W,'Raw Data'!$F:$F,Summary!$B6,'Raw Data'!AC:AC,">0") -> 0 | CO6: =COUNTIFS('Raw Data'!$F:$F,Summary!$B7,'Raw Data'!O:O,Summary!CO$4,'Raw Data'!AB:AB,">") -> 0 | CP6: =COUNTIFS('Raw Data'!$F:$F,Summary!$B6,'Raw Data'!AD:AD,">0") -> 0 | CQ6: =SUMIFS('Raw Data'!$W:$W,'Raw Data'!$F:$F,Summary!$B6,'Raw Data'!AD:AD,">0") -> 0 | CR6: =COUNTIFS('Raw Data'!$F:$F,Summary!$B7,'Raw Data'!P:P,Summary!CR$4,'Raw Data'!AC:AC,">") -> 0 | CS6: =COUNTIFS('Raw Data'!$F:$F,Summary!$B6,'Raw Data'!AE:AE,">0") -> 0 | CT6: =SUMIFS('Raw Data'!$W:$W,'Raw Data'!$F:$F,Summary!$B6,'Raw Data'!AE:AE,">0") -> 0 | CU6: =CL6+CO6+CR6 -> 0 | CV6: =CM6+CP6+CS6 -> 0 | CW6: =CN6+CQ6+CT6 -> 0 | CX6: =COUNTIFS('Raw Data'!$F:$F,Summary!$B7,'Raw Data'!Q:Q,Summary!CX$4,'Raw Data'!AD:AD,">") -> 0 | CY6: =COUNTIFS('Raw Data'!$F:$F,Summary!$B6,'Raw Data'!AF:AF,">0") -> 0 | CZ6: =SUMIFS('Raw Data'!$W:$W,'Raw Data'!$F:$F,Summary!$B6,'Raw Data'!AF:AF,">0") -> 0 | DA6: =COUNTIFS('Raw Data'!$F:$F,Summary!$B7,'Raw Data'!R:R,Summary!DA$4,'Raw Data'!AE:AE,">") -> 0 | DB6: =COUNTIFS('Raw Data'!$F:$F,Summary!$B6,'Raw Data'!AG:AG,">0") -> 0 | DC6: =SUMIFS('Raw Data'!$W:$W,'Raw Data'!$F:$F,Summary!$B6,'Raw Data'!AG:AG,">0") -> 0 | DD6: =COUNTIFS('Raw Data'!$F:$F,Summary!$B7,'Raw Data'!S:S,Summary!DD$4,'Raw Data'!AF:AF,">") -> 0 | DE6: =COUNTIFS('Raw Data'!$F:$F,Summary!$B6,'Raw Data'!AH:AH,">0") -> 0 | DF6: =SUMIFS('Raw Data'!$W:$W,'Raw Data'!$F:$F,Summary!$B6,'Raw Data'!AH:AH,">0") -> 0 | DG6: =CX6+DA6+DD6 -> 0 | DH6: =CY6+DB6+DE6 -> 0 | DI6: =CZ6+DC6+DF6 -> 0 | DJ6: =COUNTIFS('Raw Data'!$F:$F,Summary!$B7,'Raw Data'!T:T,Summary!DJ$4,'Raw Data'!AG:AG,">") -> 0 | DK6: =COUNTIFS('Raw Data'!$F:$F,Summary!$B6,'Raw Data'!AI:AI,">0") -> 0 | DL6: =SUMIFS('Raw Data'!$W:$W,'Raw Data'!$F:$F,Summary!$B6,'Raw Data'!AI:AI,">0") -> 0 | DM6: =COUNTIFS('Raw Data'!$F:$F,Summary!$B7,'Raw Data'!U:U,Summary!DM$4,'Raw Data'!AH:AH,">") -> 0 | DN6: =COUNTIFS('Raw Data'!$F:$F,Summary!$B6,'Raw Data'!AJ:AJ,">0") -> 0 | DO6: =SUMIFS('Raw Data'!$W:$W,'Raw Data'!$F:$F,Summary!$B6,'Raw Data'!AJ:AJ,">0") -> 0 | DP6: =COUNTIFS('Raw Data'!$F:$F,Summary!$B7,'Raw Data'!V:V,Summary!DP$4,'Raw Data'!AI:AI,">") -> 0 | DQ6: =COUNTIFS('Raw Data'!$F:$F,Summary!$B6,'Raw Data'!AK:AK,">0") -> 0 | DR6: =SUMIFS('Raw Data'!$W:$W,'Raw Data'!$F:$F,Summary!$B6,'Raw Data'!AK:AK,">0") -> 0 | DS6: =DJ6+DM6+DP6 -> 0 | DT6: =DK6+DN6+DQ6 -> 0 | DU6: =DL6+DO6+DR6 -> 0 | DV6: =COUNTIFS('Raw Data'!$F:$F,Summary!$B7,'Raw Data'!W:W,Summary!DV$4,'Raw Data'!AJ:AJ,">") -> 0 | DW6: =COUNTIFS('Raw Data'!$F:$F,Summary!$B6,'Raw Data'!AL:AL,">0") -> 0 | DX6: =SUMIFS('Raw Data'!$W:$W,'Raw Data'!$F:$F,Summary!$B6,'Raw Data'!AL:AL,">0") -> 0
B7: ATC | C7: =SUM(AH7,AR7,BB7,BL7) -> 0 | D7: =SUM(AI7,AS7,BC7,BM7) -> 0 | E7: =SUM(AJ7,AT7,BD7,BN7) -> 0 | F7: =SUM(AK7,AU7,BE7,BO7) -> 0 | G7: =SUM(AL7,AV7,BF7,BP7) -> 0 | H7: =SUM(AM7,AW7,BG7,BQ7) -> 0 | I7: =SUM(AN7,AX7,BH7,BR7) -> 0 | J7: =H7*I7 -> 0 | K7: =SUM(C7,E7,G7) -> 0 | L7: =SUM(D7,F7) -> 0 | M7: =AH7+AR7 -> 0 | N7: =AI7+AS7 -> 0 | O7: =AJ7+AT7 -> 0 | P7: =AK7+AU7 -> 0 | Q7: =AL7+AV7 -> 0 | R7: =AM7+AW7 -> 0 | S7: =AN7+AX7 -> 0 | T7: =AO7+AY7 -> 0 | ... V7: =AQ7+BA7 -> 0 | W7: =BB7+BL7 -> 0 | X7: =BC7+BM7 -> 0 | Y7: =BD7+BN7 -> 0 | Z7: =BE7+BO7 -> 0 | AA7: =BF7+BP7 -> 0 | AB7: =BG7+BQ7 -> 0 | AC7: =BH7+BR7 -> 0 | AD7: =BI7+BS7 -> 0 | ... AF7: =BK7+BU7 -> 0 | AH7: =COUNTIFS('Raw Data'!$G$6:$G$640,"Capex",'Raw Data'!$F$6:$F$640,B7,'Raw Data'!$Z$6:$Z$640,">=0")+COUNTIFS('Raw Data'!$G$6:$G$640,"Capex",'Raw Data'!$F$6:$F$640,B7,'Raw Data'!$AA$6:$AA$640,">=0")+COUNTIFS('Raw Data'!$G$6:$G$640,"Capex",'Raw Data'!$F$6:$F$640,B7,'Raw Data'!$AB$6:$AB$640,">=0") -> 0 | AI7: =SUMIFS('Raw Data'!$R$6:$R$640,'Raw Data'!$G$6:$G$640,"Capex",'Raw Data'!$F$6:$F$640,B7) -> 0 | AJ7: =COUNTIFS('Raw Data'!$G$6:$G$640,"R&M",'Raw Data'!$F$6:$F$640,B7,'Raw Data'!$Z$6:$Z$640,">0")+COUNTIFS('Raw Data'!$G$6:$G$640,"R&M",'Raw Data'!$F$6:$F$640,B7,'Raw Data'!$AA$6:$AA$640,">0")+COUNTIFS('Raw Data'!$G$6:$G$640,"R&M",'Raw Data'!$F$6:$F$640,B7,'Raw Data'!$AB$6:$AB$640,">0") -> 0 | AK7: =SUMIFS('Raw Data'!$R$6:$R$640,'Raw Data'!$G$6:$G$640,$AJ$4,'Raw Data'!$F$6:$F$640,B7) -> 0 | AL7: =COUNTIFS('Raw Data'!$G$6:$G$640,"Support",'Raw Data'!$F$6:$F$640,B7,'Raw Data'!$Z$6:$Z$640,">0")+COUNTIFS('Raw Data'!$G$6:$G$640,"Support",'Raw Data'!$F$6:$F$640,B7,'Raw Data'!$AA$6:$AA$640,">0")+COUNTIFS('Raw Data'!$G$6:$G$640,"Support",'Raw Data'!$F$6:$F$640,B7,'Raw Data'!$AB$6:$AB$640,">0") -> 0 | AM7: =SUMIFS('Raw Data'!$X$6:$X$640,'Raw Data'!$G$6:$G$640,"Support",'Raw Data'!$F$6:$F$640,B7,'Raw Data'!$Z$6:$Z$640,">0")+SUMIFS('Raw Data'!$X$6:$X$640,'Raw Data'!$G$6:$G$640,"Support",'Raw Data'!$F$6:$F$640,B7,'Raw Data'!$AA$6:$AA$640,">0")+SUMIFS('Raw Data'!$X$6:$X$640,'Raw Data'!$G$6:$G$640,"Support",'Raw Data'!$F$6:$F$640,B7,'Raw Data'!$AB$6:$AB$640,">0") -> 0 | AN7: =SUMIFS('Raw Data'!$Y$6:$Y$640,'Raw Data'!$G$6:$G$640,"Support",'Raw Data'!$F$6:$F$640,B7,'Raw Data'!$Z$6:$Z$640,">0")+SUMIFS('Raw Data'!$Y$6:$Y$640,'Raw Data'!$G$6:$G$640,"Support",'Raw Data'!$F$6:$F$640,B7,'Raw Data'!$AA$6:$AA$640,">0")+SUMIFS('Raw Data'!$Y$6:$Y$640,'Raw Data'!$G$6:$G$640,"Support",'Raw Data'!$F$6:$F$640,B7,'Raw Data'!$AB$6:$AB$640,">0") -> 0 | AO7: =AM7*AN7 -> 0 | AP7: =SUM(AH7,AJ7,AL7) -> 0 | AQ7: =SUM(AI7,AK7,AO7) -> 0 | AR7: =COUNTIFS('Raw Data'!$G$6:$G$640,"Capex",'Raw Data'!$F$6:$F$640,B7,'Raw Data'!$AC$6:$AC$640,">0")+COUNTIFS('Raw Data'!$G$6:$G$640,"Capex",'Raw Data'!$F$6:$F$640,B7,'Raw Data'!$AD$6:$AD$640,">0")+COUNTIFS('Raw Data'!$G$6:$G$640,"Capex",'Raw Data'!$F$6:$F$640,B7,'Raw Data'!$AE$6:$AE$640,">0") -> 0 | AS7: =SUMIFS('Raw Data'!$S$6:$S$640,'Raw Data'!$G$6:$G$640,"Capex",'Raw Data'!$F$6:$F$640,B7) -> 0 | AT7: =COUNTIFS('Raw Data'!$G$6:$G$640,"R&M",'Raw Data'!$F$6:$F$640,B7,'Raw Data'!$AC$6:$AC$640,">0")+COUNTIFS('Raw Data'!$G$6:$G$640,"R&M",'Raw Data'!$F$6:$F$640,B7,'Raw Data'!$AD$6:$AD$640,">0")+COUNTIFS('Raw Data'!$G$6:$G$640,"R&M",'Raw Data'!$F$6:$F$640,B7,'Raw Data'!$AE$6:$AE$640,">0") -> 0 | AU7: =SUMIFS('Raw Data'!$S$6:$S$640,'Raw Data'!$G$6:$G$640,"R&M",'Raw Data'!$F$6:$F$640,B7) -> 0 | AV7: =COUNTIFS('Raw Data'!$G$6:$G$340,"Support",'Raw Data'!$F$6:$F$340,B7,'Raw Data'!$AC$6:$AC$340,">0")+COUNTIFS('Raw Data'!$G$6:$G$340,"Support",'Raw Data'!$F$6:$F$340,B7,'Raw Data'!$AD$6:$AD$340,">0")+COUNTIFS('Raw Data'!$G$6:$G$340,"Support",'Raw Data'!$F$6:$F$340,B7,'Raw Data'!$AE$6:$AE$340,">0") -> 0 | AW7: =SUMIFS('Raw Data'!$X$6:$X$640,'Raw Data'!$G$6:$G$640,"Support",'Raw Data'!$F$6:$F$640,B7,'Raw Data'!$AC$6:$AC$640,">0")+SUMIFS('Raw Data'!$X$6:$X$640,'Raw Data'!$G$6:$G$640,"Support",'Raw Data'!$F$6:$F$640,B7,'Raw Data'!$AD$6:$AD$640,">0")+SUMIFS('Raw Data'!$X$6:$X$640,'Raw Data'!$G$6:$G$640,"Support",'Raw Data'!$F$6:$F$640,B7,'Raw Data'!$AE$6:$AE$640,">0") -> 0 | AX7: =SUMIFS('Raw Data'!$Y$6:$Y$640,'Raw Data'!$G$6:$G$640,"Support",'Raw Data'!$F$6:$F$640,B7,'Raw Data'!$AC$6:$AC$640,">0")+SUMIFS('Raw Data'!$Y$6:$Y$640,'Raw Data'!$G$6:$G$640,"Support",'Raw Data'!$F$6:$F$640,B7,'Raw Data'!$AD$6:$AD$640,">0")+SUMIFS('Raw Data'!$Y$6:$Y$640,'Raw Data'!$G$6:$G$640,"Support",'Raw Data'!$F$6:$F$640,B7,'Raw Data'!$AE$6:$AE$640,">0") -> 0 | AY7: =AW7*AX7 -> 0 | AZ7: =SUM(AR7,AT7,AV7) -> 0 | BA7: =SUM(AS7,AU7) -> 0 | BB7: =COUNTIFS('Raw Data'!$G$6:$G$640,"Capex",'Raw Data'!$F$6:$F$640,B7,'Raw Data'!$AF$6:$AF$640,">0")+COUNTIFS('Raw Data'!$G$6:$G$640,"Capex",'Raw Data'!$F$6:$F$640,B7,'Raw Data'!$AG$6:$AG$640,">0")+COUNTIFS('Raw Data'!$G$6:$G$640,"Capex",'Raw Data'!$F$6:$F$640,B7,'Raw Data'!$AH$6:$AH$640,">0") -> 0 | BC7: =SUMIFS('Raw Data'!$T$6:$T$640,'Raw Data'!$G$6:$G$640,"Capex",'Raw Data'!$F$6:$F$640,B7) -> 0 | BD7: =COUNTIFS('Raw Data'!$G$6:$G$640,"R&M",'Raw Data'!$F$6:$F$640,B7,'Raw Data'!$AF$6:$AF$640,">0")+COUNTIFS('Raw Data'!$G$6:$G$640,"R&M",'Raw Data'!$F$6:$F$640,B7,'Raw Data'!$AG$6:$AG$640,">0")+COUNTIFS('Raw Data'!$G$6:$G$640,"R&M",'Raw Data'!$F$6:$F$640,B7,'Raw Data'!$AH$6:$AH$640,">0") -> 0 | BE7: =SUMIFS('Raw Data'!$T$6:$T$640,'Raw Data'!$G$6:$G$640,"R&M",'Raw Data'!$F$6:$F$640,B7) -> 0 | BF7: =COUNTIFS('Raw Data'!$G$6:$G$640,"Support",'Raw Data'!$F$6:$F$640,B7,'Raw Data'!$AF$6:$AF$640,">0")+COUNTIFS('Raw Data'!$G$6:$G$640,"Support",'Raw Data'!$F$6:$F$640,B7,'Raw Data'!$AG$6:$AG$640,">0")+COUNTIFS('Raw Data'!$G$6:$G$640,"Support",'Raw Data'!$F$6:$F$640,B7,'Raw Data'!$AH$6:$AH$640,">0") -> 0 | BG7: =SUMIFS('Raw Data'!$X$6:$X$640,'Raw Data'!$G$6:$G$640,"Support",'Raw Data'!$F$6:$F$640,B7,'Raw Data'!$AF$6:$AF$640,">0")+SUMIFS('Raw Data'!$X$6:$X$640,'Raw Data'!$G$6:$G$640,"Support",'Raw Data'!$F$6:$F$640,B7,'Raw Data'!$AG$6:$AG$640,">0")+SUMIFS('Raw Data'!$X$6:$X$640,'Raw Data'!$G$6:$G$640,"Support",'Raw Data'!$F$6:$F$640,B7,'Raw Data'!$AH$6:$AH$640,">0") -> 0 | BH7: =SUMIFS('Raw Data'!$Y$6:$Y$640,'Raw Data'!$G$6:$G$640,"Support",'Raw Data'!$F$6:$F$640,B7,'Raw Data'!$AF$6:$AF$640,">0")+SUMIFS('Raw Data'!$Y$6:$Y$640,'Raw Data'!$G$6:$G$640,"Support",'Raw Data'!$F$6:$F$640,B7,'Raw Data'!$AG$6:$AG$640,">0")+SUMIFS('Raw Data'!$Y$6:$Y$640,'Raw Data'!$G$6:$G$640,"Support",'Raw Data'!$F$6:$F$640,B7,'Raw Data'!$AH$6:$AH$640,">0") -> 0 | BI7: =BG7*BH7 -> 0 | BJ7: =SUM(BB7,BD7,BF7) -> 0 | BK7: =SUM(BC7,BE7) -> 0 | BL7: =COUNTIFS('Raw Data'!$G$6:$G$640,"Capex",'Raw Data'!$F$6:$F$640,B7,'Raw Data'!$AI$6:$AI$640,">0")+COUNTIFS('Raw Data'!$G$6:$G$640,"Capex",'Raw Data'!$F$6:$F$640,B7,'Raw Data'!$AJ$6:$AJ$640,">0")+COUNTIFS('Raw Data'!$G$6:$G$640,"Capex",'Raw Data'!$F$6:$F$640,B7,'Raw Data'!$AK$6:$AK$640,">0") -> 0 | BM7: =SUMIFS('Raw Data'!$U$6:$U$640,'Raw Data'!$G$6:$G$640,"Capex",'Raw Data'!$F$6:$F$640,B7) -> 0 | BN7: =COUNTIFS('Raw Data'!$G$6:$G$640,"R&M",'Raw Data'!$F$6:$F$640,B7,'Raw Data'!$AI$6:$AI$640,">0")+COUNTIFS('Raw Data'!$G$6:$G$640,"R&M",'Raw Data'!$F$6:$F$640,B7,'Raw Data'!$AJ$6:$AJ$640,">0")+COUNTIFS('Raw Data'!$G$6:$G$640,"R&M",'Raw Data'!$F$6:$F$640,B7,'Raw Data'!$AK$6:$AK$640,">0") -> 0 | BO7: =SUMIFS('Raw Data'!$U$6:$U$640,'Raw Data'!$G$6:$G$640,"R&M",'Raw Data'!$F$6:$F$640,B7) -> 0 | BP7: =COUNTIFS('Raw Data'!$G$6:$G$640,"Support",'Raw Data'!$F$6:$F$640,B7,'Raw Data'!$AI$6:$AI$640,">0")+COUNTIFS('Raw Data'!$G$6:$G$640,"Support",'Raw Data'!$F$6:$F$640,B7,'Raw Data'!$AJ$6:$AJ$640,">0")+COUNTIFS('Raw Data'!$G$6:$G$640,"Support",'Raw Data'!$F$6:$F$640,B7,'Raw Data'!$AK$6:$AK$640,">0") -> 0 | BQ7: =SUMIFS('Raw Data'!$X$6:$X$640,'Raw Data'!$G$6:$G$640,"Support",'Raw Data'!$F$6:$F$640,B7,'Raw Data'!$AI$6:$AI$640,">0")+SUMIFS('Raw Data'!$X$6:$X$640,'Raw Data'!$G$6:$G$640,"Support",'Raw Data'!$F$6:$F$640,B7,'Raw Data'!$AJ$6:$AJ$640,">0")+SUMIFS('Raw Data'!$X$6:$X$640,'Raw Data'!$G$6:$G$640,"Support",'Raw Data'!$F$6:$F$640,B7,'Raw Data'!$AK$6:$AK$640,">0") -> 0 | BR7: =SUMIFS('Raw Data'!$Y$6:$Y$640,'Raw Data'!$G$6:$G$640,"Support",'Raw Data'!$F$6:$F$640,B7,'Raw Data'!$AI$6:$AI$640,">0")+SUMIFS('Raw Data'!$Y$6:$Y$640,'Raw Data'!$G$6:$G$640,"Support",'Raw Data'!$F$6:$F$640,B7,'Raw Data'!$AJ$6:$AJ$640,">0")+SUMIFS('Raw Data'!$Y$6:$Y$640,'Raw Data'!$G$6:$G$640,"Support",'Raw Data'!$F$6:$F$640,B7,'Raw Data'!$AK$6:$AK$640,">0") -> 0 | BS7: =BQ7*BR7 -> 0 | BT7: =SUM(BL7,BN7,BP7) -> 0 | BU7: =SUM(BM7,BO7) -> 0 | BV7: =25*12 -> 300 | BY7: ATC | BZ7: =COUNTIFS('Raw Data'!$F:$F,Summary!$B8,'Raw Data'!K:K,Summary!BZ$4,'Raw Data'!X:X,">") -> 0 | CA7: =COUNTIFS('Raw Data'!$F:$F,Summary!$B7,'Raw Data'!Z:Z,">0") -> 0 | CB7: =SUMIFS('Raw Data'!$W:$W,'Raw Data'!$F:$F,Summary!$B7,'Raw Data'!Z:Z,">0") -> 0 | CC7: =COUNTIFS('Raw Data'!$F:$F,Summary!$B8,'Raw Data'!L:L,Summary!CC$4,'Raw Data'!Y:Y,">") -> 0 | CD7: =COUNTIFS('Raw Data'!$F:$F,Summary!$B7,'Raw Data'!AA:AA,">0") -> 0 | CE7: =SUMIFS('Raw Data'!$W:$W,'Raw Data'!$F:$F,Summary!$B7,'Raw Data'!AA:AA,">0") -> 0 | CF7: =COUNTIFS('Raw Data'!$F:$F,Summary!$B8,'Raw Data'!M:M,Summary!CF$4,'Raw Data'!Z:Z,">") -> 0 | CG7: =COUNTIFS('Raw Data'!$F:$F,Summary!$B7,'Raw Data'!AB:AB,">0") -> 0 | CH7: =SUMIFS('Raw Data'!$W:$W,'Raw Data'!$F:$F,Summary!$B7,'Raw Data'!AB:AB,">0") -> 0 | CI7: =BZ7+CC7+CF7 -> 0 | CJ7: =CA7+CD7+CG7 -> 0 | CK7: =CB7+CE7+CH7 -> 0 | CL7: =COUNTIFS('Raw Data'!$F:$F,Summary!$B8,'Raw Data'!N:N,Summary!CL$4,'Raw Data'!AA:AA,">") -> 0 | CM7: =COUNTIFS('Raw Data'!$F:$F,Summary!$B7,'Raw Data'!AC:AC,">0") -> 0 | CN7: =SUMIFS('Raw Data'!$W:$W,'Raw Data'!$F:$F,Summary!$B7,'Raw Data'!AC:AC,">0") -> 0 | CO7: =COUNTIFS('Raw Data'!$F:$F,Summary!$B8,'Raw Data'!O:O,Summary!CO$4,'Raw Data'!AB:AB,">") -> 0 | CP7: =COUNTIFS('Raw Data'!$F:$F,Summary!$B7,'Raw Data'!AD:AD,">0") -> 0 | CQ7: =SUMIFS('Raw Data'!$W:$W,'Raw Data'!$F:$F,Summary!$B7,'Raw Data'!AD:AD,">0") -> 0 | CR7: =COUNTIFS('Raw Data'!$F:$F,Summary!$B8,'Raw Data'!P:P,Summary!CR$4,'Raw Data'!AC:AC,">") -> 0 | CS7: =COUNTIFS('Raw Data'!$F:$F,Summary!$B7,'Raw Data'!AE:AE,">0") -> 0 | CT7: =SUMIFS('Raw Data'!$W:$W,'Raw Data'!$F:$F,Summary!$B7,'Raw Data'!AE:AE,">0") -> 0 | CU7: =CL7+CO7+CR7 -> 0 | CV7: =CM7+CP7+CS7 -> 0 | CW7: =CN7+CQ7+CT7 -> 0 | CX7: =COUNTIFS('Raw Data'!$F:$F,Summary!$B8,'Raw Data'!Q:Q,Summary!CX$4,'Raw Data'!AD:AD,">") -> 0 | CY7: =COUNTIFS('Raw Data'!$F:$F,Summary!$B7,'Raw Data'!AF:AF,">0") -> 0 | CZ7: =SUMIFS('Raw Data'!$W:$W,'Raw Data'!$F:$F,Summary!$B7,'Raw Data'!AF:AF,">0") -> 0 | DA7: =COUNTIFS('Raw Data'!$F:$F,Summary!$B8,'Raw Data'!R:R,Summary!DA$4,'Raw Data'!AE:AE,">") -> 0 | DB7: =COUNTIFS('Raw Data'!$F:$F,Summary!$B7,'Raw Data'!AG:AG,">0") -> 0 | DC7: =SUMIFS('Raw Data'!$W:$W,'Raw Data'!$F:$F,Summary!$B7,'Raw Data'!AG:AG,">0") -> 0 | DD7: =COUNTIFS('Raw Data'!$F:$F,Summary!$B8,'Raw Data'!S:S,Summary!DD$4,'Raw Data'!AF:AF,">") -> 0 | DE7: =COUNTIFS('Raw Data'!$F:$F,Summary!$B7,'Raw Data'!AH:AH,">0") -> 0 | DF7: =SUMIFS('Raw Data'!$W:$W,'Raw Data'!$F:$F,Summary!$B7,'Raw Data'!AH:AH,">0") -> 0 | DG7: =CX7+DA7+DD7 -> 0 | DH7: =CY7+DB7+DE7 -> 0 | DI7: =CZ7+DC7+DF7 -> 0 | DJ7: =COUNTIFS('Raw Data'!$F:$F,Summary!$B8,'Raw Data'!T:T,Summary!DJ$4,'Raw Data'!AG:AG,">") -> 0 | DK7: =COUNTIFS('Raw Data'!$F:$F,Summary!$B7,'Raw Data'!AI:AI,">0") -> 0 | DL7: =SUMIFS('Raw Data'!$W:$W,'Raw Data'!$F:$F,Summary!$B7,'Raw Data'!AI:AI,">0") -> 0 | DM7: =COUNTIFS('Raw Data'!$F:$F,Summary!$B8,'Raw Data'!U:U,Summary!DM$4,'Raw Data'!AH:AH,">") -> 0 | DN7: =COUNTIFS('Raw Data'!$F:$F,Summary!$B7,'Raw Data'!AJ:AJ,">0") -> 0 | DO7: =SUMIFS('Raw Data'!$W:$W,'Raw Data'!$F:$F,Summary!$B7,'Raw Data'!AJ:AJ,">0") -> 0 | DP7: =COUNTIFS('Raw Data'!$F:$F,Summary!$B8,'Raw Data'!V:V,Summary!DP$4,'Raw Data'!AI:AI,">") -> 0 | DQ7: =COUNTIFS('Raw Data'!$F:$F,Summary!$B7,'Raw Data'!AK:AK,">0") -> 0 | DR7: =SUMIFS('Raw Data'!$W:$W,'Raw Data'!$F:$F,Summary!$B7,'Raw Data'!AK:AK,">0") -> 0 | DS7: =DJ7+DM7+DP7 -> 0 | DT7: =DK7+DN7+DQ7 -> 0 | DU7: =DL7+DO7+DR7 -> 0 | DV7: =COUNTIFS('Raw Data'!$F:$F,Summary!$B8,'Raw Data'!W:W,Summary!DV$4,'Raw Data'!AJ:AJ,">") -> 0 | DW7: =COUNTIFS('Raw Data'!$F:$F,Summary!$B7,'Raw Data'!AL:AL,">0") -> 0 | DX7: =SUMIFS('Raw Data'!$W:$W,'Raw Data'!$F:$F,Summary!$B7,'Raw Data'!AL:AL,">0") -> 0
B8: ATP | C8: =SUM(AH8,AR8,BB8,BL8) -> 0 | D8: =SUM(AI8,AS8,BC8,BM8) -> 0 | E8: =SUM(AJ8,AT8,BD8,BN8) -> 0 | F8: =SUM(AK8,AU8,BE8,BO8) -> 0 | G8: =SUM(AL8,AV8,BF8,BP8) -> 0 | H8: =SUM(AM8,AW8,BG8,BQ8) -> 0 | I8: =SUM(AN8,AX8,BH8,BR8) -> 0 | J8: =H8*I8 -> 0 | K8: =SUM(C8,E8,G8) -> 0 | L8: =SUM(D8,F8) -> 0 | M8: =AH8+AR8 -> 0 | N8: =AI8+AS8 -> 0 | O8: =AJ8+AT8 -> 0 | P8: =AK8+AU8 -> 0 | Q8: =AL8+AV8 -> 0 | R8: =AM8+AW8 -> 0 | S8: =AN8+AX8 -> 0 | T8: =AO8+AY8 -> 0 | ... V8: =AQ8+BA8 -> 0 | W8: =BB8+BL8 -> 0 | X8: =BC8+BM8 -> 0 | Y8: =BD8+BN8 -> 0 | Z8: =BE8+BO8 -> 0 | AA8: =BF8+BP8 -> 0 | AB8: =BG8+BQ8 -> 0 | AC8: =BH8+BR8 -> 0 | AD8: =BI8+BS8 -> 0 | ... AF8: =BK8+BU8 -> 0 | AH8: =COUNTIFS('Raw Data'!$G$6:$G$640,"Capex",'Raw Data'!$F$6:$F$640,B8,'Raw Data'!$Z$6:$Z$640,">=0")+COUNTIFS('Raw Data'!$G$6:$G$640,"Capex",'Raw Data'!$F$6:$F$640,B8,'Raw Data'!$AA$6:$AA$640,">=0")+COUNTIFS('Raw Data'!$G$6:$G$640,"Capex",'Raw Data'!$F$6:$F$640,B8,'Raw Data'!$AB$6:$AB$640,">=0") -> 0 | AI8: =SUMIFS('Raw Data'!$R$6:$R$640,'Raw Data'!$G$6:$G$640,"Capex",'Raw Data'!$F$6:$F$640,B8) -> 0 | AJ8: =COUNTIFS('Raw Data'!$G$6:$G$640,"R&M",'Raw Data'!$F$6:$F$640,B8,'Raw Data'!$Z$6:$Z$640,">0")+COUNTIFS('Raw Data'!$G$6:$G$640,"R&M",'Raw Data'!$F$6:$F$640,B8,'Raw Data'!$AA$6:$AA$640,">0")+COUNTIFS('Raw Data'!$G$6:$G$640,"R&M",'Raw Data'!$F$6:$F$640,B8,'Raw Data'!$AB$6:$AB$640,">0") -> 0 | AK8: =SUMIFS('Raw Data'!$R$6:$R$640,'Raw Data'!$G$6:$G$640,$AJ$4,'Raw Data'!$F$6:$F$640,B8) -> 0 | AL8: =COUNTIFS('Raw Data'!$G$6:$G$640,"Support",'Raw Data'!$F$6:$F$640,B8,'Raw Data'!$Z$6:$Z$640,">0")+COUNTIFS('Raw Data'!$G$6:$G$640,"Support",'Raw Data'!$F$6:$F$640,B8,'Raw Data'!$AA$6:$AA$640,">0")+COUNTIFS('Raw Data'!$G$6:$G$640,"Support",'Raw Data'!$F$6:$F$640,B8,'Raw Data'!$AB$6:$AB$640,">0") -> 0 | AM8: =SUMIFS('Raw Data'!$X$6:$X$640,'Raw Data'!$G$6:$G$640,"Support",'Raw Data'!$F$6:$F$640,B8,'Raw Data'!$Z$6:$Z$640,">0")+SUMIFS('Raw Data'!$X$6:$X$640,'Raw Data'!$G$6:$G$640,"Support",'Raw Data'!$F$6:$F$640,B8,'Raw Data'!$AA$6:$AA$640,">0")+SUMIFS('Raw Data'!$X$6:$X$640,'Raw Data'!$G$6:$G$640,"Support",'Raw Data'!$F$6:$F$640,B8,'Raw Data'!$AB$6:$AB$640,">0") -> 0 | AN8: =SUMIFS('Raw Data'!$Y$6:$Y$640,'Raw Data'!$G$6:$G$640,"Support",'Raw Data'!$F$6:$F$640,B8,'Raw Data'!$Z$6:$Z$640,">0")+SUMIFS('Raw Data'!$Y$6:$Y$640,'Raw Data'!$G$6:$G$640,"Support",'Raw Data'!$F$6:$F$640,B8,'Raw Data'!$AA$6:$AA$640,">0")+SUMIFS('Raw Data'!$Y$6:$Y$640,'Raw Data'!$G$6:$G$640,"Support",'Raw Data'!$F$6:$F$640,B8,'Raw Data'!$AB$6:$AB$640,">0") -> 0 | AO8: =AM8*AN8 -> 0 | AP8: =SUM(AH8,AJ8,AL8) -> 0 | AQ8: =SUM(AI8,AK8,AO8) -> 0 | AR8: =COUNTIFS('Raw Data'!$G$6:$G$640,"Capex",'Raw Data'!$F$6:$F$640,B8,'Raw Data'!$AC$6:$AC$640,">0")+COUNTIFS('Raw Data'!$G$6:$G$640,"Capex",'Raw Data'!$F$6:$F$640,B8,'Raw Data'!$AD$6:$AD$640,">0")+COUNTIFS('Raw Data'!$G$6:$G$640,"Capex",'Raw Data'!$F$6:$F$640,B8,'Raw Data'!$AE$6:$AE$640,">0") -> 0 | AS8: =SUMIFS('Raw Data'!$S$6:$S$640,'Raw Data'!$G$6:$G$640,"Capex",'Raw Data'!$F$6:$F$640,B8) -> 0 | AT8: =COUNTIFS('Raw Data'!$G$6:$G$640,"R&M",'Raw Data'!$F$6:$F$640,B8,'Raw Data'!$AC$6:$AC$640,">0")+COUNTIFS('Raw Data'!$G$6:$G$640,"R&M",'Raw Data'!$F$6:$F$640,B8,'Raw Data'!$AD$6:$AD$640,">0")+COUNTIFS('Raw Data'!$G$6:$G$640,"R&M",'Raw Data'!$F$6:$F$640,B8,'Raw Data'!$AE$6:$AE$640,">0") -> 0 | AU8: =SUMIFS('Raw Data'!$S$6:$S$640,'Raw Data'!$G$6:$G$640,"R&M",'Raw Data'!$F$6:$F$640,B8) -> 0 | AV8: =COUNTIFS('Raw Data'!$G$6:$G$340,"Support",'Raw Data'!$F$6:$F$340,B8,'Raw Data'!$AC$6:$AC$340,">0")+COUNTIFS('Raw Data'!$G$6:$G$340,"Support",'Raw Data'!$F$6:$F$340,B8,'Raw Data'!$AD$6:$AD$340,">0")+COUNTIFS('Raw Data'!$G$6:$G$340,"Support",'Raw Data'!$F$6:$F$340,B8,'Raw Data'!$AE$6:$AE$340,">0") -> 0 | AW8: =SUMIFS('Raw Data'!$X$6:$X$640,'Raw Data'!$G$6:$G$640,"Support",'Raw Data'!$F$6:$F$640,B8,'Raw Data'!$AC$6:$AC$640,">0")+SUMIFS('Raw Data'!$X$6:$X$640,'Raw Data'!$G$6:$G$640,"Support",'Raw Data'!$F$6:$F$640,B8,'Raw Data'!$AD$6:$AD$640,">0")+SUMIFS('Raw Data'!$X$6:$X$640,'Raw Data'!$G$6:$G$640,"Support",'Raw Data'!$F$6:$F$640,B8,'Raw Data'!$AE$6:$AE$640,">0") -> 0 | AX8: =SUMIFS('Raw Data'!$Y$6:$Y$640,'Raw Data'!$G$6:$G$640,"Support",'Raw Data'!$F$6:$F$640,B8,'Raw Data'!$AC$6:$AC$640,">0")+SUMIFS('Raw Data'!$Y$6:$Y$640,'Raw Data'!$G$6:$G$640,"Support",'Raw Data'!$F$6:$F$640,B8,'Raw Data'!$AD$6:$AD$640,">0")+SUMIFS('Raw Data'!$Y$6:$Y$640,'Raw Data'!$G$6:$G$640,"Support",'Raw Data'!$F$6:$F$640,B8,'Raw Data'!$AE$6:$AE$640,">0") -> 0 | AY8: =AW8*AX8 -> 0 | AZ8: =SUM(AR8,AT8,AV8) -> 0 | BA8: =SUM(AS8,AU8) -> 0 | BB8: =COUNTIFS('Raw Data'!$G$6:$G$640,"Capex",'Raw Data'!$F$6:$F$640,B8,'Raw Data'!$AF$6:$AF$640,">0")+COUNTIFS('Raw Data'!$G$6:$G$640,"Capex",'Raw Data'!$F$6:$F$640,B8,'Raw Data'!$AG$6:$AG$640,">0")+COUNTIFS('Raw Data'!$G$6:$G$640,"Capex",'Raw Data'!$F$6:$F$640,B8,'Raw Data'!$AH$6:$AH$640,">0") -> 0 | BC8: =SUMIFS('Raw Data'!$T$6:$T$640,'Raw Data'!$G$6:$G$640,"Capex",'Raw Data'!$F$6:$F$640,B8) -> 0 | BD8: =COUNTIFS('Raw Data'!$G$6:$G$640,"R&M",'Raw Data'!$F$6:$F$640,B8,'Raw Data'!$AF$6:$AF$640,">0")+COUNTIFS('Raw Data'!$G$6:$G$640,"R&M",'Raw Data'!$F$6:$F$640,B8,'Raw Data'!$AG$6:$AG$640,">0")+COUNTIFS('Raw Data'!$G$6:$G$640,"R&M",'Raw Data'!$F$6:$F$640,B8,'Raw Data'!$AH$6:$AH$640,">0") -> 0 | BE8: =SUMIFS('Raw Data'!$T$6:$T$640,'Raw Data'!$G$6:$G$640,"R&M",'Raw Data'!$F$6:$F$640,B8) -> 0 | BF8: =COUNTIFS('Raw Data'!$G$6:$G$640,"Support",'Raw Data'!$F$6:$F$640,B8,'Raw Data'!$AF$6:$AF$640,">0")+COUNTIFS('Raw Data'!$G$6:$G$640,"Support",'Raw Data'!$F$6:$F$640,B8,'Raw Data'!$AG$6:$AG$640,">0")+COUNTIFS('Raw Data'!$G$6:$G$640,"Support",'Raw Data'!$F$6:$F$640,B8,'Raw Data'!$AH$6:$AH$640,">0") -> 0 | BG8: =SUMIFS('Raw Data'!$X$6:$X$640,'Raw Data'!$G$6:$G$640,"Support",'Raw Data'!$F$6:$F$640,B8,'Raw Data'!$AF$6:$AF$640,">0")+SUMIFS('Raw Data'!$X$6:$X$640,'Raw Data'!$G$6:$G$640,"Support",'Raw Data'!$F$6:$F$640,B8,'Raw Data'!$AG$6:$AG$640,">0")+SUMIFS('Raw Data'!$X$6:$X$640,'Raw Data'!$G$6:$G$640,"Support",'Raw Data'!$F$6:$F$640,B8,'Raw Data'!$AH$6:$AH$640,">0") -> 0 | BH8: =SUMIFS('Raw Data'!$Y$6:$Y$640,'Raw Data'!$G$6:$G$640,"Support",'Raw Data'!$F$6:$F$640,B8,'Raw Data'!$AF$6:$AF$640,">0")+SUMIFS('Raw Data'!$Y$6:$Y$640,'Raw Data'!$G$6:$G$640,"Support",'Raw Data'!$F$6:$F$640,B8,'Raw Data'!$AG$6:$AG$640,">0")+SUMIFS('Raw Data'!$Y$6:$Y$640,'Raw Data'!$G$6:$G$640,"Support",'Raw Data'!$F$6:$F$640,B8,'Raw Data'!$AH$6:$AH$640,">0") -> 0 | BI8: =BG8*BH8 -> 0 | BJ8: =SUM(BB8,BD8,BF8) -> 0 | BK8: =SUM(BC8,BE8) -> 0 | BL8: =COUNTIFS('Raw Data'!$G$6:$G$640,"Capex",'Raw Data'!$F$6:$F$640,B8,'Raw Data'!$AI$6:$AI$640,">0")+COUNTIFS('Raw Data'!$G$6:$G$640,"Capex",'Raw Data'!$F$6:$F$640,B8,'Raw Data'!$AJ$6:$AJ$640,">0")+COUNTIFS('Raw Data'!$G$6:$G$640,"Capex",'Raw Data'!$F$6:$F$640,B8,'Raw Data'!$AK$6:$AK$640,">0") -> 0 | BM8: =SUMIFS('Raw Data'!$U$6:$U$640,'Raw Data'!$G$6:$G$640,"Capex",'Raw Data'!$F$6:$F$640,B8) -> 0 | BN8: =COUNTIFS('Raw Data'!$G$6:$G$640,"R&M",'Raw Data'!$F$6:$F$640,B8,'Raw Data'!$AI$6:$AI$640,">0")+COUNTIFS('Raw Data'!$G$6:$G$640,"R&M",'Raw Data'!$F$6:$F$640,B8,'Raw Data'!$AJ$6:$AJ$640,">0")+COUNTIFS('Raw Data'!$G$6:$G$640,"R&M",'Raw Data'!$F$6:$F$640,B8,'Raw Data'!$AK$6:$AK$640,">0") -> 0 | BO8: =SUMIFS('Raw Data'!$U$6:$U$640,'Raw Data'!$G$6:$G$640,"R&M",'Raw Data'!$F$6:$F$640,B8) -> 0 | BP8: =COUNTIFS('Raw Data'!$G$6:$G$640,"Support",'Raw Data'!$F$6:$F$640,B8,'Raw Data'!$AI$6:$AI$640,">0")+COUNTIFS('Raw Data'!$G$6:$G$640,"Support",'Raw Data'!$F$6:$F$640,B8,'Raw Data'!$AJ$6:$AJ$640,">0")+COUNTIFS('Raw Data'!$G$6:$G$640,"Support",'Raw Data'!$F$6:$F$640,B8,'Raw Data'!$AK$6:$AK$640,">0") -> 0 | BQ8: =SUMIFS('Raw Data'!$X$6:$X$640,'Raw Data'!$G$6:$G$640,"Support",'Raw Data'!$F$6:$F$640,B8,'Raw Data'!$AI$6:$AI$640,">0")+SUMIFS('Raw Data'!$X$6:$X$640,'Raw Data'!$G$6:$G$640,"Support",'Raw Data'!$F$6:$F$640,B8,'Raw Data'!$AJ$6:$AJ$640,">0")+SUMIFS('Raw Data'!$X$6:$X$640,'Raw Data'!$G$6:$G$640,"Support",'Raw Data'!$F$6:$F$640,B8,'Raw Data'!$AK$6:$AK$640,">0") -> 0 | BR8: =SUMIFS('Raw Data'!$Y$6:$Y$640,'Raw Data'!$G$6:$G$640,"Support",'Raw Data'!$F$6:$F$640,B8,'Raw Data'!$AI$6:$AI$640,">0")+SUMIFS('Raw Data'!$Y$6:$Y$640,'Raw Data'!$G$6:$G$640,"Support",'Raw Data'!$F$6:$F$640,B8,'Raw Data'!$AJ$6:$AJ$640,">0")+SUMIFS('Raw Data'!$Y$6:$Y$640,'Raw Data'!$G$6:$G$640,"Support",'Raw Data'!$F$6:$F$640,B8,'Raw Data'!$AK$6:$AK$640,">0") -> 0 | BS8: =BQ8*BR8 -> 0 | BT8: =SUM(BL8,BN8,BP8) -> 0 | BU8: =SUM(BM8,BO8) -> 0 | BV8: =25*12 -> 300 | BY8: ATP | BZ8: =COUNTIFS('Raw Data'!$F:$F,Summary!$B9,'Raw Data'!K:K,Summary!BZ$4,'Raw Data'!X:X,">") -> 0 | CA8: =COUNTIFS('Raw Data'!$F:$F,Summary!$B8,'Raw Data'!Z:Z,">0") -> 0 | CB8: =SUMIFS('Raw Data'!$W:$W,'Raw Data'!$F:$F,Summary!$B8,'Raw Data'!Z:Z,">0") -> 0 | CC8: =COUNTIFS('Raw Data'!$F:$F,Summary!$B9,'Raw Data'!L:L,Summary!CC$4,'Raw Data'!Y:Y,">") -> 0 | CD8: =COUNTIFS('Raw Data'!$F:$F,Summary!$B8,'Raw Data'!AA:AA,">0") -> 0 | CE8: =SUMIFS('Raw Data'!$W:$W,'Raw Data'!$F:$F,Summary!$B8,'Raw Data'!AA:AA,">0") -> 0 | CF8: =COUNTIFS('Raw Data'!$F:$F,Summary!$B9,'Raw Data'!M:M,Summary!CF$4,'Raw Data'!Z:Z,">") -> 0 | CG8: =COUNTIFS('Raw Data'!$F:$F,Summary!$B8,'Raw Data'!AB:AB,">0") -> 0 | CH8: =SUMIFS('Raw Data'!$W:$W,'Raw Data'!$F:$F,Summary!$B8,'Raw Data'!AB:AB,">0") -> 0 | CI8: =BZ8+CC8+CF8 -> 0 | CJ8: =CA8+CD8+CG8 -> 0 | CK8: =CB8+CE8+CH8 -> 0 | CL8: =COUNTIFS('Raw Data'!$F:$F,Summary!$B9,'Raw Data'!N:N,Summary!CL$4,'Raw Data'!AA:AA,">") -> 0 | CM8: =COUNTIFS('Raw Data'!$F:$F,Summary!$B8,'Raw Data'!AC:AC,">0") -> 0 | CN8: =SUMIFS('Raw Data'!$W:$W,'Raw Data'!$F:$F,Summary!$B8,'Raw Data'!AC:AC,">0") -> 0 | CO8: =COUNTIFS('Raw Data'!$F:$F,Summary!$B9,'Raw Data'!O:O,Summary!CO$4,'Raw Data'!AB:AB,">") -> 0 | CP8: =COUNTIFS('Raw Data'!$F:$F,Summary!$B8,'Raw Data'!AD:AD,">0") -> 0 | CQ8: =SUMIFS('Raw Data'!$W:$W,'Raw Data'!$F:$F,Summary!$B8,'Raw Data'!AD:AD,">0") -> 0 | CR8: =COUNTIFS('Raw Data'!$F:$F,Summary!$B9,'Raw Data'!P:P,Summary!CR$4,'Raw Data'!AC:AC,">") -> 0 | CS8: =COUNTIFS('Raw Data'!$F:$F,Summary!$B8,'Raw Data'!AE:AE,">0") -> 0 | CT8: =SUMIFS('Raw Data'!$W:$W,'Raw Data'!$F:$F,Summary!$B8,'Raw Data'!AE:AE,">0") -> 0 | CU8: =CL8+CO8+CR8 -> 0 | CV8: =CM8+CP8+CS8 -> 0 | CW8: =CN8+CQ8+CT8 -> 0 | CX8: =COUNTIFS('Raw Data'!$F:$F,Summary!$B9,'Raw Data'!Q:Q,Summary!CX$4,'Raw Data'!AD:AD,">") -> 0 | CY8: =COUNTIFS('Raw Data'!$F:$F,Summary!$B8,'Raw Data'!AF:AF,">0") -> 0 | CZ8: =SUMIFS('Raw Data'!$W:$W,'Raw Data'!$F:$F,Summary!$B8,'Raw Data'!AF:AF,">0") -> 0 | DA8: =COUNTIFS('Raw Data'!$F:$F,Summary!$B9,'Raw Data'!R:R,Summary!DA$4,'Raw Data'!AE:AE,">") -> 0 | DB8: =COUNTIFS('Raw Data'!$F:$F,Summary!$B8,'Raw Data'!AG:AG,">0") -> 0 | DC8: =SUMIFS('Raw Data'!$W:$W,'Raw Data'!$F:$F,Summary!$B8,'Raw Data'!AG:AG,">0") -> 0 | DD8: =COUNTIFS('Raw Data'!$F:$F,Summary!$B9,'Raw Data'!S:S,Summary!DD$4,'Raw Data'!AF:AF,">") -> 0 | DE8: =COUNTIFS('Raw Data'!$F:$F,Summary!$B8,'Raw Data'!AH:AH,">0") -> 0 | DF8: =SUMIFS('Raw Data'!$W:$W,'Raw Data'!$F:$F,Summary!$B8,'Raw Data'!AH:AH,">0") -> 0 | DG8: =CX8+DA8+DD8 -> 0 | DH8: =CY8+DB8+DE8 -> 0 | DI8: =CZ8+DC8+DF8 -> 0 | DJ8: =COUNTIFS('Raw Data'!$F:$F,Summary!$B9,'Raw Data'!T:T,Summary!DJ$4,'Raw Data'!AG:AG,">") -> 0 | DK8: =COUNTIFS('Raw Data'!$F:$F,Summary!$B8,'Raw Data'!AI:AI,">0") -> 0 | DL8: =SUMIFS('Raw Data'!$W:$W,'Raw Data'!$F:$F,Summary!$B8,'Raw Data'!AI:AI,">0") -> 0 | DM8: =COUNTIFS('Raw Data'!$F:$F,Summary!$B9,'Raw Data'!U:U,Summary!DM$4,'Raw Data'!AH:AH,">") -> 0 | DN8: =COUNTIFS('Raw Data'!$F:$F,Summary!$B8,'Raw Data'!AJ:AJ,">0") -> 0 | DO8: =SUMIFS('Raw Data'!$W:$W,'Raw Data'!$F:$F,Summary!$B8,'Raw Data'!AJ:AJ,">0") -> 0 | DP8: =COUNTIFS('Raw Data'!$F:$F,Summary!$B9,'Raw Data'!V:V,Summary!DP$4,'Raw Data'!AI:AI,">") -> 0 | DQ8: =COUNTIFS('Raw Data'!$F:$F,Summary!$B8,'Raw Data'!AK:AK,">0") -> 0 | DR8: =SUMIFS('Raw Data'!$W:$W,'Raw Data'!$F:$F,Summary!$B8,'Raw Data'!AK:AK,">0") -> 0 | DS8: =DJ8+DM8+DP8 -> 0 | DT8: =DK8+DN8+DQ8 -> 0 | DU8: =DL8+DO8+DR8 -> 0 | DV8: =COUNTIFS('Raw Data'!$F:$F,Summary!$B9,'Raw Data'!W:W,Summary!DV$4,'Raw Data'!AJ:AJ,">") -> 0 | DW8: =COUNTIFS('Raw Data'!$F:$F,Summary!$B8,'Raw Data'!AL:AL,">0") -> 0 | DX8: =SUMIFS('Raw Data'!$W:$W,'Raw Data'!$F:$F,Summary!$B8,'Raw Data'!AL:AL,">0") -> 0
B9: ATT | C9: =SUM(AH9,AR9,BB9,BL9) -> 0 | D9: =SUM(AI9,AS9,BC9,BM9) -> 0 | E9: =SUM(AJ9,AT9,BD9,BN9) -> 0 | F9: =SUM(AK9,AU9,BE9,BO9) -> 0 | G9: =SUM(AL9,AV9,BF9,BP9) -> 0 | H9: =SUM(AM9,AW9,BG9,BQ9) -> 0 | I9: =SUM(AN9,AX9,BH9,BR9) -> 0 | J9: =H9*I9 -> 0 | K9: =SUM(C9,E9,G9) -> 0 | L9: =SUM(D9,F9) -> 0 | M9: =AH9+AR9 -> 0 | N9: =AI9+AS9 -> 0 | O9: =AJ9+AT9 -> 0 | P9: =AK9+AU9 -> 0 | Q9: =AL9+AV9 -> 0 | R9: =AM9+AW9 -> 0 | S9: =AN9+AX9 -> 0 | T9: =AO9+AY9 -> 0 | ... V9: =AQ9+BA9 -> 0 | W9: =BB9+BL9 -> 0 | X9: =BC9+BM9 -> 0 | Y9: =BD9+BN9 -> 0 | Z9: =BE9+BO9 -> 0 | AA9: =BF9+BP9 -> 0 | AB9: =BG9+BQ9 -> 0 | AC9: =BH9+BR9 -> 0 | AD9: =BI9+BS9 -> 0 | ... AF9: =BK9+BU9 -> 0 | AH9: =COUNTIFS('Raw Data'!$G$6:$G$640,"Capex",'Raw Data'!$F$6:$F$640,B9,'Raw Data'!$Z$6:$Z$640,">=0")+COUNTIFS('Raw Data'!$G$6:$G$640,"Capex",'Raw Data'!$F$6:$F$640,B9,'Raw Data'!$AA$6:$AA$640,">=0")+COUNTIFS('Raw Data'!$G$6:$G$640,"Capex",'Raw Data'!$F$6:$F$640,B9,'Raw Data'!$AB$6:$AB$640,">=0") -> 0 | AI9: =SUMIFS('Raw Data'!$R$6:$R$640,'Raw Data'!$G$6:$G$640,"Capex",'Raw Data'!$F$6:$F$640,B9) -> 0 | AJ9: =COUNTIFS('Raw Data'!$G$6:$G$640,"R&M",'Raw Data'!$F$6:$F$640,B9,'Raw Data'!$Z$6:$Z$640,">0")+COUNTIFS('Raw Data'!$G$6:$G$640,"R&M",'Raw Data'!$F$6:$F$640,B9,'Raw Data'!$AA$6:$AA$640,">0")+COUNTIFS('Raw Data'!$G$6:$G$640,"R&M",'Raw Data'!$F$6:$F$640,B9,'Raw Data'!$AB$6:$AB$640,">0") -> 0 | AK9: =SUMIFS('Raw Data'!$R$6:$R$640,'Raw Data'!$G$6:$G$640,$AJ$4,'Raw Data'!$F$6:$F$640,B9) -> 0 | AL9: =COUNTIFS('Raw Data'!$G$6:$G$640,"Support",'Raw Data'!$F$6:$F$640,B9,'Raw Data'!$Z$6:$Z$640,">0")+COUNTIFS('Raw Data'!$G$6:$G$640,"Support",'Raw Data'!$F$6:$F$640,B9,'Raw Data'!$AA$6:$AA$640,">0")+COUNTIFS('Raw Data'!$G$6:$G$640,"Support",'Raw Data'!$F$6:$F$640,B9,'Raw Data'!$AB$6:$AB$640,">0") -> 0 | AM9: =SUMIFS('Raw Data'!$X$6:$X$640,'Raw Data'!$G$6:$G$640,"Support",'Raw Data'!$F$6:$F$640,B9,'Raw Data'!$Z$6:$Z$640,">0")+SUMIFS('Raw Data'!$X$6:$X$640,'Raw Data'!$G$6:$G$640,"Support",'Raw Data'!$F$6:$F$640,B9,'Raw Data'!$AA$6:$AA$640,">0")+SUMIFS('Raw Data'!$X$6:$X$640,'Raw Data'!$G$6:$G$640,"Support",'Raw Data'!$F$6:$F$640,B9,'Raw Data'!$AB$6:$AB$640,">0") -> 0 | AN9: =SUMIFS('Raw Data'!$Y$6:$Y$640,'Raw Data'!$G$6:$G$640,"Support",'Raw Data'!$F$6:$F$640,B9,'Raw Data'!$Z$6:$Z$640,">0")+SUMIFS('Raw Data'!$Y$6:$Y$640,'Raw Data'!$G$6:$G$640,"Support",'Raw Data'!$F$6:$F$640,B9,'Raw Data'!$AA$6:$AA$640,">0")+SUMIFS('Raw Data'!$Y$6:$Y$640,'Raw Data'!$G$6:$G$640,"Support",'Raw Data'!$F$6:$F$640,B9,'Raw Data'!$AB$6:$AB$640,">0") -> 0 | AO9: =AM9*AN9 -> 0 | AP9: =SUM(AH9,AJ9,AL9) -> 0 | AQ9: =SUM(AI9,AK9,AO9) -> 0 | AR9: =COUNTIFS('Raw Data'!$G$6:$G$640,"Capex",'Raw Data'!$F$6:$F$640,B9,'Raw Data'!$AC$6:$AC$640,">0")+COUNTIFS('Raw Data'!$G$6:$G$640,"Capex",'Raw Data'!$F$6:$F$640,B9,'Raw Data'!$AD$6:$AD$640,">0")+COUNTIFS('Raw Data'!$G$6:$G$640,"Capex",'Raw Data'!$F$6:$F$640,B9,'Raw Data'!$AE$6:$AE$640,">0") -> 0 | AS9: =SUMIFS('Raw Data'!$S$6:$S$640,'Raw Data'!$G$6:$G$640,"Capex",'Raw Data'!$F$6:$F$640,B9) -> 0 | AT9: =COUNTIFS('Raw Data'!$G$6:$G$640,"R&M",'Raw Data'!$F$6:$F$640,B9,'Raw Data'!$AC$6:$AC$640,">0")+COUNTIFS('Raw Data'!$G$6:$G$640,"R&M",'Raw Data'!$F$6:$F$640,B9,'Raw Data'!$AD$6:$AD$640,">0")+COUNTIFS('Raw Data'!$G$6:$G$640,"R&M",'Raw Data'!$F$6:$F$640,B9,'Raw Data'!$AE$6:$AE$640,">0") -> 0 | AU9: =SUMIFS('Raw Data'!$S$6:$S$640,'Raw Data'!$G$6:$G$640,"R&M",'Raw Data'!$F$6:$F$640,B9) -> 0 | AV9: =COUNTIFS('Raw Data'!$G$6:$G$340,"Support",'Raw Data'!$F$6:$F$340,B9,'Raw Data'!$AC$6:$AC$340,">0")+COUNTIFS('Raw Data'!$G$6:$G$340,"Support",'Raw Data'!$F$6:$F$340,B9,'Raw Data'!$AD$6:$AD$340,">0")+COUNTIFS('Raw Data'!$G$6:$G$340,"Support",'Raw Data'!$F$6:$F$340,B9,'Raw Data'!$AE$6:$AE$340,">0") -> 0 | AW9: =SUMIFS('Raw Data'!$X$6:$X$640,'Raw Data'!$G$6:$G$640,"Support",'Raw Data'!$F$6:$F$640,B9,'Raw Data'!$AC$6:$AC$640,">0")+SUMIFS('Raw Data'!$X$6:$X$640,'Raw Data'!$G$6:$G$640,"Support",'Raw Data'!$F$6:$F$640,B9,'Raw Data'!$AD$6:$AD$640,">0")+SUMIFS('Raw Data'!$X$6:$X$640,'Raw Data'!$G$6:$G$640,"Support",'Raw Data'!$F$6:$F$640,B9,'Raw Data'!$AE$6:$AE$640,">0") -> 0 | AX9: =SUMIFS('Raw Data'!$Y$6:$Y$640,'Raw Data'!$G$6:$G$640,"Support",'Raw Data'!$F$6:$F$640,B9,'Raw Data'!$AC$6:$AC$640,">0")+SUMIFS('Raw Data'!$Y$6:$Y$640,'Raw Data'!$G$6:$G$640,"Support",'Raw Data'!$F$6:$F$640,B9,'Raw Data'!$AD$6:$AD$640,">0")+SUMIFS('Raw Data'!$Y$6:$Y$640,'Raw Data'!$G$6:$G$640,"Support",'Raw Data'!$F$6:$F$640,B9,'Raw Data'!$AE$6:$AE$640,">0") -> 0 | AY9: =AW9*AX9 -> 0 | AZ9: =SUM(AR9,AT9,AV9) -> 0 | BA9: =SUM(AS9,AU9) -> 0 | BB9: =COUNTIFS('Raw Data'!$G$6:$G$640,"Capex",'Raw Data'!$F$6:$F$640,B9,'Raw Data'!$AF$6:$AF$640,">0")+COUNTIFS('Raw Data'!$G$6:$G$640,"Capex",'Raw Data'!$F$6:$F$640,B9,'Raw Data'!$AG$6:$AG$640,">0")+COUNTIFS('Raw Data'!$G$6:$G$640,"Capex",'Raw Data'!$F$6:$F$640,B9,'Raw Data'!$AH$6:$AH$640,">0") -> 0 | BC9: =SUMIFS('Raw Data'!$T$6:$T$640,'Raw Data'!$G$6:$G$640,"Capex",'Raw Data'!$F$6:$F$640,B9) -> 0 | BD9: =COUNTIFS('Raw Data'!$G$6:$G$640,"R&M",'Raw Data'!$F$6:$F$640,B9,'Raw Data'!$AF$6:$AF$640,">0")+COUNTIFS('Raw Data'!$G$6:$G$640,"R&M",'Raw Data'!$F$6:$F$640,B9,'Raw Data'!$AG$6:$AG$640,">0")+COUNTIFS('Raw Data'!$G$6:$G$640,"R&M",'Raw Data'!$F$6:$F$640,B9,'Raw Data'!$AH$6:$AH$640,">0") -> 0 | BE9: =SUMIFS('Raw Data'!$T$6:$T$640,'Raw Data'!$G$6:$G$640,"R&M",'Raw Data'!$F$6:$F$640,B9) -> 0 | BF9: =COUNTIFS('Raw Data'!$G$6:$G$640,"Support",'Raw Data'!$F$6:$F$640,B9,'Raw Data'!$AF$6:$AF$640,">0")+COUNTIFS('Raw Data'!$G$6:$G$640,"Support",'Raw Data'!$F$6:$F$640,B9,'Raw Data'!$AG$6:$AG$640,">0")+COUNTIFS('Raw Data'!$G$6:$G$640,"Support",'Raw Data'!$F$6:$F$640,B9,'Raw Data'!$AH$6:$AH$640,">0") -> 0 | BG9: =SUMIFS('Raw Data'!$X$6:$X$640,'Raw Data'!$G$6:$G$640,"Support",'Raw Data'!$F$6:$F$640,B9,'Raw Data'!$AF$6:$AF$640,">0")+SUMIFS('Raw Data'!$X$6:$X$640,'Raw Data'!$G$6:$G$640,"Support",'Raw Data'!$F$6:$F$640,B9,'Raw Data'!$AG$6:$AG$640,">0")+SUMIFS('Raw Data'!$X$6:$X$640,'Raw Data'!$G$6:$G$640,"Support",'Raw Data'!$F$6:$F$640,B9,'Raw Data'!$AH$6:$AH$640,">0") -> 0 | BH9: =SUMIFS('Raw Data'!$Y$6:$Y$640,'Raw Data'!$G$6:$G$640,"Support",'Raw Data'!$F$6:$F$640,B9,'Raw Data'!$AF$6:$AF$640,">0")+SUMIFS('Raw Data'!$Y$6:$Y$640,'Raw Data'!$G$6:$G$640,"Support",'Raw Data'!$F$6:$F$640,B9,'Raw Data'!$AG$6:$AG$640,">0")+SUMIFS('Raw Data'!$Y$6:$Y$640,'Raw Data'!$G$6:$G$640,"Support",'Raw Data'!$F$6:$F$640,B9,'Raw Data'!$AH$6:$AH$640,">0") -> 0 | BI9: =BG9*BH9 -> 0 | BJ9: =SUM(BB9,BD9,BF9) -> 0 | BK9: =SUM(BC9,BE9) -> 0 | BL9: =COUNTIFS('Raw Data'!$G$6:$G$640,"Capex",'Raw Data'!$F$6:$F$640,B9,'Raw Data'!$AI$6:$AI$640,">0")+COUNTIFS('Raw Data'!$G$6:$G$640,"Capex",'Raw Data'!$F$6:$F$640,B9,'Raw Data'!$AJ$6:$AJ$640,">0")+COUNTIFS('Raw Data'!$G$6:$G$640,"Capex",'Raw Data'!$F$6:$F$640,B9,'Raw Data'!$AK$6:$AK$640,">0") -> 0 | BM9: =SUMIFS('Raw Data'!$U$6:$U$640,'Raw Data'!$G$6:$G$640,"Capex",'Raw Data'!$F$6:$F$640,B9) -> 0 | BN9: =COUNTIFS('Raw Data'!$G$6:$G$640,"R&M",'Raw Data'!$F$6:$F$640,B9,'Raw Data'!$AI$6:$AI$640,">0")+COUNTIFS('Raw Data'!$G$6:$G$640,"R&M",'Raw Data'!$F$6:$F$640,B9,'Raw Data'!$AJ$6:$AJ$640,">0")+COUNTIFS('Raw Data'!$G$6:$G$640,"R&M",'Raw Data'!$F$6:$F$640,B9,'Raw Data'!$AK$6:$AK$640,">0") -> 0 | BO9: =SUMIFS('Raw Data'!$U$6:$U$640,'Raw Data'!$G$6:$G$640,"R&M",'Raw Data'!$F$6:$F$640,B9) -> 0 | BP9: =COUNTIFS('Raw Data'!$G$6:$G$640,"Support",'Raw Data'!$F$6:$F$640,B9,'Raw Data'!$AI$6:$AI$640,">0")+COUNTIFS('Raw Data'!$G$6:$G$640,"Support",'Raw Data'!$F$6:$F$640,B9,'Raw Data'!$AJ$6:$AJ$640,">0")+COUNTIFS('Raw Data'!$G$6:$G$640,"Support",'Raw Data'!$F$6:$F$640,B9,'Raw Data'!$AK$6:$AK$640,">0") -> 0 | BQ9: =SUMIFS('Raw Data'!$X$6:$X$640,'Raw Data'!$G$6:$G$640,"Support",'Raw Data'!$F$6:$F$640,B9,'Raw Data'!$AI$6:$AI$640,">0")+SUMIFS('Raw Data'!$X$6:$X$640,'Raw Data'!$G$6:$G$640,"Support",'Raw Data'!$F$6:$F$640,B9,'Raw Data'!$AJ$6:$AJ$640,">0")+SUMIFS('Raw Data'!$X$6:$X$640,'Raw Data'!$G$6:$G$640,"Support",'Raw Data'!$F$6:$F$640,B9,'Raw Data'!$AK$6:$AK$640,">0") -> 0 | BR9: =SUMIFS('Raw Data'!$Y$6:$Y$640,'Raw Data'!$G$6:$G$640,"Support",'Raw Data'!$F$6:$F$640,B9,'Raw Data'!$AI$6:$AI$640,">0")+SUMIFS('Raw Data'!$Y$6:$Y$640,'Raw Data'!$G$6:$G$640,"Support",'Raw Data'!$F$6:$F$640,B9,'Raw Data'!$AJ$6:$AJ$640,">0")+SUMIFS('Raw Data'!$Y$6:$Y$640,'Raw Data'!$G$6:$G$640,"Support",'Raw Data'!$F$6:$F$640,B9,'Raw Data'!$AK$6:$AK$640,">0") -> 0 | BS9: =BQ9*BR9 -> 0 | BT9: =SUM(BL9,BN9,BP9) -> 0 | BU9: =SUM(BM9,BO9) -> 0 | BV9: =25*12 -> 300 | BY9: ATT | BZ9: =COUNTIFS('Raw Data'!$F:$F,Summary!$B10,'Raw Data'!K:K,Summary!BZ$4,'Raw Data'!X:X,">") -> 0 | CA9: =COUNTIFS('Raw Data'!$F:$F,Summary!$B9,'Raw Data'!Z:Z,">0") -> 0 | CB9: =SUMIFS('Raw Data'!$W:$W,'Raw Data'!$F:$F,Summary!$B9,'Raw Data'!Z:Z,">0") -> 0 | CC9: =COUNTIFS('Raw Data'!$F:$F,Summary!$B10,'Raw Data'!L:L,Summary!CC$4,'Raw Data'!Y:Y,">") -> 0 | CD9: =COUNTIFS('Raw Data'!$F:$F,Summary!$B9,'Raw Data'!AA:AA,">0") -> 0 | CE9: =SUMIFS('Raw Data'!$W:$W,'Raw Data'!$F:$F,Summary!$B9,'Raw Data'!AA:AA,">0") -> 0 | CF9: =COUNTIFS('Raw Data'!$F:$F,Summary!$B10,'Raw Data'!M:M,Summary!CF$4,'Raw Data'!Z:Z,">") -> 0 | CG9: =COUNTIFS('Raw Data'!$F:$F,Summary!$B9,'Raw Data'!AB:AB,">0") -> 0 | CH9: =SUMIFS('Raw Data'!$W:$W,'Raw Data'!$F:$F,Summary!$B9,'Raw Data'!AB:AB,">0") -> 0 | CI9: =BZ9+CC9+CF9 -> 0 | CJ9: =CA9+CD9+CG9 -> 0 | CK9: =CB9+CE9+CH9 -> 0 | CL9: =COUNTIFS('Raw Data'!$F:$F,Summary!$B10,'Raw Data'!N:N,Summary!CL$4,'Raw Data'!AA:AA,">") -> 0 | CM9: =COUNTIFS('Raw Data'!$F:$F,Summary!$B9,'Raw Data'!AC:AC,">0") -> 0 | CN9: =SUMIFS('Raw Data'!$W:$W,'Raw Data'!$F:$F,Summary!$B9,'Raw Data'!AC:AC,">0") -> 0 | CO9: =COUNTIFS('Raw Data'!$F:$F,Summary!$B10,'Raw Data'!O:O,Summary!CO$4,'Raw Data'!AB:AB,">") -> 0 | CP9: =COUNTIFS('Raw Data'!$F:$F,Summary!$B9,'Raw Data'!AD:AD,">0") -> 0 | CQ9: =SUMIFS('Raw Data'!$W:$W,'Raw Data'!$F:$F,Summary!$B9,'Raw Data'!AD:AD,">0") -> 0 | CR9: =COUNTIFS('Raw Data'!$F:$F,Summary!$B10,'Raw Data'!P:P,Summary!CR$4,'Raw Data'!AC:AC,">") -> 0 | CS9: =COUNTIFS('Raw Data'!$F:$F,Summary!$B9,'Raw Data'!AE:AE,">0") -> 0 | CT9: =SUMIFS('Raw Data'!$W:$W,'Raw Data'!$F:$F,Summary!$B9,'Raw Data'!AE:AE,">0") -> 0 | CU9: =CL9+CO9+CR9 -> 0 | CV9: =CM9+CP9+CS9 -> 0 | CW9: =CN9+CQ9+CT9 -> 0 | CX9: =COUNTIFS('Raw Data'!$F:$F,Summary!$B10,'Raw Data'!Q:Q,Summary!CX$4,'Raw Data'!AD:AD,">") -> 0 | CY9: =COUNTIFS('Raw Data'!$F:$F,Summary!$B9,'Raw Data'!AF:AF,">0") -> 0 | CZ9: =SUMIFS('Raw Data'!$W:$W,'Raw Data'!$F:$F,Summary!$B9,'Raw Data'!AF:AF,">0") -> 0 | DA9: =COUNTIFS('Raw Data'!$F:$F,Summary!$B10,'Raw Data'!R:R,Summary!DA$4,'Raw Data'!AE:AE,">") -> 0 | DB9: =COUNTIFS('Raw Data'!$F:$F,Summary!$B9,'Raw Data'!AG:AG,">0") -> 0 | DC9: =SUMIFS('Raw Data'!$W:$W,'Raw Data'!$F:$F,Summary!$B9,'Raw Data'!AG:AG,">0") -> 0 | DD9: =COUNTIFS('Raw Data'!$F:$F,Summary!$B10,'Raw Data'!S:S,Summary!DD$4,'Raw Data'!AF:AF,">") -> 0 | DE9: =COUNTIFS('Raw Data'!$F:$F,Summary!$B9,'Raw Data'!AH:AH,">0") -> 0 | DF9: =SUMIFS('Raw Data'!$W:$W,'Raw Data'!$F:$F,Summary!$B9,'Raw Data'!AH:AH,">0") -> 0 | DG9: =CX9+DA9+DD9 -> 0 | DH9: =CY9+DB9+DE9 -> 0 | DI9: =CZ9+DC9+DF9 -> 0 | DJ9: =COUNTIFS('Raw Data'!$F:$F,Summary!$B10,'Raw Data'!T:T,Summary!DJ$4,'Raw Data'!AG:AG,">") -> 0 | DK9: =COUNTIFS('Raw Data'!$F:$F,Summary!$B9,'Raw Data'!AI:AI,">0") -> 0 | DL9: =SUMIFS('Raw Data'!$W:$W,'Raw Data'!$F:$F,Summary!$B9,'Raw Data'!AI:AI,">0") -> 0 | DM9: =COUNTIFS('Raw Data'!$F:$F,Summary!$B10,'Raw Data'!U:U,Summary!DM$4,'Raw Data'!AH:AH,">") -> 0 | DN9: =COUNTIFS('Raw Data'!$F:$F,Summary!$B9,'Raw Data'!AJ:AJ,">0") -> 0 | DO9: =SUMIFS('Raw Data'!$W:$W,'Raw Data'!$F:$F,Summary!$B9,'Raw Data'!AJ:AJ,">0") -> 0 | DP9: =COUNTIFS('Raw Data'!$F:$F,Summary!$B10,'Raw Data'!V:V,Summary!DP$4,'Raw Data'!AI:AI,">") -> 0 | DQ9: =COUNTIFS('Raw Data'!$F:$F,Summary!$B9,'Raw Data'!AK:AK,">0") -> 0 | DR9: =SUMIFS('Raw Data'!$W:$W,'Raw Data'!$F:$F,Summary!$B9,'Raw Data'!AK:AK,">0") -> 0 | DS9: =DJ9+DM9+DP9 -> 0 | DT9: =DK9+DN9+DQ9 -> 0 | DU9: =DL9+DO9+DR9 -> 0 | DV9: =COUNTIFS('Raw Data'!$F:$F,Summary!$B10,'Raw Data'!W:W,Summary!DV$4,'Raw Data'!AJ:AJ,">") -> 0 | DW9: =COUNTIFS('Raw Data'!$F:$F,Summary!$B9,'Raw Data'!AL:AL,">0") -> 0 | DX9: =SUMIFS('Raw Data'!$W:$W,'Raw Data'!$F:$F,Summary!$B9,'Raw Data'!AL:AL,">0") -> 0
B10: ATM | C10: =SUM(AH10,AR10,BB10,BL10) -> 0 | D10: =SUM(AI10,AS10,BC10,BM10) -> 0 | E10: =SUM(AJ10,AT10,BD10,BN10) -> 0 | F10: =SUM(AK10,AU10,BE10,BO10) -> 0 | G10: =SUM(AL10,AV10,BF10,BP10) -> 0 | H10: =SUM(AM10,AW10,BG10,BQ10) -> 0 | I10: =SUM(AN10,AX10,BH10,BR10) -> 0 | J10: =H10*I10 -> 0 | K10: =SUM(C10,E10,G10) -> 0 | L10: =SUM(D10,F10) -> 0 | M10: =AH10+AR10 -> 0 | N10: =AI10+AS10 -> 0 | O10: =AJ10+AT10 -> 0 | P10: =AK10+AU10 -> 0 | Q10: =AL10+AV10 -> 0 | R10: =AM10+AW10 -> 0 | S10: =AN10+AX10 -> 0 | T10: =AO10+AY10 -> 0 | ... V10: =AQ10+BA10 -> 0 | W10: =BB10+BL10 -> 0 | X10: =BC10+BM10 -> 0 | Y10: =BD10+BN10 -> 0 | Z10: =BE10+BO10 -> 0 | AA10: =BF10+BP10 -> 0 | AB10: =BG10+BQ10 -> 0 | AC10: =BH10+BR10 -> 0 | AD10: =BI10+BS10 -> 0 | ... AF10: =BK10+BU10 -> 0 | AH10: =COUNTIFS('Raw Data'!$G$6:$G$640,"Capex",'Raw Data'!$F$6:$F$640,B10,'Raw Data'!$Z$6:$Z$640,">=0")+COUNTIFS('Raw Data'!$G$6:$G$640,"Capex",'Raw Data'!$F$6:$F$640,B10,'Raw Data'!$AA$6:$AA$640,">=0")+COUNTIFS('Raw Data'!$G$6:$G$640,"Capex",'Raw Data'!$F$6:$F$640,B10,'Raw Data'!$AB$6:$AB$640,">=0") -> 0 | AI10: =SUMIFS('Raw Data'!$R$6:$R$640,'Raw Data'!$G$6:$G$640,"Capex",'Raw Data'!$F$6:$F$640,B10) -> 0 | AJ10: =COUNTIFS('Raw Data'!$G$6:$G$640,"R&M",'Raw Data'!$F$6:$F$640,B10,'Raw Data'!$Z$6:$Z$640,">0")+COUNTIFS('Raw Data'!$G$6:$G$640,"R&M",'Raw Data'!$F$6:$F$640,B10,'Raw Data'!$AA$6:$AA$640,">0")+COUNTIFS('Raw Data'!$G$6:$G$640,"R&M",'Raw Data'!$F$6:$F$640,B10,'Raw Data'!$AB$6:$AB$640,">0") -> 0 | AK10: =SUMIFS('Raw Data'!$R$6:$R$640,'Raw Data'!$G$6:$G$640,$AJ$4,'Raw Data'!$F$6:$F$640,B10) -> 0 | AL10: =COUNTIFS('Raw Data'!$G$6:$G$640,"Support",'Raw Data'!$F$6:$F$640,B10,'Raw Data'!$Z$6:$Z$640,">0")+COUNTIFS('Raw Data'!$G$6:$G$640,"Support",'Raw Data'!$F$6:$F$640,B10,'Raw Data'!$AA$6:$AA$640,">0")+COUNTIFS('Raw Data'!$G$6:$G$640,"Support",'Raw Data'!$F$6:$F$640,B10,'Raw Data'!$AB$6:$AB$640,">0") -> 0 | AM10: =SUMIFS('Raw Data'!$X$6:$X$640,'Raw Data'!$G$6:$G$640,"Support",'Raw Data'!$F$6:$F$640,B10,'Raw Data'!$Z$6:$Z$640,">0")+SUMIFS('Raw Data'!$X$6:$X$640,'Raw Data'!$G$6:$G$640,"Support",'Raw Data'!$F$6:$F$640,B10,'Raw Data'!$AA$6:$AA$640,">0")+SUMIFS('Raw Data'!$X$6:$X$640,'Raw Data'!$G$6:$G$640,"Support",'Raw Data'!$F$6:$F$640,B10,'Raw Data'!$AB$6:$AB$640,">0") -> 0 | AN10: =SUMIFS('Raw Data'!$Y$6:$Y$640,'Raw Data'!$G$6:$G$640,"Support",'Raw Data'!$F$6:$F$640,B10,'Raw Data'!$Z$6:$Z$640,">0")+SUMIFS('Raw Data'!$Y$6:$Y$640,'Raw Data'!$G$6:$G$640,"Support",'Raw Data'!$F$6:$F$640,B10,'Raw Data'!$AA$6:$AA$640,">0")+SUMIFS('Raw Data'!$Y$6:$Y$640,'Raw Data'!$G$6:$G$640,"Support",'Raw Data'!$F$6:$F$640,B10,'Raw Data'!$AB$6:$AB$640,">0") -> 0 | AO10: =AM10*AN10 -> 0 | AP10: =SUM(AH10,AJ10,AL10) -> 0 | AQ10: =SUM(AI10,AK10,AO10) -> 0 | AR10: =COUNTIFS('Raw Data'!$G$6:$G$640,"Capex",'Raw Data'!$F$6:$F$640,B10,'Raw Data'!$AC$6:$AC$640,">0")+COUNTIFS('Raw Data'!$G$6:$G$640,"Capex",'Raw Data'!$F$6:$F$640,B10,'Raw Data'!$AD$6:$AD$640,">0")+COUNTIFS('Raw Data'!$G$6:$G$640,"Capex",'Raw Data'!$F$6:$F$640,B10,'Raw Data'!$AE$6:$AE$640,">0") -> 0 | AS10: =SUMIFS('Raw Data'!$S$6:$S$640,'Raw Data'!$G$6:$G$640,"Capex",'Raw Data'!$F$6:$F$640,B10) -> 0 | AT10: =COUNTIFS('Raw Data'!$G$6:$G$640,"R&M",'Raw Data'!$F$6:$F$640,B10,'Raw Data'!$AC$6:$AC$640,">0")+COUNTIFS('Raw Data'!$G$6:$G$640,"R&M",'Raw Data'!$F$6:$F$640,B10,'Raw Data'!$AD$6:$AD$640,">0")+COUNTIFS('Raw Data'!$G$6:$G$640,"R&M",'Raw Data'!$F$6:$F$640,B10,'Raw Data'!$AE$6:$AE$640,">0") -> 0 | AU10: =SUMIFS('Raw Data'!$S$6:$S$640,'Raw Data'!$G$6:$G$640,"R&M",'Raw Data'!$F$6:$F$640,B10) -> 0 | AV10: =COUNTIFS('Raw Data'!$G$6:$G$340,"Support",'Raw Data'!$F$6:$F$340,B10,'Raw Data'!$AC$6:$AC$340,">0")+COUNTIFS('Raw Data'!$G$6:$G$340,"Support",'Raw Data'!$F$6:$F$340,B10,'Raw Data'!$AD$6:$AD$340,">0")+COUNTIFS('Raw Data'!$G$6:$G$340,"Support",'Raw Data'!$F$6:$F$340,B10,'Raw Data'!$AE$6:$AE$340,">0") -> 0 | AW10: =SUMIFS('Raw Data'!$X$6:$X$640,'Raw Data'!$G$6:$G$640,"Support",'Raw Data'!$F$6:$F$640,B10,'Raw Data'!$AC$6:$AC$640,">0")+SUMIFS('Raw Data'!$X$6:$X$640,'Raw Data'!$G$6:$G$640,"Support",'Raw Data'!$F$6:$F$640,B10,'Raw Data'!$AD$6:$AD$640,">0")+SUMIFS('Raw Data'!$X$6:$X$640,'Raw Data'!$G$6:$G$640,"Support",'Raw Data'!$F$6:$F$640,B10,'Raw Data'!$AE$6:$AE$640,">0") -> 0 | AX10: =SUMIFS('Raw Data'!$Y$6:$Y$640,'Raw Data'!$G$6:$G$640,"Support",'Raw Data'!$F$6:$F$640,B10,'Raw Data'!$AC$6:$AC$640,">0")+SUMIFS('Raw Data'!$Y$6:$Y$640,'Raw Data'!$G$6:$G$640,"Support",'Raw Data'!$F$6:$F$640,B10,'Raw Data'!$AD$6:$AD$640,">0")+SUMIFS('Raw Data'!$Y$6:$Y$640,'Raw Data'!$G$6:$G$640,"Support",'Raw Data'!$F$6:$F$640,B10,'Raw Data'!$AE$6:$AE$640,">0") -> 0 | AY10: =AW10*AX10 -> 0 | AZ10: =SUM(AR10,AT10,AV10) -> 0 | BA10: =SUM(AS10,AU10) -> 0 | BB10: =COUNTIFS('Raw Data'!$G$6:$G$640,"Capex",'Raw Data'!$F$6:$F$640,B10,'Raw Data'!$AF$6:$AF$640,">0")+COUNTIFS('Raw Data'!$G$6:$G$640,"Capex",'Raw Data'!$F$6:$F$640,B10,'Raw Data'!$AG$6:$AG$640,">0")+COUNTIFS('Raw Data'!$G$6:$G$640,"Capex",'Raw Data'!$F$6:$F$640,B10,'Raw Data'!$AH$6:$AH$640,">0") -> 0 | BC10: =SUMIFS('Raw Data'!$T$6:$T$640,'Raw Data'!$G$6:$G$640,"Capex",'Raw Data'!$F$6:$F$640,B10) -> 0 | BD10: =COUNTIFS('Raw Data'!$G$6:$G$640,"R&M",'Raw Data'!$F$6:$F$640,B10,'Raw Data'!$AF$6:$AF$640,">0")+COUNTIFS('Raw Data'!$G$6:$G$640,"R&M",'Raw Data'!$F$6:$F$640,B10,'Raw Data'!$AG$6:$AG$640,">0")+COUNTIFS('Raw Data'!$G$6:$G$640,"R&M",'Raw Data'!$F$6:$F$640,B10,'Raw Data'!$AH$6:$AH$640,">0") -> 0 | BE10: =SUMIFS('Raw Data'!$T$6:$T$640,'Raw Data'!$G$6:$G$640,"R&M",'Raw Data'!$F$6:$F$640,B10) -> 0 | BF10: =COUNTIFS('Raw Data'!$G$6:$G$640,"Support",'Raw Data'!$F$6:$F$640,B10,'Raw Data'!$AF$6:$AF$640,">0")+COUNTIFS('Raw Data'!$G$6:$G$640,"Support",'Raw Data'!$F$6:$F$640,B10,'Raw Data'!$AG$6:$AG$640,">0")+COUNTIFS('Raw Data'!$G$6:$G$640,"Support",'Raw Data'!$F$6:$F$640,B10,'Raw Data'!$AH$6:$AH$640,">0") -> 0 | BG10: =SUMIFS('Raw Data'!$X$6:$X$640,'Raw Data'!$G$6:$G$640,"Support",'Raw Data'!$F$6:$F$640,B10,'Raw Data'!$AF$6:$AF$640,">0")+SUMIFS('Raw Data'!$X$6:$X$640,'Raw Data'!$G$6:$G$640,"Support",'Raw Data'!$F$6:$F$640,B10,'Raw Data'!$AG$6:$AG$640,">0")+SUMIFS('Raw Data'!$X$6:$X$640,'Raw Data'!$G$6:$G$640,"Support",'Raw Data'!$F$6:$F$640,B10,'Raw Data'!$AH$6:$AH$640,">0") -> 0 | BH10: =SUMIFS('Raw Data'!$Y$6:$Y$640,'Raw Data'!$G$6:$G$640,"Support",'Raw Data'!$F$6:$F$640,B10,'Raw Data'!$AF$6:$AF$640,">0")+SUMIFS('Raw Data'!$Y$6:$Y$640,'Raw Data'!$G$6:$G$640,"Support",'Raw Data'!$F$6:$F$640,B10,'Raw Data'!$AG$6:$AG$640,">0")+SUMIFS('Raw Data'!$Y$6:$Y$640,'Raw Data'!$G$6:$G$640,"Support",'Raw Data'!$F$6:$F$640,B10,'Raw Data'!$AH$6:$AH$640,">0") -> 0 | BI10: =BG10*BH10 -> 0 | BJ10: =SUM(BB10,BD10,BF10) -> 0 | BK10: =SUM(BC10,BE10) -> 0 | BL10: =COUNTIFS('Raw Data'!$G$6:$G$640,"Capex",'Raw Data'!$F$6:$F$640,B10,'Raw Data'!$AI$6:$AI$640,">0")+COUNTIFS('Raw Data'!$G$6:$G$640,"Capex",'Raw Data'!$F$6:$F$640,B10,'Raw Data'!$AJ$6:$AJ$640,">0")+COUNTIFS('Raw Data'!$G$6:$G$640,"Capex",'Raw Data'!$F$6:$F$640,B10,'Raw Data'!$AK$6:$AK$640,">0") -> 0 | BM10: =SUMIFS('Raw Data'!$U$6:$U$640,'Raw Data'!$G$6:$G$640,"Capex",'Raw Data'!$F$6:$F$640,B10) -> 0 | BN10: =COUNTIFS('Raw Data'!$G$6:$G$640,"R&M",'Raw Data'!$F$6:$F$640,B10,'Raw Data'!$AI$6:$AI$640,">0")+COUNTIFS('Raw Data'!$G$6:$G$640,"R&M",'Raw Data'!$F$6:$F$640,B10,'Raw Data'!$AJ$6:$AJ$640,">0")+COUNTIFS('Raw Data'!$G$6:$G$640,"R&M",'Raw Data'!$F$6:$F$640,B10,'Raw Data'!$AK$6:$AK$640,">0") -> 0 | BO10: =SUMIFS('Raw Data'!$U$6:$U$640,'Raw Data'!$G$6:$G$640,"R&M",'Raw Data'!$F$6:$F$640,B10) -> 0 | BP10: =COUNTIFS('Raw Data'!$G$6:$G$640,"Support",'Raw Data'!$F$6:$F$640,B10,'Raw Data'!$AI$6:$AI$640,">0")+COUNTIFS('Raw Data'!$G$6:$G$640,"Support",'Raw Data'!$F$6:$F$640,B10,'Raw Data'!$AJ$6:$AJ$640,">0")+COUNTIFS('Raw Data'!$G$6:$G$640,"Support",'Raw Data'!$F$6:$F$640,B10,'Raw Data'!$AK$6:$AK$640,">0") -> 0 | BQ10: =SUMIFS('Raw Data'!$X$6:$X$640,'Raw Data'!$G$6:$G$640,"Support",'Raw Data'!$F$6:$F$640,B10,'Raw Data'!$AI$6:$AI$640,">0")+SUMIFS('Raw Data'!$X$6:$X$640,'Raw Data'!$G$6:$G$640,"Support",'Raw Data'!$F$6:$F$640,B10,'Raw Data'!$AJ$6:$AJ$640,">0")+SUMIFS('Raw Data'!$X$6:$X$640,'Raw Data'!$G$6:$G$640,"Support",'Raw Data'!$F$6:$F$640,B10,'Raw Data'!$AK$6:$AK$640,">0") -> 0 | BR10: =SUMIFS('Raw Data'!$Y$6:$Y$640,'Raw Data'!$G$6:$G$640,"Support",'Raw Data'!$F$6:$F$640,B10,'Raw Data'!$AI$6:$AI$640,">0")+SUMIFS('Raw Data'!$Y$6:$Y$640,'Raw Data'!$G$6:$G$640,"Support",'Raw Data'!$F$6:$F$640,B10,'Raw Data'!$AJ$6:$AJ$640,">0")+SUMIFS('Raw Data'!$Y$6:$Y$640,'Raw Data'!$G$6:$G$640,"Support",'Raw Data'!$F$6:$F$640,B10,'Raw Data'!$AK$6:$AK$640,">0") -> 0 | BS10: =BQ10*BR10 -> 0 | BT10: =SUM(BL10,BN10,BP10) -> 0 | BU10: =SUM(BM10,BO10) -> 0 | BV10: =25*12 -> 300 | BY10: ATM | BZ10: =COUNTIFS('Raw Data'!$F:$F,Summary!$B11,'Raw Data'!K:K,Summary!BZ$4,'Raw Data'!X:X,">") -> 0 | CA10: =COUNTIFS('Raw Data'!$F:$F,Summary!$B10,'Raw Data'!Z:Z,">0") -> 0 | CB10: =SUMIFS('Raw Data'!$W:$W,'Raw Data'!$F:$F,Summary!$B10,'Raw Data'!Z:Z,">0") -> 0 | CC10: =COUNTIFS('Raw Data'!$F:$F,Summary!$B11,'Raw Data'!L:L,Summary!CC$4,'Raw Data'!Y:Y,">") -> 0 | CD10: =COUNTIFS('Raw Data'!$F:$F,Summary!$B10,'Raw Data'!AA:AA,">0") -> 0 | CE10: =SUMIFS('Raw Data'!$W:$W,'Raw Data'!$F:$F,Summary!$B10,'Raw Data'!AA:AA,">0") -> 0 | CF10: =COUNTIFS('Raw Data'!$F:$F,Summary!$B11,'Raw Data'!M:M,Summary!CF$4,'Raw Data'!Z:Z,">") -> 0 | CG10: =COUNTIFS('Raw Data'!$F:$F,Summary!$B10,'Raw Data'!AB:AB,">0") -> 0 | CH10: =SUMIFS('Raw Data'!$W:$W,'Raw Data'!$F:$F,Summary!$B10,'Raw Data'!AB:AB,">0") -> 0 | CI10: =BZ10+CC10+CF10 -> 0 | CJ10: =CA10+CD10+CG10 -> 0 | CK10: =CB10+CE10+CH10 -> 0 | CL10: =COUNTIFS('Raw Data'!$F:$F,Summary!$B11,'Raw Data'!N:N,Summary!CL$4,'Raw Data'!AA:AA,">") -> 0 | CM10: =COUNTIFS('Raw Data'!$F:$F,Summary!$B10,'Raw Data'!AC:AC,">0") -> 0 | CN10: =SUMIFS('Raw Data'!$W:$W,'Raw Data'!$F:$F,Summary!$B10,'Raw Data'!AC:AC,">0") -> 0 | CO10: =COUNTIFS('Raw Data'!$F:$F,Summary!$B11,'Raw Data'!O:O,Summary!CO$4,'Raw Data'!AB:AB,">") -> 0 | CP10: =COUNTIFS('Raw Data'!$F:$F,Summary!$B10,'Raw Data'!AD:AD,">0") -> 0 | CQ10: =SUMIFS('Raw Data'!$W:$W,'Raw Data'!$F:$F,Summary!$B10,'Raw Data'!AD:AD,">0") -> 0 | CR10: =COUNTIFS('Raw Data'!$F:$F,Summary!$B11,'Raw Data'!P:P,Summary!CR$4,'Raw Data'!AC:AC,">") -> 0 | CS10: =COUNTIFS('Raw Data'!$F:$F,Summary!$B10,'Raw Data'!AE:AE,">0") -> 0 | CT10: =SUMIFS('Raw Data'!$W:$W,'Raw Data'!$F:$F,Summary!$B10,'Raw Data'!AE:AE,">0") -> 0 | CU10: =CL10+CO10+CR10 -> 0 | CV10: =CM10+CP10+CS10 -> 0 | CW10: =CN10+CQ10+CT10 -> 0 | CX10: =COUNTIFS('Raw Data'!$F:$F,Summary!$B11,'Raw Data'!Q:Q,Summary!CX$4,'Raw Data'!AD:AD,">") -> 0 | CY10: =COUNTIFS('Raw Data'!$F:$F,Summary!$B10,'Raw Data'!AF:AF,">0") -> 0 | CZ10: =SUMIFS('Raw Data'!$W:$W,'Raw Data'!$F:$F,Summary!$B10,'Raw Data'!AF:AF,">0") -> 0 | DA10: =COUNTIFS('Raw Data'!$F:$F,Summary!$B11,'Raw Data'!R:R,Summary!DA$4,'Raw Data'!AE:AE,">") -> 0 | DB10: =COUNTIFS('Raw Data'!$F:$F,Summary!$B10,'Raw Data'!AG:AG,">0") -> 0 | DC10: =SUMIFS('Raw Data'!$W:$W,'Raw Data'!$F:$F,Summary!$B10,'Raw Data'!AG:AG,">0") -> 0 | DD10: =COUNTIFS('Raw Data'!$F:$F,Summary!$B11,'Raw Data'!S:S,Summary!DD$4,'Raw Data'!AF:AF,">") -> 0 | DE10: =COUNTIFS('Raw Data'!$F:$F,Summary!$B10,'Raw Data'!AH:AH,">0") -> 0 | DF10: =SUMIFS('Raw Data'!$W:$W,'Raw Data'!$F:$F,Summary!$B10,'Raw Data'!AH:AH,">0") -> 0 | DG10: =CX10+DA10+DD10 -> 0 | DH10: =CY10+DB10+DE10 -> 0 | DI10: =CZ10+DC10+DF10 -> 0 | DJ10: =COUNTIFS('Raw Data'!$F:$F,Summary!$B11,'Raw Data'!T:T,Summary!DJ$4,'Raw Data'!AG:AG,">") -> 0 | DK10: =COUNTIFS('Raw Data'!$F:$F,Summary!$B10,'Raw Data'!AI:AI,">0") -> 0 | DL10: =SUMIFS('Raw Data'!$W:$W,'Raw Data'!$F:$F,Summary!$B10,'Raw Data'!AI:AI,">0") -> 0 | DM10: =COUNTIFS('Raw Data'!$F:$F,Summary!$B11,'Raw Data'!U:U,Summary!DM$4,'Raw Data'!AH:AH,">") -> 0 | DN10: =COUNTIFS('Raw Data'!$F:$F,Summary!$B10,'Raw Data'!AJ:AJ,">0") -> 0 | DO10: =SUMIFS('Raw Data'!$W:$W,'Raw Data'!$F:$F,Summary!$B10,'Raw Data'!AJ:AJ,">0") -> 0 | DP10: =COUNTIFS('Raw Data'!$F:$F,Summary!$B11,'Raw Data'!V:V,Summary!DP$4,'Raw Data'!AI:AI,">") -> 0 | DQ10: =COUNTIFS('Raw Data'!$F:$F,Summary!$B10,'Raw Data'!AK:AK,">0") -> 0 | DR10: =SUMIFS('Raw Data'!$W:$W,'Raw Data'!$F:$F,Summary!$B10,'Raw Data'!AK:AK,">0") -> 0 | DS10: =DJ10+DM10+DP10 -> 0 | DT10: =DK10+DN10+DQ10 -> 0 | DU10: =DL10+DO10+DR10 -> 0 | DV10: =COUNTIFS('Raw Data'!$F:$F,Summary!$B11,'Raw Data'!W:W,Summary!DV$4,'Raw Data'!AJ:AJ,">") -> 0 | DW10: =COUNTIFS('Raw Data'!$F:$F,Summary!$B10,'Raw Data'!AL:AL,">0") -> 0 | DX10: =SUMIFS('Raw Data'!$W:$W,'Raw Data'!$F:$F,Summary!$B10,'Raw Data'!AL:AL,">0") -> 0
B11: ATJ | C11: =SUM(AH11,AR11,BB11,BL11) -> 0 | D11: =SUM(AI11,AS11,BC11,BM11) -> 0 | E11: =SUM(AJ11,AT11,BD11,BN11) -> 0 | F11: =SUM(AK11,AU11,BE11,BO11) -> 0 | G11: =SUM(AL11,AV11,BF11,BP11) -> 0 | H11: =SUM(AM11,AW11,BG11,BQ11) -> 0 | I11: =SUM(AN11,AX11,BH11,BR11) -> 0 | J11: =H11*I11 -> 0 | K11: =SUM(C11,E11,G11) -> 0 | L11: =SUM(D11,F11) -> 0 | M11: =AH11+AR11 -> 0 | N11: =AI11+AS11 -> 0 | O11: =AJ11+AT11 -> 0 | P11: =AK11+AU11 -> 0 | Q11: =AL11+AV11 -> 0 | R11: =AM11+AW11 -> 0 | S11: =AN11+AX11 -> 0 | T11: =AO11+AY11 -> 0 | ... V11: =AQ11+BA11 -> 0 | W11: =BB11+BL11 -> 0 | X11: =BC11+BM11 -> 0 | Y11: =BD11+BN11 -> 0 | Z11: =BE11+BO11 -> 0 | AA11: =BF11+BP11 -> 0 | AB11: =BG11+BQ11 -> 0 | AC11: =BH11+BR11 -> 0 | AD11: =BI11+BS11 -> 0 | ... AF11: =BK11+BU11 -> 0 | AH11: =COUNTIFS('Raw Data'!$G$6:$G$640,"Capex",'Raw Data'!$F$6:$F$640,B11,'Raw Data'!$Z$6:$Z$640,">=0")+COUNTIFS('Raw Data'!$G$6:$G$640,"Capex",'Raw Data'!$F$6:$F$640,B11,'Raw Data'!$AA$6:$AA$640,">=0")+COUNTIFS('Raw Data'!$G$6:$G$640,"Capex",'Raw Data'!$F$6:$F$640,B11,'Raw Data'!$AB$6:$AB$640,">=0") -> 0 | AI11: =SUMIFS('Raw Data'!$R$6:$R$640,'Raw Data'!$G$6:$G$640,"Capex",'Raw Data'!$F$6:$F$640,B11) -> 0 | AJ11: =COUNTIFS('Raw Data'!$G$6:$G$640,"R&M",'Raw Data'!$F$6:$F$640,B11,'Raw Data'!$Z$6:$Z$640,">0")+COUNTIFS('Raw Data'!$G$6:$G$640,"R&M",'Raw Data'!$F$6:$F$640,B11,'Raw Data'!$AA$6:$AA$640,">0")+COUNTIFS('Raw Data'!$G$6:$G$640,"R&M",'Raw Data'!$F$6:$F$640,B11,'Raw Data'!$AB$6:$AB$640,">0") -> 0 | AK11: =SUMIFS('Raw Data'!$R$6:$R$640,'Raw Data'!$G$6:$G$640,$AJ$4,'Raw Data'!$F$6:$F$640,B11) -> 0 | AL11: =COUNTIFS('Raw Data'!$G$6:$G$640,"Support",'Raw Data'!$F$6:$F$640,B11,'Raw Data'!$Z$6:$Z$640,">0")+COUNTIFS('Raw Data'!$G$6:$G$640,"Support",'Raw Data'!$F$6:$F$640,B11,'Raw Data'!$AA$6:$AA$640,">0")+COUNTIFS('Raw Data'!$G$6:$G$640,"Support",'Raw Data'!$F$6:$F$640,B11,'Raw Data'!$AB$6:$AB$640,">0") -> 0 | AM11: =SUMIFS('Raw Data'!$X$6:$X$640,'Raw Data'!$G$6:$G$640,"Support",'Raw Data'!$F$6:$F$640,B11,'Raw Data'!$Z$6:$Z$640,">0")+SUMIFS('Raw Data'!$X$6:$X$640,'Raw Data'!$G$6:$G$640,"Support",'Raw Data'!$F$6:$F$640,B11,'Raw Data'!$AA$6:$AA$640,">0")+SUMIFS('Raw Data'!$X$6:$X$640,'Raw Data'!$G$6:$G$640,"Support",'Raw Data'!$F$6:$F$640,B11,'Raw Data'!$AB$6:$AB$640,">0") -> 0 | AN11: =SUMIFS('Raw Data'!$Y$6:$Y$640,'Raw Data'!$G$6:$G$640,"Support",'Raw Data'!$F$6:$F$640,B11,'Raw Data'!$Z$6:$Z$640,">0")+SUMIFS('Raw Data'!$Y$6:$Y$640,'Raw Data'!$G$6:$G$640,"Support",'Raw Data'!$F$6:$F$640,B11,'Raw Data'!$AA$6:$AA$640,">0")+SUMIFS('Raw Data'!$Y$6:$Y$640,'Raw Data'!$G$6:$G$640,"Support",'Raw Data'!$F$6:$F$640,B11,'Raw Data'!$AB$6:$AB$640,">0") -> 0 | AO11: =AM11*AN11 -> 0 | AP11: =SUM(AH11,AJ11,AL11) -> 0 | AQ11: =SUM(AI11,AK11,AO11) -> 0 | AR11: =COUNTIFS('Raw Data'!$G$6:$G$640,"Capex",'Raw Data'!$F$6:$F$640,B11,'Raw Data'!$AC$6:$AC$640,">0")+COUNTIFS('Raw Data'!$G$6:$G$640,"Capex",'Raw Data'!$F$6:$F$640,B11,'Raw Data'!$AD$6:$AD$640,">0")+COUNTIFS('Raw Data'!$G$6:$G$640,"Capex",'Raw Data'!$F$6:$F$640,B11,'Raw Data'!$AE$6:$AE$640,">0") -> 0 | AS11: =SUMIFS('Raw Data'!$S$6:$S$640,'Raw Data'!$G$6:$G$640,"Capex",'Raw Data'!$F$6:$F$640,B11) -> 0 | AT11: =COUNTIFS('Raw Data'!$G$6:$G$640,"R&M",'Raw Data'!$F$6:$F$640,B11,'Raw Data'!$AC$6:$AC$640,">0")+COUNTIFS('Raw Data'!$G$6:$G$640,"R&M",'Raw Data'!$F$6:$F$640,B11,'Raw Data'!$AD$6:$AD$640,">0")+COUNTIFS('Raw Data'!$G$6:$G$640,"R&M",'Raw Data'!$F$6:$F$640,B11,'Raw Data'!$AE$6:$AE$640,">0") -> 0 | AU11: =SUMIFS('Raw Data'!$S$6:$S$640,'Raw Data'!$G$6:$G$640,"R&M",'Raw Data'!$F$6:$F$640,B11) -> 0 | AV11: =COUNTIFS('Raw Data'!$G$6:$G$340,"Support",'Raw Data'!$F$6:$F$340,B11,'Raw Data'!$AC$6:$AC$340,">0")+COUNTIFS('Raw Data'!$G$6:$G$340,"Support",'Raw Data'!$F$6:$F$340,B11,'Raw Data'!$AD$6:$AD$340,">0")+COUNTIFS('Raw Data'!$G$6:$G$340,"Support",'Raw Data'!$F$6:$F$340,B11,'Raw Data'!$AE$6:$AE$340,">0") -> 0 | AW11: =SUMIFS('Raw Data'!$X$6:$X$640,'Raw Data'!$G$6:$G$640,"Support",'Raw Data'!$F$6:$F$640,B11,'Raw Data'!$AC$6:$AC$640,">0")+SUMIFS('Raw Data'!$X$6:$X$640,'Raw Data'!$G$6:$G$640,"Support",'Raw Data'!$F$6:$F$640,B11,'Raw Data'!$AD$6:$AD$640,">0")+SUMIFS('Raw Data'!$X$6:$X$640,'Raw Data'!$G$6:$G$640,"Support",'Raw Data'!$F$6:$F$640,B11,'Raw Data'!$AE$6:$AE$640,">0") -> 0 | AX11: =SUMIFS('Raw Data'!$Y$6:$Y$640,'Raw Data'!$G$6:$G$640,"Support",'Raw Data'!$F$6:$F$640,B11,'Raw Data'!$AC$6:$AC$640,">0")+SUMIFS('Raw Data'!$Y$6:$Y$640,'Raw Data'!$G$6:$G$640,"Support",'Raw Data'!$F$6:$F$640,B11,'Raw Data'!$AD$6:$AD$640,">0")+SUMIFS('Raw Data'!$Y$6:$Y$640,'Raw Data'!$G$6:$G$640,"Support",'Raw Data'!$F$6:$F$640,B11,'Raw Data'!$AE$6:$AE$640,">0") -> 0 | AY11: =AW11*AX11 -> 0 | AZ11: =SUM(AR11,AT11,AV11) -> 0 | BA11: =SUM(AS11,AU11) -> 0 | BB11: =COUNTIFS('Raw Data'!$G$6:$G$640,"Capex",'Raw Data'!$F$6:$F$640,B11,'Raw Data'!$AF$6:$AF$640,">0")+COUNTIFS('Raw Data'!$G$6:$G$640,"Capex",'Raw Data'!$F$6:$F$640,B11,'Raw Data'!$AG$6:$AG$640,">0")+COUNTIFS('Raw Data'!$G$6:$G$640,"Capex",'Raw Data'!$F$6:$F$640,B11,'Raw Data'!$AH$6:$AH$640,">0") -> 0 | BC11: =SUMIFS('Raw Data'!$T$6:$T$640,'Raw Data'!$G$6:$G$640,"Capex",'Raw Data'!$F$6:$F$640,B11) -> 0 | BD11: =COUNTIFS('Raw Data'!$G$6:$G$640,"R&M",'Raw Data'!$F$6:$F$640,B11,'Raw Data'!$AF$6:$AF$640,">0")+COUNTIFS('Raw Data'!$G$6:$G$640,"R&M",'Raw Data'!$F$6:$F$640,B11,'Raw Data'!$AG$6:$AG$640,">0")+COUNTIFS('Raw Data'!$G$6:$G$640,"R&M",'Raw Data'!$F$6:$F$640,B11,'Raw Data'!$AH$6:$AH$640,">0") -> 0 | BE11: =SUMIFS('Raw Data'!$T$6:$T$640,'Raw Data'!$G$6:$G$640,"R&M",'Raw Data'!$F$6:$F$640,B11) -> 0 | BF11: =COUNTIFS('Raw Data'!$G$6:$G$640,"Support",'Raw Data'!$F$6:$F$640,B11,'Raw Data'!$AF$6:$AF$640,">0")+COUNTIFS('Raw Data'!$G$6:$G$640,"Support",'Raw Data'!$F$6:$F$640,B11,'Raw Data'!$AG$6:$AG$640,">0")+COUNTIFS('Raw Data'!$G$6:$G$640,"Support",'Raw Data'!$F$6:$F$640,B11,'Raw Data'!$AH$6:$AH$640,">0") -> 0 | BG11: =SUMIFS('Raw Data'!$X$6:$X$640,'Raw Data'!$G$6:$G$640,"Support",'Raw Data'!$F$6:$F$640,B11,'Raw Data'!$AF$6:$AF$640,">0")+SUMIFS('Raw Data'!$X$6:$X$640,'Raw Data'!$G$6:$G$640,"Support",'Raw Data'!$F$6:$F$640,B11,'Raw Data'!$AG$6:$AG$640,">0")+SUMIFS('Raw Data'!$X$6:$X$640,'Raw Data'!$G$6:$G$640,"Support",'Raw Data'!$F$6:$F$640,B11,'Raw Data'!$AH$6:$AH$640,">0") -> 0 | BH11: =SUMIFS('Raw Data'!$Y$6:$Y$640,'Raw Data'!$G$6:$G$640,"Support",'Raw Data'!$F$6:$F$640,B11,'Raw Data'!$AF$6:$AF$640,">0")+SUMIFS('Raw Data'!$Y$6:$Y$640,'Raw Data'!$G$6:$G$640,"Support",'Raw Data'!$F$6:$F$640,B11,'Raw Data'!$AG$6:$AG$640,">0")+SUMIFS('Raw Data'!$Y$6:$Y$640,'Raw Data'!$G$6:$G$640,"Support",'Raw Data'!$F$6:$F$640,B11,'Raw Data'!$AH$6:$AH$640,">0") -> 0 | BI11: =BG11*BH11 -> 0 | BJ11: =SUM(BB11,BD11,BF11) -> 0 | BK11: =SUM(BC11,BE11) -> 0 | BL11: =COUNTIFS('Raw Data'!$G$6:$G$640,"Capex",'Raw Data'!$F$6:$F$640,B11,'Raw Data'!$AI$6:$AI$640,">0")+COUNTIFS('Raw Data'!$G$6:$G$640,"Capex",'Raw Data'!$F$6:$F$640,B11,'Raw Data'!$AJ$6:$AJ$640,">0")+COUNTIFS('Raw Data'!$G$6:$G$640,"Capex",'Raw Data'!$F$6:$F$640,B11,'Raw Data'!$AK$6:$AK$640,">0") -> 0 | BM11: =SUMIFS('Raw Data'!$U$6:$U$640,'Raw Data'!$G$6:$G$640,"Capex",'Raw Data'!$F$6:$F$640,B11) -> 0 | BN11: =COUNTIFS('Raw Data'!$G$6:$G$640,"R&M",'Raw Data'!$F$6:$F$640,B11,'Raw Data'!$AI$6:$AI$640,">0")+COUNTIFS('Raw Data'!$G$6:$G$640,"R&M",'Raw Data'!$F$6:$F$640,B11,'Raw Data'!$AJ$6:$AJ$640,">0")+COUNTIFS('Raw Data'!$G$6:$G$640,"R&M",'Raw Data'!$F$6:$F$640,B11,'Raw Data'!$AK$6:$AK$640,">0") -> 0 | BO11: =SUMIFS('Raw Data'!$U$6:$U$640,'Raw Data'!$G$6:$G$640,"R&M",'Raw Data'!$F$6:$F$640,B11) -> 0 | BP11: =COUNTIFS('Raw Data'!$G$6:$G$640,"Support",'Raw Data'!$F$6:$F$640,B11,'Raw Data'!$AI$6:$AI$640,">0")+COUNTIFS('Raw Data'!$G$6:$G$640,"Support",'Raw Data'!$F$6:$F$640,B11,'Raw Data'!$AJ$6:$AJ$640,">0")+COUNTIFS('Raw Data'!$G$6:$G$640,"Support",'Raw Data'!$F$6:$F$640,B11,'Raw Data'!$AK$6:$AK$640,">0") -> 0 | BQ11: =SUMIFS('Raw Data'!$X$6:$X$640,'Raw Data'!$G$6:$G$640,"Support",'Raw Data'!$F$6:$F$640,B11,'Raw Data'!$AI$6:$AI$640,">0")+SUMIFS('Raw Data'!$X$6:$X$640,'Raw Data'!$G$6:$G$640,"Support",'Raw Data'!$F$6:$F$640,B11,'Raw Data'!$AJ$6:$AJ$640,">0")+SUMIFS('Raw Data'!$X$6:$X$640,'Raw Data'!$G$6:$G$640,"Support",'Raw Data'!$F$6:$F$640,B11,'Raw Data'!$AK$6:$AK$640,">0") -> 0 | BR11: =SUMIFS('Raw Data'!$Y$6:$Y$640,'Raw Data'!$G$6:$G$640,"Support",'Raw Data'!$F$6:$F$640,B11,'Raw Data'!$AI$6:$AI$640,">0")+SUMIFS('Raw Data'!$Y$6:$Y$640,'Raw Data'!$G$6:$G$640,"Support",'Raw Data'!$F$6:$F$640,B11,'Raw Data'!$AJ$6:$AJ$640,">0")+SUMIFS('Raw Data'!$Y$6:$Y$640,'Raw Data'!$G$6:$G$640,"Support",'Raw Data'!$F$6:$F$640,B11,'Raw Data'!$AK$6:$AK$640,">0") -> 0 | BS11: =BQ11*BR11 -> 0 | BT11: =SUM(BL11,BN11,BP11) -> 0 | BU11: =SUM(BM11,BO11) -> 0 | BV11: =SUM(BN11,BP11) -> 0 | BY11: J-Device | BZ11: =COUNTIFS('Raw Data'!$F:$F,Summary!$B12,'Raw Data'!K:K,Summary!BZ$4,'Raw Data'!X:X,">") -> 0 | CA11: =COUNTIFS('Raw Data'!$F:$F,Summary!$B11,'Raw Data'!Z:Z,">0") -> 0 | CB11: =SUMIFS('Raw Data'!$W:$W,'Raw Data'!$F:$F,Summary!$B11,'Raw Data'!Z:Z,">0") -> 0 | CC11: =COUNTIFS('Raw Data'!$F:$F,Summary!$B12,'Raw Data'!L:L,Summary!CC$4,'Raw Data'!Y:Y,">") -> 0 | CD11: =COUNTIFS('Raw Data'!$F:$F,Summary!$B11,'Raw Data'!AA:AA,">0") -> 0 | CE11: =SUMIFS('Raw Data'!$W:$W,'Raw Data'!$F:$F,Summary!$B11,'Raw Data'!AA:AA,">0") -> 0 | CF11: =COUNTIFS('Raw Data'!$F:$F,Summary!$B12,'Raw Data'!M:M,Summary!CF$4,'Raw Data'!Z:Z,">") -> 0 | CG11: =COUNTIFS('Raw Data'!$F:$F,Summary!$B11,'Raw Data'!AB:AB,">0") -> 0 | CH11: =SUMIFS('Raw Data'!$W:$W,'Raw Data'!$F:$F,Summary!$B11,'Raw Data'!AB:AB,">0") -> 0 | CI11: =BZ11+CC11+CF11 -> 0 | CJ11: =CA11+CD11+CG11 -> 0 | CK11: =CB11+CE11+CH11 -> 0 | CL11: =COUNTIFS('Raw Data'!$F:$F,Summary!$B12,'Raw Data'!N:N,Summary!CL$4,'Raw Data'!AA:AA,">") -> 0 | CM11: =COUNTIFS('Raw Data'!$F:$F,Summary!$B11,'Raw Data'!AC:AC,">0") -> 0 | CN11: =SUMIFS('Raw Data'!$W:$W,'Raw Data'!$F:$F,Summary!$B11,'Raw Data'!AC:AC,">0") -> 0 | CO11: =COUNTIFS('Raw Data'!$F:$F,Summary!$B12,'Raw Data'!O:O,Summary!CO$4,'Raw Data'!AB:AB,">") -> 0 | CP11: =COUNTIFS('Raw Data'!$F:$F,Summary!$B11,'Raw Data'!AD:AD,">0") -> 0 | CQ11: =SUMIFS('Raw Data'!$W:$W,'Raw Data'!$F:$F,Summary!$B11,'Raw Data'!AD:AD,">0") -> 0 | CR11: =COUNTIFS('Raw Data'!$F:$F,Summary!$B12,'Raw Data'!P:P,Summary!CR$4,'Raw Data'!AC:AC,">") -> 0 | CS11: =COUNTIFS('Raw Data'!$F:$F,Summary!$B11,'Raw Data'!AE:AE,">0") -> 0 | CT11: =SUMIFS('Raw Data'!$W:$W,'Raw Data'!$F:$F,Summary!$B11,'Raw Data'!AE:AE,">0") -> 0 | CU11: =CL11+CO11+CR11 -> 0 | CV11: =CM11+CP11+CS11 -> 0 | CW11: =CN11+CQ11+CT11 -> 0 | CX11: =COUNTIFS('Raw Data'!$F:$F,Summary!$B12,'Raw Data'!Q:Q,Summary!CX$4,'Raw Data'!AD:AD,">") -> 0 | CY11: =COUNTIFS('Raw Data'!$F:$F,Summary!$B11,'Raw Data'!AF:AF,">0") -> 0 | CZ11: =SUMIFS('Raw Data'!$W:$W,'Raw Data'!$F:$F,Summary!$B11,'Raw Data'!AF:AF,">0") -> 0 | DA11: =COUNTIFS('Raw Data'!$F:$F,Summary!$B12,'Raw Data'!R:R,Summary!DA$4,'Raw Data'!AE:AE,">") -> 0 | DB11: =COUNTIFS('Raw Data'!$F:$F,Summary!$B11,'Raw Data'!AG:AG,">0") -> 0 | DC11: =SUMIFS('Raw Data'!$W:$W,'Raw Data'!$F:$F,Summary!$B11,'Raw Data'!AG:AG,">0") -> 0 | DD11: =COUNTIFS('Raw Data'!$F:$F,Summary!$B12,'Raw Data'!S:S,Summary!DD$4,'Raw Data'!AF:AF,">") -> 0 | DE11: =COUNTIFS('Raw Data'!$F:$F,Summary!$B11,'Raw Data'!AH:AH,">0") -> 0 | DF11: =SUMIFS('Raw Data'!$W:$W,'Raw Data'!$F:$F,Summary!$B11,'Raw Data'!AH:AH,">0") -> 0 | DG11: =CX11+DA11+DD11 -> 0 | DH11: =CY11+DB11+DE11 -> 0 | DI11: =CZ11+DC11+DF11 -> 0 | DJ11: =COUNTIFS('Raw Data'!$F:$F,Summary!$B12,'Raw Data'!T:T,Summary!DJ$4,'Raw Data'!AG:AG,">") -> 0 | DK11: =COUNTIFS('Raw Data'!$F:$F,Summary!$B11,'Raw Data'!AI:AI,">0") -> 0 | DL11: =SUMIFS('Raw Data'!$W:$W,'Raw Data'!$F:$F,Summary!$B11,'Raw Data'!AI:AI,">0") -> 0 | DM11: =COUNTIFS('Raw Data'!$F:$F,Summary!$B12,'Raw Data'!U:U,Summary!DM$4,'Raw Data'!AH:AH,">") -> 0 | DN11: =COUNTIFS('Raw Data'!$F:$F,Summary!$B11,'Raw Data'!AJ:AJ,">0") -> 0 | DO11: =SUMIFS('Raw Data'!$W:$W,'Raw Data'!$F:$F,Summary!$B11,'Raw Data'!AJ:AJ,">0") -> 0 | DP11: =COUNTIFS('Raw Data'!$F:$F,Summary!$B12,'Raw Data'!V:V,Summary!DP$4,'Raw Data'!AI:AI,">") -> 0 | DQ11: =COUNTIFS('Raw Data'!$F:$F,Summary!$B11,'Raw Data'!AK:AK,">0") -> 0 | DR11: =SUMIFS('Raw Data'!$W:$W,'Raw Data'!$F:$F,Summary!$B11,'Raw Data'!AK:AK,">0") -> 0 | DS11: =DJ11+DM11+DP11 -> 0 | DT11: =DK11+DN11+DQ11 -> 0 | DU11: =DL11+DO11+DR11 -> 0 | DV11: =COUNTIFS('Raw Data'!$F:$F,Summary!$B12,'Raw Data'!W:W,Summary!DV$4,'Raw Data'!AJ:AJ,">") -> 0 | DW11: =COUNTIFS('Raw Data'!$F:$F,Summary!$B11,'Raw Data'!AL:AL,">0") -> 0 | DX11: =SUMIFS('Raw Data'!$W:$W,'Raw Data'!$F:$F,Summary!$B11,'Raw Data'!AL:AL,">0") -> 0
B12: ATEP | C12: =SUM(AH12,AR12,BB12,BL12) -> 0 | D12: =SUM(AI12,AS12,BC12,BM12) -> 0 | E12: =SUM(AJ12,AT12,BD12,BN12) -> 0 | F12: =SUM(AK12,AU12,BE12,BO12) -> 0 | G12: =SUM(AL12,AV12,BF12,BP12) -> 0 | H12: =SUM(AM12,AW12,BG12,BQ12) -> 0 | I12: =SUM(AN12,AX12,BH12,BR12) -> 0 | J12: =H12*I12 -> 0 | K12: =SUM(C12,E12,G12) -> 0 | L12: =SUM(D12,F12) -> 0 | M12: =AH12+AR12 -> 0 | N12: =AI12+AS12 -> 0 | O12: =AJ12+AT12 -> 0 | P12: =AK12+AU12 -> 0 | Q12: =AL12+AV12 -> 0 | R12: =AM12+AW12 -> 0 | S12: =AN12+AX12 -> 0 | T12: =AO12+AY12 -> 0 | ... V12: =AQ12+BA12 -> 0 | W12: =BB12+BL12 -> 0 | X12: =BC12+BM12 -> 0 | Y12: =BD12+BN12 -> 0 | Z12: =BE12+BO12 -> 0 | AA12: =BF12+BP12 -> 0 | AB12: =BG12+BQ12 -> 0 | AC12: =BH12+BR12 -> 0 | AD12: =BI12+BS12 -> 0 | ... AF12: =BK12+BU12 -> 0 | AH12: =COUNTIFS('Raw Data'!$G$6:$G$640,"Capex",'Raw Data'!$F$6:$F$640,B12,'Raw Data'!$Z$6:$Z$640,">=0")+COUNTIFS('Raw Data'!$G$6:$G$640,"Capex",'Raw Data'!$F$6:$F$640,B12,'Raw Data'!$AA$6:$AA$640,">=0")+COUNTIFS('Raw Data'!$G$6:$G$640,"Capex",'Raw Data'!$F$6:$F$640,B12,'Raw Data'!$AB$6:$AB$640,">=0") -> 0 | AI12: =SUMIFS('Raw Data'!$R$6:$R$640,'Raw Data'!$G$6:$G$640,"Capex",'Raw Data'!$F$6:$F$640,B12) -> 0 | AJ12: =COUNTIFS('Raw Data'!$G$6:$G$640,"R&M",'Raw Data'!$F$6:$F$640,B12,'Raw Data'!$Z$6:$Z$640,">0")+COUNTIFS('Raw Data'!$G$6:$G$640,"R&M",'Raw Data'!$F$6:$F$640,B12,'Raw Data'!$AA$6:$AA$640,">0")+COUNTIFS('Raw Data'!$G$6:$G$640,"R&M",'Raw Data'!$F$6:$F$640,B12,'Raw Data'!$AB$6:$AB$640,">0") -> 0 | AK12: =SUMIFS('Raw Data'!$R$6:$R$640,'Raw Data'!$G$6:$G$640,$AJ$4,'Raw Data'!$F$6:$F$640,B12) -> 0 | AL12: =COUNTIFS('Raw Data'!$G$6:$G$640,"Support",'Raw Data'!$F$6:$F$640,B12,'Raw Data'!$Z$6:$Z$640,">0")+COUNTIFS('Raw Data'!$G$6:$G$640,"Support",'Raw Data'!$F$6:$F$640,B12,'Raw Data'!$AA$6:$AA$640,">0")+COUNTIFS('Raw Data'!$G$6:$G$640,"Support",'Raw Data'!$F$6:$F$640,B12,'Raw Data'!$AB$6:$AB$640,">0") -> 0 | AM12: =SUMIFS('Raw Data'!$X$6:$X$640,'Raw Data'!$G$6:$G$640,"Support",'Raw Data'!$F$6:$F$640,B12,'Raw Data'!$Z$6:$Z$640,">0")+SUMIFS('Raw Data'!$X$6:$X$640,'Raw Data'!$G$6:$G$640,"Support",'Raw Data'!$F$6:$F$640,B12,'Raw Data'!$AA$6:$AA$640,">0")+SUMIFS('Raw Data'!$X$6:$X$640,'Raw Data'!$G$6:$G$640,"Support",'Raw Data'!$F$6:$F$640,B12,'Raw Data'!$AB$6:$AB$640,">0") -> 0 | AN12: =SUMIFS('Raw Data'!$Y$6:$Y$640,'Raw Data'!$G$6:$G$640,"Support",'Raw Data'!$F$6:$F$640,B12,'Raw Data'!$Z$6:$Z$640,">0")+SUMIFS('Raw Data'!$Y$6:$Y$640,'Raw Data'!$G$6:$G$640,"Support",'Raw Data'!$F$6:$F$640,B12,'Raw Data'!$AA$6:$AA$640,">0")+SUMIFS('Raw Data'!$Y$6:$Y$640,'Raw Data'!$G$6:$G$640,"Support",'Raw Data'!$F$6:$F$640,B12,'Raw Data'!$AB$6:$AB$640,">0") -> 0 | AO12: =AM12*AN12 -> 0 | AP12: =SUM(AH12,AJ12,AL12) -> 0 | AQ12: =SUM(AI12,AK12,AO12) -> 0 | AR12: =COUNTIFS('Raw Data'!$G$6:$G$640,"Capex",'Raw Data'!$F$6:$F$640,B12,'Raw Data'!$AC$6:$AC$640,">0")+COUNTIFS('Raw Data'!$G$6:$G$640,"Capex",'Raw Data'!$F$6:$F$640,B12,'Raw Data'!$AD$6:$AD$640,">0")+COUNTIFS('Raw Data'!$G$6:$G$640,"Capex",'Raw Data'!$F$6:$F$640,B12,'Raw Data'!$AE$6:$AE$640,">0") -> 0 | AS12: =SUMIFS('Raw Data'!$S$6:$S$640,'Raw Data'!$G$6:$G$640,"Capex",'Raw Data'!$F$6:$F$640,B12) -> 0 | AT12: =COUNTIFS('Raw Data'!$G$6:$G$640,"R&M",'Raw Data'!$F$6:$F$640,B12,'Raw Data'!$AC$6:$AC$640,">0")+COUNTIFS('Raw Data'!$G$6:$G$640,"R&M",'Raw Data'!$F$6:$F$640,B12,'Raw Data'!$AD$6:$AD$640,">0")+COUNTIFS('Raw Data'!$G$6:$G$640,"R&M",'Raw Data'!$F$6:$F$640,B12,'Raw Data'!$AE$6:$AE$640,">0") -> 0 | AU12: =SUMIFS('Raw Data'!$S$6:$S$640,'Raw Data'!$G$6:$G$640,"R&M",'Raw Data'!$F$6:$F$640,B12) -> 0 | AV12: =COUNTIFS('Raw Data'!$G$6:$G$340,"Support",'Raw Data'!$F$6:$F$340,B12,'Raw Data'!$AC$6:$AC$340,">0")+COUNTIFS('Raw Data'!$G$6:$G$340,"Support",'Raw Data'!$F$6:$F$340,B12,'Raw Data'!$AD$6:$AD$340,">0")+COUNTIFS('Raw Data'!$G$6:$G$340,"Support",'Raw Data'!$F$6:$F$340,B12,'Raw Data'!$AE$6:$AE$340,">0") -> 0 | AW12: =SUMIFS('Raw Data'!$X$6:$X$640,'Raw Data'!$G$6:$G$640,"Support",'Raw Data'!$F$6:$F$640,B12,'Raw Data'!$AC$6:$AC$640,">0")+SUMIFS('Raw Data'!$X$6:$X$640,'Raw Data'!$G$6:$G$640,"Support",'Raw Data'!$F$6:$F$640,B12,'Raw Data'!$AD$6:$AD$640,">0")+SUMIFS('Raw Data'!$X$6:$X$640,'Raw Data'!$G$6:$G$640,"Support",'Raw Data'!$F$6:$F$640,B12,'Raw Data'!$AE$6:$AE$640,">0") -> 0 | AX12: =SUMIFS('Raw Data'!$Y$6:$Y$640,'Raw Data'!$G$6:$G$640,"Support",'Raw Data'!$F$6:$F$640,B12,'Raw Data'!$AC$6:$AC$640,">0")+SUMIFS('Raw Data'!$Y$6:$Y$640,'Raw Data'!$G$6:$G$640,"Support",'Raw Data'!$F$6:$F$640,B12,'Raw Data'!$AD$6:$AD$640,">0")+SUMIFS('Raw Data'!$Y$6:$Y$640,'Raw Data'!$G$6:$G$640,"Support",'Raw Data'!$F$6:$F$640,B12,'Raw Data'!$AE$6:$AE$640,">0") -> 0 | AY12: =AW12*AX12 -> 0 | AZ12: =SUM(AR12,AT12,AV12) -> 0 | BA12: =SUM(AS12,AU12) -> 0 | BB12: =COUNTIFS('Raw Data'!$G$6:$G$640,"Capex",'Raw Data'!$F$6:$F$640,B12,'Raw Data'!$AF$6:$AF$640,">0")+COUNTIFS('Raw Data'!$G$6:$G$640,"Capex",'Raw Data'!$F$6:$F$640,B12,'Raw Data'!$AG$6:$AG$640,">0")+COUNTIFS('Raw Data'!$G$6:$G$640,"Capex",'Raw Data'!$F$6:$F$640,B12,'Raw Data'!$AH$6:$AH$640,">0") -> 0 | BC12: =SUMIFS('Raw Data'!$T$6:$T$640,'Raw Data'!$G$6:$G$640,"Capex",'Raw Data'!$F$6:$F$640,B12) -> 0 | BD12: =COUNTIFS('Raw Data'!$G$6:$G$640,"R&M",'Raw Data'!$F$6:$F$640,B12,'Raw Data'!$AF$6:$AF$640,">0")+COUNTIFS('Raw Data'!$G$6:$G$640,"R&M",'Raw Data'!$F$6:$F$640,B12,'Raw Data'!$AG$6:$AG$640,">0")+COUNTIFS('Raw Data'!$G$6:$G$640,"R&M",'Raw Data'!$F$6:$F$640,B12,'Raw Data'!$AH$6:$AH$640,">0") -> 0 | BE12: =SUMIFS('Raw Data'!$T$6:$T$640,'Raw Data'!$G$6:$G$640,"R&M",'Raw Data'!$F$6:$F$640,B12) -> 0 | BF12: =COUNTIFS('Raw Data'!$G$6:$G$640,"Support",'Raw Data'!$F$6:$F$640,B12,'Raw Data'!$AF$6:$AF$640,">0")+COUNTIFS('Raw Data'!$G$6:$G$640,"Support",'Raw Data'!$F$6:$F$640,B12,'Raw Data'!$AG$6:$AG$640,">0")+COUNTIFS('Raw Data'!$G$6:$G$640,"Support",'Raw Data'!$F$6:$F$640,B12,'Raw Data'!$AH$6:$AH$640,">0") -> 0 | BG12: =SUMIFS('Raw Data'!$X$6:$X$640,'Raw Data'!$G$6:$G$640,"Support",'Raw Data'!$F$6:$F$640,B12,'Raw Data'!$AF$6:$AF$640,">0")+SUMIFS('Raw Data'!$X$6:$X$640,'Raw Data'!$G$6:$G$640,"Support",'Raw Data'!$F$6:$F$640,B12,'Raw Data'!$AG$6:$AG$640,">0")+SUMIFS('Raw Data'!$X$6:$X$640,'Raw Data'!$G$6:$G$640,"Support",'Raw Data'!$F$6:$F$640,B12,'Raw Data'!$AH$6:$AH$640,">0") -> 0 | BH12: =SUMIFS('Raw Data'!$Y$6:$Y$640,'Raw Data'!$G$6:$G$640,"Support",'Raw Data'!$F$6:$F$640,B12,'Raw Data'!$AF$6:$AF$640,">0")+SUMIFS('Raw Data'!$Y$6:$Y$640,'Raw Data'!$G$6:$G$640,"Support",'Raw Data'!$F$6:$F$640,B12,'Raw Data'!$AG$6:$AG$640,">0")+SUMIFS('Raw Data'!$Y$6:$Y$640,'Raw Data'!$G$6:$G$640,"Support",'Raw Data'!$F$6:$F$640,B12,'Raw Data'!$AH$6:$AH$640,">0") -> 0 | BI12: =BG12*BH12 -> 0 | BJ12: =SUM(BB12,BD12,BF12) -> 0 | BK12: =SUM(BC12,BE12) -> 0 | BL12: =COUNTIFS('Raw Data'!$G$6:$G$640,"Capex",'Raw Data'!$F$6:$F$640,B12,'Raw Data'!$AI$6:$AI$640,">0")+COUNTIFS('Raw Data'!$G$6:$G$640,"Capex",'Raw Data'!$F$6:$F$640,B12,'Raw Data'!$AJ$6:$AJ$640,">0")+COUNTIFS('Raw Data'!$G$6:$G$640,"Capex",'Raw Data'!$F$6:$F$640,B12,'Raw Data'!$AK$6:$AK$640,">0") -> 0 | BM12: =SUMIFS('Raw Data'!$U$6:$U$640,'Raw Data'!$G$6:$G$640,"Capex",'Raw Data'!$F$6:$F$640,B12) -> 0 | BN12: =COUNTIFS('Raw Data'!$G$6:$G$640,"R&M",'Raw Data'!$F$6:$F$640,B12,'Raw Data'!$AI$6:$AI$640,">0")+COUNTIFS('Raw Data'!$G$6:$G$640,"R&M",'Raw Data'!$F$6:$F$640,B12,'Raw Data'!$AJ$6:$AJ$640,">0")+COUNTIFS('Raw Data'!$G$6:$G$640,"R&M",'Raw Data'!$F$6:$F$640,B12,'Raw Data'!$AK$6:$AK$640,">0") -> 0 | BO12: =SUMIFS('Raw Data'!$U$6:$U$640,'Raw Data'!$G$6:$G$640,"R&M",'Raw Data'!$F$6:$F$640,B12) -> 0 | BP12: =COUNTIFS('Raw Data'!$G$6:$G$640,"Support",'Raw Data'!$F$6:$F$640,B12,'Raw Data'!$AI$6:$AI$640,">0")+COUNTIFS('Raw Data'!$G$6:$G$640,"Support",'Raw Data'!$F$6:$F$640,B12,'Raw Data'!$AJ$6:$AJ$640,">0")+COUNTIFS('Raw Data'!$G$6:$G$640,"Support",'Raw Data'!$F$6:$F$640,B12,'Raw Data'!$AK$6:$AK$640,">0") -> 0 | BQ12: =SUMIFS('Raw Data'!$X$6:$X$640,'Raw Data'!$G$6:$G$640,"Support",'Raw Data'!$F$6:$F$640,B12,'Raw Data'!$AI$6:$AI$640,">0")+SUMIFS('Raw Data'!$X$6:$X$640,'Raw Data'!$G$6:$G$640,"Support",'Raw Data'!$F$6:$F$640,B12,'Raw Data'!$AJ$6:$AJ$640,">0")+SUMIFS('Raw Data'!$X$6:$X$640,'Raw Data'!$G$6:$G$640,"Support",'Raw Data'!$F$6:$F$640,B12,'Raw Data'!$AK$6:$AK$640,">0") -> 0 | BR12: =SUMIFS('Raw Data'!$Y$6:$Y$640,'Raw Data'!$G$6:$G$640,"Support",'Raw Data'!$F$6:$F$640,B12,'Raw Data'!$AI$6:$AI$640,">0")+SUMIFS('Raw Data'!$Y$6:$Y$640,'Raw Data'!$G$6:$G$640,"Support",'Raw Data'!$F$6:$F$640,B12,'Raw Data'!$AJ$6:$AJ$640,">0")+SUMIFS('Raw Data'!$Y$6:$Y$640,'Raw Data'!$G$6:$G$640,"Support",'Raw Data'!$F$6:$F$640,B12,'Raw Data'!$AK$6:$AK$640,">0") -> 0 | BS12: =BQ12*BR12 -> 0 | BT12: =SUM(BL12,BN12,BP12) -> 0 | BU12: =SUM(BM12,BO12) -> 0 | BV12: =SUM(BN12,BP12) -> 0 | BY12: ATEP | BZ12: =COUNTIFS('Raw Data'!$F:$F,Summary!$B13,'Raw Data'!K:K,Summary!BZ$4,'Raw Data'!X:X,">") -> 0 | CA12: =COUNTIFS('Raw Data'!$F:$F,Summary!$B12,'Raw Data'!Z:Z,">0") -> 0 | CB12: =SUMIFS('Raw Data'!$W:$W,'Raw Data'!$F:$F,Summary!$B12,'Raw Data'!Z:Z,">0") -> 0 | CC12: =COUNTIFS('Raw Data'!$F:$F,Summary!$B13,'Raw Data'!L:L,Summary!CC$4,'Raw Data'!Y:Y,">") -> 0 | CD12: =COUNTIFS('Raw Data'!$F:$F,Summary!$B12,'Raw Data'!AA:AA,">0") -> 0 | CE12: =SUMIFS('Raw Data'!$W:$W,'Raw Data'!$F:$F,Summary!$B12,'Raw Data'!AA:AA,">0") -> 0 | CF12: =COUNTIFS('Raw Data'!$F:$F,Summary!$B13,'Raw Data'!M:M,Summary!CF$4,'Raw Data'!Z:Z,">") -> 0 | CG12: =COUNTIFS('Raw Data'!$F:$F,Summary!$B12,'Raw Data'!AB:AB,">0") -> 0 | CH12: =SUMIFS('Raw Data'!$W:$W,'Raw Data'!$F:$F,Summary!$B12,'Raw Data'!AB:AB,">0") -> 0 | CI12: =BZ12+CC12+CF12 -> 0 | CJ12: =CA12+CD12+CG12 -> 0 | CK12: =CB12+CE12+CH12 -> 0 | CL12: =COUNTIFS('Raw Data'!$F:$F,Summary!$B13,'Raw Data'!N:N,Summary!CL$4,'Raw Data'!AA:AA,">") -> 0 | CM12: =COUNTIFS('Raw Data'!$F:$F,Summary!$B12,'Raw Data'!AC:AC,">0") -> 0 | CN12: =SUMIFS('Raw Data'!$W:$W,'Raw Data'!$F:$F,Summary!$B12,'Raw Data'!AC:AC,">0") -> 0 | CO12: =COUNTIFS('Raw Data'!$F:$F,Summary!$B13,'Raw Data'!O:O,Summary!CO$4,'Raw Data'!AB:AB,">") -> 0 | CP12: =COUNTIFS('Raw Data'!$F:$F,Summary!$B12,'Raw Data'!AD:AD,">0") -> 0 | CQ12: =SUMIFS('Raw Data'!$W:$W,'Raw Data'!$F:$F,Summary!$B12,'Raw Data'!AD:AD,">0") -> 0 | CR12: =COUNTIFS('Raw Data'!$F:$F,Summary!$B13,'Raw Data'!P:P,Summary!CR$4,'Raw Data'!AC:AC,">") -> 0 | CS12: =COUNTIFS('Raw Data'!$F:$F,Summary!$B12,'Raw Data'!AE:AE,">0") -> 0 | CT12: =SUMIFS('Raw Data'!$W:$W,'Raw Data'!$F:$F,Summary!$B12,'Raw Data'!AE:AE,">0") -> 0 | CU12: =CL12+CO12+CR12 -> 0 | CV12: =CM12+CP12+CS12 -> 0 | CW12: =CN12+CQ12+CT12 -> 0 | CX12: =COUNTIFS('Raw Data'!$F:$F,Summary!$B13,'Raw Data'!Q:Q,Summary!CX$4,'Raw Data'!AD:AD,">") -> 0 | CY12: =COUNTIFS('Raw Data'!$F:$F,Summary!$B12,'Raw Data'!AF:AF,">0") -> 0 | CZ12: =SUMIFS('Raw Data'!$W:$W,'Raw Data'!$F:$F,Summary!$B12,'Raw Data'!AF:AF,">0") -> 0 | DA12: =COUNTIFS('Raw Data'!$F:$F,Summary!$B13,'Raw Data'!R:R,Summary!DA$4,'Raw Data'!AE:AE,">") -> 0 | DB12: =COUNTIFS('Raw Data'!$F:$F,Summary!$B12,'Raw Data'!AG:AG,">0") -> 0 | DC12: =SUMIFS('Raw Data'!$W:$W,'Raw Data'!$F:$F,Summary!$B12,'Raw Data'!AG:AG,">0") -> 0 | DD12: =COUNTIFS('Raw Data'!$F:$F,Summary!$B13,'Raw Data'!S:S,Summary!DD$4,'Raw Data'!AF:AF,">") -> 0 | DE12: =COUNTIFS('Raw Data'!$F:$F,Summary!$B12,'Raw Data'!AH:AH,">0") -> 0 | DF12: =SUMIFS('Raw Data'!$W:$W,'Raw Data'!$F:$F,Summary!$B12,'Raw Data'!AH:AH,">0") -> 0 | DG12: =CX12+DA12+DD12 -> 0 | DH12: =CY12+DB12+DE12 -> 0 | DI12: =CZ12+DC12+DF12 -> 0 | DJ12: =COUNTIFS('Raw Data'!$F:$F,Summary!$B13,'Raw Data'!T:T,Summary!DJ$4,'Raw Data'!AG:AG,">") -> 0 | DK12: =COUNTIFS('Raw Data'!$F:$F,Summary!$B12,'Raw Data'!AI:AI,">0") -> 0 | DL12: =SUMIFS('Raw Data'!$W:$W,'Raw Data'!$F:$F,Summary!$B12,'Raw Data'!AI:AI,">0") -> 0 | DM12: =COUNTIFS('Raw Data'!$F:$F,Summary!$B13,'Raw Data'!U:U,Summary!DM$4,'Raw Data'!AH:AH,">") -> 0 | DN12: =COUNTIFS('Raw Data'!$F:$F,Summary!$B12,'Raw Data'!AJ:AJ,">0") -> 0 | DO12: =SUMIFS('Raw Data'!$W:$W,'Raw Data'!$F:$F,Summary!$B12,'Raw Data'!AJ:AJ,">0") -> 0 | DP12: =COUNTIFS('Raw Data'!$F:$F,Summary!$B13,'Raw Data'!V:V,Summary!DP$4,'Raw Data'!AI:AI,">") -> 0 | DQ12: =COUNTIFS('Raw Data'!$F:$F,Summary!$B12,'Raw Data'!AK:AK,">0") -> 0 | DR12: =SUMIFS('Raw Data'!$W:$W,'Raw Data'!$F:$F,Summary!$B12,'Raw Data'!AK:AK,">0") -> 0 | DS12: =DJ12+DM12+DP12 -> 0 | DT12: =DK12+DN12+DQ12 -> 0 | DU12: =DL12+DO12+DR12 -> 0 | DV12: =COUNTIFS('Raw Data'!$F:$F,Summary!$B13,'Raw Data'!W:W,Summary!DV$4,'Raw Data'!AJ:AJ,">") -> 0 | DW12: =COUNTIFS('Raw Data'!$F:$F,Summary!$B12,'Raw Data'!AL:AL,">0") -> 0 | DX12: =SUMIFS('Raw Data'!$W:$W,'Raw Data'!$F:$F,Summary!$B12,'Raw Data'!AL:AL,">0") -> 0
B13: ATK | C13: =C6 -> 0 | D13: =D6 -> 0 | E13: =E6 -> 0 | F13: =F6 -> 0 | G13: =G6 -> 0 | H13: =H6 -> 0 | I13: =I6 -> 0 | J13: =J6 -> 0 | ... L13: =L6 -> 0 | M13: =AH13+AR13 -> 0 | N13: =AI13+AS13 -> 0 | O13: =AJ13+AT13 -> 0 | P13: =AK13+AU13 -> 0 | Q13: =AL13+AV13 -> 0 | R13: =AM13+AW13 -> 0 | S13: =AN13+AX13 -> 0 | T13: =AO13+AY13 -> 0 | ... V13: =AQ13+BA13 -> 0 | W13: =BB13+BL13 -> 0 | X13: =BC13+BM13 -> 0 | Y13: =BD13+BN13 -> 0 | Z13: =BE13+BO13 -> 0 | AA13: =BF13+BP13 -> 0 | AB13: =BG13+BQ13 -> 0 | AC13: =BH13+BR13 -> 0 | AD13: =BI13+BS13 -> 0 | ... AF13: =BK13+BU13 -> 0 | AH13: =AH6 -> 0 | AI13: =AI6 -> 0 | AJ13: =AJ6 -> 0 | AK13: =AK6 -> 0 | AL13: =AL6 -> 0 | AM13: =AM6 -> 0 | AN13: =AN6 -> 0 | AO13: =AO6 -> 0 | ... BV13: =BV6 -> 7800 | BY13: ATK | BZ13: =BZ6 -> 0 | CA13: =CA6 -> 0 | CB13: =CB6 -> 0 | CC13: =CC6 -> 0 | CD13: =CD6 -> 0 | CE13: =CE6 -> 0 | CF13: =CF6 -> 0 | CG13: =CG6 -> 0 | ... DX13: =DX6 -> 0
B14: AWW (except ATK) | C14: =SUM(C7:C12) -> 0 | D14: =SUM(D7:D12) -> 0 | E14: =SUM(E7:E12) -> 0 | F14: =SUM(F7:F12) -> 0 | G14: =SUM(G7:G12) -> 0 | H14: =SUM(H7:H12) -> 0 | I14: =SUM(I7:I12) -> 0 | J14: =SUM(J7:J12) -> 0 | ... L14: =SUM(L7:L12) -> 0 | M14: =AH14+AR14 -> 0 | N14: =AI14+AS14 -> 0 | O14: =AJ14+AT14 -> 0 | P14: =AK14+AU14 -> 0 | Q14: =AL14+AV14 -> 0 | R14: =AM14+AW14 -> 0 | S14: =AN14+AX14 -> 0 | T14: =AO14+AY14 -> 0 | ... V14: =AQ14+BA14 -> 0 | W14: =BB14+BL14 -> 0 | X14: =BC14+BM14 -> 0 | Y14: =BD14+BN14 -> 0 | Z14: =BE14+BO14 -> 0 | AA14: =BF14+BP14 -> 0 | AB14: =BG14+BQ14 -> 0 | AC14: =BH14+BR14 -> 0 | AD14: =BI14+BS14 -> 0 | ... AF14: =BK14+BU14 -> 0 | AH14: =SUM(AH7:AH12) -> 0 | AI14: =SUM(AI7:AI12) -> 0 | AJ14: =SUM(AJ7:AJ12) -> 0 | AK14: =SUM(AK7:AK12) -> 0 | AL14: =SUM(AL7:AL12) -> 0 | AM14: =SUM(AM7:AM12) -> 0 | AN14: =SUM(AN7:AN12) -> 0 | AO14: =SUM(AO7:AO12) -> 0 | ... BV14: =SUM(BV7:BV12) -> 1200 | BY14: AWW | BZ14: =SUM(BZ7:BZ12) -> 0 | CA14: =SUM(CA7:CA12) -> 0 | CB14: =SUM(CB7:CB12) -> 0 | CC14: =SUM(CC7:CC12) -> 0 | CD14: =SUM(CD7:CD12) -> 0 | CE14: =SUM(CE7:CE12) -> 0 | CF14: =SUM(CF7:CF12) -> 0 | CG14: =SUM(CG7:CG12) -> 0 | ... DX14: =SUM(DX7:DX12) -> 0
B15: TOTAL | C15: =SUM(C6:C12) -> 0 | D15: =SUM(D6:D12) -> 0 | E15: =SUM(E6:E12) -> 0 | F15: =SUM(F6:F12) -> 0 | G15: =SUM(G6:G12) -> 0 | H15: =SUM(H6:H12) -> 0 | I15: =SUM(I6:I12) -> 0 | J15: =SUM(J6:J12) -> 0 | ... L15: =SUM(L6:L12) -> 0 | M15: =AH15+AR15 -> 0 | N15: =AI15+AS15 -> 0 | O15: =AJ15+AT15 -> 0 | P15: =AK15+AU15 -> 0 | Q15: =AL15+AV15 -> 0 | R15: =AM15+AW15 -> 0 | S15: =AN15+AX15 -> 0 | T15: =AO15+AY15 -> 0 | ... V15: =AQ15+BA15 -> 0 | W15: =BB15+BL15 -> 0 | X15: =BC15+BM15 -> 0 | Y15: =BD15+BN15 -> 0 | Z15: =BE15+BO15 -> 0 | AA15: =BF15+BP15 -> 0 | AB15: =BG15+BQ15 -> 0 | AC15: =BH15+BR15 -> 0 | AD15: =BI15+BS15 -> 0 | ... AF15: =BK15+BU15 -> 0 | AH15: =SUM(AH6:AH12) -> 0 | AI15: =SUM(AI6:AI12) -> 0 | AJ15: =SUM(AJ6:AJ12) -> 0 | AK15: =SUM(AK6:AK12) -> 0 | AL15: =SUM(AL6:AL12) -> 0 | AM15: =SUM(AM6:AM12) -> 0 | AN15: =SUM(AN6:AN12) -> 0 | AO15: =SUM(AO6:AO12) -> 0 | ... BV15: =SUM(BV6:BV12) -> 9000 | BY15: TOTAL | BZ15: =SUM(BZ5:BZ12) -> 0 | CA15: =SUM(CA5:CA12) -> 0 | CB15: =SUM(CB5:CB12) -> 0 | CC15: =SUM(CC5:CC12) -> 0 | CD15: =SUM(CD5:CD12) -> 0 | CE15: =SUM(CE5:CE12) -> 0 | CF15: =SUM(CF5:CF12) -> 0 | CG15: =SUM(CG5:CG12) -> 0 | ... DX15: =SUM(DX5:DX12) -> 0
BV16: =BV14*1200/100000 -> 14.4
BV17: =BV15*1200/100000 -> 108
B18: Annual Performance Summary | F18: 단위: 억원 | G18: EXR: | H18: 1100
D19: 1Q | E19: 2Q | F19: 3Q | G19: 4Q | H19: YR | BZ19: 월별 | CA19: Jan | CB19: Feb | CC19: Mar | CD19: Apr | CE19: May | CF19: Jun | CG19: Jul | CH19: Aug | CI19: Sep | CJ19: Oct | CK19: Nov | CL19: Dec | CM19: Total
B20: 목표 | C20: ATK | D20: =D22-D21 -> 30 | E20: =E22-E21 -> 30 | F20: =F22-F21 -> 34 | G20: =G22-G21 -> 33.5 | H20: =H22-H21 -> 127.5 | BZ20: Plan | CA20: =C63/3 -> 1060.6061 | CB20: 972.22222 | CC20: 972.22222 | CD20: =D63/3 -> 1060.6061 | CE20: 972.22222 | CF20: 972.22222 | CG20: =E63/3 -> 1212.1212 | CH20: 1111.1111 | CI20: 1111.1111 | CJ20: =F63/3 -> 1212.1212 | CK20: 1111.1111 | CL20: 1111.1111 | CM20: =SUM(CA20:CL20) -> 12878.788
C21: AWW | D21: 5 | E21: 5 | F21: 6 | G21: 6.5 | H21: =SUM(D21:G21) -> 22.5 | BZ21: Actual | CA21: =CB15 -> 0 | CB21: =CE15 -> 0 | CC21: =CH15 -> 0 | CD21: =CN15 -> 0 | CE21: =CQ15 -> 0 | CF21: =CT15 -> 0 | CG21: =CZ15 -> 0 | CH21: =DC15 -> 0 | CI21: =DF15 -> 0 | CJ21: =DL15 -> 0 | CK21: =DO15 -> 0 | CL21: =DR15 -> 0 | CM21: =SUM(CA21:CL21) -> 0
C22: TTL | D22: 35 | E22: 35 | F22: 40 | G22: 40 | H22: 150 | BZ22: ATK | CA22: =CB13 -> 0 | CB22: =CE13 -> 0 | CC22: =CH13 -> 0 | CD22: =CN13 -> 0 | CE22: =CQ13 -> 0 | CF22: =CT13 -> 0 | CG22: =CZ13 -> 0 | CH22: =DC13 -> 0 | CI22: =DF13 -> 0 | CJ22: =DL13 -> 0 | CK22: =DO13 -> 0 | CL22: =DR13 -> 0 | CM22: =SUM(CA22:CL22) -> 0
C23: K$ | D23: =D22/1100*100000 -> 3181.8182 | E23: =E22/1100*100000 -> 3181.8182 | F23: =F22/1100*100000 -> 3636.3636 | G23: =G22/1100*100000 -> 3636.3636 | H23: =H22/1100*100000 -> 13636.364 | BZ23: AWW | CA23: =CB14 -> 0 | CB23: =CE14 -> 0 | CC23: =CH14 -> 0 | CD23: =CN14 -> 0 | CE23: =CQ14 -> 0 | CF23: =CT14 -> 0 | CG23: =CZ14 -> 0 | CH23: =DC14 -> 0 | CI23: =DF14 -> 0 | CJ23: =DL14 -> 0 | CK23: =DO14 -> 0 | CL23: =DR14 -> 0 | CM23: =SUM(CA23:CL23) -> 0
B24: 실적 | C24: ATK | D24: =AQ13*$H$18/100000 -> 0 | E24: =BA13*$H$18/100000 -> 0 | F24: =BK13*$H$18/100000 -> 0 | G24: =BU13*$H$18/100000 -> 0 | H24: =AU13*$H$18/100000 -> 0 | BZ24: % | CA24: =CA21/CA20 -> 0 | CB24: =CB21/CB20 -> 0 | CC24: =CC21/CC20 -> 0 | CD24: =CD21/CD20 -> 0 | CE24: =CE21/CE20 -> 0 | CF24: =CF21/CF20 -> 0 | CG24: =CG21/CG20 -> 0 | CH24: =CH21/CH20 -> 0 | ... CM24: =CM21/CM20 -> 0
C25: AWW | D25: =AQ14*$H$18/100000 -> 0 | E25: =BA14*$H$18/100000 -> 0 | F25: =BK14*$H$18/100000 -> 0 | G25: =BU14*$H$18/100000 -> 0 | H25: =L14*$H$18/100000 -> 0
C26: TTL | D26: =AQ15*$H$18/100000 -> 0 | E26: =BA15*$H$18/100000 -> 0 | F26: =BK15*$H$18/100000 -> 0 | G26: =BU15*$H$18/100000 -> 0 | H26: =L15*$H$18/100000 -> 0
B27: 달성도 | D27: =AQ15/D23 -> 0 | E27: =BA15/E23 -> 0 | F27: =BK15/F23 -> 0 | G27: =BU15/G23 -> 0 | H27: =L15/H23 -> 0 | BX27: S: Support Q'ty
BX28: P: Project Q'ty
B29: By Project | E29: EXR ($) | F29: 1200 | BX29: E: Effect (K$)
B30: Site | C30: Achieve(K$) | D30: Portion(%) | E30: Target/Yr | F30: Achieve(%)
B31: ATK | C31: =C34-C32-C33 -> 0 | D31: =C31/$C$34 -> #DIV/0! | E31: =10625-(1800*0.95) -> 8915 | F31: =C31/E31 -> 0 | G31: 107억원 (환률 1100원 적용)
B32: AWW | C32: =L14-D40 -> 0 | D32: =C32/$C$34 -> #DIV/0! | E32: =1875-(1800*0.05) -> 1785 | F32: =C32/E32 -> 0 | G32: 22.5억원(환률 1100원 적용)
B33: eBoard | C33: =SUMIF('Raw Data'!E:E,Summary!B33,'Raw Data'!W:W) -> 0 | D33: =C33/$C$34 -> #DIV/0! | E33: 1800 | F33: =C33/E33 -> 0 | G33: 20.5억원(환률 1100원 적용)
B34: Total | C34: =L15 -> 0 | D34: =C34/$C$34 -> #DIV/0! | E34: =SUM(E31:E33) -> 12500 | F34: =C34/E34 -> 0 | G34: 150억원 (환률 1100원 적용)
D35: 억원 | E35: =E34*1200/100000 -> 150
B37: By Factory | C37: =C34-E41 -> 0
B38: Site | C38: Project | D38: eBoard | E38: Total | F38: %
B39: ATK | C39: =C31 -> 0 | D39: =SUMIFS('Raw Data'!W:W,'Raw Data'!E:E,Summary!D38,'Raw Data'!F:F,Summary!B39) -> 0 | E39: =C39+D39 -> 0 | F39: =E39/$E$41 -> #DIV/0!
B40: AWW | C40: =C32 -> 0 | D40: =D41-D39 -> 0 | E40: =C40+D40 -> 0 | F40: =E40/$E$41 -> #DIV/0!
B41: Total | C41: =SUM(C39:C40) -> 0 | D41: =SUMIF('Raw Data'!E:E,Summary!B33,'Raw Data'!W:W) -> 0 | E41: =SUM(E39:E40) -> 0 | F41: =E41/$E$41 -> #DIV/0!
D42: 억원 | E42: =E39*1200/100000 -> 0 | BZ42: Effect(K$) | CA42: 1Q | CB42: 2Q | CC42: 3Q | CD42: 4Q | CE42: TTL
E43: =E40*1200/100000 -> 0 | BZ43: Plan | CA43: =CA20+CB20+CC20 -> 3005.0505 | CB43: =CD20+CE20+CF20 -> 3005.0505 | CC43: =CG20+CH20+CI20 -> 3434.3434 | CD43: =CJ20+CK20+CL20 -> 3434.3434 | CE43: =SUM(CA43:CD43) -> 12878.788
E44: =E41*1200/100000 -> 0 | BZ44: ATK | CA44: =CA22+CB22+CC22 -> 0 | CB44: =CD22+CE22+CF22 -> 0 | CC44: =CG22+CH22+CI22 -> 0 | CD44: =CJ22+CK22+CL22 -> 0 | CE44: =SUM(CA44:CD44) -> 0
B45: By Category | BZ45: AWW | CA45: =CA23+CB23+CC23 -> 0 | CB45: =CD23+CE23+CF23 -> 0 | CC45: =CG23+CH23+CI23 -> 0 | CD45: =CJ23+CK23+CL23 -> 0 | CE45: =SUM(CA45:CD45) -> 0
C46: Capex | D46: R&M | E46: Support | F46: Total | BZ46: Total | CA46: =CA21+CB21+CC21 -> 0 | CB46: =CD21+CE21+CF21 -> 0 | CC46: =CG21+CH21+CI21 -> 0 | CD46: =CJ21+CK21+CL21 -> 0 | CE46: =SUM(CA46:CD46) -> 0
B47: Count | C47: =C15 -> 0 | D47: =E15 -> 0 | E47: =G15 -> 0 | F47: =SUM(C47:E47) -> 0 | BZ47: TTL % | CA47: =CA46/CA43 -> 0 | CB47: =CB46/CB43 -> 0 | CC47: =CC46/CC43 -> 0 | CD47: =CD46/CD43 -> 0 | CE47: =CE46/CE43 -> 0
B48: Amount | C48: =D15 -> 0 | D48: =F15 -> 0 | E48: 0 | F48: =SUM(C48:E48) -> 0 | BZ48: AWW% | CA48: =CA45/CA46 -> #DIV/0! | CB48: =CB45/CB46 -> #DIV/0! | CC48: =CC45/CC46 -> #DIV/0! | CD48: =CD45/CD46 -> #DIV/0! | CE48: =CE45/CE46 -> #DIV/0!
B51: Act vs. Plan (억원) | G51: 단위(억원)
B52: 분기별 | C52: 1Q | D52: 2Q | E52: 3Q | F52: 4Q | G52: YR TTL
B53: Plan | C53: 35 | D53: 35 | E53: 40 | F53: 40 | G53: =SUM(C53:F53) -> 150 | BZ53: Item | CA53: 1Q | CB53: 2Q | CC53: 3Q | CD53: 4Q | CE53: TTL
B54: Actual | C54: =AQ15*1200/100000 -> 0 | D54: =BA15*1200/100000 -> 0 | E54: =BK15*1200/100000 -> 0 | F54: =BU15*1200/100000 -> 0 | G54: =SUM(C54:F54) -> 0 | BZ54: ATK | CA54: =CJ13 -> 0 | CB54: =CV13 -> 0 | CC54: =DH13 -> 0 | CD54: =DT13 -> 0 | CE54: =SUM(CA54:CD54) -> 0
B55: % | C55: =C54/C53 -> 0 | D55: =D54/D53 -> 0 | E55: =E54/E53 -> 0 | F55: =F54/F53 -> 0 | G55: =G54/G53 -> 0 | BZ55: AWW | CA55: =CJ14 -> 0 | CB55: =CV14 -> 0 | CC55: =DH14 -> 0 | CD55: =DT14 -> 0 | CE55: =SUM(CA55:CD55) -> 0
B56: 반기별 | C56: 1H | E56: 2H | G56: YR TTL | BZ56: Total | CA56: =SUM(CA54:CA55) -> 0 | CB56: =SUM(CB54:CB55) -> 0 | CC56: =SUM(CC54:CC55) -> 0 | CD56: =SUM(CD54:CD55) -> 0 | CE56: =SUM(CE54:CE55) -> 0
B57: Plan | C57: =SUM(C53:D53) -> 70 | E57: =SUM(E53:F53) -> 80 | G57: =SUM(C57:F57) -> 150 | BZ57: AWW % | CA57: =CA55/CA56 -> #DIV/0! | CB57: =CB55/CB56 -> #DIV/0! | CC57: =CC55/CC56 -> #DIV/0! | CD57: =CD55/CD56 -> #DIV/0! | CE57: =CE55/CE56 -> #DIV/0!
B58: Actual | C58: =SUM(C54:D54) -> 0 | E58: =SUM(E54:F54) -> 0 | G58: =SUM(C58:F58) -> 0
C59: =C58/C57 -> 0 | E59: =E58/E57 -> 0 | G59: =G58/G57 -> 0
B61: Act vs. Plan (K$) | G61: 단위(K$)
B62: 분기별 | C62: 1Q | D62: 2Q | E62: 3Q | F62: 4Q | G62: YR TTL
B63: Plan | C63: =C53*100000/$H$18 -> 3181.8182 | D63: =D53*100000/$H$18 -> 3181.8182 | E63: =E53*100000/$H$18 -> 3636.3636 | F63: =F53*100000/$H$18 -> 3636.3636 | G63: =SUM(C63:F63) -> 13636.364
B64: Actual | C64: =AQ15 -> 0 | D64: =BA15 -> 0 | E64: =BK15 -> 0 | F64: =BU15 -> 0 | G64: =SUM(C64:F64) -> 0
B65: % | C65: =C64/C63 -> 0 | D65: =D64/D63 -> 0 | E65: =E64/E63 -> 0 | F65: =F64/F63 -> 0 | G65: =G64/G63 -> 0
B66: 반기별 | C66: 1H | E66: 2H | G66: YR TTL
B67: Plan | C67: =SUM(C63:D63) -> 6363.6364 | E67: =SUM(E63:F63) -> 7272.7273 | G67: =SUM(C67:F67) -> 13636.364
B68: Actual | C68: =SUM(C64:D64) -> 0 | E68: =SUM(E64:F64) -> 0 | G68: =SUM(C68:F68) -> 0
C69: =C68/C67 -> 0 | E69: =E68/E67 -> 0 | G69: =G68/G67 -> 0
B71: 파트별 (K$) | G71: 단위(K$)
B72: 파트별 | C72: 1Q | D72: 2Q | E72: 3Q | F72: 4Q | G72: TTL
B73: EE1 | C73: =SUMIFS('Raw Data'!$W:$W,'Raw Data'!$C:$C,Summary!$B73,'Raw Data'!$J:$J,"<14") -> 0 | D73: =SUMIFS('Raw Data'!$W:$W,'Raw Data'!$C:$C,Summary!$B73,'Raw Data'!$J:$J,"<29")-C73 -> 0 | E73: =SUMIFS('Raw Data'!$W:$W,'Raw Data'!$C:$C,Summary!$B73,'Raw Data'!$J:$J,"<41")-C73-D73 -> 0 | F73: =SUMIFS('Raw Data'!$W:$W,'Raw Data'!$C:$C,Summary!$B73,'Raw Data'!$J:$J,"<54")-C73-D73-E73 -> 0 | G73: =SUM(C73:F73) -> 0 | H73: =G73/$G$76 -> #DIV/0!
B74: EE2 | C74: =SUMIFS('Raw Data'!$W:$W,'Raw Data'!$C:$C,Summary!$B74,'Raw Data'!$J:$J,"<14") -> 0 | D74: =SUMIFS('Raw Data'!$W:$W,'Raw Data'!$C:$C,Summary!$B74,'Raw Data'!$J:$J,"<29")-C74 -> 0 | E74: =SUMIFS('Raw Data'!$W:$W,'Raw Data'!$C:$C,Summary!$B74,'Raw Data'!$J:$J,"<41")-C74-D74 -> 0 | F74: =SUMIFS('Raw Data'!$W:$W,'Raw Data'!$C:$C,Summary!$B74,'Raw Data'!$J:$J,"<54")-C74-D74-E74 -> 0 | G74: =SUM(C74:F74) -> 0 | H74: =G74/$G$76 -> #DIV/0!
B75: K5EE | C75: =SUMIFS('Raw Data'!$W:$W,'Raw Data'!$C:$C,Summary!$B75,'Raw Data'!$J:$J,"<14") -> 0 | D75: =SUMIFS('Raw Data'!$W:$W,'Raw Data'!$C:$C,Summary!$B75,'Raw Data'!$J:$J,"<29")-C75 -> 0 | E75: =SUMIFS('Raw Data'!$W:$W,'Raw Data'!$C:$C,Summary!$B75,'Raw Data'!$J:$J,"<41")-C75-D75 -> 0 | F75: =SUMIFS('Raw Data'!$W:$W,'Raw Data'!$C:$C,Summary!$B75,'Raw Data'!$J:$J,"<54")-C75-D75-E75 -> 0 | G75: =SUM(C75:F75) -> 0 | H75: =G75/$G$76 -> #DIV/0!
B76: TTL | C76: =SUM(C73:C75) -> 0 | D76: =SUM(D73:D75) -> 0 | E76: =SUM(E73:E75) -> 0 | F76: =SUM(F73:F75) -> 0 | G76: =SUM(G73:G75) -> 0 | H76: =G76/$G$76 -> #DIV/0!

Sheet Summary (K4 Weekly)
B2: Completed Item Summary of Corp EE Activities
B3: Site | C3: 1Q | E3: 2Q | G3: 3Q | I3: 4Q | Q3: Sum (YTD)
I4: ww47 | K4: TTL (4Q) | M4: ww47 | O4: ww48
C5: Capex | D5: R&M | E5: Capex | F5: R&M | G5: Capex | H5: R&M | I5: Capex | J5: R&M | K5: Capex | L5: R&M | M5: Capex | N5: R&M | O5: Capex | P5: R&M | Q5: Capex | R5: R&M | S5: Total
B6: ATK | C6: =Summary!AI6 -> 0 | D6: =Summary!AK6 -> 0 | E6: =Summary!AS6 -> 0 | F6: =Summary!AU6 -> 0 | G6: =Summary!BC6 -> 0 | H6: =Summary!BE6 -> 0 | I6: 0 | J6: 35.6 | K6: =Summary!BM6 -> 0 | L6: =Summary!BO6 -> 0 | Q6: =C6+E6+G6+K6 -> 0 | R6: =D6+F6+H6+L6 -> 0 | S6: =SUM(Q6:R6) -> 0
B7: ATC | C7: =Summary!AI7 -> 0 | D7: =Summary!AK7 -> 0 | E7: =Summary!AS7 -> 0 | F7: =Summary!AU7 -> 0 | G7: =Summary!BC7 -> 0 | H7: =Summary!BE7 -> 0 | I7: 0 | J7: 0 | K7: =Summary!BM7 -> 0 | L7: =Summary!BO7 -> 0 | Q7: =C7+E7+G7+K7 -> 0 | R7: =D7+F7+H7+L7 -> 0 | S7: =SUM(Q7:R7) -> 0
B8: ATP | C8: =Summary!AI8 -> 0 | D8: =Summary!AK8 -> 0 | E8: =Summary!AS8 -> 0 | F8: =Summary!AU8 -> 0 | G8: =Summary!BC8 -> 0 | H8: =Summary!BE8 -> 0 | I8: 0 | J8: 0 | K8: =Summary!BM8 -> 0 | L8: =Summary!BO8 -> 0 | Q8: =C8+E8+G8+K8 -> 0 | R8: =D8+F8+H8+L8 -> 0 | S8: =SUM(Q8:R8) -> 0
B9: ATT | C9: =Summary!AI9 -> 0 | D9: =Summary!AK9 -> 0 | E9: =Summary!AS9 -> 0 | F9: =Summary!AU9 -> 0 | G9: =Summary!BC9 -> 0 | H9: =Summary!BE9 -> 0 | I9: 0 | J9: 0.8 | K9: =Summary!BM9 -> 0 | L9: =Summary!BO9 -> 0 | Q9: =C9+E9+G9+K9 -> 0 | R9: =D9+F9+H9+L9 -> 0 | S9: =SUM(Q9:R9) -> 0
B10: ATM | C10: =Summary!AI10 -> 0 | D10: =Summary!AK10 -> 0 | E10: =Summary!AS10 -> 0 | F10: =Summary!AU10 -> 0 | G10: =Summary!BC10 -> 0 | H10: =Summary!BE10 -> 0 | I10: 0 | J10: 129.3 | K10: =Summary!BM10 -> 0 | L10: =Summary!BO10 -> 0 | Q10: =C10+E10+G10+K10 -> 0 | R10: =D10+F10+H10+L10 -> 0 | S10: =SUM(Q10:R10) -> 0
B11: J-Device | C11: =Summary!AI11 -> 0 | D11: =Summary!AK11 -> 0 | E11: =Summary!AS11 -> 0 | F11: =Summary!AU11 -> 0 | G11: =Summary!BC11 -> 0 | H11: =Summary!BE11 -> 0 | I11: 0 | J11: 0 | K11: =Summary!BM11 -> 0 | L11: =Summary!BO11 -> 0 | Q11: =C11+E11+G11+K11 -> 0 | R11: =D11+F11+H11+L11 -> 0 | S11: =SUM(Q11:R11) -> 0
B12: ATK | C12: =C6 -> 0 | D12: =D6 -> 0 | E12: =E6 -> 0 | F12: =F6 -> 0 | G12: =G6 -> 0 | H12: =H6 -> 0 | I12: =I6 -> 0 | J12: =J6 -> 35.6 | ... S12: =S6 -> 0
B13: AWW | C13: =SUM(C7:C11) -> 0 | D13: =SUM(D7:D11) -> 0 | E13: =SUM(E7:E11) -> 0 | F13: =SUM(F7:F11) -> 0 | G13: =SUM(G7:G11) -> 0 | H13: =SUM(H7:H11) -> 0 | I13: =SUM(I7:I11) -> 0 | J13: =SUM(J7:J11) -> 130.1 | ... S13: =SUM(S7:S11) -> 0
B14: TOTAL | C14: =SUM(C6:C11) -> 0 | D14: =SUM(D6:D11) -> 0 | E14: =SUM(E6:E11) -> 0 | F14: =SUM(F6:F11) -> 0 | G14: =SUM(G6:G11) -> 0 | H14: =SUM(H6:H11) -> 0 | I14: =SUM(I6:I11) -> 0 | J14: =SUM(J6:J11) -> 165.7 | ... S14: =SUM(S6:S11) -> 0

Sheet Raw Data
B2: The Status of Corp EE Activities in 2021
B3: Category : R&M, Capex / Sub Category : 비용절감, 생산성, 품질, 자동화, 가동율, 환경안전 | V3: Sub. TTL | W3: =SUBTOTAL(9,W6:W1003) -> 0
B4: No | C4: Part | D4: Work Group | E4: Process /Equipment | F4: Site | G4: Category | H4: Sub Category | I4: Item | J4: WW | K4: Month | L4: Request Team (Line/PKG) | M4: New or Fan-Out | N4: Cost Effect Analysis | X4: AWW Support | Z4: Q'ty | AL4: Total (4) | AM4: Resp. | AN4: EE Budget Total (②*④) | AP4: Monthly 피벗테이블용 | AR4: Cost Effect Analysis / Month (K$)
N5: Original Cost (1) | O5: EE Budget (2) | P5: Final Cost (3) | Q5: Cost Effect | R5: 1Q | S5: 2Q | T5: 3Q | U5: 4Q | V5: TTL Cost | W5: TTL Effect | X5: People (Num) | Y5: Period (Day) | Z5: Jan | AA5: Feb | AB5: Mar | AC5: Apr | AD5: May | AE5: Jun | AF5: Jul | AG5: Aug | AH5: Sep | AI5: Oct | AJ5: Nov | AK5: Dec | AP5: Site | AQ5: Category | AR5: Jan | AS5: Feb | AT5: Mar | AU5: Apr | AV5: May | AW5: Jun | AX5: Jul | AY5: Aug | AZ5: Sep | BA5: Oct | BB5: Nov | BC5: Dec
B6: 1 | P6: =IFERROR(O6,"") -> 0 | Q6: =IF(N6="","",IF(N6="","",IF(N6-P6="","",N6-P6))) | R6: =IF(Q6="","",IF(Q6*Z6+Q6*AA6+Q6*AB6=0,"",Q6*Z6+Q6*AA6+Q6*AB6)) | S6: =IF(Q6="","",IF(Q6*AC6+Q6*AD6+Q6*AE6=0,"",Q6*AC6+Q6*AD6+Q6*AE6)) | T6: =IF(Q6="","",IF(Q6*AF6+Q6*AG6+Q6*AH6=0,"",Q6*AF6+Q6*AG6+Q6*AH6)) | U6: =IF(Q6="","",IF(Q6*AI6+Q6*AJ6+Q6*AK6=0,"",Q6*AI6+Q6*AJ6+Q6*AK6)) | V6: =N6*AL6 -> #VALUE! | W6: =IF(SUM(R6:U6)<=0,"",SUM(R6:U6)) | AL6: =IF(SUM(Z6:AK6)=0,"",SUM(Z6:AK6)) | AN6: =IFERROR(O6*AL6,0) -> 0 | AP6: =F6 -> 0 | AQ6: =G6 -> 0 | AR6: =IFERROR($Q6*Z6,0) -> 0 | AS6: =IFERROR($Q6*AA6,0) -> 0 | AT6: =IFERROR($Q6*AB6,0) -> 0 | AU6: =IFERROR($Q6*AC6,0) -> 0 | AV6: =IFERROR($Q6*AD6,0) -> 0 | AW6: =IFERROR($Q6*AE6,0) -> 0 | AX6: =IFERROR($Q6*AF6,0) -> 0 | AY6: =IFERROR($Q6*AG6,0) -> 0 | ... BC6: =IFERROR($Q6*AK6,0) -> 0
B7: 2 | P7: =IFERROR(O7,"") -> 0 | Q7: =IF(N7="","",IF(N7="","",IF(N7-P7="","",N7-P7))) | R7: =IF(Q7="","",IF(Q7*Z7+Q7*AA7+Q7*AB7=0,"",Q7*Z7+Q7*AA7+Q7*AB7)) | S7: =IF(Q7="","",IF(Q7*AC7+Q7*AD7+Q7*AE7=0,"",Q7*AC7+Q7*AD7+Q7*AE7)) | T7: =IF(Q7="","",IF(Q7*AF7+Q7*AG7+Q7*AH7=0,"",Q7*AF7+Q7*AG7+Q7*AH7)) | U7: =IF(Q7="","",IF(Q7*AI7+Q7*AJ7+Q7*AK7=0,"",Q7*AI7+Q7*AJ7+Q7*AK7)) | V7: =N7*AL7 -> #VALUE! | W7: =IF(SUM(R7:U7)<=0,"",SUM(R7:U7)) | AL7: =IF(SUM(Z7:AK7)=0,"",SUM(Z7:AK7)) | AN7: =IFERROR(O7*AL7,0) -> 0 | AP7: =F7 -> 0 | AQ7: =G7 -> 0 | AR7: =IFERROR($Q7*Z7,0) -> 0 | AS7: =IFERROR($Q7*AA7,0) -> 0 | AT7: =IFERROR($Q7*AB7,0) -> 0 | AU7: =IFERROR($Q7*AC7,0) -> 0 | AV7: =IFERROR($Q7*AD7,0) -> 0 | AW7: =IFERROR($Q7*AE7,0) -> 0 | AX7: =IFERROR($Q7*AF7,0) -> 0 | AY7: =IFERROR($Q7*AG7,0) -> 0 | ... BC7: =IFERROR($Q7*AK7,0) -> 0
B8: 3 | P8: =IFERROR(O8,"") -> 0 | Q8: =IF(N8="","",IF(N8="","",IF(N8-P8="","",N8-P8))) | R8: =IF(Q8="","",IF(Q8*Z8+Q8*AA8+Q8*AB8=0,"",Q8*Z8+Q8*AA8+Q8*AB8)) | S8: =IF(Q8="","",IF(Q8*AC8+Q8*AD8+Q8*AE8=0,"",Q8*AC8+Q8*AD8+Q8*AE8)) | T8: =IF(Q8="","",IF(Q8*AF8+Q8*AG8+Q8*AH8=0,"",Q8*AF8+Q8*AG8+Q8*AH8)) | U8: =IF(Q8="","",IF(Q8*AI8+Q8*AJ8+Q8*AK8=0,"",Q8*AI8+Q8*AJ8+Q8*AK8)) | V8: =N8*AL8 -> #VALUE! | W8: =IF(SUM(R8:U8)<=0,"",SUM(R8:U8)) | AL8: =IF(SUM(Z8:AK8)=0,"",SUM(Z8:AK8)) | AN8: =IFERROR(O8*AL8,0) -> 0 | AP8: =F8 -> 0 | AQ8: =G8 -> 0 | AR8: =IFERROR($Q8*Z8,0) -> 0 | AS8: =IFERROR($Q8*AA8,0) -> 0 | AT8: =IFERROR($Q8*AB8,0) -> 0 | AU8: =IFERROR($Q8*AC8,0) -> 0 | AV8: =IFERROR($Q8*AD8,0) -> 0 | AW8: =IFERROR($Q8*AE8,0) -> 0 | AX8: =IFERROR($Q8*AF8,0) -> 0 | AY8: =IFERROR($Q8*AG8,0) -> 0 | ... BC8: =IFERROR($Q8*AK8,0) -> 0
B9: 4 | P9: =IFERROR(O9,"") -> 0 | Q9: =IF(N9="","",IF(N9="","",IF(N9-P9="","",N9-P9))) | R9: =IF(Q9="","",IF(Q9*Z9+Q9*AA9+Q9*AB9=0,"",Q9*Z9+Q9*AA9+Q9*AB9)) | S9: =IF(Q9="","",IF(Q9*AC9+Q9*AD9+Q9*AE9=0,"",Q9*AC9+Q9*AD9+Q9*AE9)) | T9: =IF(Q9="","",IF(Q9*AF9+Q9*AG9+Q9*AH9=0,"",Q9*AF9+Q9*AG9+Q9*AH9)) | U9: =IF(Q9="","",IF(Q9*AI9+Q9*AJ9+Q9*AK9=0,"",Q9*AI9+Q9*AJ9+Q9*AK9)) | V9: =N9*AL9 -> #VALUE! | W9: =IF(SUM(R9:U9)<=0,"",SUM(R9:U9)) | AL9: =IF(SUM(Z9:AK9)=0,"",SUM(Z9:AK9)) | AN9: =IFERROR(O9*AL9,0) -> 0 | AP9: =F9 -> 0 | AQ9: =G9 -> 0 | AR9: =IFERROR($Q9*Z9,0) -> 0 | AS9: =IFERROR($Q9*AA9,0) -> 0 | AT9: =IFERROR($Q9*AB9,0) -> 0 | AU9: =IFERROR($Q9*AC9,0) -> 0 | AV9: =IFERROR($Q9*AD9,0) -> 0 | AW9: =IFERROR($Q9*AE9,0) -> 0 | AX9: =IFERROR($Q9*AF9,0) -> 0 | AY9: =IFERROR($Q9*AG9,0) -> 0 | ... BC9: =IFERROR($Q9*AK9,0) -> 0
B10: 5 | P10: =IFERROR(O10,"") -> 0 | Q10: =IF(N10="","",IF(N10="","",IF(N10-P10="","",N10-P10))) | R10: =IF(Q10="","",IF(Q10*Z10+Q10*AA10+Q10*AB10=0,"",Q10*Z10+Q10*AA10+Q10*AB10)) | S10: =IF(Q10="","",IF(Q10*AC10+Q10*AD10+Q10*AE10=0,"",Q10*AC10+Q10*AD10+Q10*AE10)) | T10: =IF(Q10="","",IF(Q10*AF10+Q10*AG10+Q10*AH10=0,"",Q10*AF10+Q10*AG10+Q10*AH10)) | U10: =IF(Q10="","",IF(Q10*AI10+Q10*AJ10+Q10*AK10=0,"",Q10*AI10+Q10*AJ10+Q10*AK10)) | V10: =N10*AL10 -> #VALUE! | W10: =IF(SUM(R10:U10)<=0,"",SUM(R10:U10)) | AL10: =IF(SUM(Z10:AK10)=0,"",SUM(Z10:AK10)) | AN10: =IFERROR(O10*AL10,0) -> 0 | AP10: =F10 -> 0 | AQ10: =G10 -> 0 | AR10: =IFERROR($Q10*Z10,0) -> 0 | AS10: =IFERROR($Q10*AA10,0) -> 0 | AT10: =IFERROR($Q10*AB10,0) -> 0 | AU10: =IFERROR($Q10*AC10,0) -> 0 | AV10: =IFERROR($Q10*AD10,0) -> 0 | AW10: =IFERROR($Q10*AE10,0) -> 0 | AX10: =IFERROR($Q10*AF10,0) -> 0 | AY10: =IFERROR($Q10*AG10,0) -> 0 | ... BC10: =IFERROR($Q10*AK10,0) -> 0
B11: 6 | P11: =IFERROR(O11,"") -> 0 | Q11: =IF(N11="","",IF(N11="","",IF(N11-P11="","",N11-P11))) | R11: =IF(Q11="","",IF(Q11*Z11+Q11*AA11+Q11*AB11=0,"",Q11*Z11+Q11*AA11+Q11*AB11)) | S11: =IF(Q11="","",IF(Q11*AC11+Q11*AD11+Q11*AE11=0,"",Q11*AC11+Q11*AD11+Q11*AE11)) | T11: =IF(Q11="","",IF(Q11*AF11+Q11*AG11+Q11*AH11=0,"",Q11*AF11+Q11*AG11+Q11*AH11)) | U11: =IF(Q11="","",IF(Q11*AI11+Q11*AJ11+Q11*AK11=0,"",Q11*AI11+Q11*AJ11+Q11*AK11)) | V11: =N11*AL11 -> #VALUE! | W11: =IF(SUM(R11:U11)<=0,"",SUM(R11:U11)) | AL11: =IF(SUM(Z11:AK11)=0,"",SUM(Z11:AK11)) | AN11: =IFERROR(O11*AL11,0) -> 0 | AP11: =F11 -> 0 | AQ11: =G11 -> 0 | AR11: =IFERROR($Q11*Z11,0) -> 0 | AS11: =IFERROR($Q11*AA11,0) -> 0 | AT11: =IFERROR($Q11*AB11,0) -> 0 | AU11: =IFERROR($Q11*AC11,0) -> 0 | AV11: =IFERROR($Q11*AD11,0) -> 0 | AW11: =IFERROR($Q11*AE11,0) -> 0 | AX11: =IFERROR($Q11*AF11,0) -> 0 | AY11: =IFERROR($Q11*AG11,0) -> 0 | ... BC11: =IFERROR($Q11*AK11,0) -> 0
B12: 7 | P12: =IFERROR(O12,"") -> 0 | Q12: =IF(N12="","",IF(N12="","",IF(N12-P12="","",N12-P12))) | R12: =IF(Q12="","",IF(Q12*Z12+Q12*AA12+Q12*AB12=0,"",Q12*Z12+Q12*AA12+Q12*AB12)) | S12: =IF(Q12="","",IF(Q12*AC12+Q12*AD12+Q12*AE12=0,"",Q12*AC12+Q12*AD12+Q12*AE12)) | T12: =IF(Q12="","",IF(Q12*AF12+Q12*AG12+Q12*AH12=0,"",Q12*AF12+Q12*AG12+Q12*AH12)) | U12: =IF(Q12="","",IF(Q12*AI12+Q12*AJ12+Q12*AK12=0,"",Q12*AI12+Q12*AJ12+Q12*AK12)) | V12: =N12*AL12 -> #VALUE! | W12: =IF(SUM(R12:U12)<=0,"",SUM(R12:U12)) | AL12: =IF(SUM(Z12:AK12)=0,"",SUM(Z12:AK12)) | AN12: =IFERROR(O12*AL12,0) -> 0 | AP12: =F12 -> 0 | AQ12: =G12 -> 0 | AR12: =IFERROR($Q12*Z12,0) -> 0 | AS12: =IFERROR($Q12*AA12,0) -> 0 | AT12: =IFERROR($Q12*AB12,0) -> 0 | AU12: =IFERROR($Q12*AC12,0) -> 0 | AV12: =IFERROR($Q12*AD12,0) -> 0 | AW12: =IFERROR($Q12*AE12,0) -> 0 | AX12: =IFERROR($Q12*AF12,0) -> 0 | AY12: =IFERROR($Q12*AG12,0) -> 0 | ... BC12: =IFERROR($Q12*AK12,0) -> 0
B13: 8 | P13: =IFERROR(O13,"") -> 0 | Q13: =IF(N13="","",IF(N13="","",IF(N13-P13="","",N13-P13))) | R13: =IF(Q13="","",IF(Q13*Z13+Q13*AA13+Q13*AB13=0,"",Q13*Z13+Q13*AA13+Q13*AB13)) | S13: =IF(Q13="","",IF(Q13*AC13+Q13*AD13+Q13*AE13=0,"",Q13*AC13+Q13*AD13+Q13*AE13)) | T13: =IF(Q13="","",IF(Q13*AF13+Q13*AG13+Q13*AH13=0,"",Q13*AF13+Q13*AG13+Q13*AH13)) | U13: =IF(Q13="","",IF(Q13*AI13+Q13*AJ13+Q13*AK13=0,"",Q13*AI13+Q13*AJ13+Q13*AK13)) | V13: =N13*AL13 -> #VALUE! | W13: =IF(SUM(R13:U13)<=0,"",SUM(R13:U13)) | AL13: =IF(SUM(Z13:AK13)=0,"",SUM(Z13:AK13)) | AN13: =IFERROR(O13*AL13,0) -> 0 | AP13: =F13 -> 0 | AQ13: =G13 -> 0 | AR13: =IFERROR($Q13*Z13,0) -> 0 | AS13: =IFERROR($Q13*AA13,0) -> 0 | AT13: =IFERROR($Q13*AB13,0) -> 0 | AU13: =IFERROR($Q13*AC13,0) -> 0 | AV13: =IFERROR($Q13*AD13,0) -> 0 | AW13: =IFERROR($Q13*AE13,0) -> 0 | AX13: =IFERROR($Q13*AF13,0) -> 0 | AY13: =IFERROR($Q13*AG13,0) -> 0 | ... BC13: =IFERROR($Q13*AK13,0) -> 0
B14: 9 | P14: =IFERROR(O14,"") -> 0 | Q14: =IF(N14="","",IF(N14="","",IF(N14-P14="","",N14-P14))) | R14: =IF(Q14="","",IF(Q14*Z14+Q14*AA14+Q14*AB14=0,"",Q14*Z14+Q14*AA14+Q14*AB14)) | S14: =IF(Q14="","",IF(Q14*AC14+Q14*AD14+Q14*AE14=0,"",Q14*AC14+Q14*AD14+Q14*AE14)) | T14: =IF(Q14="","",IF(Q14*AF14+Q14*AG14+Q14*AH14=0,"",Q14*AF14+Q14*AG14+Q14*AH14)) | U14: =IF(Q14="","",IF(Q14*AI14+Q14*AJ14+Q14*AK14=0,"",Q14*AI14+Q14*AJ14+Q14*AK14)) | V14: =N14*AL14 -> #VALUE! | W14: =IF(SUM(R14:U14)<=0,"",SUM(R14:U14)) | AL14: =IF(SUM(Z14:AK14)=0,"",SUM(Z14:AK14)) | AN14: =IFERROR(O14*AL14,0) -> 0 | AP14: =F14 -> 0 | AQ14: =G14 -> 0 | AR14: =IFERROR($Q14*Z14,0) -> 0 | AS14: =IFERROR($Q14*AA14,0) -> 0 | AT14: =IFERROR($Q14*AB14,0) -> 0 | AU14: =IFERROR($Q14*AC14,0) -> 0 | AV14: =IFERROR($Q14*AD14,0) -> 0 | AW14: =IFERROR($Q14*AE14,0) -> 0 | AX14: =IFERROR($Q14*AF14,0) -> 0 | AY14: =IFERROR($Q14*AG14,0) -> 0 | ... BC14: =IFERROR($Q14*AK14,0) -> 0
B15: 10 | P15: =IFERROR(O15,"") -> 0 | Q15: =IF(N15="","",IF(N15="","",IF(N15-P15="","",N15-P15))) | R15: =IF(Q15="","",IF(Q15*Z15+Q15*AA15+Q15*AB15=0,"",Q15*Z15+Q15*AA15+Q15*AB15)) | S15: =IF(Q15="","",IF(Q15*AC15+Q15*AD15+Q15*AE15=0,"",Q15*AC15+Q15*AD15+Q15*AE15)) | T15: =IF(Q15="","",IF(Q15*AF15+Q15*AG15+Q15*AH15=0,"",Q15*AF15+Q15*AG15+Q15*AH15)) | U15: =IF(Q15="","",IF(Q15*AI15+Q15*AJ15+Q15*AK15=0,"",Q15*AI15+Q15*AJ15+Q15*AK15)) | V15: =N15*AL15 -> #VALUE! | W15: =IF(SUM(R15:U15)<=0,"",SUM(R15:U15)) | AL15: =IF(SUM(Z15:AK15)=0,"",SUM(Z15:AK15)) | AN15: =IFERROR(O15*AL15,0) -> 0 | AP15: =F15 -> 0 | AQ15: =G15 -> 0 | AR15: =IFERROR($Q15*Z15,0) -> 0 | AS15: =IFERROR($Q15*AA15,0) -> 0 | AT15: =IFERROR($Q15*AB15,0) -> 0 | AU15: =IFERROR($Q15*AC15,0) -> 0 | AV15: =IFERROR($Q15*AD15,0) -> 0 | AW15: =IFERROR($Q15*AE15,0) -> 0 | AX15: =IFERROR($Q15*AF15,0) -> 0 | AY15: =IFERROR($Q15*AG15,0) -> 0 | ... BC15: =IFERROR($Q15*AK15,0) -> 0
B16: 11 | P16: =IFERROR(O16,"") -> 0 | Q16: =IF(N16="","",IF(N16="","",IF(N16-P16="","",N16-P16))) | R16: =IF(Q16="","",IF(Q16*Z16+Q16*AA16+Q16*AB16=0,"",Q16*Z16+Q16*AA16+Q16*AB16)) | S16: =IF(Q16="","",IF(Q16*AC16+Q16*AD16+Q16*AE16=0,"",Q16*AC16+Q16*AD16+Q16*AE16)) | T16: =IF(Q16="","",IF(Q16*AF16+Q16*AG16+Q16*AH16=0,"",Q16*AF16+Q16*AG16+Q16*AH16)) | U16: =IF(Q16="","",IF(Q16*AI16+Q16*AJ16+Q16*AK16=0,"",Q16*AI16+Q16*AJ16+Q16*AK16)) | V16: =N16*AL16 -> #VALUE! | W16: =IF(SUM(R16:U16)<=0,"",SUM(R16:U16)) | AL16: =IF(SUM(Z16:AK16)=0,"",SUM(Z16:AK16)) | AN16: =IFERROR(O16*AL16,0) -> 0 | AP16: =F16 -> 0 | AQ16: =G16 -> 0 | AR16: =IFERROR($Q16*Z16,0) -> 0 | AS16: =IFERROR($Q16*AA16,0) -> 0 | AT16: =IFERROR($Q16*AB16,0) -> 0 | AU16: =IFERROR($Q16*AC16,0) -> 0 | AV16: =IFERROR($Q16*AD16,0) -> 0 | AW16: =IFERROR($Q16*AE16,0) -> 0 | AX16: =IFERROR($Q16*AF16,0) -> 0 | AY16: =IFERROR($Q16*AG16,0) -> 0 | ... BC16: =IFERROR($Q16*AK16,0) -> 0
B17: 12 | P17: =IFERROR(O17,"") -> 0 | Q17: =IF(N17="","",IF(N17="","",IF(N17-P17="","",N17-P17))) | R17: =IF(Q17="","",IF(Q17*Z17+Q17*AA17+Q17*AB17=0,"",Q17*Z17+Q17*AA17+Q17*AB17)) | S17: =IF(Q17="","",IF(Q17*AC17+Q17*AD17+Q17*AE17=0,"",Q17*AC17+Q17*AD17+Q17*AE17)) | T17: =IF(Q17="","",IF(Q17*AF17+Q17*AG17+Q17*AH17=0,"",Q17*AF17+Q17*AG17+Q17*AH17)) | U17: =IF(Q17="","",IF(Q17*AI17+Q17*AJ17+Q17*AK17=0,"",Q17*AI17+Q17*AJ17+Q17*AK17)) | V17: =N17*AL17 -> #VALUE! | W17: =IF(SUM(R17:U17)<=0,"",SUM(R17:U17)) | AL17: =IF(SUM(Z17:AK17)=0,"",SUM(Z17:AK17)) | AN17: =IFERROR(O17*AL17,0) -> 0 | AP17: =F17 -> 0 | AQ17: =G17 -> 0 | AR17: =IFERROR($Q17*Z17,0) -> 0 | AS17: =IFERROR($Q17*AA17,0) -> 0 | AT17: =IFERROR($Q17*AB17,0) -> 0 | AU17: =IFERROR($Q17*AC17,0) -> 0 | AV17: =IFERROR($Q17*AD17,0) -> 0 | AW17: =IFERROR($Q17*AE17,0) -> 0 | AX17: =IFERROR($Q17*AF17,0) -> 0 | AY17: =IFERROR($Q17*AG17,0) -> 0 | ... BC17: =IFERROR($Q17*AK17,0) -> 0
... B144: 139 | P144: =IFERROR(O144,"") -> 0 | Q144: =IF(N144="","",IF(N144="","",IF(N144-P144="","",N144-P144))) | R144: =IF(Q144="","",IF(Q144*Z144+Q144*AA144+Q144*AB144=0,"",Q144*Z144+Q144*AA144+Q144*AB144)) | S144: =IF(Q144="","",IF(Q144*AC144+Q144*AD144+Q144*AE144=0,"",Q144*AC144+Q144*AD144+Q144*AE144)) | T144: =IF(Q144="","",IF(Q144*AF144+Q144*AG144+Q144*AH144=0,"",Q144*AF144+Q144*AG144+Q144*AH144)) | U144: =IF(Q144="","",IF(Q144*AI144+Q144*AJ144+Q144*AK144=0,"",Q144*AI144+Q144*AJ144+Q144*AK144)) | V144: =N144*AL144 -> #VALUE! | W144: =IF(SUM(R144:U144)<=0,"",SUM(R144:U144)) | AL144: =IF(SUM(Z144:AK144)=0,"",SUM(Z144:AK144)) | AN144: =IFERROR(O144*AL144,0) -> 0 | AP144: =F144 -> 0 | AQ144: =G144 -> 0 | AR144: =IFERROR($Q144*Z144,0) -> 0 | AS144: =IFERROR($Q144*AA144,0) -> 0 | AT144: =IFERROR($Q144*AB144,0) -> 0 | AU144: =IFERROR($Q144*AC144,0) -> 0 | AV144: =IFERROR($Q144*AD144,0) -> 0 | AW144: =IFERROR($Q144*AE144,0) -> 0 | AX144: =IFERROR($Q144*AF144,0) -> 0 | AY144: =IFERROR($Q144*AG144,0) -> 0 | ... BC144: =IFERROR($Q144*AK144,0) -> 0
B145: 140 | P145: =IFERROR(O145,"") -> 0 | Q145: =IF(N145="","",IF(N145="","",IF(N145-P145="","",N145-P145))) | R145: =IF(Q145="","",IF(Q145*Z145+Q145*AA145+Q145*AB145=0,"",Q145*Z145+Q145*AA145+Q145*AB145)) | S145: =IF(Q145="","",IF(Q145*AC145+Q145*AD145+Q145*AE145=0,"",Q145*AC145+Q145*AD145+Q145*AE145)) | T145: =IF(Q145="","",IF(Q145*AF145+Q145*AG145+Q145*AH145=0,"",Q145*AF145+Q145*AG145+Q145*AH145)) | U145: =IF(Q145="","",IF(Q145*AI145+Q145*AJ145+Q145*AK145=0,"",Q145*AI145+Q145*AJ145+Q145*AK145)) | V145: =N145*AL145 -> #VALUE! | W145: =IF(SUM(R145:U145)<=0,"",SUM(R145:U145)) | AL145: =IF(SUM(Z145:AK145)=0,"",SUM(Z145:AK145)) | AN145: =IFERROR(O145*AL145,0) -> 0 | AP145: =F146 -> 0 | AQ145: =G145 -> 0 | AR145: =IFERROR($Q145*Z145,0) -> 0 | AS145: =IFERROR($Q145*AA145,0) -> 0 | AT145: =IFERROR($Q145*AB145,0) -> 0 | AU145: =IFERROR($Q145*AC145,0) -> 0 | AV145: =IFERROR($Q145*AD145,0) -> 0 | AW145: =IFERROR($Q145*AE145,0) -> 0 | AX145: =IFERROR($Q145*AF145,0) -> 0 | AY145: =IFERROR($Q145*AG145,0) -> 0 | ... BC145: =IFERROR($Q145*AK145,0) -> 0
B146: 141 | P146: =IFERROR(O146,"") -> 0 | Q146: =IF(N146="","",IF(N146="","",IF(N146-P146="","",N146-P146))) | R146: =IF(Q146="","",IF(Q146*Z146+Q146*AA146+Q146*AB146=0,"",Q146*Z146+Q146*AA146+Q146*AB146)) | S146: =IF(Q146="","",IF(Q146*AC146+Q146*AD146+Q146*AE146=0,"",Q146*AC146+Q146*AD146+Q146*AE146)) | T146: =IF(Q146="","",IF(Q146*AF146+Q146*AG146+Q146*AH146=0,"",Q146*AF146+Q146*AG146+Q146*AH146)) | U146: =IF(Q146="","",IF(Q146*AI146+Q146*AJ146+Q146*AK146=0,"",Q146*AI146+Q146*AJ146+Q146*AK146)) | V146: =N146*AL146 -> #VALUE! | W146: =IF(SUM(R146:U146)<=0,"",SUM(R146:U146)) | AL146: =IF(SUM(Z146:AK146)=0,"",SUM(Z146:AK146)) | AN146: =IFERROR(O146*AL146,0) -> 0 | AP146: =#REF! -> #REF! | AQ146: =G146 -> 0 | AR146: =IFERROR($Q146*Z146,0) -> 0 | AS146: =IFERROR($Q146*AA146,0) -> 0 | AT146: =IFERROR($Q146*AB146,0) -> 0 | AU146: =IFERROR($Q146*AC146,0) -> 0 | AV146: =IFERROR($Q146*AD146,0) -> 0 | AW146: =IFERROR($Q146*AE146,0) -> 0 | AX146: =IFERROR($Q146*AF146,0) -> 0 | AY146: =IFERROR($Q146*AG146,0) -> 0 | ... BC146: =IFERROR($Q146*AK146,0) -> 0
B147: 142 | P147: =IFERROR(O147,"") -> 0 | Q147: =IF(N147="","",IF(N147="","",IF(N147-P147="","",N147-P147))) | R147: =IF(Q147="","",IF(Q147*Z147+Q147*AA147+Q147*AB147=0,"",Q147*Z147+Q147*AA147+Q147*AB147)) | S147: =IF(Q147="","",IF(Q147*AC147+Q147*AD147+Q147*AE147=0,"",Q147*AC147+Q147*AD147+Q147*AE147)) | T147: =IF(Q147="","",IF(Q147*AF147+Q147*AG147+Q147*AH147=0,"",Q147*AF147+Q147*AG147+Q147*AH147)) | U147: =IF(Q147="","",IF(Q147*AI147+Q147*AJ147+Q147*AK147=0,"",Q147*AI147+Q147*AJ147+Q147*AK147)) | V147: =N147*AL147 -> #VALUE! | W147: =IF(SUM(R147:U147)<=0,"",SUM(R147:U147)) | AL147: =IF(SUM(Z147:AK147)=0,"",SUM(Z147:AK147)) | AN147: =IFERROR(O147*AL147,0) -> 0 | AP147: =F147 -> 0 | AQ147: =G147 -> 0 | AR147: =IFERROR($Q147*Z147,0) -> 0 | AS147: =IFERROR($Q147*AA147,0) -> 0 | AT147: =IFERROR($Q147*AB147,0) -> 0 | AU147: =IFERROR($Q147*AC147,0) -> 0 | AV147: =IFERROR($Q147*AD147,0) -> 0 | AW147: =IFERROR($Q147*AE147,0) -> 0 | AX147: =IFERROR($Q147*AF147,0) -> 0 | AY147: =IFERROR($Q147*AG147,0) -> 0 | ... BC147: =IFERROR($Q147*AK147,0) -> 0
B148: 143 | P148: =IFERROR(O148,"") -> 0 | Q148: =IF(N148="","",IF(N148="","",IF(N148-P148="","",N148-P148))) | R148: =IF(Q148="","",IF(Q148*Z148+Q148*AA148+Q148*AB148=0,"",Q148*Z148+Q148*AA148+Q148*AB148)) | S148: =IF(Q148="","",IF(Q148*AC148+Q148*AD148+Q148*AE148=0,"",Q148*AC148+Q148*AD148+Q148*AE148)) | T148: =IF(Q148="","",IF(Q148*AF148+Q148*AG148+Q148*AH148=0,"",Q148*AF148+Q148*AG148+Q148*AH148)) | U148: =IF(Q148="","",IF(Q148*AI148+Q148*AJ148+Q148*AK148=0,"",Q148*AI148+Q148*AJ148+Q148*AK148)) | V148: =N148*AL148 -> #VALUE! | W148: =IF(SUM(R148:U148)<=0,"",SUM(R148:U148)) | AL148: =IF(SUM(Z148:AK148)=0,"",SUM(Z148:AK148)) | AN148: =IFERROR(O148*AL148,0) -> 0 | AP148: =F148 -> 0 | AQ148: =G148 -> 0 | AR148: =IFERROR($Q148*Z148,0) -> 0 | AS148: =IFERROR($Q148*AA148,0) -> 0 | AT148: =IFERROR($Q148*AB148,0) -> 0 | AU148: =IFERROR($Q148*AC148,0) -> 0 | AV148: =IFERROR($Q148*AD148,0) -> 0 | AW148: =IFERROR($Q148*AE148,0) -> 0 | AX148: =IFERROR($Q148*AF148,0) -> 0 | AY148: =IFERROR($Q148*AG148,0) -> 0 | ... BC148: =IFERROR($Q148*AK148,0) -> 0
B149: 144 | P149: =IFERROR(O149,"") -> 0 | Q149: =IF(N149="","",IF(N149="","",IF(N149-P149="","",N149-P149))) | R149: =IF(Q149="","",IF(Q149*Z149+Q149*AA149+Q149*AB149=0,"",Q149*Z149+Q149*AA149+Q149*AB149)) | S149: =IF(Q149="","",IF(Q149*AC149+Q149*AD149+Q149*AE149=0,"",Q149*AC149+Q149*AD149+Q149*AE149)) | T149: =IF(Q149="","",IF(Q149*AF149+Q149*AG149+Q149*AH149=0,"",Q149*AF149+Q149*AG149+Q149*AH149)) | U149: =IF(Q149="","",IF(Q149*AI149+Q149*AJ149+Q149*AK149=0,"",Q149*AI149+Q149*AJ149+Q149*AK149)) | V149: =N149*AL149 -> #VALUE! | W149: =IF(SUM(R149:U149)<=0,"",SUM(R149:U149)) | AL149: =IF(SUM(Z149:AK149)=0,"",SUM(Z149:AK149)) | AN149: =IFERROR(O149*AL149,0) -> 0 | AP149: =F149 -> 0 | AQ149: =G149 -> 0 | AR149: =IFERROR($Q149*Z149,0) -> 0 | AS149: =IFERROR($Q149*AA149,0) -> 0 | AT149: =IFERROR($Q149*AB149,0) -> 0 | AU149: =IFERROR($Q149*AC149,0) -> 0 | AV149: =IFERROR($Q149*AD149,0) -> 0 | AW149: =IFERROR($Q149*AE149,0) -> 0 | AX149: =IFERROR($Q149*AF149,0) -> 0 | AY149: =IFERROR($Q149*AG149,0) -> 0 | ... BC149: =IFERROR($Q149*AK149,0) -> 0
B150: 145 | P150: =IFERROR(O150,"") -> 0 | Q150: =IF(N150="","",IF(N150="","",IF(N150-P150="","",N150-P150))) | R150: =IF(Q150="","",IF(Q150*Z150+Q150*AA150+Q150*AB150=0,"",Q150*Z150+Q150*AA150+Q150*AB150)) | S150: =IF(Q150="","",IF(Q150*AC150+Q150*AD150+Q150*AE150=0,"",Q150*AC150+Q150*AD150+Q150*AE150)) | T150: =IF(Q150="","",IF(Q150*AF150+Q150*AG150+Q150*AH150=0,"",Q150*AF150+Q150*AG150+Q150*AH150)) | U150: =IF(Q150="","",IF(Q150*AI150+Q150*AJ150+Q150*AK150=0,"",Q150*AI150+Q150*AJ150+Q150*AK150)) | V150: =N150*AL150 -> #VALUE! | W150: =IF(SUM(R150:U150)<=0,"",SUM(R150:U150)) | AL150: =IF(SUM(Z150:AK150)=0,"",SUM(Z150:AK150)) | AN150: =IFERROR(O150*AL150,0) -> 0 | AP150: =F150 -> 0 | AQ150: =G150 -> 0 | AR150: =IFERROR($Q150*Z150,0) -> 0 | AS150: =IFERROR($Q150*AA150,0) -> 0 | AT150: =IFERROR($Q150*AB150,0) -> 0 | AU150: =IFERROR($Q150*AC150,0) -> 0 | AV150: =IFERROR($Q150*AD150,0) -> 0 | AW150: =IFERROR($Q150*AE150,0) -> 0 | AX150: =IFERROR($Q150*AF150,0) -> 0 | AY150: =IFERROR($Q150*AG150,0) -> 0 | ... BC150: =IFERROR($Q150*AK150,0) -> 0
B151: 146 | P151: =IFERROR(O151,"") -> 0 | Q151: =IF(N151="","",IF(N151="","",IF(N151-P151="","",N151-P151))) | R151: =IF(Q151="","",IF(Q151*Z151+Q151*AA151+Q151*AB151=0,"",Q151*Z151+Q151*AA151+Q151*AB151)) | S151: =IF(Q151="","",IF(Q151*AC151+Q151*AD151+Q151*AE151=0,"",Q151*AC151+Q151*AD151+Q151*AE151)) | T151: =IF(Q151="","",IF(Q151*AF151+Q151*AG151+Q151*AH151=0,"",Q151*AF151+Q151*AG151+Q151*AH151)) | U151: =IF(Q151="","",IF(Q151*AI151+Q151*AJ151+Q151*AK151=0,"",Q151*AI151+Q151*AJ151+Q151*AK151)) | V151: =N151*AL151 -> #VALUE! | W151: =IF(SUM(R151:U151)<=0,"",SUM(R151:U151)) | AL151: =IF(SUM(Z151:AK151)=0,"",SUM(Z151:AK151)) | AN151: =IFERROR(O151*AL151,0) -> 0 | AP151: =F151 -> 0 | AQ151: =G151 -> 0 | AR151: =IFERROR($Q151*Z151,0) -> 0 | AS151: =IFERROR($Q151*AA151,0) -> 0 | AT151: =IFERROR($Q151*AB151,0) -> 0 | AU151: =IFERROR($Q151*AC151,0) -> 0 | AV151: =IFERROR($Q151*AD151,0) -> 0 | AW151: =IFERROR($Q151*AE151,0) -> 0 | AX151: =IFERROR($Q151*AF151,0) -> 0 | AY151: =IFERROR($Q151*AG151,0) -> 0 | ... BC151: =IFERROR($Q151*AK151,0) -> 0
B152: 147 | P152: =IFERROR(O152,"") -> 0 | Q152: =IF(N152="","",IF(N152="","",IF(N152-P152="","",N152-P152))) | R152: =IF(Q152="","",IF(Q152*Z152+Q152*AA152+Q152*AB152=0,"",Q152*Z152+Q152*AA152+Q152*AB152)) | S152: =IF(Q152="","",IF(Q152*AC152+Q152*AD152+Q152*AE152=0,"",Q152*AC152+Q152*AD152+Q152*AE152)) | T152: =IF(Q152="","",IF(Q152*AF152+Q152*AG152+Q152*AH152=0,"",Q152*AF152+Q152*AG152+Q152*AH152)) | U152: =IF(Q152="","",IF(Q152*AI152+Q152*AJ152+Q152*AK152=0,"",Q152*AI152+Q152*AJ152+Q152*AK152)) | V152: =N152*AL152 -> #VALUE! | W152: =IF(SUM(R152:U152)<=0,"",SUM(R152:U152)) | AL152: =IF(SUM(Z152:AK152)=0,"",SUM(Z152:AK152)) | AN152: =IFERROR(O152*AL152,0) -> 0 | AP152: =F152 -> 0 | AQ152: =G152 -> 0 | AR152: =IFERROR($Q152*Z152,0) -> 0 | AS152: =IFERROR($Q152*AA152,0) -> 0 | AT152: =IFERROR($Q152*AB152,0) -> 0 | AU152: =IFERROR($Q152*AC152,0) -> 0 | AV152: =IFERROR($Q152*AD152,0) -> 0 | AW152: =IFERROR($Q152*AE152,0) -> 0 | AX152: =IFERROR($Q152*AF152,0) -> 0 | AY152: =IFERROR($Q152*AG152,0) -> 0 | ... BC152: =IFERROR($Q152*AK152,0) -> 0
B153: 148 | P153: =IFERROR(O153,"") -> 0 | Q153: =IF(N153="","",IF(N153="","",IF(N153-P153="","",N153-P153))) | R153: =IF(Q153="","",IF(Q153*Z153+Q153*AA153+Q153*AB153=0,"",Q153*Z153+Q153*AA153+Q153*AB153)) | S153: =IF(Q153="","",IF(Q153*AC153+Q153*AD153+Q153*AE153=0,"",Q153*AC153+Q153*AD153+Q153*AE153)) | T153: =IF(Q153="","",IF(Q153*AF153+Q153*AG153+Q153*AH153=0,"",Q153*AF153+Q153*AG153+Q153*AH153)) | U153: =IF(Q153="","",IF(Q153*AI153+Q153*AJ153+Q153*AK153=0,"",Q153*AI153+Q153*AJ153+Q153*AK153)) | V153: =N153*AL153 -> #VALUE! | W153: =IF(SUM(R153:U153)<=0,"",SUM(R153:U153)) | AL153: =IF(SUM(Z153:AK153)=0,"",SUM(Z153:AK153)) | AN153: =IFERROR(O153*AL153,0) -> 0 | AP153: =F153 -> 0 | AQ153: =G153 -> 0 | AR153: =IFERROR($Q153*Z153,0) -> 0 | AS153: =IFERROR($Q153*AA153,0) -> 0 | AT153: =IFERROR($Q153*AB153,0) -> 0 | AU153: =IFERROR($Q153*AC153,0) -> 0 | AV153: =IFERROR($Q153*AD153,0) -> 0 | AW153: =IFERROR($Q153*AE153,0) -> 0 | AX153: =IFERROR($Q153*AF153,0) -> 0 | AY153: =IFERROR($Q153*AG153,0) -> 0 | ... BC153: =IFERROR($Q153*AK153,0) -> 0
B154: 149 | P154: =IFERROR(O154,"") -> 0 | Q154: =IF(N154="","",IF(N154="","",IF(N154-P154="","",N154-P154))) | R154: =IF(Q154="","",IF(Q154*Z154+Q154*AA154+Q154*AB154=0,"",Q154*Z154+Q154*AA154+Q154*AB154)) | S154: =IF(Q154="","",IF(Q154*AC154+Q154*AD154+Q154*AE154=0,"",Q154*AC154+Q154*AD154+Q154*AE154)) | T154: =IF(Q154="","",IF(Q154*AF154+Q154*AG154+Q154*AH154=0,"",Q154*AF154+Q154*AG154+Q154*AH154)) | U154: =IF(Q154="","",IF(Q154*AI154+Q154*AJ154+Q154*AK154=0,"",Q154*AI154+Q154*AJ154+Q154*AK154)) | V154: =N154*AL154 -> #VALUE! | W154: =IF(SUM(R154:U154)<=0,"",SUM(R154:U154)) | AL154: =IF(SUM(Z154:AK154)=0,"",SUM(Z154:AK154)) | AN154: =IFERROR(O154*AL154,0) -> 0 | AP154: =F154 -> 0 | AQ154: =G154 -> 0 | AR154: =IFERROR($Q154*Z154,0) -> 0 | AS154: =IFERROR($Q154*AA154,0) -> 0 | AT154: =IFERROR($Q154*AB154,0) -> 0 | AU154: =IFERROR($Q154*AC154,0) -> 0 | AV154: =IFERROR($Q154*AD154,0) -> 0 | AW154: =IFERROR($Q154*AE154,0) -> 0 | AX154: =IFERROR($Q154*AF154,0) -> 0 | AY154: =IFERROR($Q154*AG154,0) -> 0 | ... BC154: =IFERROR($Q154*AK154,0) -> 0
B155: 150 | P155: =IFERROR(O155,"") -> 0 | Q155: =IF(N155="","",IF(N155="","",IF(N155-P155="","",N155-P155))) | R155: =IF(Q155="","",IF(Q155*Z155+Q155*AA155+Q155*AB155=0,"",Q155*Z155+Q155*AA155+Q155*AB155)) | S155: =IF(Q155="","",IF(Q155*AC155+Q155*AD155+Q155*AE155=0,"",Q155*AC155+Q155*AD155+Q155*AE155)) | T155: =IF(Q155="","",IF(Q155*AF155+Q155*AG155+Q155*AH155=0,"",Q155*AF155+Q155*AG155+Q155*AH155)) | U155: =IF(Q155="","",IF(Q155*AI155+Q155*AJ155+Q155*AK155=0,"",Q155*AI155+Q155*AJ155+Q155*AK155)) | V155: =N155*AL155 -> #VALUE! | W155: =IF(SUM(R155:U155)<=0,"",SUM(R155:U155)) | AL155: =IF(SUM(Z155:AK155)=0,"",SUM(Z155:AK155)) | AN155: =IFERROR(O155*AL155,0) -> 0 | AP155: =F155 -> 0 | AQ155: =G155 -> 0 | AR155: =IFERROR($Q155*Z155,0) -> 0 | AS155: =IFERROR($Q155*AA155,0) -> 0 | AT155: =IFERROR($Q155*AB155,0) -> 0 | AU155: =IFERROR($Q155*AC155,0) -> 0 | AV155: =IFERROR($Q155*AD155,0) -> 0 | AW155: =IFERROR($Q155*AE155,0) -> 0 | AX155: =IFERROR($Q155*AF155,0) -> 0 | AY155: =IFERROR($Q155*AG155,0) -> 0 | ... BC155: =IFERROR($Q155*AK155,0) -> 0
B156: 151 | P156: =IFERROR(O156,"") -> 0 | Q156: =IF(N156="","",IF(N156="","",IF(N156-P156="","",N156-P156))) | R156: =IF(Q156="","",IF(Q156*Z156+Q156*AA156+Q156*AB156=0,"",Q156*Z156+Q156*AA156+Q156*AB156)) | S156: =IF(Q156="","",IF(Q156*AC156+Q156*AD156+Q156*AE156=0,"",Q156*AC156+Q156*AD156+Q156*AE156)) | T156: =IF(Q156="","",IF(Q156*AF156+Q156*AG156+Q156*AH156=0,"",Q156*AF156+Q156*AG156+Q156*AH156)) | U156: =IF(Q156="","",IF(Q156*AI156+Q156*AJ156+Q156*AK156=0,"",Q156*AI156+Q156*AJ156+Q156*AK156)) | V156: =N156*AL156 -> #VALUE! | W156: =IF(SUM(R156:U156)<=0,"",SUM(R156:U156)) | AL156: =IF(SUM(Z156:AK156)=0,"",SUM(Z156:AK156)) | AN156: =IFERROR(O156*AL156,0) -> 0 | AP156: =F156 -> 0 | AQ156: =G156 -> 0 | AR156: =IFERROR($Q156*Z156,0) -> 0 | AS156: =IFERROR($Q156*AA156,0) -> 0 | AT156: =IFERROR($Q156*AB156,0) -> 0 | AU156: =IFERROR($Q156*AC156,0) -> 0 | AV156: =IFERROR($Q156*AD156,0) -> 0 | AW156: =IFERROR($Q156*AE156,0) -> 0 | AX156: =IFERROR($Q156*AF156,0) -> 0 | AY156: =IFERROR($Q156*AG156,0) -> 0 | ... BC156: =IFERROR($Q156*AK156,0) -> 0
B157: 152 | P157: =IFERROR(O157,"") -> 0 | Q157: =IF(N157="","",IF(N157="","",IF(N157-P157="","",N157-P157))) | R157: =IF(Q157="","",IF(Q157*Z157+Q157*AA157+Q157*AB157=0,"",Q157*Z157+Q157*AA157+Q157*AB157)) | S157: =IF(Q157="","",IF(Q157*AC157+Q157*AD157+Q157*AE157=0,"",Q157*AC157+Q157*AD157+Q157*AE157)) | T157: =IF(Q157="","",IF(Q157*AF157+Q157*AG157+Q157*AH157=0,"",Q157*AF157+Q157*AG157+Q157*AH157)) | U157: =IF(Q157="","",IF(Q157*AI157+Q157*AJ157+Q157*AK157=0,"",Q157*AI157+Q157*AJ157+Q157*AK157)) | V157: =N157*AL157 -> #VALUE! | W157: =IF(SUM(R157:U157)<=0,"",SUM(R157:U157)) | AL157: =IF(SUM(Z157:AK157)=0,"",SUM(Z157:AK157)) | AN157: =IFERROR(O157*AL157,0) -> 0 | AP157: =F157 -> 0 | AQ157: =G157 -> 0 | AR157: =IFERROR($Q157*Z157,0) -> 0 | AS157: =IFERROR($Q157*AA157,0) -> 0 | AT157: =IFERROR($Q157*AB157,0) -> 0 | AU157: =IFERROR($Q157*AC157,0) -> 0 | AV157: =IFERROR($Q157*AD157,0) -> 0 | AW157: =IFERROR($Q157*AE157,0) -> 0 | AX157: =IFERROR($Q157*AF157,0) -> 0 | AY157: =IFERROR($Q157*AG157,0) -> 0 | ... BC157: =IFERROR($Q157*AK157,0) -> 0
B158: 153 | P158: =IFERROR(O158,"") -> 0 | Q158: =IF(N158="","",IF(N158="","",IF(N158-P158="","",N158-P158))) | R158: =IF(Q158="","",IF(Q158*Z158+Q158*AA158+Q158*AB158=0,"",Q158*Z158+Q158*AA158+Q158*AB158)) | S158: =IF(Q158="","",IF(Q158*AC158+Q158*AD158+Q158*AE158=0,"",Q158*AC158+Q158*AD158+Q158*AE158)) | T158: =IF(Q158="","",IF(Q158*AF158+Q158*AG158+Q158*AH158=0,"",Q158*AF158+Q158*AG158+Q158*AH158)) | U158: =IF(Q158="","",IF(Q158*AI158+Q158*AJ158+Q158*AK158=0,"",Q158*AI158+Q158*AJ158+Q158*AK158)) | V158: =N158*AL158 -> #VALUE! | W158: =IF(SUM(R158:U158)<=0,"",SUM(R158:U158)) | AL158: =IF(SUM(Z158:AK158)=0,"",SUM(Z158:AK158)) | AN158: =IFERROR(O158*AL158,0) -> 0 | AP158: =F158 -> 0 | AQ158: =G158 -> 0 | AR158: =IFERROR($Q158*Z158,0) -> 0 | AS158: =IFERROR($Q158*AA158,0) -> 0 | AT158: =IFERROR($Q158*AB158,0) -> 0 | AU158: =IFERROR($Q158*AC158,0) -> 0 | AV158: =IFERROR($Q158*AD158,0) -> 0 | AW158: =IFERROR($Q158*AE158,0) -> 0 | AX158: =IFERROR($Q158*AF158,0) -> 0 | AY158: =IFERROR($Q158*AG158,0) -> 0 | ... BC158: =IFERROR($Q158*AK158,0) -> 0
... B222: 217 | P222: =IFERROR(O222,"") -> 0 | Q222: =IF(N222="","",IF(N222="","",IF(N222-P222="","",N222-P222))) | R222: =IF(Q222="","",IF(Q222*Z222+Q222*AA222+Q222*AB222=0,"",Q222*Z222+Q222*AA222+Q222*AB222)) | S222: =IF(Q222="","",IF(Q222*AC222+Q222*AD222+Q222*AE222=0,"",Q222*AC222+Q222*AD222+Q222*AE222)) | T222: =IF(Q222="","",IF(Q222*AF222+Q222*AG222+Q222*AH222=0,"",Q222*AF222+Q222*AG222+Q222*AH222)) | U222: =IF(Q222="","",IF(Q222*AI222+Q222*AJ222+Q222*AK222=0,"",Q222*AI222+Q222*AJ222+Q222*AK222)) | V222: =N222*AL222 -> #VALUE! | W222: =IF(SUM(R222:U222)<=0,"",SUM(R222:U222)) | AL222: =IF(SUM(Z222:AK222)=0,"",SUM(Z222:AK222)) | AN222: =IFERROR(O222*AL222,0) -> 0 | AP222: =F222 -> 0 | AQ222: =G222 -> 0 | AR222: =IFERROR($Q222*Z222,0) -> 0 | AS222: =IFERROR($Q222*AA222,0) -> 0 | AT222: =IFERROR($Q222*AB222,0) -> 0 | AU222: =IFERROR($Q222*AC222,0) -> 0 | AV222: =IFERROR($Q222*AD222,0) -> 0 | AW222: =IFERROR($Q222*AE222,0) -> 0 | AX222: =IFERROR($Q222*AF222,0) -> 0 | AY222: =IFERROR($Q222*AG222,0) -> 0 | ... BC222: =IFERROR($Q222*AK222,0) -> 0
B223: 218 | P223: =IFERROR(O223,"") -> 0 | Q223: =IF(N223="","",IF(N223="","",IF(N223-P223="","",N223-P223))) | R223: =IF(Q223="","",IF(Q223*Z223+Q223*AA223+Q223*AB223=0,"",Q223*Z223+Q223*AA223+Q223*AB223)) | S223: =IF(Q223="","",IF(Q223*AC223+Q223*AD223+Q223*AE223=0,"",Q223*AC223+Q223*AD223+Q223*AE223)) | T223: =IF(Q223="","",IF(Q223*AF223+Q223*AG223+Q223*AH223=0,"",Q223*AF223+Q223*AG223+Q223*AH223)) | U223: =IF(Q223="","",IF(Q223*AI223+Q223*AJ223+Q223*AK223=0,"",Q223*AI223+Q223*AJ223+Q223*AK223)) | V223: =N223*AL223 -> #VALUE! | W223: =IF(SUM(R223:U223)<=0,"",SUM(R223:U223)) | AL223: =IF(SUM(Z223:AK223)=0,"",SUM(Z223:AK223)) | AN223: =IFERROR(O223*AL223,0) -> 0 | AP223: =F225 -> 0 | AQ223: =G225 -> 0 | AR223: =IFERROR($Q225*Z225,0) -> 0 | AS223: =IFERROR($Q225*AA225,0) -> 0 | AT223: =IFERROR($Q225*AB225,0) -> 0 | AU223: =IFERROR($Q225*AC225,0) -> 0 | AV223: =IFERROR($Q225*AD225,0) -> 0 | AW223: =IFERROR($Q225*AE225,0) -> 0 | AX223: =IFERROR($Q225*AF225,0) -> 0 | AY223: =IFERROR($Q225*AG225,0) -> 0 | ... BC223: =IFERROR($Q225*AK225,0) -> 0
B224: 219 | P224: =IFERROR(O224,"") -> 0 | Q224: =IF(N224="","",IF(N224="","",IF(N224-P224="","",N224-P224))) | R224: =IF(Q224="","",IF(Q224*Z224+Q224*AA224+Q224*AB224=0,"",Q224*Z224+Q224*AA224+Q224*AB224)) | S224: =IF(Q224="","",IF(Q224*AC224+Q224*AD224+Q224*AE224=0,"",Q224*AC224+Q224*AD224+Q224*AE224)) | T224: =IF(Q224="","",IF(Q224*AF224+Q224*AG224+Q224*AH224=0,"",Q224*AF224+Q224*AG224+Q224*AH224)) | U224: =IF(Q224="","",IF(Q224*AI224+Q224*AJ224+Q224*AK224=0,"",Q224*AI224+Q224*AJ224+Q224*AK224)) | V224: =N224*AL224 -> #VALUE! | W224: =IF(SUM(R224:U224)<=0,"",SUM(R224:U224)) | AL224: =IF(SUM(Z224:AK224)=0,"",SUM(Z224:AK224)) | AN224: =IFERROR(O224*AL224,0) -> 0 | AP224: =F223 -> 0 | AQ224: =G223 -> 0 | AR224: =IFERROR($Q223*Z223,0) -> 0 | AS224: =IFERROR($Q223*AA223,0) -> 0 | AT224: =IFERROR($Q223*AB223,0) -> 0 | AU224: =IFERROR($Q223*AC223,0) -> 0 | AV224: =IFERROR($Q223*AD223,0) -> 0 | AW224: =IFERROR($Q223*AE223,0) -> 0 | AX224: =IFERROR($Q223*AF223,0) -> 0 | AY224: =IFERROR($Q223*AG223,0) -> 0 | ... BC224: =IFERROR($Q223*AK223,0) -> 0
B225: 220 | P225: =IFERROR(O225,"") -> 0 | Q225: =IF(N225="","",IF(N225="","",IF(N225-P225="","",N225-P225))) | R225: =IF(Q225="","",IF(Q225*Z225+Q225*AA225+Q225*AB225=0,"",Q225*Z225+Q225*AA225+Q225*AB225)) | S225: =IF(Q225="","",IF(Q225*AC225+Q225*AD225+Q225*AE225=0,"",Q225*AC225+Q225*AD225+Q225*AE225)) | T225: =IF(Q225="","",IF(Q225*AF225+Q225*AG225+Q225*AH225=0,"",Q225*AF225+Q225*AG225+Q225*AH225)) | U225: =IF(Q225="","",IF(Q225*AI225+Q225*AJ225+Q225*AK225=0,"",Q225*AI225+Q225*AJ225+Q225*AK225)) | V225: =N225*AL225 -> #VALUE! | W225: =IF(SUM(R225:U225)<=0,"",SUM(R225:U225)) | AL225: =IF(SUM(Z225:AK225)=0,"",SUM(Z225:AK225)) | AN225: =IFERROR(O225*AL225,0) -> 0 | AP225: =F224 -> 0 | AQ225: =G224 -> 0 | AR225: =IFERROR($Q224*Z224,0) -> 0 | AS225: =IFERROR($Q224*AA224,0) -> 0 | AT225: =IFERROR($Q224*AB224,0) -> 0 | AU225: =IFERROR($Q224*AC224,0) -> 0 | AV225: =IFERROR($Q224*AD224,0) -> 0 | AW225: =IFERROR($Q224*AE224,0) -> 0 | AX225: =IFERROR($Q224*AF224,0) -> 0 | AY225: =IFERROR($Q224*AG224,0) -> 0 | ... BC225: =IFERROR($Q224*AK224,0) -> 0
B226: 221 | P226: =IFERROR(O226,"") -> 0 | Q226: =IF(N226="","",IF(N226="","",IF(N226-P226="","",N226-P226))) | R226: =IF(Q226="","",IF(Q226*Z226+Q226*AA226+Q226*AB226=0,"",Q226*Z226+Q226*AA226+Q226*AB226)) | S226: =IF(Q226="","",IF(Q226*AC226+Q226*AD226+Q226*AE226=0,"",Q226*AC226+Q226*AD226+Q226*AE226)) | T226: =IF(Q226="","",IF(Q226*AF226+Q226*AG226+Q226*AH226=0,"",Q226*AF226+Q226*AG226+Q226*AH226)) | U226: =IF(Q226="","",IF(Q226*AI226+Q226*AJ226+Q226*AK226=0,"",Q226*AI226+Q226*AJ226+Q226*AK226)) | V226: =N226*AL226 -> #VALUE! | W226: =IF(SUM(R226:U226)<=0,"",SUM(R226:U226)) | AL226: =IF(SUM(Z226:AK226)=0,"",SUM(Z226:AK226)) | AN226: =IFERROR(O226*AL226,0) -> 0 | AP226: =F226 -> 0 | AQ226: =G226 -> 0 | AR226: =IFERROR($Q226*Z226,0) -> 0 | AS226: =IFERROR($Q226*AA226,0) -> 0 | AT226: =IFERROR($Q226*AB226,0) -> 0 | AU226: =IFERROR($Q226*AC226,0) -> 0 | AV226: =IFERROR($Q226*AD226,0) -> 0 | AW226: =IFERROR($Q226*AE226,0) -> 0 | AX226: =IFERROR($Q226*AF226,0) -> 0 | AY226: =IFERROR($Q226*AG226,0) -> 0 | ... BC226: =IFERROR($Q226*AK226,0) -> 0
B227: 222 | P227: =IFERROR(O227,"") -> 0 | Q227: =IF(N227="","",IF(N227="","",IF(N227-P227="","",N227-P227))) | R227: =IF(Q227="","",IF(Q227*Z227+Q227*AA227+Q227*AB227=0,"",Q227*Z227+Q227*AA227+Q227*AB227)) | S227: =IF(Q227="","",IF(Q227*AC227+Q227*AD227+Q227*AE227=0,"",Q227*AC227+Q227*AD227+Q227*AE227)) | T227: =IF(Q227="","",IF(Q227*AF227+Q227*AG227+Q227*AH227=0,"",Q227*AF227+Q227*AG227+Q227*AH227)) | U227: =IF(Q227="","",IF(Q227*AI227+Q227*AJ227+Q227*AK227=0,"",Q227*AI227+Q227*AJ227+Q227*AK227)) | V227: =N227*AL227 -> #VALUE! | W227: =IF(SUM(R227:U227)<=0,"",SUM(R227:U227)) | AL227: =IF(SUM(Z227:AK227)=0,"",SUM(Z227:AK227)) | AN227: =IFERROR(O227*AL227,0) -> 0 | AP227: =F227 -> 0 | AQ227: =G227 -> 0 | AR227: =IFERROR($Q227*Z227,0) -> 0 | AS227: =IFERROR($Q227*AA227,0) -> 0 | AT227: =IFERROR($Q227*AB227,0) -> 0 | AU227: =IFERROR($Q227*AC227,0) -> 0 | AV227: =IFERROR($Q227*AD227,0) -> 0 | AW227: =IFERROR($Q227*AE227,0) -> 0 | AX227: =IFERROR($Q227*AF227,0) -> 0 | AY227: =IFERROR($Q227*AG227,0) -> 0 | ... BC227: =IFERROR($Q227*AK227,0) -> 0
B228: 223 | P228: =IFERROR(O228,"") -> 0 | Q228: =IF(N228="","",IF(N228="","",IF(N228-P228="","",N228-P228))) | R228: =IF(Q228="","",IF(Q228*Z228+Q228*AA228+Q228*AB228=0,"",Q228*Z228+Q228*AA228+Q228*AB228)) | S228: =IF(Q228="","",IF(Q228*AC228+Q228*AD228+Q228*AE228=0,"",Q228*AC228+Q228*AD228+Q228*AE228)) | T228: =IF(Q228="","",IF(Q228*AF228+Q228*AG228+Q228*AH228=0,"",Q228*AF228+Q228*AG228+Q228*AH228)) | U228: =IF(Q228="","",IF(Q228*AI228+Q228*AJ228+Q228*AK228=0,"",Q228*AI228+Q228*AJ228+Q228*AK228)) | V228: =N228*AL228 -> #VALUE! | W228: =IF(SUM(R228:U228)<=0,"",SUM(R228:U228)) | AL228: =IF(SUM(Z228:AK228)=0,"",SUM(Z228:AK228)) | AN228: =IFERROR(O228*AL228,0) -> 0 | AP228: =F228 -> 0 | AQ228: =G228 -> 0 | AR228: =IFERROR($Q228*Z228,0) -> 0 | AS228: =IFERROR($Q228*AA228,0) -> 0 | AT228: =IFERROR($Q228*AB228,0) -> 0 | AU228: =IFERROR($Q228*AC228,0) -> 0 | AV228: =IFERROR($Q228*AD228,0) -> 0 | AW228: =IFERROR($Q228*AE228,0) -> 0 | AX228: =IFERROR($Q228*AF228,0) -> 0 | AY228: =IFERROR($Q228*AG228,0) -> 0 | ... BC228: =IFERROR($Q228*AK228,0) -> 0
B229: 224 | P229: =IFERROR(O229,"") -> 0 | Q229: =IF(N229="","",IF(N229="","",IF(N229-P229="","",N229-P229))) | R229: =IF(Q229="","",IF(Q229*Z229+Q229*AA229+Q229*AB229=0,"",Q229*Z229+Q229*AA229+Q229*AB229)) | S229: =IF(Q229="","",IF(Q229*AC229+Q229*AD229+Q229*AE229=0,"",Q229*AC229+Q229*AD229+Q229*AE229)) | T229: =IF(Q229="","",IF(Q229*AF229+Q229*AG229+Q229*AH229=0,"",Q229*AF229+Q229*AG229+Q229*AH229)) | U229: =IF(Q229="","",IF(Q229*AI229+Q229*AJ229+Q229*AK229=0,"",Q229*AI229+Q229*AJ229+Q229*AK229)) | V229: =N229*AL229 -> #VALUE! | W229: =IF(SUM(R229:U229)<=0,"",SUM(R229:U229)) | AL229: =IF(SUM(Z229:AK229)=0,"",SUM(Z229:AK229)) | AN229: =IFERROR(O229*AL229,0) -> 0 | AP229: =F229 -> 0 | AQ229: =G229 -> 0 | AR229: =IFERROR($Q229*Z229,0) -> 0 | AS229: =IFERROR($Q229*AA229,0) -> 0 | AT229: =IFERROR($Q229*AB229,0) -> 0 | AU229: =IFERROR($Q229*AC229,0) -> 0 | AV229: =IFERROR($Q229*AD229,0) -> 0 | AW229: =IFERROR($Q229*AE229,0) -> 0 | AX229: =IFERROR($Q229*AF229,0) -> 0 | AY229: =IFERROR($Q229*AG229,0) -> 0 | ... BC229: =IFERROR($Q229*AK229,0) -> 0
B230: 225 | P230: =IFERROR(O230,"") -> 0 | Q230: =IF(N230="","",IF(N230="","",IF(N230-P230="","",N230-P230))) | R230: =IF(Q230="","",IF(Q230*Z230+Q230*AA230+Q230*AB230=0,"",Q230*Z230+Q230*AA230+Q230*AB230)) | S230: =IF(Q230="","",IF(Q230*AC230+Q230*AD230+Q230*AE230=0,"",Q230*AC230+Q230*AD230+Q230*AE230)) | T230: =IF(Q230="","",IF(Q230*AF230+Q230*AG230+Q230*AH230=0,"",Q230*AF230+Q230*AG230+Q230*AH230)) | U230: =IF(Q230="","",IF(Q230*AI230+Q230*AJ230+Q230*AK230=0,"",Q230*AI230+Q230*AJ230+Q230*AK230)) | V230: =N230*AL230 -> #VALUE! | W230: =IF(SUM(R230:U230)<=0,"",SUM(R230:U230)) | AL230: =IF(SUM(Z230:AK230)=0,"",SUM(Z230:AK230)) | AN230: =IFERROR(O230*AL230,0) -> 0 | AP230: =F230 -> 0 | AQ230: =G230 -> 0 | AR230: =IFERROR($Q230*Z230,0) -> 0 | AS230: =IFERROR($Q230*AA230,0) -> 0 | AT230: =IFERROR($Q230*AB230,0) -> 0 | AU230: =IFERROR($Q230*AC230,0) -> 0 | AV230: =IFERROR($Q230*AD230,0) -> 0 | AW230: =IFERROR($Q230*AE230,0) -> 0 | AX230: =IFERROR($Q230*AF230,0) -> 0 | AY230: =IFERROR($Q230*AG230,0) -> 0 | ... BC230: =IFERROR($Q230*AK230,0) -> 0
B231: 226 | P231: =IFERROR(O231,"") -> 0 | Q231: =IF(N231="","",IF(N231="","",IF(N231-P231="","",N231-P231))) | R231: =IF(Q231="","",IF(Q231*Z231+Q231*AA231+Q231*AB231=0,"",Q231*Z231+Q231*AA231+Q231*AB231)) | S231: =IF(Q231="","",IF(Q231*AC231+Q231*AD231+Q231*AE231=0,"",Q231*AC231+Q231*AD231+Q231*AE231)) | T231: =IF(Q231="","",IF(Q231*AF231+Q231*AG231+Q231*AH231=0,"",Q231*AF231+Q231*AG231+Q231*AH231)) | U231: =IF(Q231="","",IF(Q231*AI231+Q231*AJ231+Q231*AK231=0,"",Q231*AI231+Q231*AJ231+Q231*AK231)) | V231: =N231*AL231 -> #VALUE! | W231: =IF(SUM(R231:U231)<=0,"",SUM(R231:U231)) | AL231: =IF(SUM(Z231:AK231)=0,"",SUM(Z231:AK231)) | AN231: =IFERROR(O231*AL231,0) -> 0 | AP231: =F231 -> 0 | AQ231: =G231 -> 0 | AR231: =IFERROR($Q231*Z231,0) -> 0 | AS231: =IFERROR($Q231*AA231,0) -> 0 | AT231: =IFERROR($Q231*AB231,0) -> 0 | AU231: =IFERROR($Q231*AC231,0) -> 0 | AV231: =IFERROR($Q231*AD231,0) -> 0 | AW231: =IFERROR($Q231*AE231,0) -> 0 | AX231: =IFERROR($Q231*AF231,0) -> 0 | AY231: =IFERROR($Q231*AG231,0) -> 0 | ... BC231: =IFERROR($Q231*AK231,0) -> 0
B232: 227 | P232: =IFERROR(O232,"") -> 0 | Q232: =IF(N232="","",IF(N232="","",IF(N232-P232="","",N232-P232))) | R232: =IF(Q232="","",IF(Q232*Z232+Q232*AA232+Q232*AB232=0,"",Q232*Z232+Q232*AA232+Q232*AB232)) | S232: =IF(Q232="","",IF(Q232*AC232+Q232*AD232+Q232*AE232=0,"",Q232*AC232+Q232*AD232+Q232*AE232)) | T232: =IF(Q232="","",IF(Q232*AF232+Q232*AG232+Q232*AH232=0,"",Q232*AF232+Q232*AG232+Q232*AH232)) | U232: =IF(Q232="","",IF(Q232*AI232+Q232*AJ232+Q232*AK232=0,"",Q232*AI232+Q232*AJ232+Q232*AK232)) | V232: =N232*AL232 -> #VALUE! | W232: =IF(SUM(R232:U232)<=0,"",SUM(R232:U232)) | AL232: =IF(SUM(Z232:AK232)=0,"",SUM(Z232:AK232)) | AN232: =IFERROR(O232*AL232,0) -> 0 | AP232: =F232 -> 0 | AQ232: =G232 -> 0 | AR232: =IFERROR($Q232*Z232,0) -> 0 | AS232: =IFERROR($Q232*AA232,0) -> 0 | AT232: =IFERROR($Q232*AB232,0) -> 0 | AU232: =IFERROR($Q232*AC232,0) -> 0 | AV232: =IFERROR($Q232*AD232,0) -> 0 | AW232: =IFERROR($Q232*AE232,0) -> 0 | AX232: =IFERROR($Q232*AF232,0) -> 0 | AY232: =IFERROR($Q232*AG232,0) -> 0 | ... BC232: =IFERROR($Q232*AK232,0) -> 0
B233: 228 | P233: =IFERROR(O233,"") -> 0 | Q233: =IF(N233="","",IF(N233="","",IF(N233-P233="","",N233-P233))) | R233: =IF(Q233="","",IF(Q233*Z233+Q233*AA233+Q233*AB233=0,"",Q233*Z233+Q233*AA233+Q233*AB233)) | S233: =IF(Q233="","",IF(Q233*AC233+Q233*AD233+Q233*AE233=0,"",Q233*AC233+Q233*AD233+Q233*AE233)) | T233: =IF(Q233="","",IF(Q233*AF233+Q233*AG233+Q233*AH233=0,"",Q233*AF233+Q233*AG233+Q233*AH233)) | U233: =IF(Q233="","",IF(Q233*AI233+Q233*AJ233+Q233*AK233=0,"",Q233*AI233+Q233*AJ233+Q233*AK233)) | V233: =N233*AL233 -> #VALUE! | W233: =IF(SUM(R233:U233)<=0,"",SUM(R233:U233)) | AL233: =IF(SUM(Z233:AK233)=0,"",SUM(Z233:AK233)) | AN233: =IFERROR(O233*AL233,0) -> 0 | AP233: =F233 -> 0 | AQ233: =G233 -> 0 | AR233: =IFERROR($Q233*Z233,0) -> 0 | AS233: =IFERROR($Q233*AA233,0) -> 0 | AT233: =IFERROR($Q233*AB233,0) -> 0 | AU233: =IFERROR($Q233*AC233,0) -> 0 | AV233: =IFERROR($Q233*AD233,0) -> 0 | AW233: =IFERROR($Q233*AE233,0) -> 0 | AX233: =IFERROR($Q233*AF233,0) -> 0 | AY233: =IFERROR($Q233*AG233,0) -> 0 | ... BC233: =IFERROR($Q233*AK233,0) -> 0
B234: 229 | P234: =IFERROR(O234,"") -> 0 | Q234: =IF(N234="","",IF(N234="","",IF(N234-P234="","",N234-P234))) | R234: =IF(Q234="","",IF(Q234*Z234+Q234*AA234+Q234*AB234=0,"",Q234*Z234+Q234*AA234+Q234*AB234)) | S234: =IF(Q234="","",IF(Q234*AC234+Q234*AD234+Q234*AE234=0,"",Q234*AC234+Q234*AD234+Q234*AE234)) | T234: =IF(Q234="","",IF(Q234*AF234+Q234*AG234+Q234*AH234=0,"",Q234*AF234+Q234*AG234+Q234*AH234)) | U234: =IF(Q234="","",IF(Q234*AI234+Q234*AJ234+Q234*AK234=0,"",Q234*AI234+Q234*AJ234+Q234*AK234)) | V234: =N234*AL234 -> #VALUE! | W234: =IF(SUM(R234:U234)<=0,"",SUM(R234:U234)) | AL234: =IF(SUM(Z234:AK234)=0,"",SUM(Z234:AK234)) | AN234: =IFERROR(O234*AL234,0) -> 0 | AP234: =F234 -> 0 | AQ234: =G234 -> 0 | AR234: =IFERROR($Q234*Z234,0) -> 0 | AS234: =IFERROR($Q234*AA234,0) -> 0 | AT234: =IFERROR($Q234*AB234,0) -> 0 | AU234: =IFERROR($Q234*AC234,0) -> 0 | AV234: =IFERROR($Q234*AD234,0) -> 0 | AW234: =IFERROR($Q234*AE234,0) -> 0 | AX234: =IFERROR($Q234*AF234,0) -> 0 | AY234: =IFERROR($Q234*AG234,0) -> 0 | ... BC234: =IFERROR($Q234*AK234,0) -> 0
B235: 230 | P235: =IFERROR(O235,"") -> 0 | Q235: =IF(N235="","",IF(N235="","",IF(N235-P235="","",N235-P235))) | R235: =IF(Q235="","",IF(Q235*Z235+Q235*AA235+Q235*AB235=0,"",Q235*Z235+Q235*AA235+Q235*AB235)) | S235: =IF(Q235="","",IF(Q235*AC235+Q235*AD235+Q235*AE235=0,"",Q235*AC235+Q235*AD235+Q235*AE235)) | T235: =IF(Q235="","",IF(Q235*AF235+Q235*AG235+Q235*AH235=0,"",Q235*AF235+Q235*AG235+Q235*AH235)) | U235: =IF(Q235="","",IF(Q235*AI235+Q235*AJ235+Q235*AK235=0,"",Q235*AI235+Q235*AJ235+Q235*AK235)) | V235: =N235*AL235 -> #VALUE! | W235: =IF(SUM(R235:U235)<=0,"",SUM(R235:U235)) | AL235: =IF(SUM(Z235:AK235)=0,"",SUM(Z235:AK235)) | AN235: =IFERROR(O235*AL235,0) -> 0 | AP235: =F235 -> 0 | AQ235: =G235 -> 0 | AR235: =IFERROR($Q235*Z235,0) -> 0 | AS235: =IFERROR($Q235*AA235,0) -> 0 | AT235: =IFERROR($Q235*AB235,0) -> 0 | AU235: =IFERROR($Q235*AC235,0) -> 0 | AV235: =IFERROR($Q235*AD235,0) -> 0 | AW235: =IFERROR($Q235*AE235,0) -> 0 | AX235: =IFERROR($Q235*AF235,0) -> 0 | AY235: =IFERROR($Q235*AG235,0) -> 0 | ... BC235: =IFERROR($Q235*AK235,0) -> 0
B236: 231 | P236: =IFERROR(O236,"") -> 0 | Q236: =IF(N236="","",IF(N236="","",IF(N236-P236="","",N236-P236))) | R236: =IF(Q236="","",IF(Q236*Z236+Q236*AA236+Q236*AB236=0,"",Q236*Z236+Q236*AA236+Q236*AB236)) | S236: =IF(Q236="","",IF(Q236*AC236+Q236*AD236+Q236*AE236=0,"",Q236*AC236+Q236*AD236+Q236*AE236)) | T236: =IF(Q236="","",IF(Q236*AF236+Q236*AG236+Q236*AH236=0,"",Q236*AF236+Q236*AG236+Q236*AH236)) | U236: =IF(Q236="","",IF(Q236*AI236+Q236*AJ236+Q236*AK236=0,"",Q236*AI236+Q236*AJ236+Q236*AK236)) | V236: =N236*AL236 -> #VALUE! | W236: =IF(SUM(R236:U236)<=0,"",SUM(R236:U236)) | AL236: =IF(SUM(Z236:AK236)=0,"",SUM(Z236:AK236)) | AN236: =IFERROR(O236*AL236,0) -> 0 | AP236: =F236 -> 0 | AQ236: =G236 -> 0 | AR236: =IFERROR($Q236*Z236,0) -> 0 | AS236: =IFERROR($Q236*AA236,0) -> 0 | AT236: =IFERROR($Q236*AB236,0) -> 0 | AU236: =IFERROR($Q236*AC236,0) -> 0 | AV236: =IFERROR($Q236*AD236,0) -> 0 | AW236: =IFERROR($Q236*AE236,0) -> 0 | AX236: =IFERROR($Q236*AF236,0) -> 0 | AY236: =IFERROR($Q236*AG236,0) -> 0 | ... BC236: =IFERROR($Q236*AK236,0) -> 0
B237: 232 | P237: =IFERROR(O237,"") -> 0 | Q237: =IF(N237="","",IF(N237="","",IF(N237-P237="","",N237-P237))) | R237: =IF(Q237="","",IF(Q237*Z237+Q237*AA237+Q237*AB237=0,"",Q237*Z237+Q237*AA237+Q237*AB237)) | S237: =IF(Q237="","",IF(Q237*AC237+Q237*AD237+Q237*AE237=0,"",Q237*AC237+Q237*AD237+Q237*AE237)) | T237: =IF(Q237="","",IF(Q237*AF237+Q237*AG237+Q237*AH237=0,"",Q237*AF237+Q237*AG237+Q237*AH237)) | U237: =IF(Q237="","",IF(Q237*AI237+Q237*AJ237+Q237*AK237=0,"",Q237*AI237+Q237*AJ237+Q237*AK237)) | V237: =N237*AL237 -> #VALUE! | W237: =IF(SUM(R237:U237)<=0,"",SUM(R237:U237)) | AL237: =IF(SUM(Z237:AK237)=0,"",SUM(Z237:AK237)) | AN237: =IFERROR(O237*AL237,0) -> 0 | AP237: =F237 -> 0 | AQ237: =G237 -> 0 | AR237: =IFERROR($Q237*Z237,0) -> 0 | AS237: =IFERROR($Q237*AA237,0) -> 0 | AT237: =IFERROR($Q237*AB237,0) -> 0 | AU237: =IFERROR($Q237*AC237,0) -> 0 | AV237: =IFERROR($Q237*AD237,0) -> 0 | AW237: =IFERROR($Q237*AE237,0) -> 0 | AX237: =IFERROR($Q237*AF237,0) -> 0 | AY237: =IFERROR($Q237*AG237,0) -> 0 | ... BC237: =IFERROR($Q237*AK237,0) -> 0
... B246: 241 | P246: =IFERROR(O246,"") -> 0 | Q246: =IF(N246="","",IF(N246="","",IF(N246-P246="","",N246-P246))) | R246: =IF(Q246="","",IF(Q246*Z246+Q246*AA246+Q246*AB246=0,"",Q246*Z246+Q246*AA246+Q246*AB246)) | S246: =IF(Q246="","",IF(Q246*AC246+Q246*AD246+Q246*AE246=0,"",Q246*AC246+Q246*AD246+Q246*AE246)) | T246: =IF(Q246="","",IF(Q246*AF246+Q246*AG246+Q246*AH246=0,"",Q246*AF246+Q246*AG246+Q246*AH246)) | U246: =IF(Q246="","",IF(Q246*AI246+Q246*AJ246+Q246*AK246=0,"",Q246*AI246+Q246*AJ246+Q246*AK246)) | V246: =N246*AL246 -> #VALUE! | W246: =IF(SUM(R246:U246)<=0,"",SUM(R246:U246)) | AL246: =IF(SUM(Z246:AK246)=0,"",SUM(Z246:AK246)) | AN246: =IFERROR(O246*AL246,0) -> 0 | AP246: =F246 -> 0 | AQ246: =G246 -> 0 | AR246: =IFERROR($Q246*Z246,0) -> 0 | AS246: =IFERROR($Q246*AA246,0) -> 0 | AT246: =IFERROR($Q246*AB246,0) -> 0 | AU246: =IFERROR($Q246*AC246,0) -> 0 | AV246: =IFERROR($Q246*AD246,0) -> 0 | AW246: =IFERROR($Q246*AE246,0) -> 0 | AX246: =IFERROR($Q246*AF246,0) -> 0 | AY246: =IFERROR($Q246*AG246,0) -> 0 | ... BC246: =IFERROR($Q246*AK246,0) -> 0
B247: 242 | P247: =IFERROR(O247,"") -> 0 | Q247: =IF(N247="","",IF(N247="","",IF(N247-P247="","",N247-P247))) | R247: =IF(Q247="","",IF(Q247*Z247+Q247*AA247+Q247*AB247=0,"",Q247*Z247+Q247*AA247+Q247*AB247)) | S247: =IF(Q247="","",IF(Q247*AC247+Q247*AD247+Q247*AE247=0,"",Q247*AC247+Q247*AD247+Q247*AE247)) | T247: =IF(Q247="","",IF(Q247*AF247+Q247*AG247+Q247*AH247=0,"",Q247*AF247+Q247*AG247+Q247*AH247)) | U247: =IF(Q247="","",IF(Q247*AI247+Q247*AJ247+Q247*AK247=0,"",Q247*AI247+Q247*AJ247+Q247*AK247)) | V247: =N247*AL247 -> #VALUE! | W247: =IF(SUM(R247:U247)<=0,"",SUM(R247:U247)) | AL247: =IF(SUM(Z247:AK247)=0,"",SUM(Z247:AK247)) | AN247: =IFERROR(O247*AL247,0) -> 0 | AP247: =F248 -> 0 | AQ247: =G248 -> 0 | AR247: =IFERROR($Q248*Z248,0) -> 0 | AS247: =IFERROR($Q248*AA248,0) -> 0 | AT247: =IFERROR($Q248*AB248,0) -> 0 | AU247: =IFERROR($Q248*AC248,0) -> 0 | AV247: =IFERROR($Q248*AD248,0) -> 0 | AW247: =IFERROR($Q248*AE248,0) -> 0 | AX247: =IFERROR($Q248*AF248,0) -> 0 | AY247: =IFERROR($Q248*AG248,0) -> 0 | ... BC247: =IFERROR($Q248*AK248,0) -> 0
B248: 243 | P248: =IFERROR(O248,"") -> 0 | Q248: =IF(N248="","",IF(N248="","",IF(N248-P248="","",N248-P248))) | R248: =IF(Q248="","",IF(Q248*Z248+Q248*AA248+Q248*AB248=0,"",Q248*Z248+Q248*AA248+Q248*AB248)) | S248: =IF(Q248="","",IF(Q248*AC248+Q248*AD248+Q248*AE248=0,"",Q248*AC248+Q248*AD248+Q248*AE248)) | T248: =IF(Q248="","",IF(Q248*AF248+Q248*AG248+Q248*AH248=0,"",Q248*AF248+Q248*AG248+Q248*AH248)) | U248: =IF(Q248="","",IF(Q248*AI248+Q248*AJ248+Q248*AK248=0,"",Q248*AI248+Q248*AJ248+Q248*AK248)) | V248: =N248*AL248 -> #VALUE! | W248: =IF(SUM(R248:U248)<=0,"",SUM(R248:U248)) | AL248: =IF(SUM(Z248:AK248)=0,"",SUM(Z248:AK248)) | AN248: =IFERROR(O248*AL248,0) -> 0 | AP248: =F249 -> 0 | AQ248: =G249 -> 0 | AR248: =IFERROR($Q249*Z249,0) -> 0 | AS248: =IFERROR($Q249*AA249,0) -> 0 | AT248: =IFERROR($Q249*AB249,0) -> 0 | AU248: =IFERROR($Q249*AC249,0) -> 0 | AV248: =IFERROR($Q249*AD249,0) -> 0 | AW248: =IFERROR($Q249*AE249,0) -> 0 | AX248: =IFERROR($Q249*AF249,0) -> 0 | AY248: =IFERROR($Q249*AG249,0) -> 0 | ... BC248: =IFERROR($Q249*AK249,0) -> 0
B249: 244 | P249: =IFERROR(O249,"") -> 0 | Q249: =IF(N249="","",IF(N249="","",IF(N249-P249="","",N249-P249))) | R249: =IF(Q249="","",IF(Q249*Z249+Q249*AA249+Q249*AB249=0,"",Q249*Z249+Q249*AA249+Q249*AB249)) | S249: =IF(Q249="","",IF(Q249*AC249+Q249*AD249+Q249*AE249=0,"",Q249*AC249+Q249*AD249+Q249*AE249)) | T249: =IF(Q249="","",IF(Q249*AF249+Q249*AG249+Q249*AH249=0,"",Q249*AF249+Q249*AG249+Q249*AH249)) | U249: =IF(Q249="","",IF(Q249*AI249+Q249*AJ249+Q249*AK249=0,"",Q249*AI249+Q249*AJ249+Q249*AK249)) | V249: =N249*AL249 -> #VALUE! | W249: =IF(SUM(R249:U249)<=0,"",SUM(R249:U249)) | AL249: =IF(SUM(Z249:AK249)=0,"",SUM(Z249:AK249)) | AN249: =IFERROR(O249*AL249,0) -> 0 | AP249: =F247 -> 0 | AQ249: =G247 -> 0 | AR249: =IFERROR($Q247*Z247,0) -> 0 | AS249: =IFERROR($Q247*AA247,0) -> 0 | AT249: =IFERROR($Q247*AB247,0) -> 0 | AU249: =IFERROR($Q247*AC247,0) -> 0 | AV249: =IFERROR($Q247*AD247,0) -> 0 | AW249: =IFERROR($Q247*AE247,0) -> 0 | AX249: =IFERROR($Q247*AF247,0) -> 0 | AY249: =IFERROR($Q247*AG247,0) -> 0 | ... BC249: =IFERROR($Q247*AK247,0) -> 0
B250: 245 | P250: =IFERROR(O250,"") -> 0 | Q250: =IF(N250="","",IF(N250="","",IF(N250-P250="","",N250-P250))) | R250: =IF(Q250="","",IF(Q250*Z250+Q250*AA250+Q250*AB250=0,"",Q250*Z250+Q250*AA250+Q250*AB250)) | S250: =IF(Q250="","",IF(Q250*AC250+Q250*AD250+Q250*AE250=0,"",Q250*AC250+Q250*AD250+Q250*AE250)) | T250: =IF(Q250="","",IF(Q250*AF250+Q250*AG250+Q250*AH250=0,"",Q250*AF250+Q250*AG250+Q250*AH250)) | U250: =IF(Q250="","",IF(Q250*AI250+Q250*AJ250+Q250*AK250=0,"",Q250*AI250+Q250*AJ250+Q250*AK250)) | V250: =N250*AL250 -> #VALUE! | W250: =IF(SUM(R250:U250)<=0,"",SUM(R250:U250)) | AL250: =IF(SUM(Z250:AK250)=0,"",SUM(Z250:AK250)) | AN250: =IFERROR(O250*AL250,0) -> 0 | AP250: =F250 -> 0 | AQ250: =G250 -> 0 | AR250: =IFERROR($Q250*Z250,0) -> 0 | AS250: =IFERROR($Q250*AA250,0) -> 0 | AT250: =IFERROR($Q250*AB250,0) -> 0 | AU250: =IFERROR($Q250*AC250,0) -> 0 | AV250: =IFERROR($Q250*AD250,0) -> 0 | AW250: =IFERROR($Q250*AE250,0) -> 0 | AX250: =IFERROR($Q250*AF250,0) -> 0 | AY250: =IFERROR($Q250*AG250,0) -> 0 | ... BC250: =IFERROR($Q250*AK250,0) -> 0
B251: 246 | P251: =IFERROR(O251,"") -> 0 | Q251: =IF(N251="","",IF(N251="","",IF(N251-P251="","",N251-P251))) | R251: =IF(Q251="","",IF(Q251*Z251+Q251*AA251+Q251*AB251=0,"",Q251*Z251+Q251*AA251+Q251*AB251)) | S251: =IF(Q251="","",IF(Q251*AC251+Q251*AD251+Q251*AE251=0,"",Q251*AC251+Q251*AD251+Q251*AE251)) | T251: =IF(Q251="","",IF(Q251*AF251+Q251*AG251+Q251*AH251=0,"",Q251*AF251+Q251*AG251+Q251*AH251)) | U251: =IF(Q251="","",IF(Q251*AI251+Q251*AJ251+Q251*AK251=0,"",Q251*AI251+Q251*AJ251+Q251*AK251)) | V251: =N251*AL251 -> #VALUE! | W251: =IF(SUM(R251:U251)<=0,"",SUM(R251:U251)) | AL251: =IF(SUM(Z251:AK251)=0,"",SUM(Z251:AK251)) | AN251: =IFERROR(O251*AL251,0) -> 0 | AP251: =F251 -> 0 | AQ251: =G251 -> 0 | AR251: =IFERROR($Q251*Z251,0) -> 0 | AS251: =IFERROR($Q251*AA251,0) -> 0 | AT251: =IFERROR($Q251*AB251,0) -> 0 | AU251: =IFERROR($Q251*AC251,0) -> 0 | AV251: =IFERROR($Q251*AD251,0) -> 0 | AW251: =IFERROR($Q251*AE251,0) -> 0 | AX251: =IFERROR($Q251*AF251,0) -> 0 | AY251: =IFERROR($Q251*AG251,0) -> 0 | ... BC251: =IFERROR($Q251*AK251,0) -> 0
B252: 247 | P252: =IFERROR(O252,"") -> 0 | Q252: =IF(N252="","",IF(N252="","",IF(N252-P252="","",N252-P252))) | R252: =IF(Q252="","",IF(Q252*Z252+Q252*AA252+Q252*AB252=0,"",Q252*Z252+Q252*AA252+Q252*AB252)) | S252: =IF(Q252="","",IF(Q252*AC252+Q252*AD252+Q252*AE252=0,"",Q252*AC252+Q252*AD252+Q252*AE252)) | T252: =IF(Q252="","",IF(Q252*AF252+Q252*AG252+Q252*AH252=0,"",Q252*AF252+Q252*AG252+Q252*AH252)) | U252: =IF(Q252="","",IF(Q252*AI252+Q252*AJ252+Q252*AK252=0,"",Q252*AI252+Q252*AJ252+Q252*AK252)) | V252: =N252*AL252 -> #VALUE! | W252: =IF(SUM(R252:U252)<=0,"",SUM(R252:U252)) | AL252: =IF(SUM(Z252:AK252)=0,"",SUM(Z252:AK252)) | AN252: =IFERROR(O252*AL252,0) -> 0 | AP252: =F252 -> 0 | AQ252: =G252 -> 0 | AR252: =IFERROR($Q252*Z252,0) -> 0 | AS252: =IFERROR($Q252*AA252,0) -> 0 | AT252: =IFERROR($Q252*AB252,0) -> 0 | AU252: =IFERROR($Q252*AC252,0) -> 0 | AV252: =IFERROR($Q252*AD252,0) -> 0 | AW252: =IFERROR($Q252*AE252,0) -> 0 | AX252: =IFERROR($Q252*AF252,0) -> 0 | AY252: =IFERROR($Q252*AG252,0) -> 0 | ... BC252: =IFERROR($Q252*AK252,0) -> 0
B253: 248 | P253: =IFERROR(O253,"") -> 0 | Q253: =IF(N253="","",IF(N253="","",IF(N253-P253="","",N253-P253))) | R253: =IF(Q253="","",IF(Q253*Z253+Q253*AA253+Q253*AB253=0,"",Q253*Z253+Q253*AA253+Q253*AB253)) | S253: =IF(Q253="","",IF(Q253*AC253+Q253*AD253+Q253*AE253=0,"",Q253*AC253+Q253*AD253+Q253*AE253)) | T253: =IF(Q253="","",IF(Q253*AF253+Q253*AG253+Q253*AH253=0,"",Q253*AF253+Q253*AG253+Q253*AH253)) | U253: =IF(Q253="","",IF(Q253*AI253+Q253*AJ253+Q253*AK253=0,"",Q253*AI253+Q253*AJ253+Q253*AK253)) | V253: =N253*AL253 -> #VALUE! | W253: =IF(SUM(R253:U253)<=0,"",SUM(R253:U253)) | AL253: =IF(SUM(Z253:AK253)=0,"",SUM(Z253:AK253)) | AN253: =IFERROR(O253*AL253,0) -> 0 | AP253: =F253 -> 0 | AQ253: =G253 -> 0 | AR253: =IFERROR($Q253*Z253,0) -> 0 | AS253: =IFERROR($Q253*AA253,0) -> 0 | AT253: =IFERROR($Q253*AB253,0) -> 0 | AU253: =IFERROR($Q253*AC253,0) -> 0 | AV253: =IFERROR($Q253*AD253,0) -> 0 | AW253: =IFERROR($Q253*AE253,0) -> 0 | AX253: =IFERROR($Q253*AF253,0) -> 0 | AY253: =IFERROR($Q253*AG253,0) -> 0 | ... BC253: =IFERROR($Q253*AK253,0) -> 0
B254: 249 | P254: =IFERROR(O254,"") -> 0 | Q254: =IF(N254="","",IF(N254="","",IF(N254-P254="","",N254-P254))) | R254: =IF(Q254="","",IF(Q254*Z254+Q254*AA254+Q254*AB254=0,"",Q254*Z254+Q254*AA254+Q254*AB254)) | S254: =IF(Q254="","",IF(Q254*AC254+Q254*AD254+Q254*AE254=0,"",Q254*AC254+Q254*AD254+Q254*AE254)) | T254: =IF(Q254="","",IF(Q254*AF254+Q254*AG254+Q254*AH254=0,"",Q254*AF254+Q254*AG254+Q254*AH254)) | U254: =IF(Q254="","",IF(Q254*AI254+Q254*AJ254+Q254*AK254=0,"",Q254*AI254+Q254*AJ254+Q254*AK254)) | V254: =N254*AL254 -> #VALUE! | W254: =IF(SUM(R254:U254)<=0,"",SUM(R254:U254)) | AL254: =IF(SUM(Z254:AK254)=0,"",SUM(Z254:AK254)) | AN254: =IFERROR(O254*AL254,0) -> 0 | AP254: =F254 -> 0 | AQ254: =G254 -> 0 | AR254: =IFERROR($Q254*Z254,0) -> 0 | AS254: =IFERROR($Q254*AA254,0) -> 0 | AT254: =IFERROR($Q254*AB254,0) -> 0 | AU254: =IFERROR($Q254*AC254,0) -> 0 | AV254: =IFERROR($Q254*AD254,0) -> 0 | AW254: =IFERROR($Q254*AE254,0) -> 0 | AX254: =IFERROR($Q254*AF254,0) -> 0 | AY254: =IFERROR($Q254*AG254,0) -> 0 | ... BC254: =IFERROR($Q254*AK254,0) -> 0
B255: 250 | P255: =IFERROR(O255,"") -> 0 | Q255: =IF(N255="","",IF(N255="","",IF(N255-P255="","",N255-P255))) | R255: =IF(Q255="","",IF(Q255*Z255+Q255*AA255+Q255*AB255=0,"",Q255*Z255+Q255*AA255+Q255*AB255)) | S255: =IF(Q255="","",IF(Q255*AC255+Q255*AD255+Q255*AE255=0,"",Q255*AC255+Q255*AD255+Q255*AE255)) | T255: =IF(Q255="","",IF(Q255*AF255+Q255*AG255+Q255*AH255=0,"",Q255*AF255+Q255*AG255+Q255*AH255)) | U255: =IF(Q255="","",IF(Q255*AI255+Q255*AJ255+Q255*AK255=0,"",Q255*AI255+Q255*AJ255+Q255*AK255)) | V255: =N255*AL255 -> #VALUE! | W255: =IF(SUM(R255:U255)<=0,"",SUM(R255:U255)) | AL255: =IF(SUM(Z255:AK255)=0,"",SUM(Z255:AK255)) | AN255: =IFERROR(O255*AL255,0) -> 0 | AP255: =F255 -> 0 | AQ255: =G255 -> 0 | AR255: =IFERROR($Q255*Z255,0) -> 0 | AS255: =IFERROR($Q255*AA255,0) -> 0 | AT255: =IFERROR($Q255*AB255,0) -> 0 | AU255: =IFERROR($Q255*AC255,0) -> 0 | AV255: =IFERROR($Q255*AD255,0) -> 0 | AW255: =IFERROR($Q255*AE255,0) -> 0 | AX255: =IFERROR($Q255*AF255,0) -> 0 | AY255: =IFERROR($Q255*AG255,0) -> 0 | ... BC255: =IFERROR($Q255*AK255,0) -> 0
B256: 251 | P256: =IFERROR(O256,"") -> 0 | Q256: =IF(N256="","",IF(N256="","",IF(N256-P256="","",N256-P256))) | R256: =IF(Q256="","",IF(Q256*Z256+Q256*AA256+Q256*AB256=0,"",Q256*Z256+Q256*AA256+Q256*AB256)) | S256: =IF(Q256="","",IF(Q256*AC256+Q256*AD256+Q256*AE256=0,"",Q256*AC256+Q256*AD256+Q256*AE256)) | T256: =IF(Q256="","",IF(Q256*AF256+Q256*AG256+Q256*AH256=0,"",Q256*AF256+Q256*AG256+Q256*AH256)) | U256: =IF(Q256="","",IF(Q256*AI256+Q256*AJ256+Q256*AK256=0,"",Q256*AI256+Q256*AJ256+Q256*AK256)) | V256: =N256*AL256 -> #VALUE! | W256: =IF(SUM(R256:U256)<=0,"",SUM(R256:U256)) | AL256: =IF(SUM(Z256:AK256)=0,"",SUM(Z256:AK256)) | AN256: =IFERROR(O256*AL256,0) -> 0 | AP256: =F256 -> 0 | AQ256: =G256 -> 0 | AR256: =IFERROR($Q256*Z256,0) -> 0 | AS256: =IFERROR($Q256*AA256,0) -> 0 | AT256: =IFERROR($Q256*AB256,0) -> 0 | AU256: =IFERROR($Q256*AC256,0) -> 0 | AV256: =IFERROR($Q256*AD256,0) -> 0 | AW256: =IFERROR($Q256*AE256,0) -> 0 | AX256: =IFERROR($Q256*AF256,0) -> 0 | AY256: =IFERROR($Q256*AG256,0) -> 0 | ... BC256: =IFERROR($Q256*AK256,0) -> 0
B257: 252 | P257: =IFERROR(O257,"") -> 0 | Q257: =IF(N257="","",IF(N257="","",IF(N257-P257="","",N257-P257))) | R257: =IF(Q257="","",IF(Q257*Z257+Q257*AA257+Q257*AB257=0,"",Q257*Z257+Q257*AA257+Q257*AB257)) | S257: =IF(Q257="","",IF(Q257*AC257+Q257*AD257+Q257*AE257=0,"",Q257*AC257+Q257*AD257+Q257*AE257)) | T257: =IF(Q257="","",IF(Q257*AF257+Q257*AG257+Q257*AH257=0,"",Q257*AF257+Q257*AG257+Q257*AH257)) | U257: =IF(Q257="","",IF(Q257*AI257+Q257*AJ257+Q257*AK257=0,"",Q257*AI257+Q257*AJ257+Q257*AK257)) | V257: =N257*AL257 -> #VALUE! | W257: =IF(SUM(R257:U257)<=0,"",SUM(R257:U257)) | AL257: =IF(SUM(Z257:AK257)=0,"",SUM(Z257:AK257)) | AN257: =IFERROR(O257*AL257,0) -> 0 | AP257: =F257 -> 0 | AQ257: =G257 -> 0 | AR257: =IFERROR($Q257*Z257,0) -> 0 | AS257: =IFERROR($Q257*AA257,0) -> 0 | AT257: =IFERROR($Q257*AB257,0) -> 0 | AU257: =IFERROR($Q257*AC257,0) -> 0 | AV257: =IFERROR($Q257*AD257,0) -> 0 | AW257: =IFERROR($Q257*AE257,0) -> 0 | AX257: =IFERROR($Q257*AF257,0) -> 0 | AY257: =IFERROR($Q257*AG257,0) -> 0 | ... BC257: =IFERROR($Q257*AK257,0) -> 0
B258: 253 | P258: =IFERROR(O258,"") -> 0 | Q258: =IF(N258="","",IF(N258="","",IF(N258-P258="","",N258-P258))) | R258: =IF(Q258="","",IF(Q258*Z258+Q258*AA258+Q258*AB258=0,"",Q258*Z258+Q258*AA258+Q258*AB258)) | S258: =IF(Q258="","",IF(Q258*AC258+Q258*AD258+Q258*AE258=0,"",Q258*AC258+Q258*AD258+Q258*AE258)) | T258: =IF(Q258="","",IF(Q258*AF258+Q258*AG258+Q258*AH258=0,"",Q258*AF258+Q258*AG258+Q258*AH258)) | U258: =IF(Q258="","",IF(Q258*AI258+Q258*AJ258+Q258*AK258=0,"",Q258*AI258+Q258*AJ258+Q258*AK258)) | V258: =N258*AL258 -> #VALUE! | W258: =IF(SUM(R258:U258)<=0,"",SUM(R258:U258)) | AL258: =IF(SUM(Z258:AK258)=0,"",SUM(Z258:AK258)) | AN258: =IFERROR(O258*AL258,0) -> 0 | AP258: =F258 -> 0 | AQ258: =G258 -> 0 | AR258: =IFERROR($Q258*Z258,0) -> 0 | AS258: =IFERROR($Q258*AA258,0) -> 0 | AT258: =IFERROR($Q258*AB258,0) -> 0 | AU258: =IFERROR($Q258*AC258,0) -> 0 | AV258: =IFERROR($Q258*AD258,0) -> 0 | AW258: =IFERROR($Q258*AE258,0) -> 0 | AX258: =IFERROR($Q258*AF258,0) -> 0 | AY258: =IFERROR($Q258*AG258,0) -> 0 | ... BC258: =IFERROR($Q258*AK258,0) -> 0
B259: 254 | P259: =IFERROR(O259,"") -> 0 | Q259: =IF(N259="","",IF(N259="","",IF(N259-P259="","",N259-P259))) | R259: =IF(Q259="","",IF(Q259*Z259+Q259*AA259+Q259*AB259=0,"",Q259*Z259+Q259*AA259+Q259*AB259)) | S259: =IF(Q259="","",IF(Q259*AC259+Q259*AD259+Q259*AE259=0,"",Q259*AC259+Q259*AD259+Q259*AE259)) | T259: =IF(Q259="","",IF(Q259*AF259+Q259*AG259+Q259*AH259=0,"",Q259*AF259+Q259*AG259+Q259*AH259)) | U259: =IF(Q259="","",IF(Q259*AI259+Q259*AJ259+Q259*AK259=0,"",Q259*AI259+Q259*AJ259+Q259*AK259)) | V259: =N259*AL259 -> #VALUE! | W259: =IF(SUM(R259:U259)<=0,"",SUM(R259:U259)) | AL259: =IF(SUM(Z259:AK259)=0,"",SUM(Z259:AK259)) | AN259: =IFERROR(O259*AL259,0) -> 0 | AP259: =F259 -> 0 | AQ259: =G259 -> 0 | AR259: =IFERROR($Q259*Z259,0) -> 0 | AS259: =IFERROR($Q259*AA259,0) -> 0 | AT259: =IFERROR($Q259*AB259,0) -> 0 | AU259: =IFERROR($Q259*AC259,0) -> 0 | AV259: =IFERROR($Q259*AD259,0) -> 0 | AW259: =IFERROR($Q259*AE259,0) -> 0 | AX259: =IFERROR($Q259*AF259,0) -> 0 | AY259: =IFERROR($Q259*AG259,0) -> 0 | ... BC259: =IFERROR($Q259*AK259,0) -> 0
B260: 255 | P260: =IFERROR(O260,"") -> 0 | Q260: =IF(N260="","",IF(N260="","",IF(N260-P260="","",N260-P260))) | R260: =IF(Q260="","",IF(Q260*Z260+Q260*AA260+Q260*AB260=0,"",Q260*Z260+Q260*AA260+Q260*AB260)) | S260: =IF(Q260="","",IF(Q260*AC260+Q260*AD260+Q260*AE260=0,"",Q260*AC260+Q260*AD260+Q260*AE260)) | T260: =IF(Q260="","",IF(Q260*AF260+Q260*AG260+Q260*AH260=0,"",Q260*AF260+Q260*AG260+Q260*AH260)) | U260: =IF(Q260="","",IF(Q260*AI260+Q260*AJ260+Q260*AK260=0,"",Q260*AI260+Q260*AJ260+Q260*AK260)) | V260: =N260*AL260 -> #VALUE! | W260: =IF(SUM(R260:U260)<=0,"",SUM(R260:U260)) | AL260: =IF(SUM(Z260:AK260)=0,"",SUM(Z260:AK260)) | AN260: =IFERROR(O260*AL260,0) -> 0 | AP260: =F260 -> 0 | AQ260: =G260 -> 0 | AR260: =IFERROR($Q260*Z260,0) -> 0 | AS260: =IFERROR($Q260*AA260,0) -> 0 | AT260: =IFERROR($Q260*AB260,0) -> 0 | AU260: =IFERROR($Q260*AC260,0) -> 0 | AV260: =IFERROR($Q260*AD260,0) -> 0 | AW260: =IFERROR($Q260*AE260,0) -> 0 | AX260: =IFERROR($Q260*AF260,0) -> 0 | AY260: =IFERROR($Q260*AG260,0) -> 0 | ... BC260: =IFERROR($Q260*AK260,0) -> 0
B261: 256 | P261: =IFERROR(O261,"") -> 0 | Q261: =IF(N261="","",IF(N261="","",IF(N261-P261="","",N261-P261))) | R261: =IF(Q261="","",IF(Q261*Z261+Q261*AA261+Q261*AB261=0,"",Q261*Z261+Q261*AA261+Q261*AB261)) | S261: =IF(Q261="","",IF(Q261*AC261+Q261*AD261+Q261*AE261=0,"",Q261*AC261+Q261*AD261+Q261*AE261)) | T261: =IF(Q261="","",IF(Q261*AF261+Q261*AG261+Q261*AH261=0,"",Q261*AF261+Q261*AG261+Q261*AH261)) | U261: =IF(Q261="","",IF(Q261*AI261+Q261*AJ261+Q261*AK261=0,"",Q261*AI261+Q261*AJ261+Q261*AK261)) | V261: =N261*AL261 -> #VALUE! | W261: =IF(SUM(R261:U261)<=0,"",SUM(R261:U261)) | AL261: =IF(SUM(Z261:AK261)=0,"",SUM(Z261:AK261)) | AN261: =IFERROR(O261*AL261,0) -> 0 | AP261: =F261 -> 0 | AQ261: =G261 -> 0 | AR261: =IFERROR($Q261*Z261,0) -> 0 | AS261: =IFERROR($Q261*AA261,0) -> 0 | AT261: =IFERROR($Q261*AB261,0) -> 0 | AU261: =IFERROR($Q261*AC261,0) -> 0 | AV261: =IFERROR($Q261*AD261,0) -> 0 | AW261: =IFERROR($Q261*AE261,0) -> 0 | AX261: =IFERROR($Q261*AF261,0) -> 0 | AY261: =IFERROR($Q261*AG261,0) -> 0 | ... BC261: =IFERROR($Q261*AK261,0) -> 0
... B474: 469 | P474: =IFERROR(O474,"") -> 0 | Q474: =IF(N474="","",IF(N474="","",IF(N474-P474="","",N474-P474))) | R474: =IF(Q474="","",IF(Q474*Z474+Q474*AA474+Q474*AB474=0,"",Q474*Z474+Q474*AA474+Q474*AB474)) | S474: =IF(Q474="","",IF(Q474*AC474+Q474*AD474+Q474*AE474=0,"",Q474*AC474+Q474*AD474+Q474*AE474)) | T474: =IF(Q474="","",IF(Q474*AF474+Q474*AG474+Q474*AH474=0,"",Q474*AF474+Q474*AG474+Q474*AH474)) | U474: =IF(Q474="","",IF(Q474*AI474+Q474*AJ474+Q474*AK474=0,"",Q474*AI474+Q474*AJ474+Q474*AK474)) | V474: =N474*AL474 -> #VALUE! | W474: =IF(SUM(R474:U474)<=0,"",SUM(R474:U474)) | AL474: =IF(SUM(Z474:AK474)=0,"",SUM(Z474:AK474)) | AN474: =IFERROR(O474*AL474,0) -> 0 | AP474: =F474 -> 0 | AQ474: =G474 -> 0 | AR474: =IFERROR($Q474*Z474,0) -> 0 | AS474: =IFERROR($Q474*AA474,0) -> 0 | AT474: =IFERROR($Q474*AB474,0) -> 0 | AU474: =IFERROR($Q474*AC474,0) -> 0 | AV474: =IFERROR($Q474*AD474,0) -> 0 | AW474: =IFERROR($Q474*AE474,0) -> 0 | AX474: =IFERROR($Q474*AF474,0) -> 0 | AY474: =IFERROR($Q474*AG474,0) -> 0 | ... BC474: =IFERROR($Q474*AK474,0) -> 0
B475: 470 | P475: =IFERROR(O475,"") -> 0 | R475: =IF(Q475="","",IF(Q475*Z475+Q475*AA475+Q475*AB475=0,"",Q475*Z475+Q475*AA475+Q475*AB475)) | S475: =IF(Q475="","",IF(Q475*AC475+Q475*AD475+Q475*AE475=0,"",Q475*AC475+Q475*AD475+Q475*AE475)) | T475: =IF(Q475="","",IF(Q475*AF475+Q475*AG475+Q475*AH475=0,"",Q475*AF475+Q475*AG475+Q475*AH475)) | U475: =IF(Q475="","",IF(Q475*AI475+Q475*AJ475+Q475*AK475=0,"",Q475*AI475+Q475*AJ475+Q475*AK475)) | AN475: =IFERROR(O475*AL475,0) -> 0 | AP475: =F475 -> 0 | AQ475: =G475 -> 0 | AR475: =IFERROR($Q475*Z475,0) -> 0 | AS475: =IFERROR($Q475*AA475,0) -> 0 | AT475: =IFERROR($Q475*AB475,0) -> 0 | AU475: =IFERROR($Q475*AC475,0) -> 0 | AV475: =IFERROR($Q475*AD475,0) -> 0 | AW475: =IFERROR($Q475*AE475,0) -> 0 | AX475: =IFERROR($Q475*AF475,0) -> 0 | AY475: =IFERROR($Q475*AG475,0) -> 0 | ... BC475: =IFERROR($Q475*AK475,0) -> 0
B476: 471 | P476: =IFERROR(O476,"") -> 0 | R476: =IF(Q476="","",IF(Q476*Z476+Q476*AA476+Q476*AB476=0,"",Q476*Z476+Q476*AA476+Q476*AB476)) | S476: =IF(Q476="","",IF(Q476*AC476+Q476*AD476+Q476*AE476=0,"",Q476*AC476+Q476*AD476+Q476*AE476)) | T476: =IF(Q476="","",IF(Q476*AF476+Q476*AG476+Q476*AH476=0,"",Q476*AF476+Q476*AG476+Q476*AH476)) | U476: =IF(Q476="","",IF(Q476*AI476+Q476*AJ476+Q476*AK476=0,"",Q476*AI476+Q476*AJ476+Q476*AK476)) | AN476: =IFERROR(O476*AL476,0) -> 0 | AP476: =F476 -> 0 | AQ476: =G476 -> 0 | AR476: =IFERROR($Q476*Z476,0) -> 0 | AS476: =IFERROR($Q476*AA476,0) -> 0 | AT476: =IFERROR($Q476*AB476,0) -> 0 | AU476: =IFERROR($Q476*AC476,0) -> 0 | AV476: =IFERROR($Q476*AD476,0) -> 0 | AW476: =IFERROR($Q476*AE476,0) -> 0 | AX476: =IFERROR($Q476*AF476,0) -> 0 | AY476: =IFERROR($Q476*AG476,0) -> 0 | ... BC476: =IFERROR($Q476*AK476,0) -> 0
B477: 472 | P477: =IFERROR(O477,"") -> 0 | R477: =IF(Q477="","",IF(Q477*Z477+Q477*AA477+Q477*AB477=0,"",Q477*Z477+Q477*AA477+Q477*AB477)) | S477: =IF(Q477="","",IF(Q477*AC477+Q477*AD477+Q477*AE477=0,"",Q477*AC477+Q477*AD477+Q477*AE477)) | T477: =IF(Q477="","",IF(Q477*AF477+Q477*AG477+Q477*AH477=0,"",Q477*AF477+Q477*AG477+Q477*AH477)) | U477: =IF(Q477="","",IF(Q477*AI477+Q477*AJ477+Q477*AK477=0,"",Q477*AI477+Q477*AJ477+Q477*AK477)) | AN477: =IFERROR(O477*AL477,0) -> 0 | AP477: =F477 -> 0 | AQ477: =G477 -> 0 | AR477: =IFERROR($Q477*Z477,0) -> 0 | AS477: =IFERROR($Q477*AA477,0) -> 0 | AT477: =IFERROR($Q477*AB477,0) -> 0 | AU477: =IFERROR($Q477*AC477,0) -> 0 | AV477: =IFERROR($Q477*AD477,0) -> 0 | AW477: =IFERROR($Q477*AE477,0) -> 0 | AX477: =IFERROR($Q477*AF477,0) -> 0 | AY477: =IFERROR($Q477*AG477,0) -> 0 | ... BC477: =IFERROR($Q477*AK477,0) -> 0
B478: 473 | P478: =IFERROR(O478,"") -> 0 | R478: =IF(Q478="","",IF(Q478*Z478+Q478*AA478+Q478*AB478=0,"",Q478*Z478+Q478*AA478+Q478*AB478)) | S478: =IF(Q478="","",IF(Q478*AC478+Q478*AD478+Q478*AE478=0,"",Q478*AC478+Q478*AD478+Q478*AE478)) | T478: =IF(Q478="","",IF(Q478*AF478+Q478*AG478+Q478*AH478=0,"",Q478*AF478+Q478*AG478+Q478*AH478)) | U478: =IF(Q478="","",IF(Q478*AI478+Q478*AJ478+Q478*AK478=0,"",Q478*AI478+Q478*AJ478+Q478*AK478)) | AN478: =IFERROR(O478*AL478,0) -> 0 | AP478: =F478 -> 0 | AQ478: =G478 -> 0 | AR478: =IFERROR($Q478*Z478,0) -> 0 | AS478: =IFERROR($Q478*AA478,0) -> 0 | AT478: =IFERROR($Q478*AB478,0) -> 0 | AU478: =IFERROR($Q478*AC478,0) -> 0 | AV478: =IFERROR($Q478*AD478,0) -> 0 | AW478: =IFERROR($Q478*AE478,0) -> 0 | AX478: =IFERROR($Q478*AF478,0) -> 0 | AY478: =IFERROR($Q478*AG478,0) -> 0 | ... BC478: =IFERROR($Q478*AK478,0) -> 0
B479: 474 | P479: =IFERROR(O479,"") -> 0 | R479: =IF(Q479="","",IF(Q479*Z479+Q479*AA479+Q479*AB479=0,"",Q479*Z479+Q479*AA479+Q479*AB479)) | S479: =IF(Q479="","",IF(Q479*AC479+Q479*AD479+Q479*AE479=0,"",Q479*AC479+Q479*AD479+Q479*AE479)) | T479: =IF(Q479="","",IF(Q479*AF479+Q479*AG479+Q479*AH479=0,"",Q479*AF479+Q479*AG479+Q479*AH479)) | U479: =IF(Q479="","",IF(Q479*AI479+Q479*AJ479+Q479*AK479=0,"",Q479*AI479+Q479*AJ479+Q479*AK479)) | AN479: =IFERROR(O479*AL479,0) -> 0 | AP479: =F479 -> 0 | AQ479: =G479 -> 0 | AR479: =IFERROR($Q479*Z479,0) -> 0 | AS479: =IFERROR($Q479*AA479,0) -> 0 | AT479: =IFERROR($Q479*AB479,0) -> 0 | AU479: =IFERROR($Q479*AC479,0) -> 0 | AV479: =IFERROR($Q479*AD479,0) -> 0 | AW479: =IFERROR($Q479*AE479,0) -> 0 | AX479: =IFERROR($Q479*AF479,0) -> 0 | AY479: =IFERROR($Q479*AG479,0) -> 0 | ... BC479: =IFERROR($Q479*AK479,0) -> 0
B480: 475 | P480: =IFERROR(O480,"") -> 0 | R480: =IF(Q480="","",IF(Q480*Z480+Q480*AA480+Q480*AB480=0,"",Q480*Z480+Q480*AA480+Q480*AB480)) | S480: =IF(Q480="","",IF(Q480*AC480+Q480*AD480+Q480*AE480=0,"",Q480*AC480+Q480*AD480+Q480*AE480)) | T480: =IF(Q480="","",IF(Q480*AF480+Q480*AG480+Q480*AH480=0,"",Q480*AF480+Q480*AG480+Q480*AH480)) | U480: =IF(Q480="","",IF(Q480*AI480+Q480*AJ480+Q480*AK480=0,"",Q480*AI480+Q480*AJ480+Q480*AK480)) | AN480: =IFERROR(O480*AL480,0) -> 0 | AP480: =F480 -> 0 | AQ480: =G480 -> 0 | AR480: =IFERROR($Q480*Z480,0) -> 0 | AS480: =IFERROR($Q480*AA480,0) -> 0 | AT480: =IFERROR($Q480*AB480,0) -> 0 | AU480: =IFERROR($Q480*AC480,0) -> 0 | AV480: =IFERROR($Q480*AD480,0) -> 0 | AW480: =IFERROR($Q480*AE480,0) -> 0 | AX480: =IFERROR($Q480*AF480,0) -> 0 | AY480: =IFERROR($Q480*AG480,0) -> 0 | ... BC480: =IFERROR($Q480*AK480,0) -> 0
B481: 476 | P481: =IFERROR(O481,"") -> 0 | R481: =IF(Q481="","",IF(Q481*Z481+Q481*AA481+Q481*AB481=0,"",Q481*Z481+Q481*AA481+Q481*AB481)) | S481: =IF(Q481="","",IF(Q481*AC481+Q481*AD481+Q481*AE481=0,"",Q481*AC481+Q481*AD481+Q481*AE481)) | T481: =IF(Q481="","",IF(Q481*AF481+Q481*AG481+Q481*AH481=0,"",Q481*AF481+Q481*AG481+Q481*AH481)) | U481: =IF(Q481="","",IF(Q481*AI481+Q481*AJ481+Q481*AK481=0,"",Q481*AI481+Q481*AJ481+Q481*AK481)) | AN481: =IFERROR(O481*AL481,0) -> 0 | AP481: =F481 -> 0 | AQ481: =G481 -> 0 | AR481: =IFERROR($Q481*Z481,0) -> 0 | AS481: =IFERROR($Q481*AA481,0) -> 0 | AT481: =IFERROR($Q481*AB481,0) -> 0 | AU481: =IFERROR($Q481*AC481,0) -> 0 | AV481: =IFERROR($Q481*AD481,0) -> 0 | AW481: =IFERROR($Q481*AE481,0) -> 0 | AX481: =IFERROR($Q481*AF481,0) -> 0 | AY481: =IFERROR($Q481*AG481,0) -> 0 | ... BC481: =IFERROR($Q481*AK481,0) -> 0
B482: 477 | P482: =IFERROR(O482,"") -> 0 | R482: =IF(Q482="","",IF(Q482*Z482+Q482*AA482+Q482*AB482=0,"",Q482*Z482+Q482*AA482+Q482*AB482)) | S482: =IF(Q482="","",IF(Q482*AC482+Q482*AD482+Q482*AE482=0,"",Q482*AC482+Q482*AD482+Q482*AE482)) | T482: =IF(Q482="","",IF(Q482*AF482+Q482*AG482+Q482*AH482=0,"",Q482*AF482+Q482*AG482+Q482*AH482)) | U482: =IF(Q482="","",IF(Q482*AI482+Q482*AJ482+Q482*AK482=0,"",Q482*AI482+Q482*AJ482+Q482*AK482)) | AN482: =IFERROR(O482*AL482,0) -> 0 | AP482: =F482 -> 0 | AQ482: =G482 -> 0 | AR482: =IFERROR($Q482*Z482,0) -> 0 | AS482: =IFERROR($Q482*AA482,0) -> 0 | AT482: =IFERROR($Q482*AB482,0) -> 0 | AU482: =IFERROR($Q482*AC482,0) -> 0 | AV482: =IFERROR($Q482*AD482,0) -> 0 | AW482: =IFERROR($Q482*AE482,0) -> 0 | AX482: =IFERROR($Q482*AF482,0) -> 0 | AY482: =IFERROR($Q482*AG482,0) -> 0 | ... BC482: =IFERROR($Q482*AK482,0) -> 0
B483: 478 | P483: =IFERROR(O483,"") -> 0 | R483: =IF(Q483="","",IF(Q483*Z483+Q483*AA483+Q483*AB483=0,"",Q483*Z483+Q483*AA483+Q483*AB483)) | S483: =IF(Q483="","",IF(Q483*AC483+Q483*AD483+Q483*AE483=0,"",Q483*AC483+Q483*AD483+Q483*AE483)) | T483: =IF(Q483="","",IF(Q483*AF483+Q483*AG483+Q483*AH483=0,"",Q483*AF483+Q483*AG483+Q483*AH483)) | U483: =IF(Q483="","",IF(Q483*AI483+Q483*AJ483+Q483*AK483=0,"",Q483*AI483+Q483*AJ483+Q483*AK483)) | AN483: =IFERROR(O483*AL483,0) -> 0 | AP483: =F483 -> 0 | AQ483: =G483 -> 0 | AR483: =IFERROR($Q483*Z483,0) -> 0 | AS483: =IFERROR($Q483*AA483,0) -> 0 | AT483: =IFERROR($Q483*AB483,0) -> 0 | AU483: =IFERROR($Q483*AC483,0) -> 0 | AV483: =IFERROR($Q483*AD483,0) -> 0 | AW483: =IFERROR($Q483*AE483,0) -> 0 | AX483: =IFERROR($Q483*AF483,0) -> 0 | AY483: =IFERROR($Q483*AG483,0) -> 0 | ... BC483: =IFERROR($Q483*AK483,0) -> 0
B484: 479 | P484: =IFERROR(O484,"") -> 0 | R484: =IF(Q484="","",IF(Q484*Z484+Q484*AA484+Q484*AB484=0,"",Q484*Z484+Q484*AA484+Q484*AB484)) | S484: =IF(Q484="","",IF(Q484*AC484+Q484*AD484+Q484*AE484=0,"",Q484*AC484+Q484*AD484+Q484*AE484)) | T484: =IF(Q484="","",IF(Q484*AF484+Q484*AG484+Q484*AH484=0,"",Q484*AF484+Q484*AG484+Q484*AH484)) | U484: =IF(Q484="","",IF(Q484*AI484+Q484*AJ484+Q484*AK484=0,"",Q484*AI484+Q484*AJ484+Q484*AK484)) | AN484: =IFERROR(O484*AL484,0) -> 0 | AP484: =F484 -> 0 | AQ484: =G484 -> 0 | AR484: =IFERROR($Q484*Z484,0) -> 0 | AS484: =IFERROR($Q484*AA484,0) -> 0 | AT484: =IFERROR($Q484*AB484,0) -> 0 | AU484: =IFERROR($Q484*AC484,0) -> 0 | AV484: =IFERROR($Q484*AD484,0) -> 0 | AW484: =IFERROR($Q484*AE484,0) -> 0 | AX484: =IFERROR($Q484*AF484,0) -> 0 | AY484: =IFERROR($Q484*AG484,0) -> 0 | ... BC484: =IFERROR($Q484*AK484,0) -> 0
B485: 480 | P485: =IFERROR(O485,"") -> 0 | R485: =IF(Q485="","",IF(Q485*Z485+Q485*AA485+Q485*AB485=0,"",Q485*Z485+Q485*AA485+Q485*AB485)) | S485: =IF(Q485="","",IF(Q485*AC485+Q485*AD485+Q485*AE485=0,"",Q485*AC485+Q485*AD485+Q485*AE485)) | T485: =IF(Q485="","",IF(Q485*AF485+Q485*AG485+Q485*AH485=0,"",Q485*AF485+Q485*AG485+Q485*AH485)) | U485: =IF(Q485="","",IF(Q485*AI485+Q485*AJ485+Q485*AK485=0,"",Q485*AI485+Q485*AJ485+Q485*AK485)) | AN485: =IFERROR(O485*AL485,0) -> 0 | AP485: =F485 -> 0 | AQ485: =G485 -> 0 | AR485: =IFERROR($Q485*Z485,0) -> 0 | AS485: =IFERROR($Q485*AA485,0) -> 0 | AT485: =IFERROR($Q485*AB485,0) -> 0 | AU485: =IFERROR($Q485*AC485,0) -> 0 | AV485: =IFERROR($Q485*AD485,0) -> 0 | AW485: =IFERROR($Q485*AE485,0) -> 0 | AX485: =IFERROR($Q485*AF485,0) -> 0 | AY485: =IFERROR($Q485*AG485,0) -> 0 | ... BC485: =IFERROR($Q485*AK485,0) -> 0
B486: 481 | P486: =IFERROR(O486,"") -> 0 | R486: =IF(Q486="","",IF(Q486*Z486+Q486*AA486+Q486*AB486=0,"",Q486*Z486+Q486*AA486+Q486*AB486)) | S486: =IF(Q486="","",IF(Q486*AC486+Q486*AD486+Q486*AE486=0,"",Q486*AC486+Q486*AD486+Q486*AE486)) | T486: =IF(Q486="","",IF(Q486*AF486+Q486*AG486+Q486*AH486=0,"",Q486*AF486+Q486*AG486+Q486*AH486)) | U486: =IF(Q486="","",IF(Q486*AI486+Q486*AJ486+Q486*AK486=0,"",Q486*AI486+Q486*AJ486+Q486*AK486)) | AN486: =IFERROR(O486*AL486,0) -> 0 | AP486: =F486 -> 0 | AQ486: =G486 -> 0 | AR486: =IFERROR($Q486*Z486,0) -> 0 | AS486: =IFERROR($Q486*AA486,0) -> 0 | AT486: =IFERROR($Q486*AB486,0) -> 0 | AU486: =IFERROR($Q486*AC486,0) -> 0 | AV486: =IFERROR($Q486*AD486,0) -> 0 | AW486: =IFERROR($Q486*AE486,0) -> 0 | AX486: =IFERROR($Q486*AF486,0) -> 0 | AY486: =IFERROR($Q486*AG486,0) -> 0 | ... BC486: =IFERROR($Q486*AK486,0) -> 0
B487: 482 | P487: =IFERROR(O487,"") -> 0 | R487: =IF(Q487="","",IF(Q487*Z487+Q487*AA487+Q487*AB487=0,"",Q487*Z487+Q487*AA487+Q487*AB487)) | S487: =IF(Q487="","",IF(Q487*AC487+Q487*AD487+Q487*AE487=0,"",Q487*AC487+Q487*AD487+Q487*AE487)) | T487: =IF(Q487="","",IF(Q487*AF487+Q487*AG487+Q487*AH487=0,"",Q487*AF487+Q487*AG487+Q487*AH487)) | U487: =IF(Q487="","",IF(Q487*AI487+Q487*AJ487+Q487*AK487=0,"",Q487*AI487+Q487*AJ487+Q487*AK487)) | AN487: =IFERROR(O487*AL487,0) -> 0 | AP487: =F487 -> 0 | AQ487: =G487 -> 0 | AR487: =IFERROR($Q487*Z487,0) -> 0 | AS487: =IFERROR($Q487*AA487,0) -> 0 | AT487: =IFERROR($Q487*AB487,0) -> 0 | AU487: =IFERROR($Q487*AC487,0) -> 0 | AV487: =IFERROR($Q487*AD487,0) -> 0 | AW487: =IFERROR($Q487*AE487,0) -> 0 | AX487: =IFERROR($Q487*AF487,0) -> 0 | AY487: =IFERROR($Q487*AG487,0) -> 0 | ... BC487: =IFERROR($Q487*AK487,0) -> 0
B488: 483 | P488: =IFERROR(O488,"") -> 0 | AN488: =IFERROR(O488*AL488,0) -> 0 | AP488: =F488 -> 0 | AQ488: =G488 -> 0 | AR488: =IFERROR($Q488*Z488,0) -> 0 | AS488: =IFERROR($Q488*AA488,0) -> 0 | AT488: =IFERROR($Q488*AB488,0) -> 0 | AU488: =IFERROR($Q488*AC488,0) -> 0 | AV488: =IFERROR($Q488*AD488,0) -> 0 | AW488: =IFERROR($Q488*AE488,0) -> 0 | AX488: =IFERROR($Q488*AF488,0) -> 0 | AY488: =IFERROR($Q488*AG488,0) -> 0 | ... BC488: =IFERROR($Q488*AK488,0) -> 0
B489: 484 | P489: =IFERROR(O489,"") -> 0 | AN489: =IFERROR(O489*AL489,0) -> 0 | AP489: =F489 -> 0 | AQ489: =G489 -> 0 | AR489: =IFERROR($Q489*Z489,0) -> 0 | AS489: =IFERROR($Q489*AA489,0) -> 0 | AT489: =IFERROR($Q489*AB489,0) -> 0 | AU489: =IFERROR($Q489*AC489,0) -> 0 | AV489: =IFERROR($Q489*AD489,0) -> 0 | AW489: =IFERROR($Q489*AE489,0) -> 0 | AX489: =IFERROR($Q489*AF489,0) -> 0 | AY489: =IFERROR($Q489*AG489,0) -> 0 | ... BC489: =IFERROR($Q489*AK489,0) -> 0
B490: 485 | P490: =IFERROR(O490,"") -> 0 | AN490: =IFERROR(O490*AL490,0) -> 0 | AP490: =F490 -> 0 | AQ490: =G490 -> 0 | AR490: =IFERROR($Q490*Z490,0) -> 0 | AS490: =IFERROR($Q490*AA490,0) -> 0 | AT490: =IFERROR($Q490*AB490,0) -> 0 | AU490: =IFERROR($Q490*AC490,0) -> 0 | AV490: =IFERROR($Q490*AD490,0) -> 0 | AW490: =IFERROR($Q490*AE490,0) -> 0 | AX490: =IFERROR($Q490*AF490,0) -> 0 | AY490: =IFERROR($Q490*AG490,0) -> 0 | ... BC490: =IFERROR($Q490*AK490,0) -> 0
B491: 486 | P491: =IFERROR(O491,"") -> 0 | AN491: =IFERROR(O491*AL491,0) -> 0 | AP491: =F491 -> 0 | AQ491: =G491 -> 0 | AR491: =IFERROR($Q491*Z491,0) -> 0 | AS491: =IFERROR($Q491*AA491,0) -> 0 | AT491: =IFERROR($Q491*AB491,0) -> 0 | AU491: =IFERROR($Q491*AC491,0) -> 0 | AV491: =IFERROR($Q491*AD491,0) -> 0 | AW491: =IFERROR($Q491*AE491,0) -> 0 | AX491: =IFERROR($Q491*AF491,0) -> 0 | AY491: =IFERROR($Q491*AG491,0) -> 0 | ... BC491: =IFERROR($Q491*AK491,0) -> 0
B492: 487 | P492: =IFERROR(O492,"") -> 0 | AN492: =IFERROR(O492*AL492,0) -> 0 | AP492: =F492 -> 0 | AQ492: =G492 -> 0 | AR492: =IFERROR($Q492*Z492,0) -> 0 | AS492: =IFERROR($Q492*AA492,0) -> 0 | AT492: =IFERROR($Q492*AB492,0) -> 0 | AU492: =IFERROR($Q492*AC492,0) -> 0 | AV492: =IFERROR($Q492*AD492,0) -> 0 | AW492: =IFERROR($Q492*AE492,0) -> 0 | AX492: =IFERROR($Q492*AF492,0) -> 0 | AY492: =IFERROR($Q492*AG492,0) -> 0 | ... BC492: =IFERROR($Q492*AK492,0) -> 0
B493: 488 | P493: =IFERROR(O493,"") -> 0 | AN493: =IFERROR(O493*AL493,0) -> 0 | AP493: =F493 -> 0 | AQ493: =G493 -> 0 | AR493: =IFERROR($Q493*Z493,0) -> 0 | AS493: =IFERROR($Q493*AA493,0) -> 0 | AT493: =IFERROR($Q493*AB493,0) -> 0 | AU493: =IFERROR($Q493*AC493,0) -> 0 | AV493: =IFERROR($Q493*AD493,0) -> 0 | AW493: =IFERROR($Q493*AE493,0) -> 0 | AX493: =IFERROR($Q493*AF493,0) -> 0 | AY493: =IFERROR($Q493*AG493,0) -> 0 | ... BC493: =IFERROR($Q493*AK493,0) -> 0
B494: 489 | P494: =IFERROR(O494,"") -> 0 | AN494: =IFERROR(O494*AL494,0) -> 0 | AP494: =F494 -> 0 | AQ494: =G494 -> 0 | AR494: =IFERROR($Q494*Z494,0) -> 0 | AS494: =IFERROR($Q494*AA494,0) -> 0 | AT494: =IFERROR($Q494*AB494,0) -> 0 | AU494: =IFERROR($Q494*AC494,0) -> 0 | AV494: =IFERROR($Q494*AD494,0) -> 0 | AW494: =IFERROR($Q494*AE494,0) -> 0 | AX494: =IFERROR($Q494*AF494,0) -> 0 | AY494: =IFERROR($Q494*AG494,0) -> 0 | ... BC494: =IFERROR($Q494*AK494,0) -> 0
B495: 490 | P495: =IFERROR(O495,"") -> 0 | AN495: =IFERROR(O495*AL495,0) -> 0 | AP495: =F495 -> 0 | AQ495: =G495 -> 0 | AR495: =IFERROR($Q495*Z495,0) -> 0 | AS495: =IFERROR($Q495*AA495,0) -> 0 | AT495: =IFERROR($Q495*AB495,0) -> 0 | AU495: =IFERROR($Q495*AC495,0) -> 0 | AV495: =IFERROR($Q495*AD495,0) -> 0 | AW495: =IFERROR($Q495*AE495,0) -> 0 | AX495: =IFERROR($Q495*AF495,0) -> 0 | AY495: =IFERROR($Q495*AG495,0) -> 0 | ... BC495: =IFERROR($Q495*AK495,0) -> 0
B496: 491 | P496: =IFERROR(O496,"") -> 0 | AN496: =IFERROR(O496*AL496,0) -> 0 | AP496: =F496 -> 0 | AQ496: =G496 -> 0 | AR496: =IFERROR($Q496*Z496,0) -> 0 | AS496: =IFERROR($Q496*AA496,0) -> 0 | AT496: =IFERROR($Q496*AB496,0) -> 0 | AU496: =IFERROR($Q496*AC496,0) -> 0 | AV496: =IFERROR($Q496*AD496,0) -> 0 | AW496: =IFERROR($Q496*AE496,0) -> 0 | AX496: =IFERROR($Q496*AF496,0) -> 0 | AY496: =IFERROR($Q496*AG496,0) -> 0 | ... BC496: =IFERROR($Q496*AK496,0) -> 0
B497: 492 | P497: =IFERROR(O497,"") -> 0 | AN497: =IFERROR(O497*AL497,0) -> 0 | AP497: =F497 -> 0 | AQ497: =G497 -> 0 | AR497: =IFERROR($Q497*Z497,0) -> 0 | AS497: =IFERROR($Q497*AA497,0) -> 0 | AT497: =IFERROR($Q497*AB497,0) -> 0 | AU497: =IFERROR($Q497*AC497,0) -> 0 | AV497: =IFERROR($Q497*AD497,0) -> 0 | AW497: =IFERROR($Q497*AE497,0) -> 0 | AX497: =IFERROR($Q497*AF497,0) -> 0 | AY497: =IFERROR($Q497*AG497,0) -> 0 | ... BC497: =IFERROR($Q497*AK497,0) -> 0
B498: 493 | P498: =IFERROR(O498,"") -> 0 | AN498: =IFERROR(O498*AL498,0) -> 0 | AP498: =F498 -> 0 | AQ498: =G498 -> 0 | AR498: =IFERROR($Q498*Z498,0) -> 0 | AS498: =IFERROR($Q498*AA498,0) -> 0 | AT498: =IFERROR($Q498*AB498,0) -> 0 | AU498: =IFERROR($Q498*AC498,0) -> 0 | AV498: =IFERROR($Q498*AD498,0) -> 0 | AW498: =IFERROR($Q498*AE498,0) -> 0 | AX498: =IFERROR($Q498*AF498,0) -> 0 | AY498: =IFERROR($Q498*AG498,0) -> 0 | ... BC498: =IFERROR($Q498*AK498,0) -> 0
B499: 494 | P499: =IFERROR(O499,"") -> 0 | AN499: =IFERROR(O499*AL499,0) -> 0 | AP499: =F499 -> 0 | AQ499: =G499 -> 0 | AR499: =IFERROR($Q499*Z499,0) -> 0 | AS499: =IFERROR($Q499*AA499,0) -> 0 | AT499: =IFERROR($Q499*AB499,0) -> 0 | AU499: =IFERROR($Q499*AC499,0) -> 0 | AV499: =IFERROR($Q499*AD499,0) -> 0 | AW499: =IFERROR($Q499*AE499,0) -> 0 | AX499: =IFERROR($Q499*AF499,0) -> 0 | AY499: =IFERROR($Q499*AG499,0) -> 0 | ... BC499: =IFERROR($Q499*AK499,0) -> 0
... B577: 572 | P577: =IFERROR(O577,"") -> 0 | AN577: =IFERROR(O577*AL577,0) -> 0 | AP577: =F577 -> 0 | AQ577: =G577 -> 0 | AR577: =IFERROR($Q577*Z577,0) -> 0 | AS577: =IFERROR($Q577*AA577,0) -> 0 | AT577: =IFERROR($Q577*AB577,0) -> 0 | AU577: =IFERROR($Q577*AC577,0) -> 0 | AV577: =IFERROR($Q577*AD577,0) -> 0 | AW577: =IFERROR($Q577*AE577,0) -> 0 | AX577: =IFERROR($Q577*AF577,0) -> 0 | AY577: =IFERROR($Q577*AG577,0) -> 0 | ... BC577: =IFERROR($Q577*AK577,0) -> 0
B578: 573 | P578: =IFERROR(O578,"") -> 0 | AL578: =IF(SUM(Z578:AK578)=0,"",SUM(Z578:AK578)) | AN578: =IFERROR(O578*AL578,0) -> 0 | AP578: =F578 -> 0 | AQ578: =G578 -> 0 | AR578: =IFERROR($Q578*Z578,0) -> 0 | AS578: =IFERROR($Q578*AA578,0) -> 0 | AT578: =IFERROR($Q578*AB578,0) -> 0 | AU578: =IFERROR($Q578*AC578,0) -> 0 | AV578: =IFERROR($Q578*AD578,0) -> 0 | AW578: =IFERROR($Q578*AE578,0) -> 0 | AX578: =IFERROR($Q578*AF578,0) -> 0 | AY578: =IFERROR($Q578*AG578,0) -> 0 | ... BC578: =IFERROR($Q578*AK578,0) -> 0
B579: 574 | P579: =IFERROR(O579,"") -> 0 | AL579: =IF(SUM(Z579:AK579)=0,"",SUM(Z579:AK579)) | AN579: =IFERROR(O579*AL579,0) -> 0 | AP579: =F579 -> 0 | AQ579: =G579 -> 0 | AR579: =IFERROR($Q579*Z579,0) -> 0 | AS579: =IFERROR($Q579*AA579,0) -> 0 | AT579: =IFERROR($Q579*AB579,0) -> 0 | AU579: =IFERROR($Q579*AC579,0) -> 0 | AV579: =IFERROR($Q579*AD579,0) -> 0 | AW579: =IFERROR($Q579*AE579,0) -> 0 | AX579: =IFERROR($Q579*AF579,0) -> 0 | AY579: =IFERROR($Q579*AG579,0) -> 0 | ... BC579: =IFERROR($Q579*AK579,0) -> 0
B580: 575 | P580: =IFERROR(O580,"") -> 0 | AL580: =IF(SUM(Z580:AK580)=0,"",SUM(Z580:AK580)) | AN580: =IFERROR(O580*AL580,0) -> 0 | AP580: =F580 -> 0 | AQ580: =G580 -> 0 | AR580: =IFERROR($Q580*Z580,0) -> 0 | AS580: =IFERROR($Q580*AA580,0) -> 0 | AT580: =IFERROR($Q580*AB580,0) -> 0 | AU580: =IFERROR($Q580*AC580,0) -> 0 | AV580: =IFERROR($Q580*AD580,0) -> 0 | AW580: =IFERROR($Q580*AE580,0) -> 0 | AX580: =IFERROR($Q580*AF580,0) -> 0 | AY580: =IFERROR($Q580*AG580,0) -> 0 | ... BC580: =IFERROR($Q580*AK580,0) -> 0
B581: 576 | P581: =IFERROR(O581,"") -> 0 | AL581: =IF(SUM(Z581:AK581)=0,"",SUM(Z581:AK581)) | AN581: =IFERROR(O581*AL581,0) -> 0 | AP581: =F581 -> 0 | AQ581: =G581 -> 0 | AR581: =IFERROR($Q581*Z581,0) -> 0 | AS581: =IFERROR($Q581*AA581,0) -> 0 | AT581: =IFERROR($Q581*AB581,0) -> 0 | AU581: =IFERROR($Q581*AC581,0) -> 0 | AV581: =IFERROR($Q581*AD581,0) -> 0 | AW581: =IFERROR($Q581*AE581,0) -> 0 | AX581: =IFERROR($Q581*AF581,0) -> 0 | AY581: =IFERROR($Q581*AG581,0) -> 0 | ... BC581: =IFERROR($Q581*AK581,0) -> 0
B582: 577 | P582: =IFERROR(O582,"") -> 0 | AL582: =IF(SUM(Z582:AK582)=0,"",SUM(Z582:AK582)) | AN582: =IFERROR(O582*AL582,0) -> 0 | AP582: =F582 -> 0 | AQ582: =G582 -> 0 | AR582: =IFERROR($Q582*Z582,0) -> 0 | AS582: =IFERROR($Q582*AA582,0) -> 0 | AT582: =IFERROR($Q582*AB582,0) -> 0 | AU582: =IFERROR($Q582*AC582,0) -> 0 | AV582: =IFERROR($Q582*AD582,0) -> 0 | AW582: =IFERROR($Q582*AE582,0) -> 0 | AX582: =IFERROR($Q582*AF582,0) -> 0 | AY582: =IFERROR($Q582*AG582,0) -> 0 | ... BC582: =IFERROR($Q582*AK582,0) -> 0
B583: 578 | P583: =IFERROR(O583,"") -> 0 | AL583: =IF(SUM(Z583:AK583)=0,"",SUM(Z583:AK583)) | AN583: =IFERROR(O583*AL583,0) -> 0 | AP583: =F583 -> 0 | AQ583: =G583 -> 0 | AR583: =IFERROR($Q583*Z583,0) -> 0 | AS583: =IFERROR($Q583*AA583,0) -> 0 | AT583: =IFERROR($Q583*AB583,0) -> 0 | AU583: =IFERROR($Q583*AC583,0) -> 0 | AV583: =IFERROR($Q583*AD583,0) -> 0 | AW583: =IFERROR($Q583*AE583,0) -> 0 | AX583: =IFERROR($Q583*AF583,0) -> 0 | AY583: =IFERROR($Q583*AG583,0) -> 0 | ... BC583: =IFERROR($Q583*AK583,0) -> 0
B584: 579 | P584: =IFERROR(O584,"") -> 0 | AN584: =IFERROR(O584*AL584,0) -> 0 | AP584: =F584 -> 0 | AQ584: =G584 -> 0 | AR584: =IFERROR($Q584*Z584,0) -> 0 | AS584: =IFERROR($Q584*AA584,0) -> 0 | AT584: =IFERROR($Q584*AB584,0) -> 0 | AU584: =IFERROR($Q584*AC584,0) -> 0 | AV584: =IFERROR($Q584*AD584,0) -> 0 | AW584: =IFERROR($Q584*AE584,0) -> 0 | AX584: =IFERROR($Q584*AF584,0) -> 0 | AY584: =IFERROR($Q584*AG584,0) -> 0 | ... BC584: =IFERROR($Q584*AK584,0) -> 0
B585: 580 | P585: =IFERROR(O585,"") -> 0 | AN585: =IFERROR(O585*AL585,0) -> 0 | AP585: =F585 -> 0 | AQ585: =G585 -> 0 | AR585: =IFERROR($Q585*Z585,0) -> 0 | AS585: =IFERROR($Q585*AA585,0) -> 0 | AT585: =IFERROR($Q585*AB585,0) -> 0 | AU585: =IFERROR($Q585*AC585,0) -> 0 | AV585: =IFERROR($Q585*AD585,0) -> 0 | AW585: =IFERROR($Q585*AE585,0) -> 0 | AX585: =IFERROR($Q585*AF585,0) -> 0 | AY585: =IFERROR($Q585*AG585,0) -> 0 | ... BC585: =IFERROR($Q585*AK585,0) -> 0
B586: 581 | P586: =IFERROR(O586,"") -> 0 | AN586: =IFERROR(O586*AL586,0) -> 0 | AP586: =F586 -> 0 | AQ586: =G586 -> 0 | AR586: =IFERROR($Q586*Z586,0) -> 0 | AS586: =IFERROR($Q586*AA586,0) -> 0 | AT586: =IFERROR($Q586*AB586,0) -> 0 | AU586: =IFERROR($Q586*AC586,0) -> 0 | AV586: =IFERROR($Q586*AD586,0) -> 0 | AW586: =IFERROR($Q586*AE586,0) -> 0 | AX586: =IFERROR($Q586*AF586,0) -> 0 | AY586: =IFERROR($Q586*AG586,0) -> 0 | ... BC586: =IFERROR($Q586*AK586,0) -> 0
B587: 582 | P587: =IFERROR(O587,"") -> 0 | AN587: =IFERROR(O587*AL587,0) -> 0 | AP587: =F587 -> 0 | AQ587: =G587 -> 0 | AR587: =IFERROR($Q587*Z587,0) -> 0 | AS587: =IFERROR($Q587*AA587,0) -> 0 | AT587: =IFERROR($Q587*AB587,0) -> 0 | AU587: =IFERROR($Q587*AC587,0) -> 0 | AV587: =IFERROR($Q587*AD587,0) -> 0 | AW587: =IFERROR($Q587*AE587,0) -> 0 | AX587: =IFERROR($Q587*AF587,0) -> 0 | AY587: =IFERROR($Q587*AG587,0) -> 0 | ... BC587: =IFERROR($Q587*AK587,0) -> 0
...

Sheet Report
B2: Plan/억원 | D2: 1Q | E2: 2Q | F2: 3Q | G2: 4Q | H2: YR
B3: Plan | C3: ATK | D3: 5 | E3: 5 | F3: 6 | G3: 6.5 | H3: =SUM(D3:G3) -> 22.5
C4: AWW | D4: 30 | E4: 30 | F4: 34 | G4: 33.5 | H4: 127.5
C5: TTL | D5: 35 | E5: 35 | F5: 40 | G5: 40 | H5: 150
B8: Annual Performance Summary | E8: *단위: | F8: K$ | G8: *EXR($): | H8: 1100
D9: 1Q | E9: 2Q | F9: 3Q | G9: 4Q | H9: YR
B10: 목표 | C10: ATK | D10: =IF($F$8="K$",D3/$H$8*100000,D3) -> 454.54545 | E10: =IF($F$8="K$",E3/$H$8*100000,E3) -> 454.54545 | F10: =IF($F$8="K$",F3/$H$8*100000,F3) -> 545.45455 | G10: =IF($F$8="K$",G3/$H$8*100000,G3) -> 590.90909 | H10: =SUM(D10:G10) -> 2045.4545
C11: AWW | D11: =IF($F$8="K$",D4/$H$8*100000,D4) -> 2727.2727 | E11: =IF($F$8="K$",E4/$H$8*100000,E4) -> 2727.2727 | F11: =IF($F$8="K$",F4/$H$8*100000,F4) -> 3090.9091 | G11: =IF($F$8="K$",G4/$H$8*100000,G4) -> 3045.4545 | H11: =SUM(D11:G11) -> 11590.909
C12: TTL | D12: =IF($F$8="K$",D5/$H$8*100000,D5) -> 3181.8182 | E12: =IF($F$8="K$",E5/$H$8*100000,E5) -> 3181.8182 | F12: =IF($F$8="K$",F5/$H$8*100000,F5) -> 3636.3636 | G12: =IF($F$8="K$",G5/$H$8*100000,G5) -> 3636.3636 | H12: =SUM(D12:G12) -> 13636.364
B13: 실적 | C13: ATK | D13: =IF($F$8="K$",Summary!AQ13,Summary!AQ13*$H$8/100000) -> 0 | E13: =IF($F$8="K$",Summary!BA13,Summary!BA13*$H$8/100000) -> 0 | F13: =IF($F$8="K$",Summary!BK13,Summary!BK13*$H$8/100000) -> 0 | G13: =IF($F$8="K$",Summary!BU13,Summary!BU13*$H$8/100000) -> 0 | H13: =SUM(D13:G13) -> 0
C14: AWW | D14: =IF($F$8="K$",Summary!AQ14,Summary!AQ14*$H$8/100000) -> 0 | E14: =IF($F$8="K$",Summary!BA14,Summary!BA14*$H$8/100000) -> 0 | F14: =IF($F$8="K$",Summary!BK14,Summary!BK14*$H$8/100000) -> 0 | G14: =IF($F$8="K$",Summary!BU14,Summary!BU14*$H$8/100000) -> 0 | H14: =SUM(D14:G14) -> 0
C15: TTL | D15: =IF($F$8="K$",Summary!AQ15,Summary!AQ15*$H$8/100000) -> 0 | E15: =IF($F$8="K$",Summary!BA15,Summary!BA15*$H$8/100000) -> 0 | F15: =IF($F$8="K$",Summary!BK15,Summary!BK15*$H$8/100000) -> 0 | G15: =IF($F$8="K$",Summary!BU15,Summary!BU15*$H$8/100000) -> 0 | H15: =SUM(D15:G15) -> 0
B16: 달성도 | D16: =D15/D12 -> 0 | E16: =E15/E12 -> 0 | F16: =F15/F12 -> 0 | G16: =G15/G12 -> 0 | H16: =H15/H12 -> 0

Sheet Ref
A2: Process | B2: Equipment | C2: O/H 대수 | E2: 증감 | F2: Remark | G2: 대당 O/H Cost (단위:K원) | I2: 증감 (단위:K원) | K2: 1Q | N2: 2Q | Q2: 3Q | T2: 4Q | W2: TTL
C3: 2017년 | D3: 2016년 | G3: 2017년 | H3: 2016년 | K3: Jan | L3: Feb | M3: Mar | N3: Apr | O3: May | P3: Jun | Q3: Jul | R3: Aug | S3: Sep | T3: Oct | U3: Nov | V3: Dec | W3: Q'ty | X3: Cost
A4: Bumping | B4: AMAT Plating Cup | C4: 4 | D4: 5 | E4: =C4-D4 -> -1 | F4: 노후로 교체 파트 증가 | G4: 10000 | H4: 5000 | I4: =G4-H4 -> 5000 | L4: 1 | N4: 1 | P4: 1 | R4: 0 | T4: 1 | V4: 0 | W4: =SUM(K4:V4) -> 4 | X4: =W4*G4 -> 40000 | Y4: =SUM(X4:X6) -> 52780
B5: AMAT Plating Robot | C5: 1 | D5: 0 | E5: =C5-D5 -> 1 | F5: 신규 실시 | G5: 10000 | H5: 0 | I5: =G5-H5 -> 10000 | O5: 0 | U5: 1 | W5: =SUM(K5:V5) -> 1 | X5: =W5*G5 -> 10000
B6: SUSS Coater Hot Plate | C6: 20 | D6: 10 | E6: =C6-D6 -> 10 | F6: 노후로 교체 파트 증가 | G6: 139 | H6: 139 | I6: =G6-H6 -> 0 | L6: 2 | M6: 2 | N6: 2 | O6: 2 | P6: 2 | Q6: 2 | R6: 2 | S6: 2 | T6: 2 | U6: 2 | W6: =SUM(K6:V6) -> 20 | X6: =W6*G6 -> 2780
A7: Automation | B7: Strip MK | C7: 2 | D7: 3 | E7: =C7-D7 -> -1 | F7: 95mm Capa 확보 목적 | G7: 15000 | H7: 15000 | I7: =G7-H7 -> 0 | N7: 1 | S7: 1 | W7: =SUM(K7:V7) -> 2 | X7: =W7*G7 -> 30000 | Y7: =SUM(X7:X10) -> 80000
B8: Strip MK MIME Controller | C8: 1 | D8: 0 | E8: =C8-D8 -> 1 | F8: Upgrade 목적 | G8: 10000 | H8: 10000 | I8: =G8-H8 -> 0 | M8: 1 | W8: =SUM(K8:V8) -> 1 | X8: =W8*G8 -> 10000
B9: Laser MK | C9: 1 | D9: 2 | E9: =C9-D9 -> -1 | G9: 15000 | H9: 15000 | I9: =G9-H9 -> 0 | R9: 1 | W9: =SUM(K9:V9) -> 1 | X9: =W9*G9 -> 15000
B10: Pick&Place | C10: 1 | D10: 1 | E10: =C10-D10 -> 0 | F10: Concept 변경 목적 | G10: 25000 | H10: 25000 | I10: =G10-H10 -> 0 | N10: 1 | W10: =SUM(K10:V10) -> 1 | X10: =W10*G10 -> 25000
A11: 물류자동화 | B11: AGV | C11: 8 | D11: 11 | E11: =C11-D11 -> -3 | F11: 신규(장비 노후화) | G11: 1000 | H11: 1000 | I11: =G11-H11 -> 0 | K11: 1 | M11: 1 | N11: 1 | P11: 1 | Q11: 1 | S11: 1 | T11: 1 | V11: 1 | W11: =SUM(K11:V11) -> 8 | X11: =W11*G11 -> 8000 | Y11: =SUM(X11:X12) -> 11000
B12: Shipping Box Folding | C12: 3 | D12: 5 | E12: =C12-D12 -> -2 | F12: 신규(장비 노후화) | G12: 1000 | H12: 1000 | I12: =G12-H12 -> 0 | K12: 1 | P12: 1 | T12: 1 | W12: =SUM(K12:V12) -> 3 | X12: =W12*G12 -> 3000
A13: SMT | B13: C/M Head | C13: 8 | D13: 0 | E13: =C13-D13 -> 8 | F13: 신규 실시 | G13: 3000 | H13: 0 | I13: =G13-H13 -> 3000 | M13: 2 | P13: 2 | S13: 2 | V13: 2 | W13: =SUM(K13:V13) -> 8 | X13: =W13*G13 -> 24000 | Y13: =SUM(X13:X15) -> 94400
B14: C/M Feeder | C14: 3360 | D14: 0 | E14: =C14-D14 -> 3360 | F14: 신규 실시 | G14: 15 | H14: 0 | I14: =G14-H14 -> 15 | K14: 280 | L14: 280 | M14: 280 | N14: 280 | O14: 280 | P14: 280 | Q14: 280 | R14: 280 | S14: 280 | T14: 280 | U14: 280 | V14: 280 | W14: =SUM(K14:V14) -> 3360 | X14: =W14*G14 -> 50400
B15: OS Tester | C15: 2 | D15: 1 | E15: =C15-D15 -> 1 | G15: 10000 | H15: 8000 | I15: =G15-H15 -> 2000 | M15: 1 | Q15: 1 | W15: =SUM(K15:V15) -> 2 | X15: =W15*G15 -> 20000
A16: T/C | B16: TCNCP | C16: 8 | D16: 12 | E16: =C16-D16 -> -4 | F16: 모듈 단위 진행 | G16: 2180 | H16: 2500 | I16: =G16-H16 -> -320 | K16: 1 | L16: 1 | M16: 0 | N16: 1 | O16: 1 | P16: 0 | Q16: 1 | R16: 1 | S16: 0 | T16: 1 | U16: 1 | V16: 0 | W16: =SUM(K16:V16) -> 8 | X16: =W16*G16 -> 17440 | Y16: =X16 -> 17440
A17: SCOPE | B17: H/P & Hisomet | C17: 7 | D17: 6 | E17: =C17-D17 -> 1 | F17: 요청 건수 증가 | G17: 400 | H17: 327 | I17: =G17-H17 -> 73 | K17: 1 | M17: 1 | N17: 0 | O17: 1 | P17: 1 | Q17: 0 | R17: 1 | S17: 1 | T17: 0 | U17: 1 | W17: =SUM(K17:V17) -> 7 | X17: =W17*G17 -> 2800 | Y17: =SUM(X17:X18) -> 2800
B18: Low-Power(2파트로 이관) | C18: 0 | D18: 0 | E18: =C18-D18 -> 0 | G18: 0 | H18: 0 | I18: =G18-H18 -> 0 | W18: =SUM(K18:V18) -> 0 | X18: =SUM(L18:W18) -> 0
A19: O/H 장비 대수(Sub_Total) | C19: =SUM(C4:C18) -> 3426 | D19: =SUM(D4:D18) -> 56 | E19: =C19-D19 -> 3370 | I19: =G19-H19 -> 0 | K19: =SUM(K4:K18) -> 284 | L19: =SUM(L4:L18) -> 284 | M19: =SUM(M4:M18) -> 288 | N19: =SUM(N4:N18) -> 287 | O19: =SUM(O4:O18) -> 284 | P19: =SUM(P4:P18) -> 288 | Q19: =SUM(Q4:Q18) -> 285 | R19: =SUM(R4:R18) -> 285 | ... V19: =SUM(V4:V18) -> 283 | W19: =SUM(K19:V19) -> 3426
A20: Project 비용 | C20: =W20 -> 0 | D20: 21 | E20: =C20-D20 -> -21 | F20: 년간 비용/건수 | G20: 0 | H20: 4600 | I20: =G20-H20 -> -4600 | W20: =SUM(K20:V20) -> 0
A21: 전자실 예산 | C21: =W21 -> 67200 | D21: 72000 | E21: =C21-D21 -> -4800 | F21: =C21/D21 -> 0.93333333 | G21: 72000 | H21: 72000 | I21: =G21-H21 -> 0 | J21: =#REF!+#REF!+J19 -> #REF! | K21: 5600 | L21: 5600 | M21: 5600 | N21: 5600 | O21: 5600 | P21: 5600 | Q21: 5600 | R21: 5600 | S21: 5600 | T21: 5600 | U21: 5600 | V21: 5600 | W21: =SUM(K21:V21) -> 67200
A22: 공작실 예산 | C22: =W22 -> 50264 | D22: 51165 | E22: =C22-D22 -> -901 | F22: =C22/D22 -> 0.98239031 | J22: =#REF!+J17+J20 -> #REF! | K22: 4187 | L22: 4192 | M22: 4187 | N22: 4187 | O22: 4192 | P22: 4187 | Q22: 4187 | R22: 4192 | S22: 4187 | T22: 4187 | U22: 4192 | V22: 4187 | W22: =SUM(K22:V22) -> 50264
A23: O/H & Project & 전자실 + 공작실 | C23: =(C4*G4)+(C5*G5)+(C6*G6)+(C7*G7)+(C8*G8)+(C9*G9)+(C10*G10)+(C11*G11)+(C12*G12)+(C13*G13)+(C14*G14)+(C15*G15)+(C16*G16)+(C17*G17)+(C18*G18)+C20+C21+C22 -> 375884 | D23: =(D4*H4)+(D5*H5)+(D6*H6)+(D7*H7)+(D8*H8)+(D9*H9)+(D10*H10)+(D11*H11)+(D12*H12)+(D13*H13)+(D14*H14)+(D15*H15)+(D16*H16)+(D17*H17)+(D18*H18)+D20+D21+D22 -> 305538 | E23: =C23-D23 -> 70346 | F23: =C23/D23 -> 1.2302365 | K23: =(K4*$H4)+(K5*$H5)+(K6*$H6)+(K7*$H7)+(K8*$H8)+(K9*$H9)+(K10*$H10)+(K11*$H11)+(K12*$H12)+(K13*$H13)+(K14*$H14)+(K15*$H15)+(K16*$H16)+(K17*$H17)+(K18*$H18)+K20+K21+K22 -> 14614 | L23: =(L4*$H4)+(L5*$H5)+(L6*$H6)+(L7*$H7)+(L8*$H8)+(L9*$H9)+(L10*$H10)+(L11*$H11)+(L12*$H12)+(L13*$H13)+(L14*$H14)+(L15*$H15)+(L16*$H16)+(L17*$H17)+(L18*$H18)+L20+L21+L22 -> 17570 | M23: =(M4*$H4)+(M5*$H5)+(M6*$H6)+(M7*$H7)+(M8*$H8)+(M9*$H9)+(M10*$H10)+(M11*$H11)+(M12*$H12)+(M13*$H13)+(M14*$H14)+(M15*$H15)+(M16*$H16)+(M17*$H17)+(M18*$H18)+M20+M21+M22 -> 29392 | N23: =(N4*$H4)+(N5*$H5)+(N6*$H6)+(N7*$H7)+(N8*$H8)+(N9*$H9)+(N10*$H10)+(N11*$H11)+(N12*$H12)+(N13*$H13)+(N14*$H14)+(N15*$H15)+(N16*$H16)+(N17*$H17)+(N18*$H18)+N20+N21+N22 -> 58565 | O23: =(O4*$H4)+(O5*$H5)+(O6*$H6)+(O7*$H7)+(O8*$H8)+(O9*$H9)+(O10*$H10)+(O11*$H11)+(O12*$H12)+(O13*$H13)+(O14*$H14)+(O15*$H15)+(O16*$H16)+(O17*$H17)+(O18*$H18)+O20+O21+O22 -> 12897 | P23: =(P4*$H4)+(P5*$H5)+(P6*$H6)+(P7*$H7)+(P8*$H8)+(P9*$H9)+(P10*$H10)+(P11*$H11)+(P12*$H12)+(P13*$H13)+(P14*$H14)+(P15*$H15)+(P16*$H16)+(P17*$H17)+(P18*$H18)+P20+P21+P22 -> 17392 | Q23: =(Q4*$H4)+(Q5*$H5)+(Q6*$H6)+(Q7*$H7)+(Q8*$H8)+(Q9*$H9)+(Q10*$H10)+(Q11*$H11)+(Q12*$H12)+(Q13*$H13)+(Q14*$H14)+(Q15*$H15)+(Q16*$H16)+(Q17*$H17)+(Q18*$H18)+Q20+Q21+Q22 -> 21565 | R23: =(R4*$H4)+(R5*$H5)+(R6*$H6)+(R7*$H7)+(R8*$H8)+(R9*$H9)+(R10*$H10)+(R11*$H11)+(R12*$H12)+(R13*$H13)+(R14*$H14)+(R15*$H15)+(R16*$H16)+(R17*$H17)+(R18*$H18)+R20+R21+R22 -> 27897 | ... V23: =(V4*$H4)+(V5*$H5)+(V6*$H6)+(V7*$H7)+(V8*$H8)+(V9*$H9)+(V10*$H10)+(V11*$H11)+(V12*$H12)+(V13*$H13)+(V14*$H14)+(V15*$H15)+(V16*$H16)+(V17*$H17)+(V18*$H18)+V20+V21+V22 -> 10787 | W23: =SUM(K23:V23) -> 269533
A24: O/H & Project & 전자실 - 공작실 | C24: =C23-C22 -> 325620 | D24: =D23-D22 -> 254373 | E24: =C24-D24 -> 71247 | V24: Plan | W24: 402234
