Workbook
Name APR: 'Raw Data'!$AU:$AU
Name AUG: 'Raw Data'!$AY:$AY
Name DEC: 'Raw Data'!$BC:$BC
Name FEB: 'Raw Data'!$AS:$AS
Name JAN: 'Raw Data'!$AR:$AR
Name JUL: 'Raw Data'!$AX:$AX
Name JUN: 'Raw Data'!$AW:$AW
Name MAR: 'Raw Data'!$AT:$AT
Name MAY: 'Raw Data'!$AV:$AV
Name NOV: 'Raw Data'!$BB:$BB
Name OCT: 'Raw Data'!$BA:$BA
Name SEP: 'Raw Data'!$AZ:$AZ

Sheet Summary
B2: Completed Item Summary of ATKEE Activities in 2021 (ww03) | AH2: Quarterly Performance | BY2: Monthly Performance Summary
B3: Site | C3: 2020 COST REDUCTION PERFORMANCE | M3: 1H | W3: 2H | AH3: 1Q | AR3: 2Q | BB3: 3Q | BL3: 4Q | BV3: PLAN | BY3: Site | BZ3: Cost Reduction Performance
C4: Capex | E4: R&M | G4: Support | K4: Sum | M4: Capex | O4: R&M | Q4: Support | U4: Sum | W4: Capex | Y4: R&M | AA4: Support | AE4: Sum | AH4: Capex | AJ4: R&M | AL4: Support | AP4: Sum | AR4: Capex | AT4: R&M | AV4: Support | AZ4: Sum | BB4: Capex | BD4: R&M | BF4: Support | BJ4: Sum | BL4: Capex | BN4: R&M | BP4: Support | BT4: Sum | BV4: Sum | BZ4: Jan | CC4: Feb | CF4: Mar | CI4: 1Q | CL4: Apr | CM4: Apr | CN4: Apr | CO4: May | CP4: May | CQ4: May | CR4: Jun | CS4: Jun | CT4: Jun | CU4: 2Q | CX4: Jul | CY4: Jul | CZ4: Jul | DA4: Aug | DB4: Aug | DC4: Aug | DD4: Sep | DE4: Sep | DF4: Sep | DG4: 3Q | DJ4: Oct | DK4: Oct | DL4: Oct | DM4: Nov | DN4: Nov | DO4: Nov | DP4: Dec | DQ4: Dec | DR4: Dec | DS4: 4Q | DV4: TTL | DW4: TTL | DX4: TTL
C5: Q'ty | D5: Effect | E5: Q'ty | F5: Effect | G5: Q'ty | H5: HR | I5: Day | J5: Day(sum) | K5: Q'ty | L5: Effect | M5: Q'ty | N5: Effect | O5: Q'ty | P5: Effect | Q5: Q'ty | R5: HR | S5: Day | T5: Day(sum) | U5: Q'ty | V5: Effect | W5: Q'ty | X5: Effect | Y5: Q'ty | Z5: Effect | AA5: Q'ty | AB5: HR | AC5: Day | AD5: Day(sum) | AE5: Q'ty | AF5: Effect | AH5: 건수 | AI5: Effect | AJ5: 건수 | AK5: Effect | AL5: 건수 | AM5: 인원 | AN5: 일 | AO5: 일(TTL) | AP5: 건수 | AQ5: Effect | AR5: 건수 | AS5: Effect | AT5: 건수 | AU5: Effect | AV5: 건수 | AW5: 인원 | AX5: 일 | AY5: 일(TTL) | AZ5: 건수 | BA5: Effect | BB5: 건수 | BC5: Effect | BD5: 건수 | BE5: Effect | BF5: 건수 | BG5: 인원 | BH5: 일 | BI5: 일(TTL) | BJ5: 건수 | BK5: Effect | BL5: 건수 | BM5: Effect | BN5: 건수 | BO5: Effect | BP5: 건수 | BQ5: 인원 | BR5: 일 | BS5: 일(TTL) | BT5: 건수 | BU5: Effect | BV5: Effect | BZ5: S | CA5: P | CB5: E | CC5: S | CD5: P | CE5: E | CF5: S | CG5: P | CH5: E | CI5: S | CJ5: P | CK5: E | CL5: S | CM5: P | CN5: E | CO5: S | CP5: P | CQ5: E | CR5: S | CS5: P | CT5: E | CU5: S | CV5: P | CW5: E | CX5: S | CY5: P | CZ5: E | DA5: S | DB5: P | DC5: E | DD5: S | DE5: P | DF5: E | DG5: S | DH5: P | DI5: E | DJ5: S | DK5: P | DL5: E | DM5: S | DN5: P | DO5: E | DP5: S | DQ5: P | DR5: E | DS5: S | DT5: P | DU5: E | DV5: S | DW5: P | DX5: E
B6: ATK | C6: =SUM(AH6,AR6,BB6,BL6) -> 0 | D6: =SUM(AI6,AS6,BC6,BM6) -> 0 | E6: =SUM(AJ6,AT6,BD6,BN6) -> 0 | F6: =SUM(AK6,AU6,BE6,BO6) -> 0 | G6: =SUM(AL6,AV6,BF6,BP6) -> 0 | H6: =SUM(AM6,AW6,BG6,BQ6) -> 0 | I6: =SUM(AN6,AX6,BH6,BR6) -> 0 | J6: =H6*I6 -> 0 | K6: =SUM(C6,E6,G6) -> 0 | L6: =SUM(D6,F6) -> 0 | M6: =AH6+AR6 -> 0 | N6: =AI6+AS6 -> 0 | O6: =AJ6+AT6 -> 0 | P6: =AK6+AU6 -> 0 | Q6: =AL6+AV6 -> 0 | R6: =AM6+AW6 -> 0 | S6: =AN6+AX6 -> 0 | T6: =AO6+AY6 -> 0 | ... V6: =AQ6+BA6 -> 0 | W6: =BB6+BL6 -> 0 | X6: =BC6+BM6 -> 0 | Y6: =BD6+BN6 -> 0 | Z6: =BE6+BO6 -> 0 | AA6: =BF6+BP6 -> 0 | AB6: =BG6+BQ6 -> 0 | AC6: =BH6+BR6 -> 0 | AD6: =BI6+BS6 -> 0 | ... AF6: =BK6+BU6 -> 0 | AH6: =COUNTIFS('Raw Data'!$G$6:$G$640,"Capex",'Raw Data'!$F$6:$F$640,B6,'Raw Data'!$Z$6:$Z$640,">=0")+COUNTIFS('Raw Data'!$G$6:$G$640,"Capex",'Raw Data'!$F$6:$F$640,B6,'Raw Data'!$AA$6:$AA$640,">=0")+COUNTIFS('Raw Data'!$G$6:$G$640,"Capex",'Raw Data'!$F$6:$F$640,B6,'Raw Data'!$AB$6:$AB$640,">=0") -> 0 | AI6: =SUMIFS('Raw Data'!$R$6:$R$640,'Raw Data'!$G$6:$G$640,"Capex",'Raw Data'!$F$6:$F$640,B6) -> 0 | AJ6: =COUNTIFS('Raw Data'!$G$6:$G$640,"R&M",'Raw Data'!$F$6:$F$640,B6,'Raw Data'!$Z$6:$Z$640,">0")+COUNTIFS('Raw Data'!$G$6:$G$640,"R&M",'Raw Data'!$F$6:$F$640,B6,'Raw Data'!$AA$6:$AA$640,">0")+COUNTIFS('Raw Data'!$G$6:$G$640,"R&M",'Raw Data'!$F$6:$F$640,B6,'Raw Data'!$AB$6:$AB$640,">0") -> 0 | AK6: =SUMIFS('Raw Data'!$R$6:$R$640,'Raw Data'!$G$6:$G$640,$AJ$4,'Raw Data'!$F$6:$F$640,B6) -> 0 | AL6: =COUNTIFS('Raw Data'!$G$6:$G$640,"Support",'Raw Data'!$F$6:$F$640,B6,'Raw Data'!$Z$6:$Z$640,">0")+COUNTIFS('Raw Data'!$G$6:$G$640,"Support",'Raw Data'!$F$6:$F$640,B6,'Raw Data'!$AA$6:$AA$640,">0")+COUNTIFS('Raw Data'!$G$6:$G$640,"Support",'Raw Data'!$F$6:$F$640,B6,'Raw Data'!$AB$6:$AB$640,">0") -> 0 | AM6: =SUMIFS('Raw Data'!$X$6:$X$640,'Raw Data'!$G$6:$G$640,"Support",'Raw Data'!$F$6:$F$640,B6,'Raw Data'!$Z$6:$Z$640,">0")+SUMIFS('Raw Data'!$X$6:$X$640,'Raw Data'!$G$6:$G$640,"Support",'Raw Data'!$F$6:$F$640,B6,'Raw Data'!$AA$6:$AA$640,">0")+SUMIFS('Raw Data'!$X$6:$X$640,'Raw Data'!$G$6:$G$640,"Support",'Raw Data'!$F$6:$F$640,B6,'Raw Data'!$AB$6:$AB$640,">0") -> 0 | AN6: =SUMIFS('Raw Data'!$Y$6:$Y$640,'Raw Data'!$G$6:$G$640,"Support",'Raw Data'!$F$6:$F$640,B6,'Raw Data'!$Z$6:$Z$640,">0")+SUMIFS('Raw Data'!$Y$6:$Y$640,'Raw Data'!$G$6:$G$640,"Support",'Raw Data'!$F$6:$F$640,B6,'Raw Data'!$AA$6:$AA$640,">0")+SUMIFS('Raw Data'!$Y$6:$Y$640,'Raw Data'!$G$6:$G$640,"Support",'Raw Data'!$F$6:$F$640,B6,'Raw Data'!$AB$6:$AB$640,">0") -> 0 | AO6: =AM6*AN6 -> 0 | AP6: =SUM(AH6,AJ6,AL6) -> 0 | AQ6: =SUM(AI6,AK6) -> 0 | AR6: =COUNTIFS('Raw Data'!$G$6:$G$640,"Capex",'Raw Data'!$F$6:$F$640,B6,'Raw Data'!$AC$6:$AC$640,">0")+COUNTIFS('Raw Data'!$G$6:$G$640,"Capex",'Raw Data'!$F$6:$F$640,B6,'Raw Data'!$AD$6:$AD$640,">0")+COUNTIFS('Raw Data'!$G$6:$G$640,"Capex",'Raw Data'!$F$6:$F$640,B6,'Raw Data'!$AE$6:$AE$640,">0") -> 0 | AS6: =SUMIFS('Raw Data'!$S$6:$S$640,'Raw Data'!$G$6:$G$640,"Capex",'Raw Data'!$F$6:$F$640,B6) -> 0 | AT6: =COUNTIFS('Raw Data'!$G$6:$G$640,"R&M",'Raw Data'!$F$6:$F$640,B6,'Raw Data'!$AC$6:$AC$640,">0")+COUNTIFS('Raw Data'!$G$6:$G$640,"R&M",'Raw Data'!$F$6:$F$640,B6,'Raw Data'!$AD$6:$AD$640,">0")+COUNTIFS('Raw Data'!$G$6:$G$640,"R&M",'Raw Data'!$F$6:$F$640,B6,'Raw Data'!$AE$6:$AE$640,">0") -> 0 | AU6: =SUMIFS('Raw Data'!$S$6:$S$640,'Raw Data'!$G$6:$G$640,"R&M",'Raw Data'!$F$6:$F$640,B6) -> 0 | AV6: =COUNTIFS('Raw Data'!$G$6:$G$340,"Support",'Raw Data'!$F$6:$F$340,B6,'Raw Data'!$AC$6:$AC$340,">0")+COUNTIFS('Raw Data'!$G$6:$G$340,"Support",'Raw Data'!$F$6:$F$340,B6,'Raw Data'!$AD$6:$AD$340,">0")+COUNTIFS('Raw Data'!$G$6:$G$340,"Support",'Raw Data'!$F$6:$F$340,B6,'Raw Data'!$AE$6:$AE$340,">0") -> 0 | AW6: =SUMIFS('Raw Data'!$X$6:$X$640,'Raw Data'!$G$6:$G$640,"Support",'Raw Data'!$F$6:$F$640,B6,'Raw Data'!$AC$6:$AC$640,">0")+SUMIFS('Raw Data'!$X$6:$X$640,'Raw Data'!$G$6:$G$640,"Support",'Raw Data'!$F$6:$F$640,B6,'Raw Data'!$AD$6:$AD$640,">0")+SUMIFS('Raw Data'!$X$6:$X$640,'Raw Data'!$G$6:$G$640,"Support",'Raw Data'!$F$6:$F$640,B6,'Raw Data'!$AE$6:$AE$640,">0") -> 0 | AX6: =SUMIFS('Raw Data'!$Y$6:$Y$640,'Raw Data'!$G$6:$G$640,"Support",'Raw Data'!$F$6:$F$640,B6,'Raw Data'!$AC$6:$AC$640,">0")+SUMIFS('Raw Data'!$Y$6:$Y$640,'Raw Data'!$G$6:$G$640,"Support",'Raw Data'!$F$6:$F$640,B6,'Raw Data'!$AD$6:$AD$640,">0")+SUMIFS('Raw Data'!$Y$6:$Y$640,'Raw Data'!$G$6:$G$640,"Support",'Raw Data'!$F$6:$F$640,B6,'Raw Data'!$AE$6:$AE$640,">0") -> 0 | AY6: =AW6*AX6 -> 0 | AZ6: =SUM(AR6,AT6,AV6) -> 0 | BA6: =SUM(AS6,AU6) -> 0 | BB6: =COUNTIFS('Raw Data'!$G$6:$G$640,"Capex",'Raw Data'!$F$6:$F$640,B6,'Raw Data'!$AF$6:$AF$640,">0")+COUNTIFS('Raw Data'!$G$6:$G$640,"Capex",'Raw Data'!$F$6:$F$640,B6,'Raw Data'!$AG$6:$AG$640,">0")+COUNTIFS('Raw Data'!$G$6:$G$640,"Capex",'Raw Data'!$F$6:$F$640,B6,'Raw Data'!$AH$6:$AH$640,">0") -> 0 | BC6: =SUMIFS('Raw Data'!$T$6:$T$640,'Raw Data'!$G$6:$G$640,"Capex",'Raw Data'!$F$6:$F$640,B6) -> 0 | BD6: =COUNTIFS('Raw Data'!$G$6:$G$640,"R&M",'Raw Data'!$F$6:$F$640,B6,'Raw Data'!$AF$6:$AF$640,">0")+COUNTIFS('Raw Data'!$G$6:$G$640,"R&M",'Raw Data'!$F$6:$F$640,B6,'Raw Data'!$AG$6:$AG$640,">0")+COUNTIFS('Raw Data'!$G$6:$G$640,"R&M",'Raw Data'!$F$6:$F$640,B6,'Raw Data'!$AH$6:$AH$640,">0") -> 0 | BE6: =SUMIFS('Raw Data'!$T$6:$T$640,'Raw Data'!$G$6:$G$640,"R&M",'Raw Data'!$F$6:$F$640,B6) -> 0 | BF6: =COUNTIFS('Raw Data'!$G$6:$G$640,"Support",'Raw Data'!$F$6:$F$640,B6,'Raw Data'!$AF$6:$AF$640,">0")+COUNTIFS('Raw Data'!$G$6:$G$640,"Support",'Raw Data'!$F$6:$F$640,B6,'Raw Data'!$AG$6:$AG$640,">0")+COUNTIFS('Raw Data'!$G$6:$G$640,"Support",'Raw Data'!$F$6:$F$640,B6,'Raw Data'!$AH$6:$AH$640,">0") -> 0 | BG6: =SUMIFS('Raw Data'!$X$6:$X$640,'Raw Data'!$G$6:$G$640,"Support",'Raw Data'!$F$6:$F$640,B6,'Raw Data'!$AF$6:$AF$640,">0")+SUMIFS('Raw Data'!$X$6:$X$640,'Raw Data'!$G$6:$G$640,"Support",'Raw Data'!$F$6:$F$640,B6,'Raw Data'!$AG$6:$AG$640,">0")+SUMIFS('Raw Data'!$X$6:$X$640,'Raw Data'!$G$6:$G$640,"Support",'Raw Data'!$F$6:$F$640,B6,'Raw Data'!$AH$6:$AH$640,">0") -> 0 | BH6: =SUMIFS('Raw Data'!$Y$6:$Y$640,'Raw Data'!$G$6:$G$640,"Support",'Raw Data'!$F$6:$F$640,B6,'Raw Data'!$AF$6:$AF$640,">0")+SUMIFS('Raw Data'!$Y$6:$Y$640,'Raw Data'!$G$6:$G$640,"Support",'Raw Data'!$F$6:$F$640,B6,'Raw Data'!$AG$6:$AG$640,">0")+SUMIFS('Raw Data'!$Y$6:$Y$640,'Raw Data'!$G$6:$G$640,"Support",'Raw Data'!$F$6:$F$640,B6,'Raw Data'!$AH$6:$AH$640,">0") -> 0 | BI6: =BG6*BH6 -> 0 | BJ6: =SUM(BB6,BD6,BF6) -> 0 | BK6: =SUM(BC6,BE6) -> 0 | BL6: =COUNTIFS('Raw Data'!$G$6:$G$640,"Capex",'Raw Data'!$F$6:$F$640,B6,'Raw Data'!$AI$6:$AI$640,">0")+COUNTIFS('Raw Data'!$G$6:$G$640,"Capex",'Raw Data'!$F$6:$F$640,B6,'Raw Data'!$AJ$6:$AJ$640,">0")+COUNTIFS('Raw Data'!$G$6:$G$640,"Capex",'Raw Data'!$F$6:$F$640,B6,'Raw Data'!$AK$6:$AK$640,">0") -> 0 | BM6: =SUMIFS('Raw Data'!$U$6:$U$640,'Raw Data'!$G$6:$G$640,"Capex",'Raw Data'!$F$6:$F$640,B6) -> 0 | BN6: =COUNTIFS('Raw Data'!$G$6:$G$640,"R&M",'Raw Data'!$F$6:$F$640,B6,'Raw Data'!$AI$6:$AI$640,">0")+COUNTIFS('Raw Data'!$G$6:$G$640,"R&M",'Raw Data'!$F$6:$F$640,B6,'Raw Data'!$AJ$6:$AJ$640,">0")+COUNTIFS('Raw Data'!$G$6:$G$640,"R&M",'Raw Data'!$F$6:$F$640,B6,'Raw Data'!$AK$6:$AK$640,">0") -> 0 | BO6: =SUMIFS('Raw Data'!$U$6:$U$640,'Raw Data'!$G$6:$G$640,"R&M",'Raw Data'!$F$6:$F$640,B6) -> 0 | BP6: =COUNTIFS('Raw Data'!$G$6:$G$640,"Support",'Raw Data'!$F$6:$F$640,B6,'Raw Data'!$AI$6:$AI$640,">0")+COUNTIFS('Raw Data'!$G$6:$G$640,"Support",'Raw Data'!$F$6:$F$640,B6,'Raw Data'!$AJ$6:$AJ$640,">0")+COUNTIFS('Raw Data'!$G$6:$G$640,"Support",'Raw Data'!$F$6:$F$640,B6,'Raw Data'!$AK$6:$AK$640,">0") -> 0 | BQ6: =SUMIFS('Raw Data'!$X$6:$X$640,'Raw Data'!$G$6:$G$640,"Support",'Raw Data'!$F$6:$F$640,B6,'Raw Data'!$AI$6:$AI$640,">0")+SUMIFS('Raw Data'!$X$6:$X$640,'Raw Data'!$G$6:$G$640,"Support",'Raw Data'!$F$6:$F$640,B6,'Raw Data'!$AJ$6:$AJ$640,">0")+SUMIFS('Raw Data'!$X$6:$X$640,'Raw Data'!$G$6:$G$640,"Support",'Raw Data'!$F$6:$F$640,B6,'Raw Data'!$AK$6:$AK$640,">0") -> 0 | BR6: =SUMIFS('Raw Data'!$Y$6:$Y$640,'Raw Data'!$G$6:$G$640,"Support",'Raw Data'!$F$6:$F$640,B6,'Raw Data'!$AI$6:$AI$640,">0")+SUMIFS('Raw Data'!$Y$6:$Y$640,'Raw Data'!$G$6:$G$640,"Support",'Raw Data'!$F$6:$F$640,B6,'Raw Data'!$AJ$6:$AJ$640,">0")+SUMIFS('Raw Data'!$Y$6:$Y$640,'Raw Data'!$G$6:$G$640,"Support",'Raw Data'!$F$6:$F$640,B6,'Raw Data'!$AK$6:$AK$640,">0") -> 0 | BS6: =BQ6*BR6 -> 0 | BT6: =SUM(BL6,BN6,BP6) -> 0 | BU6: =SUM(BM6,BO6) -> 0 | BV6: =650*12 -> 7800 | BY6: ATK | BZ6: =COUNTIFS('Raw Data'!$F:$F,Summary!$B7,'Raw Data'!K:K,Summary!BZ$4,'Raw Data'!X:X,">") -> 0 | CA6: =COUNTIFS('Raw Data'!$F:$F,Summary!$B6,'Raw Data'!Z:Z,">0") -> 0 | CB6: =SUMIFS('Raw Data'!$W:$W,'Raw Data'!$F:$F,Summary!$B6,'Raw Data'!Z:Z,">0") -> 0 | CC6: =COUNTIFS('Raw Data'!$F:$F,Summary!$B7,'Raw Data'!L:L,Summary!CC$4,'Raw Data'!Y:Y,">") -> 0 | CD6: =COUNTIFS('Raw Data'!$F:$F,Summary!$B6,'Raw Data'!AA:AA,">0") -> 0 | CE6: =SUMIFS('Raw Data'!$W:$W,'Raw Data'!$F:$F,Summary!$B6,'Raw Data'!AA:AA,">0") -> 0 | CF6: =COUNTIFS('Raw Data'!$F:$F,Summary!$B7,'Raw Data'!M:M,Summary!CF$4,'Raw Data'!Z:Z,">") -> 0 | CG6: =COUNTIFS('Raw Data'!$F:$F,Summary!$B6,'Raw Data'!AB:AB,">0") -> 0 | CH6: =SUMIFS('Raw Data'!$W:$W,'Raw Data'!$F:$F,Summary!$B6,'Raw Data'!AB:AB,">0") -> 0 | CI6: =BZ6+CC6+CF6 -> 0 | CJ6: =CA6+CD6+CG6 -> 0 | CK6: =CB6+CE6+CH6 -> 0 | CL6: =COUNTIFS('Raw Data'!$F:$F,Summary!$B7,'Raw Data'!N:N,Summary!CL$4,'Raw Data'!AA:AA,">") -> 0 | CM6: =COUNTIFS('Raw Data'!$F:$F,Summary!$B6,'Raw Data'!AC:AC,">0") -> 0 | CN6: =SUMIFS('Raw Data'!$W:$W,'Raw Data'!$F:$F,Summary!$B6,'Raw Data'!AC:AC,">0") -> 0 | CO6: =COUNTIFS('Raw Data'!$F:$F,Summary!$B7,'Raw Data'!O:O,Summary!CO$4,'Raw Data'!AB:AB,">") -> 0 | CP6: =COUNTIFS('Raw Data'!$F:$F,Summary!$B6,'Raw Data'!AD:AD,">0") -> 0 | CQ6: =SUMIFS('Raw Data'!$W:$W,'Raw Data'!$F:$F,Summary!$B6,'Raw Data'!AD:AD,">0") -> 0 | CR6: =COUNTIFS('Raw Data'!$F:$F,Summary!$B7,'Raw Data'!P:P,Summary!CR$4,'Raw Data'!AC:AC,">") -> 0 | CS6: =COUNTIFS('Raw Data'!$F:$F,Summary!$B6,'Raw Data'!AE:AE,">0") -> 0 | CT6: =SUMIFS('Raw Data'!$W:$W,'Raw Data'!$F:$F,Summary!$B6,'Raw Data'!AE:AE,">0") -> 0 | CU6: =CL6+CO6+CR6 -> 0 | CV6: =CM6+CP6+CS6 -> 0 | CW6: =CN6+CQ6+CT6 -> 0 | CX6: =COUNTIFS('Raw Data'!$F:$F,Summary!$B7,'Raw Data'!Q:Q,Summary!CX$4,'Raw Data'!AD:AD,">") -> 0 | CY6: =COUNTIFS('Raw Data'!$F:$F,Summary!$B6,'Raw Data'!AF:AF,">0") -> 0 | CZ6: =SUMIFS('Raw Data'!$W:$W,'Raw Data'!$F:$F,Summary!$B6,'Raw Data'!AF:AF,">0") -> 0 | DA6: =COUNTIFS('Raw Data'!$F:$F,Summary!$B7,'Raw Data'!R:R,Summary!DA$4,'Raw Data'!AE:AE,">") -> 0 | DB6: =COUNTIFS('Raw Data'!$F:$F,Summary!$B6,'Raw Data'!AG:AG,">0") -> 0 | DC6: =SUMIFS('Raw Data'!$W:$W,'Raw Data'!$F:$F,Summary!$B6,'Raw Data'!AG:AG,">0") -> 0 | DD6: =COUNTIFS('Raw Data'!$F:$F,Summary!$B7,'Raw Data'!S:S,Summary!DD$4,'Raw Data'!AF:AF,">") -> 0 | DE6: =COUNTIFS('Raw Data'!$F:$F,Summary!$B6,'Raw Data'!AH:AH,">0") -> 0 | DF6: =SUMIFS('Raw Data'!$W:$W,'Raw Data'!$F:$F,Summary!$B6,'Raw Data'!AH:AH,">0") -> 0 | DG6: =CX6+DA6+DD6 -> 0 | DH6: =CY6+DB6+DE6 -> 0 | DI6: =CZ6+DC6+DF6 -> 0 | DJ6: =COUNTIFS('Raw Data'!$F:$F,Summary!$B7,'Raw Data'!T:T,Summary!DJ$4,'Raw Data'!AG:AG,">") -> 0 | DK6: =COUNTIFS('Raw Data'!$F:$F,Summary!$B6,'Raw Data'!AI:AI,">0") -> 0 | DL6: =SUMIFS('Raw Data'!$W:$W,'Raw Data'!$F:$F,Summary!$B6,'Raw Data'!AI:AI,">0") -> 0 | DM6: =COUNTIFS('Raw Data'!$F:$F,Summary!$B7,'Raw Data'!U:U,Summary!DM$4,'Raw Data'!AH:AH,">") -> 0 | DN6: =COUNTIFS('Raw Data'!$F:$F,Summary!$B6,'Raw Data'!AJ:AJ,">0") -> 0 | DO6: =SUMIFS('Raw Data'!$W:$W,'Raw Data'!$F:$F,Summary!$B6,'Raw Data'!AJ:AJ,">0") -> 0 | DP6: =COUNTIFS('Raw Data'!$F:$F,Summary!$B7,'Raw Data'!V:V,Summary!DP$4,'Raw Data'!AI:AI,">") -> 0 | DQ6: =COUNTIFS('Raw Data'!$F:$F,Summary!$B6,'Raw Data'!AK:AK,">0") -> 0 | DR6: =SUMIFS('Raw Data'!$W:$W,'Raw Data'!$F:$F,Summary!$B6,'Raw Data'!AK:AK,">0") -> 0 | DS6: =DJ6+DM6+DP6 -> 0 | DT6: =DK6+DN6+DQ6 -> 0 | DU6: =DL6+DO6+DR6 -> 0 | DV6: =COUNTIFS('Raw Data'!$F:$F,Summary!$B7,'Raw Data'!W:W,Summary!DV$4,'Raw Data'!AJ:AJ,">") -> 0 | DW6: =COUNTIFS('Raw Data'!$F:$F,Summary!$B6,'Raw Data'!AL:AL,">0") -> 0 | DX6: =SUMIFS('Raw Data'!$W:$W,'Raw Data'!$F:$F,Summary!$B6,'Raw Data'!AL:AL,">0") -> 0
B7: ATC | C7: =SUM(AH7,AR7,BB7,BL7) -> 0 | D7: =SUM(AI7,AS7,BC7,BM7) -> 0 | E7: =SUM(AJ7,AT7,BD7,BN7) -> 0 | F7: =SUM(AK7,AU7,BE7,BO7) -> 0 | G7: =SUM(AL7,AV7,BF7,BP7) -> 0 | H7: =SUM(AM7,AW7,BG7,BQ7) -> 0 | I7: =SUM(AN7,AX7,BH7,BR7) -> 0 | J7: =H7*I7 -> 0 | K7: =SUM(C7,E7,G7) -> 0 | L7: =SUM(D7,F7) -> 0 | M7: =AH7+AR7 -> 0 | N7: =AI7+AS7 -> 0 | O7: =AJ7+AT7 -> 0 | P7: =AK7+AU7 -> 0 | Q7: =AL7+AV7 -> 0 | R7: =AM7+AW7 -> 0 | S7: =AN7+AX7 -> 0 | T7: =AO7+AY7 -> 0 | ... V7: =AQ7+BA7 -> 0 | W7: =BB7+BL7 -> 0 | X7: =BC7+BM7 -> 0 | Y7: =BD7+BN7 -> 0 | Z7: =BE7+BO7 -> 0 | AA7: =BF7+BP7 -> 0 | AB7: =BG7+BQ7 -> 0 | AC7: =BH7+BR7 -> 0 | AD7: =BI7+BS7 -> 0 | ... AF7: =BK7+BU7 -> 0 | AH7: =COUNTIFS('Raw Data'!$G$6:$G$640,"Capex",'Raw Data'!$F$6:$F$640,B7,'Raw Data'!$Z$6:$Z$640,">=0")+COUNTIFS('Raw Data'!$G$6:$G$640,"Capex",'Raw Data'!$F$6:$F$640,B7,'Raw Data'!$AA$6:$AA$640,">=0")+COUNTIFS('Raw Data'!$G$6:$G$640,"Capex",'Raw Data'!$F$6:$F$640,B7,'Raw Data'!$AB$6:$AB$640,">=0") -> 0 | AI7: =SUMIFS('Raw Data'!$R$6:$R$640,'Raw Data'!$G$6:$G$640,"Capex",'Raw Data'!$F$6:$F$640,B7) -> 0 | AJ7: =COUNTIFS('Raw Data'!$G$6:$G$640,"R&M",'Raw Data'!$F$6:$F$640,B7,'Raw Data'!$Z$6:$Z$640,">0")+COUNTIFS('Raw Data'!$G$6:$G$640,"R&M",'Raw Data'!$F$6:$F$640,B7,'Raw Data'!$AA$6:$AA$640,">0")+COUNTIFS('Raw Data'!$G$6:$G$640,"R&M",'Raw Data'!$F$6:$F$640,B7,'Raw Data'!$AB$6:$AB$640,">0") -> 0 | AK7: =SUMIFS('Raw Data'!$R$6:$R$640,'Raw Data'!$G$6:$G$640,$AJ$4,'Raw Data'!$F$6:$F$640,B7) -> 0 | AL7: =COUNTIFS('Raw Data'!$G$6:$G$640,"Support",'Raw Data'!$F$6:$F$640,B7,'Raw Data'!$Z$6:$Z$640,">0")+COUNTIFS('Raw Data'!$G$6:$G$640,"Support",'Raw Data'!$F$6:$F$640,B7,'Raw Data'!$AA$6:$AA$640,">0")+COUNTIFS('Raw Data'!$G$6:$G$640,"Support",'Raw Data'!$F$6:$F$640,B7,'Raw Data'!$AB$6:$AB$640,">0") -> 0 | AM7: =SUMIFS('Raw Data'!$X$6:$X$640,'Raw Data'!$G$6:$G$640,"Support",'Raw Data'!$F$6:$F$640,B7,'Raw Data'!$Z$6:$Z$640,">0")+SUMIFS('Raw Data'!$X$6:$X$640,'Raw Data'!$G$6:$G$640,"Support",'Raw Data'!$F$6:$F$640,B7,'Raw Data'!$AA$6:$AA$640,">0")+SUMIFS('Raw Data'!$X$6:$X$640,'Raw Data'!$G$6:$G$640,"Support",'Raw Data'!$F$6:$F$640,B7,'Raw Data'!$AB$6:$AB$640,">0") -> 0 | AN7: =SUMIFS('Raw Data'!$Y$6:$Y$640,'Raw Data'!$G$6:$G$640,"Support",'Raw Data'!$F$6:$F$640,B7,'Raw Data'!$Z$6:$Z$640,">0")+SUMIFS('Raw Data'!$Y$6:$Y$640,'Raw Data'!$G$6:$G$640,"Support",'Raw Data'!$F$6:$F$640,B7,'Raw Data'!$AA$6:$AA$640,">0")+SUMIFS('Raw Data'!$Y$6:$Y$640,'Raw Data'!$G$6:$G$640,"Support",'Raw Data'!$F$6:$F$640,B7,'Raw Data'!$AB$6:$AB$640,">0") -> 0 | AO7: =AM7*AN7 -> 0 | AP7: =SUM(AH7,AJ7,AL7) -> 0 | AQ7: =SUM(AI7,AK7,AO7) -> 0 | AR7: =COUNTIFS('Raw Data'!$G$6:$G$640,"Capex",'Raw Data'!$F$6:$F$640,B7,'Raw Data'!$AC$6:$AC$640,">0")+COUNTIFS('Raw Data'!$G$6:$G$640,"Capex",'Raw Data'!$F$6:$F$640,B7,'Raw Data'!$AD$6:$AD$640,">0")+COUNTIFS('Raw Data'!$G$6:$G$640,"Capex",'Raw Data'!$F$6:$F$640,B7,'Raw Data'!$AE$6:$AE$640,">0") -> 0 | AS7: =SUMIFS('Raw Data'!$S$6:$S$640,'Raw Data'!$G$6:$G$640,"Capex",'Raw Data'!$F$6:$F$640,B7) -> 0 | AT7: =COUNTIFS('Raw Data'!$G$6:$G$640,"R&M",'Raw Data'!$F$6:$F$640,B7,'Raw Data'!$AC$6:$AC$640,">0")+COUNTIFS('Raw Data'!$G$6:$G$640,"R&M",'Raw Data'!$F$6:$F$640,B7,'Raw Data'!$AD$6:$AD$640,">0")+COUNTIFS('Raw Data'!$G$6:$G$640,"R&M",'Raw Data'!$F$6:$F$640,B7,'Raw Data'!$AE$6:$AE$640,">0") -> 0 | AU7: =SUMIFS('Raw Data'!$S$6:$S$640,'Raw Data'!$G$6:$G$640,"R&M",'Raw Data'!$F$6:$F$640,B7) -> 0 | AV7: =COUNTIFS('Raw Data'!$G$6:$G$340,"Support",'Raw Data'!$F$6:$F$340,B7,'Raw Data'!$AC$6:$AC$340,">0")+COUNTIFS('Raw Data'!$G$6:$G$340,"Support",'Raw Data'!$F$6:$F$340,B7,'Raw Data'!$AD$6:$AD$340,">0")+COUNTIFS('Raw Data'!$G$6:$G$340,"Support",'Raw Data'!$F$6:$F$340,B7,'Raw Data'!$AE$6:$AE$340,">0") -> 0 | AW7: =SUMIFS('Raw Data'!$X$6:$X$640,'Raw Data'!$G$6:$G$640,"Support",'Raw Data'!$F$6:$F$640,B7,'Raw Data'!$AC$6:$AC$640,">0")+SUMIFS('Raw Data'!$X$6:$X$640,'Raw Data'!$G$6:$G$640,"Support",'Raw Data'!$F$6:$F$640,B7,'Raw Data'!$AD$6:$AD$640,">0")+SUMIFS('Raw Data'!$X$6:$X$640,'Raw Data'!$G$6:$G$640,"Support",'Raw Data'!$F$6:$F$640,B7,'Raw Data'!$AE$6:$AE$640,">0") -> 0 | AX7: =SUMIFS('Raw Data'!$Y$6:$Y$640,'Raw Data'!$G$6:$G$640,"Support",'Raw Data'!$F$6:$F$640,B7,'Raw Data'!$AC$6:$AC$640,">0")+SUMIFS('Raw Data'!$Y$6:$Y$640,'Raw Data'!$G$6:$G$640,"Support",'Raw Data'!$F$6:$F$640,B7,'Raw Data'!$AD$6:$AD$640,">0")+SUMIFS('Raw Data'!$Y$6:$Y$640,'Raw Data'!$G$6:$G$640,"Support",'Raw Data'!$F$6:$F$640,B7,'Raw Data'!$AE$6:$AE$640,">0") -> 0 | AY7: =AW7*AX7 -> 0 | AZ7: =SUM(AR7,AT7,AV7) -> 0 | BA7: =SUM(AS7,AU7) -> 0 | BB7: =COUNTIFS('Raw Data'!$G$6:$G$640,"Capex",'Raw Data'!$F$6:$F$640,B7,'Raw Data'!$AF$6:$AF$640,">0")+COUNTIFS('Raw Data'!$G$6:$G$640,"Capex",'Raw Data'!$F$6:$F$640,B7,'Raw Data'!$AG$6:$AG$640,">0")+COUNTIFS('Raw Data'!$G$6:$G$640,"Capex",'Raw Data'!$F$6:$F$640,B7,'Raw Data'!$AH$6:$AH$640,">0") -> 0 | BC7: =SUMIFS('Raw Data'!$T$6:$T$640,'Raw Data'!$G$6:$G$640,"Capex",'Raw Data'!$F$6:$F$640,B7) -> 0 | BD7: =COUNTIFS('Raw Data'!$G$6:$G$640,"R&M",'Raw Data'!$F$6:$F$640,B7,'Raw Data'!$AF$6:$AF$640,">0")+COUNTIFS('Raw Data'!$G$6:$G$640,"R&M",'Raw Data'!$F$6:$F$640,B7,'Raw Data'!$AG$6:$AG$640,">0")+COUNTIFS('Raw Data'!$G$6:$G$640,"R&M",'Raw Data'!$F$6:$F$640,B7,'Raw Data'!$AH$6:$AH$640,">0") -> 0 | BE7: =SUMIFS('Raw Data'!$T$6:$T$640,'Raw Data'!$G$6:$G$640,"R&M",'Raw Data'!$F$6:$F$640,B7) -> 0 | BF7: =COUNTIFS('Raw Data'!$G$6:$G$640,"Support",'Raw Data'!$F$6:$F$640,B7,'Raw Data'!$AF$6:$AF$640,">0")+COUNTIFS('Raw Data'!$G$6:$G$640,"Support",'Raw Data'!$F$6:$F$640,B7,'Raw Data'!$AG$6:$AG$640,">0")+COUNTIFS('Raw Data'!$G$6:$G$640,"Support",'Raw Data'!$F$6:$F$640,B7,'Raw Data'!$AH$6:$AH$640,">0") -> 0 | BG7: =SUMIFS('Raw Data'!$X$6:$X$640,'Raw Data'!$G$6:$G$640,"Support",'Raw Data'!$F$6:$F$640,B7,'Raw Data'!$AF$6:$AF$640,">0")+SUMIFS('Raw Data'!$X$6:$X$640,'Raw Data'!$G$6:$G$640,"Support",'Raw Data'!$F$6:$F$640,B7,'Raw Data'!$AG$6:$AG$640,">0")+SUMIFS('Raw Data'!$X$6:$X$640,'Raw Data'!$G$6:$G$640,"Support",'Raw Data'!$F$6:$F$640,B7,'Raw Data'!$AH$6:$AH$640,">0") -> 0 | BH7: =SUMIFS('Raw Data'!$Y$6:$Y$640,'Raw Data'!$G$6:$G$640,"Support",'Raw Data'!$F$6:$F$640,B7,'Raw Data'!$AF$6:$AF$640,">0")+SUMIFS('Raw Data'!$Y$6:$Y$640,'Raw Data'!$G$6:$G$640,"Support",'Raw Data'!$F$6:$F$640,B7,'Raw Data'!$AG$6:$AG$640,">0")+SUMIFS('Raw Data'!$Y$6:$Y$640,'Raw Data'!$G$6:$G$640,"Support",'Raw Data'!$F$6:$F$640,B7,'Raw Data'!$AH$6:$AH$640,">0") -> 0 | BI7: =BG7*BH7 -> 0 | BJ7: =SUM(BB7,BD7,BF7) -> 0 | BK7: =SUM(BC7,BE7) -> 0 | BL7: =COUNTIFS('Raw Data'!$G$6:$G$640,"Capex",'Raw Data'!$F$6:$F$640,B7,'Raw Data'!$AI$6:$AI$640,">0")+COUNTIFS('Raw Data'!$G$6:$G$640,"Capex",'Raw Data'!$F$6:$F$640,B7,'Raw Data'!$AJ$6:$AJ$640,">0")+COUNTIFS('Raw Data'!$G$6:$G$640,"Capex",'Raw Data'!$F$6:$F$640,B7,'Raw Data'!$AK$6:$AK$640,">0") -> 0 | BM7: =SUMIFS('Raw Data'!$U$6:$U$640,'Raw Data'!$G$6:$G$640,"Capex",'Raw Data'!$F$6:$F$640,B7) -> 0 | BN7: =COUNTIFS('Raw Data'!$G$6:$G$640,"R&M",'Raw Data'!$F$6:$F$640,B7,'Raw Data'!$AI$6:$AI$640,">0")+COUNTIFS('Raw Data'!$G$6:$G$640,"R&M",'Raw Data'!$F$6:$F$640,B7,'Raw Data'!$AJ$6:$AJ$640,">0")+COUNTIFS('Raw Data'!$G$6:$G$640,"R&M",'Raw Data'!$F$6:$F$640,B7,'Raw Data'!$AK$6:$AK$640,">0") -> 0 | BO7: =SUMIFS('Raw Data'!$U$6:$U$640,'Raw Data'!$G$6:$G$640,"R&M",'Raw Data'!$F$6:$F$640,B7) -> 0 | BP7: =COUNTIFS('Raw Data'!$G$6:$G$640,"Support",'Raw Data'!$F$6:$F$640,B7,'Raw Data'!$AI$6:$AI$640,">0")+COUNTIFS('Raw Data'!$G$6:$G$640,"Support",'Raw Data'!$F$6:$F$640,B7,'Raw Data'!$AJ$6:$AJ$640,">0")+COUNTIFS('Raw Data'!$G$6:$G$640,"Support",'Raw Data'!$F$6:$F$640,B7,'Raw Data'!$AK$6:$AK$640,">0") -> 0 | BQ7: =SUMIFS('Raw Data'!$X$6:$X$640,'Raw Data'!$G$6:$G$640,"Support",'Raw Data'!$F$6:$F$640,B7,'Raw Data'!$AI$6:$AI$640,">0")+SUMIFS('Raw Data'!$X$6:$X$640,'Raw Data'!$G$6:$G$640,"Support",'Raw Data'!$F$6:$F$640,B7,'Raw Data'!$AJ$6:$AJ$640,">0")+SUMIFS('Raw Data'!$X$6:$X$640,'Raw Data'!$G$6:$G$640,"Support",'Raw Data'!$F$6:$F$640,B7,'Raw Data'!$AK$6:$AK$640,">0") -> 0 | BR7: =SUMIFS('Raw Data'!$Y$6:$Y$640,'Raw Data'!$G$6:$G$640,"Support",'Raw Data'!$F$6:$F$640,B7,'Raw Data'!$AI$6:$AI$640,">0")+SUMIFS('Raw Data'!$Y$6:$Y$640,'Raw Data'!$G$6:$G$640,"Support",'Raw Data'!$F$6:$F$640,B7,'Raw Data'!$AJ$6:$AJ$640,">0")+SUMIFS('Raw Data'!$Y$6:$Y$640,'Raw Data'!$G$6:$G$640,"Support",'Raw Data'!$F$6:$F$640,B7,'Raw Data'!$AK$6:$AK$640,">0") -> 0 | BS7: =BQ7*BR7 -> 0 | BT7: =SUM(BL7,BN7,BP7) -> 0 | BU7: =SUM(BM7,BO7) -> 0 | BV7: =25*12 -> 300 | BY7: ATC | BZ7: =COUNTIFS('Raw Data'!$F:$F,Summary!$B8,'Raw Data'!K:K,Summary!BZ$4,'Raw Data'!X:X,">") -> 0 | CA7: =COUNTIFS('Raw Data'!$F:$F,Summary!$B7,'Raw Data'!Z:Z,">0") -> 0 | CB7: =SUMIFS('Raw Data'!$W:$W,'Raw Data'!$F:$F,Summary!$B7,'Raw Data'!Z:Z,">0") -> 0 | CC7: =COUNTIFS('Raw Data'!$F:$F,Summary!$B8,'Raw Data'!L:L,Summary!CC$4,'Raw Data'!Y:Y,">") -> 0 | CD7: =COUNTIFS('Raw Data'!$F:$F,Summary!$B7,'Raw Data'!AA:AA,">0") -> 0 | CE7: =SUMIFS('Raw Data'!$W:$W,'Raw Data'!$F:$F,Summary!$B7,'Raw Data'!AA:AA,">0") -> 0 | CF7: =COUNTIFS('Raw Data'!$F:$F,Summary!$B8,'Raw Data'!M:M,Summary!CF$4,'Raw Data'!Z:Z,">") -> 0 | CG7: =COUNTIFS('Raw Data'!$F:$F,Summary!$B7,'Raw Data'!AB:AB,">0") -> 0 | CH7: =SUMIFS('Raw Data'!$W:$W,'Raw Data'!$F:$F,Summary!$B7,'Raw Data'!AB:AB,">0") -> 0 | CI7: =BZ7+CC7+CF7 -> 0 | CJ7: =CA7+CD7+CG7 -> 0 | CK7: =CB7+CE7+CH7 -> 0 | CL7: =COUNTIFS('Raw Data'!$F:$F,Summary!$B8,'Raw Data'!N:N,Summary!CL$4,'Raw Data'!AA:AA,">") -> 0 | CM7: =COUNTIFS('Raw Data'!$F:$F,Summary!$B7,'Raw Data'!AC:AC,">0") -> 0 | CN7: =SUMIFS('Raw Data'!$W:$W,'Raw Data'!$F:$F,Summary!$B7,'Raw Data'!AC:AC,">0") -> 0 | CO7: =COUNTIFS('Raw Data'!$F:$F,Summary!$B8,'Raw Data'!O:O,Summary!CO$4,'Raw Data'!AB:AB,">") -> 0 | CP7: =COUNTIFS('Raw Data'!$F:$F,Summary!$B7,'Raw Data'!AD:AD,">0") -> 0 | CQ7: =SUMIFS('Raw Data'!$W:$W,'Raw Data'!$F:$F,Summary!$B7,'Raw Data'!AD:AD,">0") -> 0 | CR7: =COUNTIFS('Raw Data'!$F:$F,Summary!$B8,'Raw Data'!P:P,Summary!CR$4,'Raw Data'!AC:AC,">") -> 0 | CS7: =COUNTIFS('Raw Data'!$F:$F,Summary!$B7,'Raw Data'!AE:AE,">0") -> 0 | CT7: =SUMIFS('Raw Data'!$W:$W,'Raw Data'!$F:$F,Summary!$B7,'Raw Data'!AE:AE,">0") -> 0 | CU7: =CL7+CO7+CR7 -> 0 | CV7: =CM7+CP7+CS7 -> 0 | CW7: =CN7+CQ7+CT7 -> 0 | CX7: =COUNTIFS('Raw Data'!$F:$F,Summary!$B8,'Raw Data'!Q:Q,Summary!CX$4,'Raw Data'!AD:AD,">") -> 0 | CY7: =COUNTIFS('Raw Data'!$F:$F,Summary!$B7,'Raw Data'!AF:AF,">0") -> 0 | CZ7: =SUMIFS('Raw Data'!$W:$W,'Raw Data'!$F:$F,Summary!$B7,'Raw Data'!AF:AF,">0") -> 0 | DA7: =COUNTIFS('Raw Data'!$F:$F,Summary!$B8,'Raw Data'!R:R,Summary!DA$4,'Raw Data'!AE:AE,">") -> 0 | DB7: =COUNTIFS('Raw Data'!$F:$F,Summary!$B7,'Raw Data'!AG:AG,">0") -> 0 | DC7: =SUMIFS('Raw Data'!$W:$W,'Raw Data'!$F:$F,Summary!$B7,'Raw Data'!AG:AG,">0") -> 0 | DD7: =COUNTIFS('Raw Data'!$F:$F,Summary!$B8,'Raw Data'!S:S,Summary!DD$4,'Raw Data'!AF:AF,">") -> 0 | DE7: =COUNTIFS('Raw Data'!$F:$F,Summary!$B7,'Raw Data'!AH:AH,">0") -> 0 | DF7: =SUMIFS('Raw Data'!$W:$W,'Raw Data'!$F:$F,Summary!$B7,'Raw Data'!AH:AH,">0") -> 0 | DG7: =CX7+DA7+DD7 -> 0 | DH7: =CY7+DB7+DE7 -> 0 | DI7: =CZ7+DC7+DF7 -> 0 | DJ7: =COUNTIFS('Raw Data'!$F:$F,Summary!$B8,'Raw Data'!T:T,Summary!DJ$4,'Raw Data'!AG:AG,">") -> 0 | DK7: =COUNTIFS('Raw Data'!$F:$F,Summary!$B7,'Raw Data'!AI:AI,">0") -> 0 | DL7: =SUMIFS('Raw Data'!$W:$W,'Raw Data'!$F:$F,Summary!$B7,'Raw Data'!AI:AI,">0") -> 0 | DM7: =COUNTIFS('Raw Data'!$F:$F,Summary!$B8,'Raw Data'!U:U,Summary!DM$4,'Raw Data'!AH:AH,">") -> 0 | DN7: =COUNTIFS('Raw Data'!$F:$F,Summary!$B7,'Raw Data'!AJ:AJ,">0") -> 0 | DO7: =SUMIFS('Raw Data'!$W:$W,'Raw Data'!$F:$F,Summary!$B7,'Raw Data'!AJ:AJ,">0") -> 0 | DP7: =COUNTIFS('Raw Data'!$F:$F,Summary!$B8,'Raw Data'!V:V,Summary!DP$4,'Raw Data'!AI:AI,">") -> 0 | DQ7: =COUNTIFS('Raw Data'!$F:$F,Summary!$B7,'Raw Data'!AK:AK,">0") -> 0 | DR7: =SUMIFS('Raw Data'!$W:$W,'Raw Data'!$F:$F,Summary!$B7,'Raw Data'!AK:AK,">0") -> 0 | DS7: =DJ7+DM7+DP7 -> 0 | DT7: =DK7+DN7+DQ7 -> 0 | DU7: =DL7+DO7+DR7 -> 0 | DV7: =COUNTIFS('Raw Data'!$F:$F,Summary!$B8,'Raw Data'!W:W,Summary!DV$4,'Raw Data'!AJ:AJ,">") -> 0 | DW7: =COUNTIFS('Raw Data'!$F:$F,Summary!$B7,'Raw Data'!AL:AL,">0") -> 0 | DX7: =SUMIFS('Raw Data'!$W:$W,'Raw Data'!$F:$F,Summary!$B7,'Raw Data'!AL:AL,">0") -> 0
B8: ATP | C8: =SUM(AH8,AR8,BB8,BL8) -> 0 | D8: =SUM(AI8,AS8,BC8,BM8) -> 0 | E8: =SUM(AJ8,AT8,BD8,BN8) -> 0 | F8: =SUM(AK8,AU8,BE8,BO8) -> 0 | G8: =SUM(AL8,AV8,BF8,BP8) -> 0 | H8: =SUM(AM8,AW8,BG8,BQ8) -> 0 | I8: =SUM(AN8,AX8,BH8,BR8) -> 0 | J8: =H8*I8 -> 0 | K8: =SUM(C8,E8,G8) -> 0 | L8: =SUM(D8,F8) -> 0 | M8: =AH8+AR8 -> 0 | N8: =AI8+AS8 -> 0 | O8: =AJ8+AT8 -> 0 | P8: =AK8+AU8 -> 0 | Q8: =AL8+AV8 -> 0 | R8: =AM8+AW8 -> 0 | S8: =AN8+AX8 -> 0 | T8: =AO8+AY8 -> 0 | ... V8: =AQ8+BA8 -> 0 | W8: =BB8+BL8 -> 0 | X8: =BC8+BM8 -> 0 | Y8: =BD8+BN8 -> 0 | Z8: =BE8+BO8 -> 0 | AA8: =BF8+BP8 -> 0 | AB8: =BG8+BQ8 -> 0 | AC8: =BH8+BR8 -> 0 | AD8: =BI8+BS8 -> 0 | ... AF8: =BK8+BU8 -> 0 | AH8: =COUNTIFS('Raw Data'!$G$6:$G$640,"Capex",'Raw Data'!$F$6:$F$640,B8,'Raw Data'!$Z$6:$Z$640,">=0")+COUNTIFS('Raw Data'!$G$6:$G$640,"Capex",'Raw Data'!$F$6:$F$640,B8,'Raw Data'!$AA$6:$AA$640,">=0")+COUNTIFS('Raw Data'!$G$6:$G$640,"Capex",'Raw Data'!$F$6:$F$640,B8,'Raw Data'!$AB$6:$AB$640,">=0") -> 0 | AI8: =SUMIFS('Raw Data'!$R$6:$R$640,'Raw Data'!$G$6:$G$640,"Capex",'Raw Data'!$F$6:$F$640,B8) -> 0 | AJ8: =COUNTIFS('Raw Data'!$G$6:$G$640,"R&M",'Raw Data'!$F$6:$F$640,B8,'Raw Data'!$Z$6:$Z$640,">0")+COUNTIFS('Raw Data'!$G$6:$G$640,"R&M",'Raw Data'!$F$6:$F$640,B8,'Raw Data'!$AA$6:$AA$640,">0")+COUNTIFS('Raw Data'!$G$6:$G$640,"R&M",'Raw Data'!$F$6:$F$640,B8,'Raw Data'!$AB$6:$AB$640,">0") -> 0 | AK8: =SUMIFS('Raw Data'!$R$6:$R$640,'Raw Data'!$G$6:$G$640,$AJ$4,'Raw Data'!$F$6:$F$640,B8) -> 0 | AL8: =COUNTIFS('Raw Data'!$G$6:$G$640,"Support",'Raw Data'!$F$6:$F$640,B8,'Raw Data'!$Z$6:$Z$640,">0")+COUNTIFS('Raw Data'!$G$6:$G$640,"Support",'Raw Data'!$F$6:$F$640,B8,'Raw Data'!$AA$6:$AA$640,">0")+COUNTIFS('Raw Data'!$G$6:$G$640,"Support",'Raw Data'!$F$6:$F$640,B8,'Raw Data'!$AB$6:$AB$640,">0") -> 0 | AM8: =SUMIFS('Raw Data'!$X$6:$X$640,'Raw Data'!$G$6:$G$640,"Support",'Raw Data'!$F$6:$F$640,B8,'Raw Data'!$Z$6:$Z$640,">0")+SUMIFS('Raw Data'!$X$6:$X$640,'Raw Data'!$G$6:$G$640,"Support",'Raw Data'!$F$6:$F$640,B8,'Raw Data'!$AA$6:$AA$640,">0")+SUMIFS('Raw Data'!$X$6:$X$640,'Raw Data'!$G$6:$G$640,"Support",'Raw Data'!$F$6:$F$640,B8,'Raw Data'!$AB$6:$AB$640,">0") -> 0 | AN8: =SUMIFS('Raw Data'!$Y$6:$Y$640,'Raw Data'!$G$6:$G$640,"Support",'Raw Data'!$F$6:$F$640,B8,'Raw Data'!$Z$6:$Z$640,">0")+SUMIFS('Raw Data'!$Y$6:$Y$640,'Raw Data'!$G$6:$G$640,"Support",'Raw Data'!$F$6:$F$640,B8,'Raw Data'!$AA$6:$AA$640,">0")+SUMIFS('Raw Data'!$Y$6:$Y$640,'Raw Data'!$G$6:$G$640,"Support",'Raw Data'!$F$6:$F$640,B8,'Raw Data'!$AB$6:$AB$640,">0") -> 0 | AO8: =AM8*AN8 -> 0 | AP8: =SUM(AH8,AJ8,AL8) -> 0 | AQ8: =SUM(AI8,AK8,AO8) -> 0 | AR8: =COUNTIFS('Raw Data'!$G$6:$G$640,"Capex",'Raw Data'!$F$6:$F$640,B8,'Raw Data'!$AC$6:$AC$640,">0")+COUNTIFS('Raw Data'!$G$6:$G$640,"Capex",'Raw Data'!$F$6:$F$640,B8,'Raw Data'!$AD$6:$AD$640,">0")+COUNTIFS('Raw Data'!$G$6:$G$640,"Capex",'Raw Data'!$F$6:$F$640,B8,'Raw Data'!$AE$6:$AE$640,">0") -> 0 | AS8: =SUMIFS('Raw Data'!$S$6:$S$640,'Raw Data'!$G$6:$G$640,"Capex",'Raw Data'!$F$6:$F$640,B8) -> 0 | AT8: =COUNTIFS('Raw Data'!$G$6:$G$640,"R&M",'Raw Data'!$F$6:$F$640,B8,'Raw Data'!$AC$6:$AC$640,">0")+COUNTIFS('Raw Data'!$G$6:$G$640,"R&M",'Raw Data'!$F$6:$F$640,B8,'Raw Data'!$AD$6:$AD$640,">0")+COUNTIFS('Raw Data'!$G$6:$G$640,"R&M",'Raw Data'!$F$6:$F$640,B8,'Raw Data'!$AE$6:$AE$640,">0") -> 0 | AU8: =SUMIFS('Raw Data'!$S$6:$S$640,'Raw Data'!$G$6:$G$640,"R&M",'Raw Data'!$F$6:$F$640,B8) -> 0 | AV8: =COUNTIFS('Raw Data'!$G$6:$G$340,"Support",'Raw Data'!$F$6:$F$340,B8,'Raw Data'!$AC$6:$AC$340,">0")+COUNTIFS('Raw Data'!$G$6:$G$340,"Support",'Raw Data'!$F$6:$F$340,B8,'Raw Data'!$AD$6:$AD$340,">0")+COUNTIFS('Raw Data'!$G$6:$G$340,"Support",'Raw Data'!$F$6:$F$340,B8,'Raw Data'!$AE$6:$AE$340,">0") -> 0 | AW8: =SUMIFS('Raw Data'!$X$6:$X$640,'Raw Data'!$G$6:$G$640,"Support",'Raw Data'!$F$6:$F$640,B8,'Raw Data'!$AC$6:$AC$640,">0")+SUMIFS('Raw Data'!$X$6:$X$640,'Raw Data'!$G$6:$G$640,"Support",'Raw Data'!$F$6:$F$640,B8,'Raw Data'!$AD$6:$AD$640,">0")+SUMIFS('Raw Data'!$X$6:$X$640,'Raw Data'!$G$6:$G$640,"Support",'Raw Data'!$F$6:$F$640,B8,'Raw Data'!$AE$6:$AE$640,">0") -> 0 | AX8: =SUMIFS('Raw Data'!$Y$6:$Y$640,'Raw Data'!$G$6:$G$640,"Support",'Raw Data'!$F$6:$F$640,B8,'Raw Data'!$AC$6:$AC$640,">0")+SUMIFS('Raw Data'!$Y$6:$Y$640,'Raw Data'!$G$6:$G$640,"Support",'Raw Data'!$F$6:$F$640,B8,'Raw Data'!$AD$6:$AD$640,">0")+SUMIFS('Raw Data'!$Y$6:$Y$640,'Raw Data'!$G$6:$G$640,"Support",'Raw Data'!$F$6:$F$640,B8,'Raw Data'!$AE$6:$AE$640,">0") -> 0 | AY8: =AW8*AX8 -> 0 | AZ8: =SUM(AR8,AT8,AV8) -> 0 | BA8: =SUM(AS8,AU8) -> 0 | BB8: =COUNTIFS('Raw Data'!$G$6:$G$640,"Capex",'Raw Data'!$F$6:$F$640,B8,'Raw Data'!$AF$6:$AF$640,">0")+COUNTIFS('Raw Data'!$G$6:$G$640,"Capex",'Raw Data'!$F$6:$F$640,B8,'Raw Data'!$AG$6:$AG$640,">0")+COUNTIFS('Raw Data'!$G$6:$G$640,"Capex",'Raw Data'!$F$6:$F$640,B8,'Raw Data'!$AH$6:$AH$640,">0") -> 0 | BC8: =SUMIFS('Raw Data'!$T$6:$T$640,'Raw Data'!$G$6:$G$640,"Capex",'Raw Data'!$F$6:$F$640,B8) -> 0 | BD8: =COUNTIFS('Raw Data'!$G$6:$G$640,"R&M",'Raw Data'!$F$6:$F$640,B8,'Raw Data'!$AF$6:$AF$640,">0")+COUNTIFS('Raw Data'!$G$6:$G$640,"R&M",'Raw Data'!$F$6:$F$640,B8,'Raw Data'!$AG$6:$AG$640,">0")+COUNTIFS('Raw Data'!$G$6:$G$640,"R&M",'Raw Data'!$F$6:$F$640,B8,'Raw Data'!$AH$6:$AH$640,">0") -> 0 | BE8: =SUMIFS('Raw Data'!$T$6:$T$640,'Raw Data'!$G$6:$G$640,"R&M",'Raw Data'!$F$6:$F$640,B8) -> 0 | BF8: =COUNTIFS('Raw Data'!$G$6:$G$640,"Support",'Raw Data'!$F$6:$F$640,B8,'Raw Data'!$AF$6:$AF$640,">0")+COUNTIFS('Raw Data'!$G$6:$G$640,"Support",'Raw Data'!$F$6:$F$640,B8,'Raw Data'!$AG$6:$AG$640,">0")+COUNTIFS('Raw Data'!$G$6:$G$640,"Support",'Raw Data'!$F$6:$F$640,B8,'Raw Data'!$AH$6:$AH$640,">0") -> 0 | BG8: =SUMIFS('Raw Data'!$X$6:$X$640,'Raw Data'!$G$6:$G$640,"Support",'Raw Data'!$F$6:$F$640,B8,'Raw Data'!$AF$6:$AF$640,">0")+SUMIFS('Raw Data'!$X$6:$X$640,'Raw Data'!$G$6:$G$640,"Support",'Raw Data'!$F$6:$F$640,B8,'Raw Data'!$AG$6:$AG$640,">0")+SUMIFS('Raw Data'!$X$6:$X$640,'Raw Data'!$G$6:$G$640,"Support",'Raw Data'!$F$6:$F$640,B8,'Raw Data'!$AH$6:$AH$640,">0") -> 0 | BH8: =SUMIFS('Raw Data'!$Y$6:$Y$640,'Raw Data'!$G$6:$G$640,"Support",'Raw Data'!$F$6:$F$640,B8,'Raw Data'!$AF$6:$AF$640,">0")+SUMIFS('Raw Data'!$Y$6:$Y$640,'Raw Data'!$G$6:$G$640,"Support",'Raw Data'!$F$6:$F$640,B8,'Raw Data'!$AG$6:$AG$640,">0")+SUMIFS('Raw Data'!$Y$6:$Y$640,'Raw Data'!$G$6:$G$640,"Support",'Raw Data'!$F$6:$F$640,B8,'Raw Data'!$AH$6:$AH$640,">0") -> 0 | BI8: =BG8*BH8 -> 0 | BJ8: =SUM(BB8,BD8,BF8) -> 0 | BK8: =SUM(BC8,BE8) -> 0 | BL8: =COUNTIFS('Raw Data'!$G$6:$G$640,"Capex",'Raw Data'!$F$6:$F$640,B8,'Raw Data'!$AI$6:$AI$640,">0")+COUNTIFS('Raw Data'!$G$6:$G$640,"Capex",'Raw Data'!$F$6:$F$640,B8,'Raw Data'!$AJ$6:$AJ$640,">0")+COUNTIFS('Raw Data'!$G$6:$G$640,"Capex",'Raw Data'!$F$6:$F$640,B8,'Raw Data'!$AK$6:$AK$640,">0") -> 0 | BM8: =SUMIFS('Raw Data'!$U$6:$U$640,'Raw Data'!$G$6:$G$640,"Capex",'Raw Data'!$F$6:$F$640,B8) -> 0 | BN8: =COUNTIFS('Raw Data'!$G$6:$G$640,"R&M",'Raw Data'!$F$6:$F$640,B8,'Raw Data'!$AI$6:$AI$640,">0")+COUNTIFS('Raw Data'!$G$6:$G$640,"R&M",'Raw Data'!$F$6:$F$640,B8,'Raw Data'!$AJ$6:$AJ$640,">0")+COUNTIFS('Raw Data'!$G$6:$G$640,"R&M",'Raw Data'!$F$6:$F$640,B8,'Raw Data'!$AK$6:$AK$640,">0") -> 0 | BO8: =SUMIFS('Raw Data'!$U$6:$U$640,'Raw Data'!$G$6:$G$640,"R&M",'Raw Data'!$F$6:$F$640,B8) -> 0 | BP8: =COUNTIFS('Raw Data'!$G$6:$G$640,"Support",'Raw Data'!$F$6:$F$640,B8,'Raw Data'!$AI$6:$AI$640,">0")+COUNTIFS('Raw Data'!$G$6:$G$640,"Support",'Raw Data'!$F$6:$F$640,B8,'Raw Data'!$AJ$6:$AJ$640,">0")+COUNTIFS('Raw Data'!$G$6:$G$640,"Support",'Raw Data'!$F$6:$F$640,B8,'Raw Data'!$AK$6:$AK$640,">0") -> 0 | BQ8: =SUMIFS('Raw Data'!$X$6:$X$640,'Raw Data'!$G$6:$G$640,"Support",'Raw Data'!$F$6:$F$640,B8,'Raw Data'!$AI$6:$AI$640,">0")+SUMIFS('Raw Data'!$X$6:$X$640,'Raw Data'!$G$6:$G$640,"Support",'Raw Data'!$F$6:$F$640,B8,'Raw Data'!$AJ$6:$AJ$640,">0")+SUMIFS('Raw Data'!$X$6:$X$640,'Raw Data'!$G$6:$G$640,"Support",'Raw Data'!$F$6:$F$640,B8,'Raw Data'!$AK$6:$AK$640,">0") -> 0 | BR8: =SUMIFS('Raw Data'!$Y$6:$Y$640,'Raw Data'!$G$6:$G$640,"Support",'Raw Data'!$F$6:$F$640,B8,'Raw Data'!$AI$6:$AI$640,">0")+SUMIFS('Raw Data'!$Y$6:$Y$640,'Raw Data'!$G$6:$G$640,"Support",'Raw Data'!$F$6:$F$640,B8,'Raw Data'!$AJ$6:$AJ$640,">0")+SUMIFS('Raw Data'!$Y$6:$Y$640,'Raw Data'!$G$6:$G$640,"Support",'Raw Data'!$F$6:$F$640,B8,'Raw Data'!$AK$6:$AK$640,">0") -> 0 | BS8: =BQ8*BR8 -> 0 | BT8: =SUM(BL8,BN8,BP8) -> 0 | BU8: =SUM(BM8,BO8) -> 0 | BV8: =25*12 -> 300 | BY8: ATP | BZ8: =COUNTIFS('Raw Data'!$F:$F,Summary!$B9,'Raw Data'!K:K,Summary!BZ$4,'Raw Data'!X:X,">") -> 0 | CA8: =COUNTIFS('Raw Data'!$F:$F,Summary!$B8,'Raw Data'!Z:Z,">0") -> 0 | CB8: =SUMIFS('Raw Data'!$W:$W,'Raw Data'!$F:$F,Summary!$B8,'Raw Data'!Z:Z,">0") -> 0 | CC8: =COUNTIFS('Raw Data'!$F:$F,Summary!$B9,'Raw Data'!L:L,Summary!CC$4,'Raw Data'!Y:Y,">") -> 0 | CD8: =COUNTIFS('Raw Data'!$F:$F,Summary!$B8,'Raw Data'!AA:AA,">0") -> 0 | CE8: =SUMIFS('Raw Data'!$W:$W,'Raw Data'!$F:$F,Summary!$B8,'Raw Data'!AA:AA,">0") -> 0 | CF8: =COUNTIFS('Raw Data'!$F:$F,Summary!$B9,'Raw Data'!M:M,Summary!CF$4,'Raw Data'!Z:Z,">") -> 0 | CG8: =COUNTIFS('Raw Data'!$F:$F,Summary!$B8,'Raw Data'!AB:AB,">0") -> 0 | CH8: =SUMIFS('Raw Data'!$W:$W,'Raw Data'!$F:$F,Summary!$B8,'Raw Data'!AB:AB,">0") -> 0 | CI8: =BZ8+CC8+CF8 -> 0 | CJ8: =CA8+CD8+CG8 -> 0 | CK8: =CB8+CE8+CH8 -> 0 | CL8: =COUNTIFS('Raw Data'!$F:$F,Summary!$B9,'Raw Data'!N:N,Summary!CL$4,'Raw Data'!AA:AA,">") -> 0 | CM8: =COUNTIFS('Raw Data'!$F:$F,Summary!$B8,'Raw Data'!AC:AC,">0") -> 0 | CN8: =SUMIFS('Raw Data'!$W:$W,'Raw Data'!$F:$F,Summary!$B8,'Raw Data'!AC:AC,">0") -> 0 | CO8: =COUNTIFS('Raw Data'!$F:$F,Summary!$B9,'Raw Data'!O:O,Summary!CO$4,'Raw Data'!AB:AB,">") -> 0 | CP8: =COUNTIFS('Raw Data'!$F:$F,Summary!$B8,'Raw Data'!AD:AD,">0") -> 0 | CQ8: =SUMIFS('Raw Data'!$W:$W,'Raw Data'!$F:$F,Summary!$B8,'Raw Data'!AD:AD,">0") -> 0 | CR8: =COUNTIFS('Raw Data'!$F:$F,Summary!$B9,'Raw Data'!P:P,Summary!CR$4,'Raw Data'!AC:AC,">") -> 0 | CS8: =COUNTIFS('Raw Data'!$F:$F,Summary!$B8,'Raw Data'!AE:AE,">0") -> 0 | CT8: =SUMIFS('Raw Data'!$W:$W,'Raw Data'!$F:$F,Summary!$B8,'Raw Data'!AE:AE,">0") -> 0 | CU8: =CL8+CO8+CR8 -> 0 | CV8: =CM8+CP8+CS8 -> 0 | CW8: =CN8+CQ8+CT8 -> 0 | CX8: =COUNTIFS('Raw Data'!$F:$F,Summary!$B9,'Raw Data'!Q:Q,Summary!CX$4,'Raw Data'!AD:AD,">") -> 0 | CY8: =COUNTIFS('Raw Data'!$F:$F,Summary!$B8,'Raw Data'!AF:AF,">0") -> 0 | CZ8: =SUMIFS('Raw Data'!$W:$W,'Raw Data'!$F:$F,Summary!$B8,'Raw Data'!AF:AF,">0") -> 0 | DA8: =COUNTIFS('Raw Data'!$F:$F,Summary!$B9,'Raw Data'!R:R,Summary!DA$4,'Raw Data'!AE:AE,">") -> 0 | DB8: =COUNTIFS('Raw Data'!$F:$F,Summary!$B8,'Raw Data'!AG:AG,">0") -> 0 | DC8: =SUMIFS('Raw Data'!$W:$W,'Raw Data'!$F:$F,Summary!$B8,'Raw Data'!AG:AG,">0") -> 0 | DD8: =COUNTIFS('Raw Data'!$F:$F,Summary!$B9,'Raw Data'!S:S,Summary!DD$4,'Raw Data'!AF:AF,">") -> 0 | DE8: =COUNTIFS('Raw Data'!$F:$F,Summary!$B8,'Raw Data'!AH:AH,">0") -> 0 | DF8: =SUMIFS('Raw Data'!$W:$W,'Raw Data'!$F:$F,Summary!$B8,'Raw Data'!AH:AH,">0") -> 0 | DG8: =CX8+DA8+DD8 -> 0 | DH8: =CY8+DB8+DE8 -> 0 | DI8: =CZ8+DC8+DF8 -> 0 | DJ8: =COUNTIFS('Raw Data'!$F:$F,Summary!$B9,'Raw Data'!T:T,Summary!DJ$4,'Raw Data'!AG:AG,">") -> 0 | DK8: =COUNTIFS('Raw Data'!$F:$F,Summary!$B8,'Raw Data'!AI:AI,">0") -> 0 | DL8: =SUMIFS('Raw Data'!$W:$W,'Raw Data'!$F:$F,Summary!$B8,'Raw Data'!AI:AI,">0") -> 0 | DM8: =COUNTIFS('Raw Data'!$F:$F,Summary!$B9,'Raw Data'!U:U,Summary!DM$4,'Raw Data'!AH:AH,">") -> 0 | DN8: =COUNTIFS('Raw Data'!$F:$F,Summary!$B8,'Raw Data'!AJ:AJ,">0") -> 0 | DO8: =SUMIFS('Raw Data'!$W:$W,'Raw Data'!$F:$F,Summary!$B8,'Raw Data'!AJ:AJ,">0") -> 0 | DP8: =COUNTIFS('Raw Data'!$F:$F,Summary!$B9,'Raw Data'!V:V,Summary!DP$4,'Raw Data'!AI:AI,">") -> 0 | DQ8: =COUNTIFS('Raw Data'!$F:$F,Summary!$B8,'Raw Data'!AK:AK,">0") -> 0 | DR8: =SUMIFS('Raw Data'!$W:$W,'Raw Data'!$F:$F,Summary!$B8,'Raw Data'!AK:AK,">0") -> 0 | DS8: =DJ8+DM8+DP8 -> 0 | DT8: =DK8+DN8+DQ8 -> 0 | DU8: =DL8+DO8+DR8 -> 0 | DV8: =COUNTIFS('Raw Data'!$F:$F,Summary!$B9,'Raw Data'!W:W,Summary!DV$4,'Raw Data'!AJ:AJ,">") -> 0 | DW8: =COUNTIFS('Raw Data'!$F:$F,Summary!$B8,'Raw Data'!AL:AL,">0") -> 0 | DX8: =SUMIFS('Raw Data'!$W:$W,'Raw Data'!$F:$F,Summary!$B8,'Raw Data'!AL:AL,">0") -> 0
B9: ATT | C9: =SUM(AH9,AR9,BB9,BL9) -> 0 | D9: =SUM(AI9,AS9,BC9,BM9) -> 0 | E9: =SUM(AJ9,AT9,BD9,BN9) -> 0 | F9: =SUM(AK9,AU9,BE9,BO9) -> 0 | G9: =SUM(AL9,AV9,BF9,BP9) -> 0 | H9: =SUM(AM9,AW9,BG9,BQ9) -> 0 | I9: =SUM(AN9,AX9,BH9,BR9) -> 0 | J9: =H9*I9 -> 0 | K9: =SUM(C9,E9,G9) -> 0 | L9: =SUM(D9,F9) -> 0 | M9: =AH9+AR9 -> 0 | N9: =AI9+AS9 -> 0 | O9: =AJ9+AT9 -> 0 | P9: =AK9+AU9 -> 0 | Q9: =AL9+AV9 -> 0 | R9: =AM9+AW9 -> 0 | S9: =AN9+AX9 -> 0 | T9: =AO9+AY9 -> 0 | ... V9: =AQ9+BA9 -> 0 | W9: =BB9+BL9 -> 0 | X9: =BC9+BM9 -> 0 | Y9: =BD9+BN9 -> 0 | Z9: =BE9+BO9 -> 0 | AA9: =BF9+BP9 -> 0 | AB9: =BG9+BQ9 -> 0 | AC9: =BH9+BR9 -> 0 | AD9: =BI9+BS9 -> 0 | ... AF9: =BK9+BU9 -> 0 | AH9: =COUNTIFS('Raw Data'!$G$6:$G$640,"Capex",'Raw Data'!$F$6:$F$640,B9,'Raw Data'!$Z$6:$Z$640,">=0")+COUNTIFS('Raw Data'!$G$6:$G$640,"Capex",'Raw Data'!$F$6:$F$640,B9,'Raw Data'!$AA$6:$AA$640,">=0")+COUNTIFS('Raw Data'!$G$6:$G$640,"Capex",'Raw Data'!$F$6:$F$640,B9,'Raw Data'!$AB$6:$AB$640,">=0") -> 0 | AI9: =SUMIFS('Raw Data'!$R$6:$R$640,'Raw Data'!$G$6:$G$640,"Capex",'Raw Data'!$F$6:$F$640,B9) -> 0 | AJ9: =COUNTIFS('Raw Data'!$G$6:$G$640,"R&M",'Raw Data'!$F$6:$F$640,B9,'Raw Data'!$Z$6:$Z$640,">0")+COUNTIFS('Raw Data'!$G$6:$G$640,"R&M",'Raw Data'!$F$6:$F$640,B9,'Raw Data'!$AA$6:$AA$640,">0")+COUNTIFS('Raw Data'!$G$6:$G$640,"R&M",'Raw Data'!$F$6:$F$640,B9,'Raw Data'!$AB$6:$AB$640,">0") -> 0 | AK9: =SUMIFS('Raw Data'!$R$6:$R$640,'Raw Data'!$G$6:$G$640,$AJ$4,'Raw Data'!$F$6:$F$640,B9) -> 0 | AL9: =COUNTIFS('Raw Data'!$G$6:$G$640,"Support",'Raw Data'!$F$6:$F$640,B9,'Raw Data'!$Z$6:$Z$640,">0")+COUNTIFS('Raw Data'!$G$6:$G$640,"Support",'Raw Data'!$F$6:$F$640,B9,'Raw Data'!$AA$6:$AA$640,">0")+COUNTIFS('Raw Data'!$G$6:$G$640,"Support",'Raw Data'!$F$6:$F$640,B9,'Raw Data'!$AB$6:$AB$640,">0") -> 0 | AM9: =SUMIFS('Raw Data'!$X$6:$X$640,'Raw Data'!$G$6:$G$640,"Support",'Raw Data'!$F$6:$F$640,B9,'Raw Data'!$Z$6:$Z$640,">0")+SUMIFS('Raw Data'!$X$6:$X$640,'Raw Data'!$G$6:$G$640,"Support",'Raw Data'!$F$6:$F$640,B9,'Raw Data'!$AA$6:$AA$640,">0")+SUMIFS('Raw Data'!$X$6:$X$640,'Raw Data'!$G$6:$G$640,"Support",'Raw Data'!$F$6:$F$640,B9,'Raw Data'!$AB$6:$AB$640,">0") -> 0 | AN9: =SUMIFS('Raw Data'!$Y$6:$Y$640,'Raw Data'!$G$6:$G$640,"Support",'Raw Data'!$F$6:$F$640,B9,'Raw Data'!$Z$6:$Z$640,">0")+SUMIFS('Raw Data'!$Y$6:$Y$640,'Raw Data'!$G$6:$G$640,"Support",'Raw Data'!$F$6:$F$640,B9,'Raw Data'!$AA$6:$AA$640,">0")+SUMIFS('Raw Data'!$Y$6:$Y$640,'Raw Data'!$G$6:$G$640,"Support",'Raw Data'!$F$6:$F$640,B9,'Raw Data'!$AB$6:$AB$640,">0") -> 0 | AO9: =AM9*AN9 -> 0 | AP9: =SUM(AH9,AJ9,AL9) -> 0 | AQ9: =SUM(AI9,AK9,AO9) -> 0 | AR9: =COUNTIFS('Raw Data'!$G$6:$G$640,"Capex",'Raw Data'!$F$6:$F$640,B9,'Raw Data'!$AC$6:$AC$640,">0")+COUNTIFS('Raw Data'!$G$6:$G$640,"Capex",'Raw Data'!$F$6:$F$640,B9,'Raw Data'!$AD$6:$AD$640,">0")+COUNTIFS('Raw Data'!$G$6:$G$640,"Capex",'Raw Data'!$F$6:$F$640,B9,'Raw Data'!$AE$6:$AE$640,">0") -> 0 | AS9: =SUMIFS('Raw Data'!$S$6:$S$640,'Raw Data'!$G$6:$G$640,"Capex",'Raw Data'!$F$6:$F$640,B9) -> 0 | AT9: =COUNTIFS('Raw Data'!$G$6:$G$640,"R&M",'Raw Data'!$F$6:$F$640,B9,'Raw Data'!$AC$6:$AC$640,">0")+COUNTIFS('Raw Data'!$G$6:$G$640,"R&M",'Raw Data'!$F$6:$F$640,B9,'Raw Data'!$AD$6:$AD$640,">0")+COUNTIFS('Raw Data'!$G$6:$G$640,"R&M",'Raw Data'!$F$6:$F$640,B9,'Raw Data'!$AE$6:$AE$640,">0") -> 0 | AU9: =SUMIFS('Raw Data'!$S$6:$S$640,'Raw Data'!$G$6:$G$640,"R&M",'Raw Data'!$F$6:$F$640,B9) -> 0 | AV9: =COUNTIFS('Raw Data'!$G$6:$G$340,"Support",'Raw Data'!$F$6:$F$340,B9,'Raw Data'!$AC$6:$AC$340,">0")+COUNTIFS('Raw Data'!$G$6:$G$340,"Support",'Raw Data'!$F$6:$F$340,B9,'Raw Data'!$AD$6:$AD$340,">0")+COUNTIFS('Raw Data'!$G$6:$G$340,"Support",'Raw Data'!$F$6:$F$340,B9,'Raw Data'!$AE$6:$AE$340,">0") -> 0 | AW9: =SUMIFS('Raw Data'!$X$6:$X$640,'Raw Data'!$G$6:$G$640,"Support",'Raw Data'!$F$6:$F$640,B9,'Raw Data'!$AC$6:$AC$640,">0")+SUMIFS('Raw Data'!$X$6:$X$640,'Raw Data'!$G$6:$G$640,"Support",'Raw Data'!$F$6:$F$640,B9,'Raw Data'!$AD$6:$AD$640,">0")+SUMIFS('Raw Data'!$X$6:$X$640,'Raw Data'!$G$6:$G$640,"Support",'Raw Data'!$F$6:$F$640,B9,'Raw Data'!$AE$6:$AE$640,">0") -> 0 | AX9: =SUMIFS('Raw Data'!$Y$6:$Y$640,'Raw Data'!$G$6:$G$640,"Support",'Raw Data'!$F$6:$F$640,B9,'Raw Data'!$AC$6:$AC$640,">0")+SUMIFS('Raw Data'!$Y$6:$Y$640,'Raw Data'!$G$6:$G$640,"Support",'Raw Data'!$F$6:$F$640,B9,'Raw Data'!$AD$6:$AD$640,">0")+SUMIFS('Raw Data'!$Y$6:$Y$640,'Raw Data'!$G$6:$G$640,"Support",'Raw Data'!$F$6:$F$640,B9,'Raw Data'!$AE$6:$AE$640,">0") -> 0 | AY9: =AW9*AX9 -> 0 | AZ9: =SUM(AR9,AT9,AV9) -> 0 | BA9: =SUM(AS9,AU9) -> 0 | BB9: =COUNTIFS('Raw Data'!$G$6:$G$640,"Capex",'Raw Data'!$F$6:$F$640,B9,'Raw Data'!$AF$6:$AF$640,">0")+COUNTIFS('Raw Data'!$G$6:$G$640,"Capex",'Raw Data'!$F$6:$F$640,B9,'Raw Data'!$AG$6:$AG$640,">0")+COUNTIFS('Raw Data'!$G$6:$G$640,"Capex",'Raw Data'!$F$6:$F$640,B9,'Raw Data'!$AH$6:$AH$640,">0") -> 0 | BC9: =SUMIFS('Raw Data'!$T$6:$T$640,'Raw Data'!$G$6:$G$640,"Capex",'Raw Data'!$F$6:$F$640,B9) -> 0 | BD9: =COUNTIFS('Raw Data'!$G$6:$G$640,"R&M",'Raw Data'!$F$6:$F$640,B9,'Raw Data'!$AF$6:$AF$640,">0")+COUNTIFS('Raw Data'!$G$6:$G$640,"R&M",'Raw Data'!$F$6:$F$640,B9,'Raw Data'!$AG$6:$AG$640,">0")+COUNTIFS('Raw Data'!$G$6:$G$640,"R&M",'Raw Data'!$F$6:$F$640,B9,'Raw Data'!$AH$6:$AH$640,">0") -> 0 | BE9: =SUMIFS('Raw Data'!$T$6:$T$640,'Raw Data'!$G$6:$G$640,"R&M",'Raw Data'!$F$6:$F$640,B9) -> 0 | BF9: =COUNTIFS('Raw Data'!$G$6:$G$640,"Support",'Raw Data'!$F$6:$F$640,B9,'Raw Data'!$AF$6:$AF$640,">0")+COUNTIFS('Raw Data'!$G$6:$G$640,"Support",'Raw Data'!$F$6:$F$640,B9,'Raw Data'!$AG$6:$AG$640,">0")+COUNTIFS('Raw Data'!$G$6:$G$640,"Support",'Raw Data'!$F$6:$F$640,B9,'Raw Data'!$AH$6:$AH$640,">0") -> 0 | BG9: =SUMIFS('Raw Data'!$X$6:$X$640,'Raw Data'!$G$6:$G$640,"Support",'Raw Data'!$F$6:$F$640,B9,'Raw Data'!$AF$6:$AF$640,">0")+SUMIFS('Raw Data'!$X$6:$X$640,'Raw Data'!$G$6:$G$640,"Support",'Raw Data'!$F$6:$F$640,B9,'Raw Data'!$AG$6:$AG$640,">0")+SUMIFS('Raw Data'!$X$6:$X$640,'Raw Data'!$G$6:$G$640,"Support",'Raw Data'!$F$6:$F$640,B9,'Raw Data'!$AH$6:$AH$640,">0") -> 0 | BH9: =SUMIFS('Raw Data'!$Y$6:$Y$640,'Raw Data'!$G$6:$G$640,"Support",'Raw Data'!$F$6:$F$640,B9,'Raw Data'!$AF$6:$AF$640,">0")+SUMIFS('Raw Data'!$Y$6:$Y$640,'Raw Data'!$G$6:$G$640,"Support",'Raw Data'!$F$6:$F$640,B9,'Raw Data'!$AG$6:$AG$640,">0")+SUMIFS('Raw Data'!$Y$6:$Y$640,'Raw Data'!$G$6:$G$640,"Support",'Raw Data'!$F$6:$F$640,B9,'Raw Data'!$AH$6:$AH$640,">0") -> 0 | BI9: =BG9*BH9 -> 0 | BJ9: =SUM(BB9,BD9,BF9) -> 0 | BK9: =SUM(BC9,BE9) -> 0 | BL9: =COUNTIFS('Raw Data'!$G$6:$G$640,"Capex",'Raw Data'!$F$6:$F$640,B9,'Raw Data'!$AI$6:$AI$640,">0")+COUNTIFS('Raw Data'!$G$6:$G$640,"Capex",'Raw Data'!$F$6:$F$640,B9,'Raw Data'!$AJ$6:$AJ$640,">0")+COUNTIFS('Raw Data'!$G$6:$G$640,"Capex",'Raw Data'!$F$6:$F$640,B9,'Raw Data'!$AK$6:$AK$640,">0") -> 0 | BM9: =SUMIFS('Raw Data'!$U$6:$U$640,'Raw Data'!$G$6:$G$640,"Capex",'Raw Data'!$F$6:$F$640,B9) -> 0 | BN9: =COUNTIFS('Raw Data'!$G$6:$G$640,"R&M",'Raw Data'!$F$6:$F$640,B9,'Raw Data'!$AI$6:$AI$640,">0")+COUNTIFS('Raw Data'!$G$6:$G$640,"R&M",'Raw Data'!$F$6:$F$640,B9,'Raw Data'!$AJ$6:$AJ$640,">0")+COUNTIFS('Raw Data'!$G$6:$G$640,"R&M",'Raw Data'!$F$6:$F$640,B9,'Raw Data'!$AK$6:$AK$640,">0") -> 0 | BO9: =SUMIFS('Raw Data'!$U$6:$U$640,'Raw Data'!$G$6:$G$640,"R&M",'Raw Data'!$F$6:$F$640,B9) -> 0 | BP9: =COUNTIFS('Raw Data'!$G$6:$G$640,"Support",'Raw Data'!$F$6:$F$640,B9,'Raw Data'!$AI$6:$AI$640,">0")+COUNTIFS('Raw Data'!$G$6:$G$640,"Support",'Raw Data'!$F$6:$F$640,B9,'Raw Data'!$AJ$6:$AJ$640,">0")+COUNTIFS('Raw Data'!$G$6:$G$640,"Support",'Raw Data'!$F$6:$F$640,B9,'Raw Data'!$AK$6:$AK$640,">0") -> 0 | BQ9: =SUMIFS('Raw Data'!$X$6:$X$640,'Raw Data'!$G$6:$G$640,"Support",'Raw Data'!$F$6:$F$640,B9,'Raw Data'!$AI$6:$AI$640,">0")+SUMIFS('Raw Data'!$X$6:$X$640,'Raw Data'!$G$6:$G$640,"Support",'Raw Data'!$F$6:$F$640,B9,'Raw Data'!$AJ$6:$AJ$640,">0")+SUMIFS('Raw Data'!$X$6:$X$640,'Raw Data'!$G$6:$G$640,"Support",'Raw Data'!$F$6:$F$640,B9,'Raw Data'!$AK$6:$AK$640,">0") -> 0 | BR9: =SUMIFS('Raw Data'!$Y$6:$Y$640,'Raw Data'!$G$6:$G$640,"Support",'Raw Data'!$F$6:$F$640,B9,'Raw Data'!$AI$6:$AI$640,">0")+SUMIFS('Raw Data'!$Y$6:$Y$640,'Raw Data'!$G$6:$G$640,"Support",'Raw Data'!$F$6:$F$640,B9,'Raw Data'!$AJ$6:$AJ$640,">0")+SUMIFS('Raw Data'!$Y$6:$Y$640,'Raw Data'!$G$6:$G$640,"Support",'Raw Data'!$F$6:$F$640,B9,'Raw Data'!$AK$6:$AK$640,">0") -> 0 | BS9: =BQ9*BR9 -> 0 | BT9: =SUM(BL9,BN9,BP9) -> 0 | BU9: =SUM(BM9,BO9) -> 0 | BV9: =25*12 -> 300 | BY9: ATT | BZ9: =COUNTIFS('Raw Data'!$F:$F,Summary!$B10,'Raw Data'!K:K,Summary!BZ$4,'Raw Data'!X:X,">") -> 0 | CA9: =COUNTIFS('Raw Data'!$F:$F,Summary!$B9,'Raw Data'!Z:Z,">0") -> 0 | CB9: =SUMIFS('Raw Data'!$W:$W,'Raw Data'!$F:$F,Summary!$B9,'Raw Data'!Z:Z,">0") -> 0 | CC9: =COUNTIFS('Raw Data'!$F:$F,Summary!$B10,'Raw Data'!L:L,Summary!CC$4,'Raw Data'!Y:Y,">") -> 0 | CD9: =COUNTIFS('Raw Data'!$F:$F,Summary!$B9,'Raw Data'!AA:AA,">0") -> 0 | CE9: =SUMIFS('Raw Data'!$W:$W,'Raw Data'!$F:$F,Summary!$B9,'Raw Data'!AA:AA,">0") -> 0 | CF9: =COUNTIFS('Raw Data'!$F:$F,Summary!$B10,'Raw Data'!M:M,Summary!CF$4,'Raw Data'!Z:Z,">") -> 0 | CG9: =COUNTIFS('Raw Data'!$F:$F,Summary!$B9,'Raw Data'!AB:AB,">0") -> 0 | CH9: =SUMIFS('Raw Data'!$W:$W,'Raw Data'!$F:$F,Summary!$B9,'Raw Data'!AB:AB,">0") -> 0 | CI9: =BZ9+CC9+CF9 -> 0 | CJ9: =CA9+CD9+CG9 -> 0 | CK9: =CB9+CE9+CH9 -> 0 | CL9: =COUNTIFS('Raw Data'!$F:$F,Summary!$B10,'Raw Data'!N:N,Summary!CL$4,'Raw Data'!AA:AA,">") -> 0 | CM9: =COUNTIFS('Raw Data'!$F:$F,Summary!$B9,'Raw Data'!AC:AC,">0") -> 0 | CN9: =SUMIFS('Raw Data'!$W:$W,'Raw Data'!$F:$F,Summary!$B9,'Raw Data'!AC:AC,">0") -> 0 | CO9: =COUNTIFS('Raw Data'!$F:$F,Summary!$B10,'Raw Data'!O:O,Summary!CO$4,'Raw Data'!AB:AB,">") -> 0 | CP9: =COUNTIFS('Raw Data'!$F:$F,Summary!$B9,'Raw Data'!AD:AD,">0") -> 0 | CQ9: =SUMIFS('Raw Data'!$W:$W,'Raw Data'!$F:$F,Summary!$B9,'Raw Data'!AD:AD,">0") -> 0 | CR9: =COUNTIFS('Raw Data'!$F:$F,Summary!$B10,'Raw Data'!P:P,Summary!CR$4,'Raw Data'!AC:AC,">") -> 0 | CS9: =COUNTIFS('Raw Data'!$F:$F,Summary!$B9,'Raw Data'!AE:AE,">0") -> 0 | CT9: =SUMIFS('Raw Data'!$W:$W,'Raw Data'!$F:$F,Summary!$B9,'Raw Data'!AE:AE,">0") -> 0 | CU9: =CL9+CO9+CR9 -> 0 | CV9: =CM9+CP9+CS9 -> 0 | CW9: =CN9+CQ9+CT9 -> 0 | CX9: =COUNTIFS('Raw Data'!$F:$F,Summary!$B10,'Raw Data'!Q:Q,Summary!CX$4,'Raw Data'!AD:AD,">") -> 0 | CY9: =COUNTIFS('Raw Data'!$F:$F,Summary!$B9,'Raw Data'!AF:AF,">0") -> 0 | CZ9: =SUMIFS('Raw Data'!$W:$W,'Raw Data'!$F:$F,Summary!$B9,'Raw Data'!AF:AF,">0") -> 0 | DA9: =COUNTIFS('Raw Data'!$F:$F,Summary!$B10,'Raw Data'!R:R,Summary!DA$4,'Raw Data'!AE:AE,">") -> 0 | DB9: =COUNTIFS('Raw Data'!$F:$F,Summary!$B9,'Raw Data'!AG:AG,">0") -> 0 | DC9: =SUMIFS('Raw Data'!$W:$W,'Raw Data'!$F:$F,Summary!$B9,'Raw Data'!AG:AG,">0") -> 0 | DD9: =COUNTIFS('Raw Data'!$F:$F,Summary!$B10,'Raw Data'!S:S,Summary!DD$4,'Raw Data'!AF:AF,">") -> 0 | DE9: =COUNTIFS('Raw Data'!$F:$F,Summary!$B9,'Raw Data'!AH:AH,">0") -> 0 | DF9: =SUMIFS('Raw Data'!$W:$W,'Raw Data'!$F:$F,Summary!$B9,'Raw Data'!AH:AH,">0") -> 0 | DG9: =CX9+DA9+DD9 -> 0 | DH9: =CY9+DB9+DE9 -> 0 | DI9: =CZ9+DC9+DF9 -> 0 | DJ9: =COUNTIFS('Raw Data'!$F:$F,Summary!$B10,'Raw Data'!T:T,Summary!DJ$4,'Raw Data'!AG:AG,">") -> 0 | DK9: =COUNTIFS('Raw Data'!$F:$F,Summary!$B9,'Raw Data'!AI:AI,">0") -> 0 | DL9: =SUMIFS('Raw Data'!$W:$W,'Raw Data'!$F:$F,Summary!$B9,'Raw Data'!AI:AI,">0") -> 0 | DM9: =COUNTIFS('Raw Data'!$F:$F,Summary!$B10,'Raw Data'!U:U,Summary!DM$4,'Raw Data'!AH:AH,">") -> 0 | DN9: =COUNTIFS('Raw Data'!$F:$F,Summary!$B9,'Raw Data'!AJ:AJ,">0") -> 0 | DO9: =SUMIFS('Raw Data'!$W:$W,'Raw Data'!$F:$F,Summary!$B9,'Raw Data'!AJ:AJ,">0") -> 0 | DP9: =COUNTIFS('Raw Data'!$F:$F,Summary!$B10,'Raw Data'!V:V,Summary!DP$4,'Raw Data'!AI:AI,">") -> 0 | DQ9: =COUNTIFS('Raw Data'!$F:$F,Summary!$B9,'Raw Data'!AK:AK,">0") -> 0 | DR9: =SUMIFS('Raw Data'!$W:$W,'Raw Data'!$F:$F,Summary!$B9,'Raw Data'!AK:AK,">0") -> 0 | DS9: =DJ9+DM9+DP9 -> 0 | DT9: =DK9+DN9+DQ9 -> 0 | DU9: =DL9+DO9+DR9 -> 0 | DV9: =COUNTIFS('Raw Data'!$F:$F,Summary!$B10,'Raw Data'!W:W,Summary!DV$4,'Raw Data'!AJ:AJ,">") -> 0 | DW9: =COUNTIFS('Raw Data'!$F:$F,Summary!$B9,'Raw Data'!AL:AL,">0") -> 0 | DX9: =SUMIFS('Raw Data'!$W:$W,'Raw Data'!$F:$F,Summary!$B9,'Raw Data'!AL:AL,">0") -> 0
