Workbook

Sheet Daily
A1: Mon | B1: 수리완료 ww | C1: Site | D1: Requester | E1: 입고일 | F1: 수리완료일 | G1: 완료월 | H1: Status | I1: 분류 | J1: Line | K1: Divisoin | L1: Team | M1: Process | N1: Equipment | O1: Board Name | P1: 보드규격 ( Board# / Vender Part# / SID#) | Q1: 증 상/조치 | R1: S/N | S1: Q'TY | T1: New B/D Price(K\) | U1: Outsourcing Price(K\) | V1: Repair Cost (K\) | W1: Cost Reduction(K￦) | X1: 자체/외주 | Y1: 외주업체 | Z1: Repair Time(H) | AA1: Delivery | AB1: Engineer | AD1: Repair Cost K$ | AE1: Costsave K$
B2: =IF(F2>0,IFERROR(WEEKNUM(F2),"")-1,"") -> 9 | C2: =IF(D2=0,"",(IF(LEFT(D2,3)="ATK","ATK",IF(LEFT(D2,2)="AT",D2,"ATK")))) -> ATK | D2: 김진만 | E2: 2021-03-03 | F2: 2021-03-03 | G2: =IF(F2>0,MONTH(F2),"") -> 3 | H2: =IF(I2=0,"",IF(RIGHT(I2,2)="완료","완료",IF(RIGHT(I2,2)="불가","수리불가",IF(RIGHT(I2,1)="중","수리중","Other")))) -> 완료 | I2: 수리완료 | J2: F | K2: 1T4P | L2: =LEFT(K2,2) -> 1T | M2: B/E | N2: 한미 | O2: Driver | P2: sgdv-2r9e11a | Q2: error 720:jog test motor no :sgmmv-a3e2a21 spr 보유 pn002.2 0001 -> 0100 앱솔루트encode를 incrimantal로 사용가 0001이면 810 error 나옴 (중요) pn 50B 8887 -> 888B Reverse allwed pn 50A -> 8881 FWD allowed cn4 2 U 4 G 1 V 3 W cn3 L2 (-) L1 (+24V) G C1 (+24V) G C2 (-) cn2 1 2 servo driver encode connector + 3 4 - 5 6 한미 장비에서 8개 driver parameter 상이함 | S2: 1 | T2: 500 | U2: =(T2*50)/100*S2 -> 250 | V2: 0 | W2: =U2-V2 -> 250 | X2: 자체 | Z2: 5 | AA2: =F2-E2 -> 0 | AB2: 강영구 | AD2: =V2/1100 -> 0
B3: =IF(F3>0,IFERROR(WEEKNUM(F3),"")-1,"") -> 9 | C3: =IF(D3=0,"",(IF(LEFT(D3,3)="ATK","ATK",IF(LEFT(D3,2)="AT",D3,"ATK")))) -> ATK | D3: EE1 | E3: 2021-03-03 | F3: 2021-03-03 | G3: =IF(F3>0,MONTH(F3),"") -> 3 | H3: =IF(I3=0,"",IF(RIGHT(I3,2)="완료","완료",IF(RIGHT(I3,2)="불가","수리불가",IF(RIGHT(I3,1)="중","수리중","Other")))) -> Other | I3: 폐기 | J3: EE | K3: EE1 | L3: =LEFT(K3,2) -> EE | M3: IOINIZER | N3: ANAMI | O3: 제어보드 | P3: iONIZER | Q3: 폐기 이온아이져에서 부품 장탈:부품 팬 220V 3EA 제어 보드 3EA 전원보드 고압 제어보드 | S3: 1 | T3: 970 | U3: =(T3*50)/100*S3 -> 485 | V3: 0 | W3: =U3-V3 -> 485 | X3: 자체 | Z3: 4 | AA3: =F3-E3 -> 0 | AB3: 최준영 | AD3: =V3/1100 -> 0
B4: =IF(F4>0,IFERROR(WEEKNUM(F4),"")-1,"") -> 9 | C4: =IF(D4=0,"",(IF(LEFT(D4,3)="ATK","ATK",IF(LEFT(D4,2)="AT",D4,"ATK")))) -> ATK | D4: 차한호 | E4: 2021-03-02 | F4: 2021-03-02 | G4: =IF(F4>0,MONTH(F4),"") -> 3 | H4: =IF(I4=0,"",IF(RIGHT(I4,2)="완료","완료",IF(RIGHT(I4,2)="불가","수리불가",IF(RIGHT(I4,1)="중","수리중","Other")))) -> 완료 | I4: 수리완료 | J4: A | K4: 1T4P | L4: =LEFT(K4,2) -> 1T | M4: MONITOR | N4: DISCO | O4: Touch Monitor | Q4: Touch 불량:중고 touch 교체 후 line에서 test 예정. | S4: 1 | T4: 3000 | U4: =(T4*50)/100*S4 -> 1500 | V4: 0 | W4: =U4-V4 -> 1500 | X4: 자체 | Z4: 2 | AA4: =F4-E4 -> 0 | AB4: 정기수 | AD4: =V4/1100 -> 0
B5: =IF(F5>0,IFERROR(WEEKNUM(F5),"")-1,"") -> 9 | C5: =IF(D5=0,"",(IF(LEFT(D5,3)="ATK","ATK",IF(LEFT(D5,2)="AT",D5,"ATK")))) -> ATK | D5: 박동진 | E5: 2021-03-02 | F5: 2021-03-02 | G5: =IF(F5>0,MONTH(F5),"") -> 3 | H5: =IF(I5=0,"",IF(RIGHT(I5,2)="완료","완료",IF(RIGHT(I5,2)="불가","수리불가",IF(RIGHT(I5,1)="중","수리중","Other")))) -> 완료 | I5: 수리완료 | J5: 인사총무 | K5: 인사총무 | L5: =LEFT(K5,2) -> 인사 | M5: 정문 보안실 | N5: CCTV | O5: DVR # 7 | Q5: DVR #7 HDD 2TB 인식못함:HDD 탈 부착 및 하드디스크 포맷 및 재 설정 | S5: 1 | T5: 20000 | U5: =(T5*50)/100*S5 -> 10000 | V5: 0 | W5: =U5-V5 -> 10000 | X5: 자체 | Z5: 4 | AA5: =F5-E5 -> 0 | AB5: 장은철 | AD5: =V5/1100 -> 0
B6: =IF(F6>0,IFERROR(WEEKNUM(F6),"")-1,"") -> 9 | C6: =IF(D6=0,"",(IF(LEFT(D6,3)="ATK","ATK",IF(LEFT(D6,2)="AT",D6,"ATK")))) -> ATK | D6: 박동진 | E6: 2021-03-02 | F6: 2021-03-02 | G6: =IF(F6>0,MONTH(F6),"") -> 3 | H6: =IF(I6=0,"",IF(RIGHT(I6,2)="완료","완료",IF(RIGHT(I6,2)="불가","수리불가",IF(RIGHT(I6,1)="중","수리중","Other")))) -> Other | I6: Other | J6: 인사총무 | K6: 인사총무 | L6: =LEFT(K6,2) -> 인사 | M6: 정문 보안실 | N6: CCTV | O6: DVR # 7 | Q6: DVR #7 HDD 2TB 인식못함:HDD 탈 부착 및 하드디스크 포맷 및 재 설정 | S6: 1 | T6: 0 | U6: =(T6*50)/100*S6 -> 0 | V6: 0 | W6: =U6-V6 -> 0 | X6: 자체 | Z6: 4 | AA6: =F6-E6 -> 0 | AB6: 허준영 | AD6: =V6/1100 -> 0
B7: =IF(F7>0,IFERROR(WEEKNUM(F7),"")-1,"") -> 9 | C7: =IF(D7=0,"",(IF(LEFT(D7,3)="ATK","ATK",IF(LEFT(D7,2)="AT",D7,"ATK")))) -> ATK | D7: 박동진 | E7: 2021-03-02 | F7: 2021-03-02 | G7: =IF(F7>0,MONTH(F7),"") -> 3 | H7: =IF(I7=0,"",IF(RIGHT(I7,2)="완료","완료",IF(RIGHT(I7,2)="불가","수리불가",IF(RIGHT(I7,1)="중","수리중","Other")))) -> 완료 | I7: 수리완료 | J7: 인사총무 | K7: 인사총무 | L7: =LEFT(K7,2) -> 인사 | M7: 정문 보안실 | N7: 스피드게이트 | O7: 리모컨수신기 | Q7: 정문 및 복지동 2EA 리모컨 수신기 동작안함:리모컨 및 수신기 교체 | S7: 2 | T7: 3000 | U7: =(T7*50)/100*S7 -> 3000 | V7: 254 | W7: =U7-V7 -> 2746 | X7: 자체 | Z7: 4 | AA7: =F7-E7 -> 0 | AB7: 허준영 | AD7: =V7/1100 -> 0.23090909
B8: =IF(F8>0,IFERROR(WEEKNUM(F8),"")-1,"") -> 9 | C8: =IF(D8=0,"",(IF(LEFT(D8,3)="ATK","ATK",IF(LEFT(D8,2)="AT",D8,"ATK")))) -> ATK | D8: 박동진 | E8: 2021-03-02 | F8: 2021-03-02 | G8: =IF(F8>0,MONTH(F8),"") -> 3 | H8: =IF(I8=0,"",IF(RIGHT(I8,2)="완료","완료",IF(RIGHT(I8,2)="불가","수리불가",IF(RIGHT(I8,1)="중","수리중","Other")))) -> Other | I8: Other | J8: 인사총무 | K8: 인사총무 | L8: =LEFT(K8,2) -> 인사 | M8: 정문 보안실 | N8: 스피드게이트 | O8: 리모컨수신기 | Q8: 정문 및 복지동 2EA 리모컨 수신기 동작안함:리모컨 및 수신기 교체 | S8: 2 | T8: 0 | U8: =(T8*50)/100*S8 -> 0 | V8: 0 | W8: =U8-V8 -> 0 | X8: 자체 | Z8: 4 | AA8: =F8-E8 -> 0 | AB8: 장은철 | AD8: =V8/1100 -> 0
B9: =IF(F9>0,IFERROR(WEEKNUM(F9),"")-1,"") -> 9 | C9: =IF(D9=0,"",(IF(LEFT(D9,3)="ATK","ATK",IF(LEFT(D9,2)="AT",D9,"ATK")))) -> ATK | D9: 이현철 | E9: 2021-03-02 | F9: 2021-03-02 | G9: =IF(F9>0,MONTH(F9),"") -> 3 | H9: =IF(I9=0,"",IF(RIGHT(I9,2)="완료","완료",IF(RIGHT(I9,2)="불가","수리불가",IF(RIGHT(I9,1)="중","수리중","Other")))) -> 완료 | I9: 수리완료 | J9: C | K9: OTHER | L9: =LEFT(K9,2) -> OT | M9: 자동화 | N9: Reel Tower | O9: I/O B/D | Q9: Input out:점검후 보드 교체 | S9: 1 | T9: 4200 | U9: =(T9*50)/100*S9 -> 2100 | V9: 0 | W9: =U9-V9 -> 2100 | X9: 자체 | Z9: 4 | AB9: 최준영
B10: =IF(F10>0,IFERROR(WEEKNUM(F10),"")-1,"") -> 9 | C10: =IF(D10=0,"",(IF(LEFT(D10,3)="ATK","ATK",IF(LEFT(D10,2)="AT",D10,"ATK")))) -> ATK | D10: 김재영 | E10: 2021-03-02 | F10: 2021-03-02 | G10: =IF(F10>0,MONTH(F10),"") -> 3 | H10: =IF(I10=0,"",IF(RIGHT(I10,2)="완료","완료",IF(RIGHT(I10,2)="불가","수리불가",IF(RIGHT(I10,1)="중","수리중","Other")))) -> 완료 | I10: 수리완료 | J10: A | K10: 1T4P | L10: =LEFT(K10,2) -> 1T | M10: Mold | N10: Mold | O10: ac servo | P10: mr-j2s-10a | Q10: error 51:원인: encoder 7800교환 | S10: 1 | T10: 1000 | U10: =(T10*50)/100*S10 -> 500 | V10: 20 | W10: =U10-V10 -> 480 | X10: 자체 | Z10: 4 | AA10: =F10-E10 -> 0 | AB10: 강영구 | AD10: =V10/1100 -> 0.018181818
B11: =IF(F11>0,IFERROR(WEEKNUM(F11),"")-1,"") -> 9 | C11: =IF(D11=0,"",(IF(LEFT(D11,3)="ATK","ATK",IF(LEFT(D11,2)="AT",D11,"ATK")))) -> ATK | D11: 김재영 | E11: 2021-03-02 | F11: 2021-03-02 | G11: =IF(F11>0,MONTH(F11),"") -> 3 | H11: =IF(I11=0,"",IF(RIGHT(I11,2)="완료","완료",IF(RIGHT(I11,2)="불가","수리불가",IF(RIGHT(I11,1)="중","수리중","Other")))) -> 완료 | I11: 수리완료 | J11: A | K11: 1T4P | L11: =LEFT(K11,2) -> 1T | M11: Mold | N11: Mold | O11: MITIBISHI AC SERVO MR-J2S-10a | P11: MR-J2S-10a | Q11: error 52 :원인: encoder 불량 7800 교환 | S11: 1 | T11: 1000 | U11: =(T11*50)/100*S11 -> 500 | V11: 20 | W11: =U11-V11 -> 480 | X11: 자체 | Z11: 5 | AA11: =F11-E11 -> 0 | AB11: 강영구 | AD11: =V11/1100 -> 0.018181818
B12: =IF(F12>0,IFERROR(WEEKNUM(F12),"")-1,"") -> 9 | C12: =IF(D12=0,"",(IF(LEFT(D12,3)="ATK","ATK",IF(LEFT(D12,2)="AT",D12,"ATK")))) -> ATK | D12: 신덕우 | E12: 2021-03-02 | F12: 2021-03-02 | G12: =IF(F12>0,MONTH(F12),"") -> 3 | H12: =IF(I12=0,"",IF(RIGHT(I12,2)="완료","완료",IF(RIGHT(I12,2)="불가","수리불가",IF(RIGHT(I12,1)="중","수리중","Other")))) -> 완료 | I12: 수리완료 | J12: C | K12: 3T3P | L12: =LEFT(K12,2) -> 3T | M12: O/S TESRER | N12: Handler PC | O12: REMOTE I/O B/D | P12: A21SB-08UY04 | Q12: : | S12: 1 | T12: 600 | U12: =(T12*50)/100*S12 -> 300 | V12: 2 | W12: =U12-V12 -> 298 | X12: 자체 | Z12: 1 | AA12: =F12-E12 -> 0 | AB12: 장은철 | AD12: =V12/1100 -> 0.0018181818
B13: =IF(F13>0,IFERROR(WEEKNUM(F13),"")-1,"") -> 9 | C13: =IF(D13=0,"",(IF(LEFT(D13,3)="ATK","ATK",IF(LEFT(D13,2)="AT",D13,"ATK")))) -> ATK | D13: 서중권 | E13: 2021-03-02 | F13: 2021-03-02 | G13: =IF(F13>0,MONTH(F13),"") -> 3 | H13: =IF(I13=0,"",IF(RIGHT(I13,2)="완료","완료",IF(RIGHT(I13,2)="불가","수리불가",IF(RIGHT(I13,1)="중","수리중","Other")))) -> 완료 | I13: 수리완료 | J13: C | K13: 3T3P | L13: =LEFT(K13,2) -> 3T | N13: HANMI | O13: I/O B/D | P13: MC-16F-HM | Q13: : | S13: 1 | T13: 700 | U13: =(T13*50)/100*S13 -> 350 | V13: 1 | W13: =U13-V13 -> 349 | X13: 자체 | Z13: 1 | AA13: =F13-E13 -> 0 | AB13: 장은철 | AD13: =V13/1100 -> 0.00090909091
B14: =IF(F14>0,IFERROR(WEEKNUM(F14),"")-1,"") -> #VALUE! | C14: =IF(D14=0,"",(IF(LEFT(D14,3)="ATK","ATK",IF(LEFT(D14,2)="AT",D14,"ATK")))) -> ATK | D14: 주정민 | E14: 2021-03-02 | G14: =IF(F14>0,MONTH(F14),"") -> #VALUE! | H14: =IF(I14=0,"",IF(RIGHT(I14,2)="완료","완료",IF(RIGHT(I14,2)="불가","수리불가",IF(RIGHT(I14,1)="중","수리중","Other")))) -> 수리중 | I14: 외주수리중 | J14: K5 | K14: K5 | L14: =LEFT(K14,2) -> K5 | M14: 기술연구소 | N14: Electromigration | O14: Resistor check board | Q14: MAX4638 // MAX4639 BURN:15M 옴에서 ERROR | R14: RB0313 | S14: 1 | T14: 20000 | U14: =(T14*50)/100*S14 -> 10000 | V14: 0 | W14: =U14-V14 -> 10000 | X14: 외주 | Y14: 큐텍코리아 | Z14: 2 | AA14: =F14-E14 -> #VALUE! | AB14: 장은철 | AD14: =V14/1100 -> 0
B15: =IF(F15>0,IFERROR(WEEKNUM(F15),"")-1,"") -> 9 | C15: =IF(D15=0,"",(IF(LEFT(D15,3)="ATK","ATK",IF(LEFT(D15,2)="AT",D15,"ATK")))) -> ATK | D15: 최창경 | E15: 2021-03-02 | F15: 2021-03-02 | G15: =IF(F15>0,MONTH(F15),"") -> 3 | H15: =IF(I15=0,"",IF(RIGHT(I15,2)="완료","완료",IF(RIGHT(I15,2)="불가","수리불가",IF(RIGHT(I15,1)="중","수리중","Other")))) -> Other | I15: 폐기 | J15: C | K15: 3T4P | L15: =LEFT(K15,2) -> 3T | M15: IONIZER | N15: SIMCO 1FAN | O15: IONIZER | Q15: FAN 안돌아감, POINT 부식:점검 결과 부속품 단종으로 폐기 진행. | R15: *054940090184536* | S15: 1 | T15: 500 | U15: =(T15*50)/100*S15 -> 250 | V15: 0 | W15: =U15-V15 -> 250 | X15: 자체 | Z15: 1 | AA15: =F15-E15 -> 0 | AB15: 정기수 | AD15: =V15/1100 -> 0
B16: =IF(F16>0,IFERROR(WEEKNUM(F16),"")-1,"") -> #VALUE! | C16: =IF(D16=0,"",(IF(LEFT(D16,3)="ATK","ATK",IF(LEFT(D16,2)="AT",D16,"ATK")))) -> ATK | D16: 조현익 | E16: 2021-03-02 | G16: =IF(F16>0,MONTH(F16),"") -> #VALUE! | H16: =IF(I16=0,"",IF(RIGHT(I16,2)="완료","완료",IF(RIGHT(I16,2)="불가","수리불가",IF(RIGHT(I16,1)="중","수리중","Other")))) -> 수리중 | I16: 수리중 | J16: P | K16: 1T1P | L16: =LEFT(K16,2) -> 1T | M16: IOINIZER | N16: IPI-220 | O16: IONIZER | Q16: DECAY TIME 안나옴.: | S16: 1 | T16: 700 | U16: =(T16*50)/100*S16 -> 350 | V16: 0 | W16: =U16-V16 -> 350 | X16: 자체 | Z16: 0 | AA16: =F16-E16 -> #VALUE! | AB16: 정기수 | AD16: =V16/1100 -> 0
B17: =IF(F17>0,IFERROR(WEEKNUM(F17),"")-1,"") -> #VALUE! | C17: =IF(D17=0,"",(IF(LEFT(D17,3)="ATK","ATK",IF(LEFT(D17,2)="AT",D17,"ATK")))) -> ATK | D17: 소성환 | E17: 2021-03-02 | G17: =IF(F17>0,MONTH(F17),"") -> #VALUE! | H17: =IF(I17=0,"",IF(RIGHT(I17,2)="완료","완료",IF(RIGHT(I17,2)="불가","수리불가",IF(RIGHT(I17,1)="중","수리중","Other")))) -> 수리중 | I17: 수리중 | J17: EE | K17: EE2 | L17: =LEFT(K17,2) -> EE | M17: Wire Bonding | N17: K&S ICONN PULS | O17: XY AMP ASSEMBLY (LA/H) | P17: 08888-1113 | Q17: BOOTING FAIL: | S17: 1 | T17: 2500 | U17: =(T17*50)/100*S17 -> 1250 | V17: 0 | W17: =U17-V17 -> 1250 | X17: 자체 | Z17: 0 | AA17: =F17-E17 -> #VALUE! | AD17: =V17/1100 -> 0
B18: =IF(F18>0,IFERROR(WEEKNUM(F18),"")-1,"") -> #VALUE! | C18: =IF(D18=0,"",(IF(LEFT(D18,3)="ATK","ATK",IF(LEFT(D18,2)="AT",D18,"ATK")))) -> ATK | D18: 소성환 | E18: 2021-03-02 | G18: =IF(F18>0,MONTH(F18),"") -> #VALUE! | H18: =IF(I18=0,"",IF(RIGHT(I18,2)="완료","완료",IF(RIGHT(I18,2)="불가","수리불가",IF(RIGHT(I18,1)="중","수리중","Other")))) -> 수리중 | I18: 수리중 | J18: EE | K18: EE2 | L18: =LEFT(K18,2) -> EE | M18: Wire Bonding | N18: K&S ICONN PULS | O18: XY AMP ASSEMBLY (LA/H) | P18: 08888-1113 | Q18: BOOTING FAIL: | S18: 1 | T18: 2500 | U18: =(T18*50)/100*S18 -> 1250 | V18: 0 | W18: =U18-V18 -> 1250 | X18: 자체 | Z18: 0 | AA18: =F18-E18 -> #VALUE! | AD18: =V18/1100 -> 0
B19: =IF(F19>0,IFERROR(WEEKNUM(F19),"")-1,"") -> 9 | C19: =IF(D19=0,"",(IF(LEFT(D19,3)="ATK","ATK",IF(LEFT(D19,2)="AT",D19,"ATK")))) -> ATK | D19: 이신희 | E19: 2021-03-02 | F19: 2021-03-02 | G19: =IF(F19>0,MONTH(F19),"") -> 3 | H19: =IF(I19=0,"",IF(RIGHT(I19,2)="완료","완료",IF(RIGHT(I19,2)="불가","수리불가",IF(RIGHT(I19,1)="중","수리중","Other")))) -> 완료 | I19: 수리완료 | J19: B | K19: 2T2P | L19: =LEFT(K19,2) -> 2T | M19: Plassma | N19: plasma m/c | O19: PC MAIN BOARD | P19: H61H1 | Q19: No Booting :모든 콘댄서 교체 | R19: BA5903441A | S19: 1 | T19: 2500 | U19: =(T19*50)/100*S19 -> 1250 | V19: 2 | W19: =U19-V19 -> 1248 | X19: 자체 | Z19: 4 | AA19: =F19-E19 -> 0 | AB19: 최준영 | AD19: =V19/1100 -> 0.0018181818
B20: =IF(F20>0,IFERROR(WEEKNUM(F20),"")-1,"") -> 9 | C20: =IF(D20=0,"",(IF(LEFT(D20,3)="ATK","ATK",IF(LEFT(D20,2)="AT",D20,"ATK")))) -> ATK | D20: 이현동 | E20: 2021-03-02 | F20: 2021-03-02 | G20: =IF(F20>0,MONTH(F20),"") -> 3 | H20: =IF(I20=0,"",IF(RIGHT(I20,2)="완료","완료",IF(RIGHT(I20,2)="불가","수리불가",IF(RIGHT(I20,1)="중","수리중","Other")))) -> Other | I20: Other | J20: EE | K20: EE2 | L20: =LEFT(K20,2) -> EE | M20: N/A | N20: N/A | O20: Connector 제작 | Q20: 커넥터 제작: | S20: 2 | T20: 0 | U20: =(T20*50)/100*S20 -> 0 | V20: 0 | W20: =U20-V20 -> 0 | X20: 자체 | Z20: 4 | AA20: =F20-E20 -> 0 | AB20: 허준영 | AD20: =V20/1100 -> 0
B21: =IF(F21>0,IFERROR(WEEKNUM(F21),"")-1,"") -> 8 | C21: =IF(D21=0,"",(IF(LEFT(D21,3)="ATK","ATK",IF(LEFT(D21,2)="AT",D21,"ATK")))) -> ATK | D21: 임현 | E21: 2021-02-26 | F21: 2021-02-26 | G21: =IF(F21>0,MONTH(F21),"") -> 2 | H21: =IF(I21=0,"",IF(RIGHT(I21,2)="완료","완료",IF(RIGHT(I21,2)="불가","수리불가",IF(RIGHT(I21,1)="중","수리중","Other")))) -> 완료 | I21: 수리완료 | J21: EE | K21: EE1 | L21: =LEFT(K21,2) -> EE | M21: EE1T | O21: 온도제어기 | Q21: 작동 안함:정전압 칩 out으로 교체 및 제조립 | S21: 1 | T21: 320 | U21: =(T21*50)/100*S21 -> 160 | V21: 1 | W21: =U21-V21 -> 159 | X21: 자체 | Z21: 4 | AA21: =F21-E21 -> 0 | AB21: 최준영 | AD21: =V21/1100 -> 0.00090909091
B22: =IF(F22>0,IFERROR(WEEKNUM(F22),"")-1,"") -> 8 | C22: =IF(D22=0,"",(IF(LEFT(D22,3)="ATK","ATK",IF(LEFT(D22,2)="AT",D22,"ATK")))) -> ATK | D22: 강영구 | E22: 2021-02-26 | F22: 2021-02-26 | G22: =IF(F22>0,MONTH(F22),"") -> 2 | H22: =IF(I22=0,"",IF(RIGHT(I22,2)="완료","완료",IF(RIGHT(I22,2)="불가","수리불가",IF(RIGHT(I22,1)="중","수리중","Other")))) -> 완료 | I22: 수리완료 | J22: PM | K22: EE1 | L22: =LEFT(K22,2) -> EE | M22: W/G/B | N22: pg3000 | O22: SERVO DRIVER | P22: mr- j4 / mr- j5 | Q22: mr-configurator 2 software setup ( mr-j4 mr-j5 용):mr-configurator 2 software setup ( mr-j4 mr-j5 용) installation test 구동 | S22: 1 | T22: 1000 | U22: =(T22*50)/100*S22 -> 500 | V22: 0 | W22: =U22-V22 -> 500 | X22: 자체 | Z22: 4 | AA22: =F22-E22 -> 0 | AB22: 강영구 | AD22: =V22/1100 -> 0
B23: =IF(F23>0,IFERROR(WEEKNUM(F23),"")-1,"") -> 8 | C23: =IF(D23=0,"",(IF(LEFT(D23,3)="ATK","ATK",IF(LEFT(D23,2)="AT",D23,"ATK")))) -> ATK | D23: 김재영 | E23: 2021-02-26 | F23: 2021-02-26 | G23: =IF(F23>0,MONTH(F23),"") -> 2 | H23: =IF(I23=0,"",IF(RIGHT(I23,2)="완료","완료",IF(RIGHT(I23,2)="불가","수리불가",IF(RIGHT(I23,1)="중","수리중","Other")))) -> 완료 | I23: 수리완료 | J23: A | K23: 1T4P | L23: =LEFT(K23,2) -> 1T | M23: handller | O23: MAIN BOARD FAN | P23: PC BOARD | Q23: 매인 보드 시피유 팬 회전 안함:다른 보드에서 팬 장탈하여 장비 보드에 장착 정상 가동 | S23: 1 | T23: 4200 | U23: =(T23*50)/100*S23 -> 2100 | V23: 1 | W23: =U23-V23 -> 2099 | X23: 자체 | Z23: 4 | AA23: =F23-E23 -> 0 | AB23: 최준영 | AD23: =V23/1100 -> 0.00090909091
B24: =IF(F24>0,IFERROR(WEEKNUM(F24),"")-1,"") -> 9 | C24: =IF(D24=0,"",(IF(LEFT(D24,3)="ATK","ATK",IF(LEFT(D24,2)="AT",D24,"ATK")))) -> ATK | D24: 김종한 | E24: 2021-02-26 | F24: 2021-03-02 | G24: =IF(F24>0,MONTH(F24),"") -> 3 | H24: =IF(I24=0,"",IF(RIGHT(I24,2)="완료","완료",IF(RIGHT(I24,2)="불가","수리불가",IF(RIGHT(I24,1)="중","수리중","Other")))) -> 완료 | I24: 수리완료 | J24: A | K24: 1T3P | L24: =LEFT(K24,2) -> 1T | M24: D/A | N24: Esec 2100 | O24: I/O Board | Q24: 동작 불량: | S24: 1 | T24: 1200 | U24: =(T24*50)/100*S24 -> 600 | V24: 0 | W24: =U24-V24 -> 600 | X24: 자체 | Z24: 4 | AA24: =F24-E24 -> 4 | AB24: 허준영 | AD24: =V24/1100 -> 0
B25: =IF(F25>0,IFERROR(WEEKNUM(F25),"")-1,"") -> 8 | C25: =IF(D25=0,"",(IF(LEFT(D25,3)="ATK","ATK",IF(LEFT(D25,2)="AT",D25,"ATK")))) -> ATK | D25: 박병주 | E25: 2021-02-25 | F25: 2021-02-25 | G25: =IF(F25>0,MONTH(F25),"") -> 2 | H25: =IF(I25=0,"",IF(RIGHT(I25,2)="완료","완료",IF(RIGHT(I25,2)="불가","수리불가",IF(RIGHT(I25,1)="중","수리중","Other")))) -> 완료 | I25: 수리완료 | J25: C | K25: 3T1P | L25: =LEFT(K25,2) -> 3T | M25: TCNCP | N25: PLASAMA | O25: SL-T11R | Q25: :다이오드 out (JY) | S25: 1 | T25: 1300 | U25: =(T25*50)/100*S25 -> 650 | V25: 1 | W25: =U25-V25 -> 649 | X25: 자체 | Z25: 2 | AA25: =F25-E25 -> 0 | AB25: 장은철 | AD25: =V25/1100 -> 0.00090909091
B26: =IF(F26>0,IFERROR(WEEKNUM(F26),"")-1,"") -> 8 | C26: =IF(D26=0,"",(IF(LEFT(D26,3)="ATK","ATK",IF(LEFT(D26,2)="AT",D26,"ATK")))) -> ATK | D26: 서중권 | E26: 2021-02-25 | F26: 2021-02-25 | G26: =IF(F26>0,MONTH(F26),"") -> 2 | H26: =IF(I26=0,"",IF(RIGHT(I26,2)="완료","완료",IF(RIGHT(I26,2)="불가","수리불가",IF(RIGHT(I26,1)="중","수리중","Other")))) -> 완료 | I26: 수리완료 | J26: C | K26: 3T3P | L26: =LEFT(K26,2) -> 3T | M26: p/saw | N26: disco | O26: ac servo | P26: maddt1207L01 | Q26: 1. new board parameter copy 2. ERROR 90 others :parameter copy ( pr 4d pr 50 vaule 값 초과는 default set 값에서 나옴) 그냥 Copy하면 정상 작동함 others ERROR 220uF OUT (SMD 220UF 6.3V) | S26: 2 | T26: 1000 | U26: =(T26*50)/100*S26 -> 1000 | V26: 0 | W26: =U26-V26 -> 1000 | X26: 자체 | Z26: 6 | AA26: =F26-E26 -> 0 | AB26: 강영구 | AD26: =V26/1100 -> 0
B27: =IF(F27>0,IFERROR(WEEKNUM(F27),"")-1,"") -> 8 | C27: =IF(D27=0,"",(IF(LEFT(D27,3)="ATK","ATK",IF(LEFT(D27,2)="AT",D27,"ATK")))) -> ATK | D27: 이현동 | E27: 2021-02-25 | F27: 2021-02-25 | G27: =IF(F27>0,MONTH(F27),"") -> 2 | H27: =IF(I27=0,"",IF(RIGHT(I27,2)="완료","완료",IF(RIGHT(I27,2)="불가","수리불가",IF(RIGHT(I27,1)="중","수리중","Other")))) -> Other | I27: Other | J27: EE | K27: EE2 | L27: =LEFT(K27,2) -> EE | M27: N/A | N27: N/A | O27: Connector 제작 | Q27: 커넥터 제작: | S27: 3 | T27: 0 | U27: =(T27*50)/100*S27 -> 0 | V27: 0 | W27: =U27-V27 -> 0 | X27: 자체 | Z27: 3 | AA27: =F27-E27 -> 0 | AB27: 허준영 | AD27: =V27/1100 -> 0
B28: =IF(F28>0,IFERROR(WEEKNUM(F28),"")-1,"") -> 8 | C28: =IF(D28=0,"",(IF(LEFT(D28,3)="ATK","ATK",IF(LEFT(D28,2)="AT",D28,"ATK")))) -> ATK | D28: 이성곤 | E28: 2021-02-25 | F28: 2021-02-25 | G28: =IF(F28>0,MONTH(F28),"") -> 2 | H28: =IF(I28=0,"",IF(RIGHT(I28,2)="완료","완료",IF(RIGHT(I28,2)="불가","수리불가",IF(RIGHT(I28,1)="중","수리중","Other")))) -> 완료 | I28: 수리완료 | J28: K5 | K28: K5 | L28: =LEFT(K28,2) -> K5 | M28: Touch Monitor | N28: ET1729L | O28: touch monitor | Q28: 전원 불량.:저항,콘덴서,패널교체 | S28: 1 | T28: 500 | U28: =(T28*50)/100*S28 -> 250 | V28: 0 | W28: =U28-V28 -> 250 | X28: 자체 | Z28: 6 | AA28: =F28-E28 -> 0 | AB28: 정기수 | AD28: =V28/1100 -> 0
B29: =IF(F29>0,IFERROR(WEEKNUM(F29),"")-1,"") -> #VALUE! | C29: =IF(D29=0,"",(IF(LEFT(D29,3)="ATK","ATK",IF(LEFT(D29,2)="AT",D29,"ATK")))) -> ATK | D29: 주용철 | E29: 2021-02-25 | G29: =IF(F29>0,MONTH(F29),"") -> #VALUE! | H29: =IF(I29=0,"",IF(RIGHT(I29,2)="완료","완료",IF(RIGHT(I29,2)="불가","수리불가",IF(RIGHT(I29,1)="중","수리중","Other")))) -> 수리중 | I29: 외주수리중 | J29: Bump | K29: Bump | L29: =LEFT(K29,2) -> Bu | M29: Bumping | N29: AOI | O29: BASLER A404k | P29: A404K | Q29: scan중 camera가 꺼지는 현상이 발생.이후 재 booting을 수차례 반복해야 camera가 동작함.scan중 camera 꺼짐 증상 주기가 짧아짐. 업체 확인결과 camera 수명 문제라고 함.: | R29: 21104576 | S29: 1 | T29: 13000 | U29: =(T29*50)/100*S29 -> 6500 | V29: 1500 | W29: =U29-V29 -> 5000 | X29: 외주 | Y29: 큐텍코리아 | Z29: 1 | AA29: =F29-E29 -> #VALUE! | AB29: 장은철 | AD29: =V29/1100 -> 1.3636364
B30: =IF(F30>0,IFERROR(WEEKNUM(F30),"")-1,"") -> #VALUE! | C30: =IF(D30=0,"",(IF(LEFT(D30,3)="ATK","ATK",IF(LEFT(D30,2)="AT",D30,"ATK")))) -> ATK | D30: 양승윤 | E30: 2021-02-25 | G30: =IF(F30>0,MONTH(F30),"") -> #VALUE! | H30: =IF(I30=0,"",IF(RIGHT(I30,2)="완료","완료",IF(RIGHT(I30,2)="불가","수리불가",IF(RIGHT(I30,1)="중","수리중","Other")))) -> 수리중 | I30: 수리중 | J30: EE | K30: EE2 | L30: =LEFT(K30,2) -> EE | M30: Bumping | N30: PLATING | O30: Inverter | Q30: POWER OUT: | S30: 1 | T30: 1000 | U30: =(T30*50)/100*S30 -> 500 | V30: 0 | W30: =U30-V30 -> 500 | X30: 자체 | Z30: 0 | AA30: =F30-E30 -> #VALUE! | AB30: 정기수 | AD30: =V30/1100 -> 0
B31: =IF(F31>0,IFERROR(WEEKNUM(F31),"")-1,"") -> 8 | C31: =IF(D31=0,"",(IF(LEFT(D31,3)="ATK","ATK",IF(LEFT(D31,2)="AT",D31,"ATK")))) -> ATK | D31: 김효천 | E31: 2021-02-24 | F31: 2021-02-24 | G31: =IF(F31>0,MONTH(F31),"") -> 2 | H31: =IF(I31=0,"",IF(RIGHT(I31,2)="완료","완료",IF(RIGHT(I31,2)="불가","수리불가",IF(RIGHT(I31,1)="중","수리중","Other")))) -> 완료 | I31: 수리완료 | J31: EE | K31: EE1 | L31: =LEFT(K31,2) -> EE | M31: SMT | N31: REFLOW HELLER | O31: HC1 B/D | Q31: 간혈적 통신 ERROR:26ls32 | R31: FD8353 | S31: 1 | T31: 2500 | U31: =(T31*50)/100*S31 -> 1250 | V31: 5 | W31: =U31-V31 -> 1245 | X31: 자체 | Z31: 0 | AA31: =F31-E31 -> 0 | AB31: 장은철 | AD31: =V31/1100 -> 0.0045454545
B32: =IF(F32>0,IFERROR(WEEKNUM(F32),"")-1,"") -> 8 | C32: =IF(D32=0,"",(IF(LEFT(D32,3)="ATK","ATK",IF(LEFT(D32,2)="AT",D32,"ATK")))) -> ATK | D32: 나승훈 | E32: 2021-02-24 | F32: 2021-02-24 | G32: =IF(F32>0,MONTH(F32),"") -> 2 | H32: =IF(I32=0,"",IF(RIGHT(I32,2)="완료","완료",IF(RIGHT(I32,2)="불가","수리불가",IF(RIGHT(I32,1)="중","수리중","Other")))) -> 완료 | I32: 수리완료 | J32: EE | K32: EE2 | L32: =LEFT(K32,2) -> EE | M32: Wire Bonding | N32: K&S Iconn | O32: I/O TEMP CONTROLLED ILLUM PCB ASSY | P32: 08828-4010 | Q32: Temp Error: | S32: 1 | T32: 1600 | U32: =(T32*50)/100*S32 -> 800 | V32: 3 | W32: =U32-V32 -> 797 | X32: 자체 | Z32: 3 | AA32: =F32-E32 -> 0 | AB32: 허준영 | AD32: =V32/1100 -> 0.0027272727
B33: =IF(F33>0,IFERROR(WEEKNUM(F33),"")-1,"") -> 8 | C33: =IF(D33=0,"",(IF(LEFT(D33,3)="ATK","ATK",IF(LEFT(D33,2)="AT",D33,"ATK")))) -> ATK | D33: 신덕우 | E33: 2021-02-24 | F33: 2021-02-24 | G33: =IF(F33>0,MONTH(F33),"") -> 2 | H33: =IF(I33=0,"",IF(RIGHT(I33,2)="완료","완료",IF(RIGHT(I33,2)="불가","수리불가",IF(RIGHT(I33,1)="중","수리중","Other")))) -> 완료 | I33: 수리완료 | J33: C | K33: 3T3P | L33: =LEFT(K33,2) -> 3T | M33: IONIZER | N33: IPI-322VE | O33: IONIZER | Q33: Decay time,ion값 불량:point pin , fan , 장비 all cleaning | S33: 3 | T33: 351 | U33: =(T33*50)/100*S33 -> 526.5 | V33: 0 | W33: =U33-V33 -> 526.5 | X33: 자체 | Z33: 3 | AA33: =F33-E33 -> 0 | AB33: 정기수 | AD33: =V33/1100 -> 0
B34: =IF(F34>0,IFERROR(WEEKNUM(F34),"")-1,"") -> 8 | C34: =IF(D34=0,"",(IF(LEFT(D34,3)="ATK","ATK",IF(LEFT(D34,2)="AT",D34,"ATK")))) -> ATK | D34: 강성열 | E34: 2021-02-24 | F34: 2021-02-24 | G34: =IF(F34>0,MONTH(F34),"") -> 2 | H34: =IF(I34=0,"",IF(RIGHT(I34,2)="완료","완료",IF(RIGHT(I34,2)="불가","수리불가",IF(RIGHT(I34,1)="중","수리중","Other")))) -> 완료 | I34: 수리완료 | J34: F | K34: 5T1P | L34: =LEFT(K34,2) -> 5T | M34: LID/A | N34: PROTEC | O34: AJINEXTEK BIHR | Q34: : | S34: 3 | T34: 500 | U34: =(T34*50)/100*S34 -> 750 | V34: 30 | W34: =U34-V34 -> 720 | X34: 자체 | Z34: 6 | AA34: =F34-E34 -> 0 | AB34: 장은철 | AD34: =V34/1100 -> 0.027272727
B35: =IF(F35>0,IFERROR(WEEKNUM(F35),"")-1,"") -> 9 | C35: =IF(D35=0,"",(IF(LEFT(D35,3)="ATK","ATK",IF(LEFT(D35,2)="AT",D35,"ATK")))) -> ATK | D35: 강성열 | E35: 2021-02-24 | F35: 2021-03-02 | G35: =IF(F35>0,MONTH(F35),"") -> 3 | H35: =IF(I35=0,"",IF(RIGHT(I35,2)="완료","완료",IF(RIGHT(I35,2)="불가","수리불가",IF(RIGHT(I35,1)="중","수리중","Other")))) -> Other | I35: 폐기 | J35: F | K35: 5T1P | L35: =LEFT(K35,2) -> 5T | M35: IONIZER | N35: simco | O35: IONIZER | Q35: 사용 기간이 약 15년 언저리로 Decay time & balance 유지/관리가 힘든 이오나이저는 반납 :해당 IONIZER 점검 진행 후 부속품 단종으로 폐기 진행 | R35: *500940094312571*/*033240094312466*/*075040094312780*/*050940094312580*/*044040094242553* | S35: 5 | T35: 1500 | U35: =(T35*50)/100*S35 -> 3750 | V35: 0 | W35: =U35-V35 -> 3750 | X35: 자체 | Z35: 3 | AA35: =F35-E35 -> 6 | AB35: 정기수 | AD35: =V35/1100 -> 0
B36: =IF(F36>0,IFERROR(WEEKNUM(F36),"")-1,"") -> 8 | C36: =IF(D36=0,"",(IF(LEFT(D36,3)="ATK","ATK",IF(LEFT(D36,2)="AT",D36,"ATK")))) -> ATK | D36: 진선규 | E36: 2021-02-23 | F36: 2021-02-25 | G36: =IF(F36>0,MONTH(F36),"") -> 2 | H36: =IF(I36=0,"",IF(RIGHT(I36,2)="완료","완료",IF(RIGHT(I36,2)="불가","수리불가",IF(RIGHT(I36,1)="중","수리중","Other")))) -> 완료 | I36: 수리완료 | J36: A | K36: 1T4P | L36: =LEFT(K36,2) -> 1T | M36: MONITOR | N36: DISCO | O36: Touch Monitor | Q36: 전원 안들어옴.:inverter 퓨즈 out | S36: 1 | T36: 3000 | U36: =(T36*50)/100*S36 -> 1500 | V36: 3 | W36: =U36-V36 -> 1497 | X36: 자체 | Z36: 2 | AA36: =F36-E36 -> 2 | AB36: 정기수 | AD36: =V36/1100 -> 0.0027272727
B37: =IF(F37>0,IFERROR(WEEKNUM(F37),"")-1,"") -> 8 | C37: =IF(D37=0,"",(IF(LEFT(D37,3)="ATK","ATK",IF(LEFT(D37,2)="AT",D37,"ATK")))) -> ATK | D37: 김현만 | E37: 2021-02-23 | F37: 2021-02-23 | G37: =IF(F37>0,MONTH(F37),"") -> 2 | H37: =IF(I37=0,"",IF(RIGHT(I37,2)="완료","완료",IF(RIGHT(I37,2)="불가","수리불가",IF(RIGHT(I37,1)="중","수리중","Other")))) -> 완료 | I37: 수리완료 | J37: F | K37: 5T1P | L37: =LEFT(K37,2) -> 5T | M37: D/A | N37: Datacon 8800 | O37: CAN 통신 B/D | Q37: :fet 교체 | S37: 1 | T37: 1900 | U37: =(T37*50)/100*S37 -> 950 | V37: 4 | W37: =U37-V37 -> 946 | X37: 자체 | Z37: 2 | AA37: =F37-E37 -> 0 | AB37: 장은철 | AD37: =V37/1100 -> 0.0036363636
B38: =IF(F38>0,IFERROR(WEEKNUM(F38),"")-1,"") -> 8 | C38: =IF(D38=0,"",(IF(LEFT(D38,3)="ATK","ATK",IF(LEFT(D38,2)="AT",D38,"ATK")))) -> ATK | D38: 김현만 | E38: 2021-02-23 | F38: 2021-02-23 | G38: =IF(F38>0,MONTH(F38),"") -> 2 | H38: =IF(I38=0,"",IF(RIGHT(I38,2)="완료","완료",IF(RIGHT(I38,2)="불가","수리불가",IF(RIGHT(I38,1)="중","수리중","Other")))) -> Other | I38: 폐기 | J38: F | K38: 5T1P | L38: =LEFT(K38,2) -> 5T | M38: D/A | N38: Datacon 8800 | O38: CAN 통신 B/D | Q38: :부품수급불가 | S38: 1 | T38: 1900 | U38: =(T38*50)/100*S38 -> 950 | V38: 0 | W38: =U38-V38 -> 950 | X38: 자체 | Z38: 2 | AA38: =F38-E38 -> 0 | AB38: 장은철 | AD38: =V38/1100 -> 0
B39: =IF(F39>0,IFERROR(WEEKNUM(F39),"")-1,"") -> 8 | C39: =IF(D39=0,"",(IF(LEFT(D39,3)="ATK","ATK",IF(LEFT(D39,2)="AT",D39,"ATK")))) -> ATK | D39: 박병주 | E39: 2021-02-23 | F39: 2021-02-23 | G39: =IF(F39>0,MONTH(F39),"") -> 2 | H39: =IF(I39=0,"",IF(RIGHT(I39,2)="완료","완료",IF(RIGHT(I39,2)="불가","수리불가",IF(RIGHT(I39,1)="중","수리중","Other")))) -> 완료 | I39: 수리완료 | J39: C | K39: 3T1P | L39: =LEFT(K39,2) -> 3T | M39: TCNCP | N39: PLASAMA | O39: SL-T11R | Q39: :이상없음 | S39: 1 | T39: 1300 | U39: =(T39*50)/100*S39 -> 650 | V39: 0 | W39: =U39-V39 -> 650 | X39: 자체 | Z39: 2 | AA39: =F39-E39 -> 0 | AB39: 장은철 | AD39: =V39/1100 -> 0
B40: =IF(F40>0,IFERROR(WEEKNUM(F40),"")-1,"") -> 8 | C40: =IF(D40=0,"",(IF(LEFT(D40,3)="ATK","ATK",IF(LEFT(D40,2)="AT",D40,"ATK")))) -> ATK | D40: 한광식 | E40: 2021-02-23 | F40: 2021-02-23 | G40: =IF(F40>0,MONTH(F40),"") -> 2 | H40: =IF(I40=0,"",IF(RIGHT(I40,2)="완료","완료",IF(RIGHT(I40,2)="불가","수리불가",IF(RIGHT(I40,1)="중","수리중","Other")))) -> 완료 | I40: 수리완료 | J40: F | K40: 5T1P | L40: =LEFT(K40,2) -> 5T | M40: reflow | N40: LVK-TMTRMR-7515 | O40: pc | Q40: WINDOWS 7 설치 랜선 사용X:Windows7 설치 완료. | S40: 1 | T40: 3500 | U40: =(T40*50)/100*S40 -> 1750 | V40: 0 | W40: =U40-V40 -> 1750 | X40: 자체 | Z40: 2 | AA40: =F40-E40 -> 0 | AB40: 정기수 | AD40: =V40/1100 -> 0
B41: =IF(F41>0,IFERROR(WEEKNUM(F41),"")-1,"") -> #VALUE! | C41: =IF(D41=0,"",(IF(LEFT(D41,3)="ATK","ATK",IF(LEFT(D41,2)="AT",D41,"ATK")))) -> ATK | D41: 김재영 | E41: 2021-02-23 | G41: =IF(F41>0,MONTH(F41),"") -> #VALUE! | H41: =IF(I41=0,"",IF(RIGHT(I41,2)="완료","완료",IF(RIGHT(I41,2)="불가","수리불가",IF(RIGHT(I41,1)="중","수리중","Other")))) -> 수리중 | I41: 수리중 | J41: A | K41: 1T4P | L41: =LEFT(K41,2) -> 1T | M41: Helleroven | N41: HELLER REFLOW | O41: SMPS | P41: 제어PC | Q41: 12V & 5V short :출력 전원 12V와 5V 쇼트로 심하게 탔음. 우선 분해하여 모든 콘덴서 교체 모든 TR 점검 이상무! 조립하여 전원 인가 했으나 출력 안나옴 PWM chip 중고로 교체 했으나 같은 증상! 각 트렌스 점검 및 회로내 저항 점검중 | S41: 1 | T41: 4500 | U41: =(T41*50)/100*S41 -> 2250 | V41: 0 | W41: =U41-V41 -> 2250 | X41: 자체 | Z41: 8 | AA41: =F41-E41 -> #VALUE! | AB41: 최준영 | AD41: =V41/1100 -> 0
B42: =IF(F42>0,IFERROR(WEEKNUM(F42),"")-1,"") -> 9 | C42: =IF(D42=0,"",(IF(LEFT(D42,3)="ATK","ATK",IF(LEFT(D42,2)="AT",D42,"ATK")))) -> ATK | D42: 신소안 | E42: 2021-02-23 | F42: 2021-03-03 | G42: =IF(F42>0,MONTH(F42),"") -> 3 | H42: =IF(I42=0,"",IF(RIGHT(I42,2)="완료","완료",IF(RIGHT(I42,2)="불가","수리불가",IF(RIGHT(I42,1)="중","수리중","Other")))) -> Other | I42: 폐기 | J42: C | K42: 3T1P | L42: =LEFT(K42,2) -> 3T | M42: IONIZER | N42: IPI-332 | O42: IOINZER | Q42: ION 값 불량, :고압 2EA OUT ,POINT PIN 6 OUT * 11년 정도 사용된 이오나이저이며, 수리 비용이 많이 들어서 폐기 진행 | R42: 101101014 | S42: 1 | T42: 910 | U42: =(T42*50)/100*S42 -> 455 | V42: 75 | W42: =U42-V42 -> 380 | X42: 자체 | Z42: 1 | AA42: =F42-E42 -> 8 | AB42: 정기수 | AD42: =V42/1100 -> 0.068181818
B43: =IF(F43>0,IFERROR(WEEKNUM(F43),"")-1,"") -> 8 | C43: =IF(D43=0,"",(IF(LEFT(D43,3)="ATK","ATK",IF(LEFT(D43,2)="AT",D43,"ATK")))) -> ATK | D43: 김현만 | E43: 2021-02-23 | F43: 2021-02-24 | G43: =IF(F43>0,MONTH(F43),"") -> 2 | H43: =IF(I43=0,"",IF(RIGHT(I43,2)="완료","완료",IF(RIGHT(I43,2)="불가","수리불가",IF(RIGHT(I43,1)="중","수리중","Other")))) -> 완료 | I43: 수리완료 | J43: F | K43: 5T1P | L43: =LEFT(K43,2) -> 5T | M43: F/C | O43: System PC | Q43: Booting Fail: | S43: 1 | T43: 6000 | U43: =(T43*50)/100*S43 -> 3000 | V43: 50 | W43: =U43-V43 -> 2950 | X43: 자체 | Z43: 4 | AA43: =F43-E43 -> 1 | AB43: 허준영 | AD43: =V43/1100 -> 0.045454545
B44: =IF(F44>0,IFERROR(WEEKNUM(F44),"")-1,"") -> 8 | C44: =IF(D44=0,"",(IF(LEFT(D44,3)="ATK","ATK",IF(LEFT(D44,2)="AT",D44,"ATK")))) -> ATK | D44: 김재영 | E44: 2021-02-23 | F44: 2021-02-24 | G44: =IF(F44>0,MONTH(F44),"") -> 2 | H44: =IF(I44=0,"",IF(RIGHT(I44,2)="완료","완료",IF(RIGHT(I44,2)="불가","수리불가",IF(RIGHT(I44,1)="중","수리중","Other")))) -> 완료 | I44: 수리완료 | J44: A | K44: 1T4P | L44: =LEFT(K44,2) -> 1T | M44: Helleroven | N44: HELLER REFLOW | O44: SMPS | P44: 제어PC | Q44: 12V & 5V short :출력 전원 12V와 5V 쇼트로 심하게 탔음. 우선 분해하여 모든 콘덴서 교체 모든 TR 점검 이상무! 조립하여 전원 인가 했으나 출력 안나옴 PWM chip 중고로 교체 했으나 같은 증상! 각 트렌스 점검 및 회로내 저항 점검중 전원을 연결하고 출력을 확인하니 5V는 정상이였다 그럼 PWM chip는 정상! 나머지 다중전압 출력 트랜스를 확인하고 그에 걸려있는 CL21 Metallized Polyester Film Capacitor을 측정 하니 OUT 되여 있었다 것은 멀정하고 잘 죽지 않는 부품이라 관과 하였다 맨 아래 사진에 제품으로 교체 후 정상 작동 완료 | R44: EST300TST | S44: 1 | T44: 4500 | U44: =(T44*50)/100*S44 -> 2250 | V44: 0 | W44: =U44-V44 -> 2250 | X44: 자체 | Z44: 5 | AA44: =F44-E44 -> 1 | AB44: 최준영 | AD44: =V44/1100 -> 0
B45: =IF(F45>0,IFERROR(WEEKNUM(F45),"")-1,"") -> 8 | C45: =IF(D45=0,"",(IF(LEFT(D45,3)="ATK","ATK",IF(LEFT(D45,2)="AT",D45,"ATK")))) -> ATK | D45: 한광식 | E45: 2021-02-23 | F45: 2021-02-24 | G45: =IF(F45>0,MONTH(F45),"") -> 2 | H45: =IF(I45=0,"",IF(RIGHT(I45,2)="완료","완료",IF(RIGHT(I45,2)="불가","수리불가",IF(RIGHT(I45,1)="중","수리중","Other")))) -> 완료 | I45: 수리완료 | J45: F | K45: 5T2P | L45: =LEFT(K45,2) -> 5T | M45: FC | N45: S/B/A | O45: AC SERVO DRIVER | P45: SGDV-5R5A01A | Q45: 증상 모름:ERROR 확인 410 부족 전원 주 전원 이상 | S45: 1 | T45: 1500 | U45: =(T45*50)/100*S45 -> 750 | V45: 20 | W45: =U45-V45 -> 730 | X45: 자체 | Z45: 8 | AA45: =F45-E45 -> 1 | AB45: 강영구 | AD45: =V45/1100 -> 0.018181818
B46: =IF(F46>0,IFERROR(WEEKNUM(F46),"")-1,"") -> 9 | C46: =IF(D46=0,"",(IF(LEFT(D46,3)="ATK","ATK",IF(LEFT(D46,2)="AT",D46,"ATK")))) -> ATK | D46: 강성열 | E46: 2021-02-23 | F46: 2021-03-03 | G46: =IF(F46>0,MONTH(F46),"") -> 3 | H46: =IF(I46=0,"",IF(RIGHT(I46,2)="완료","완료",IF(RIGHT(I46,2)="불가","수리불가",IF(RIGHT(I46,1)="중","수리중","Other")))) -> Other | I46: 폐기 | J46: F | K46: 5T1P | L46: =LEFT(K46,2) -> 5T | M46: IONIZER | N46: ANAMI | O46: IONIZER | Q46: 사용 기간이 약 15년 언저리로 Decay time & balance 유지/관리가 힘든 이오나이저는 반납 :해당 IONIZER 점검 진행 후 부속품 단종으로 폐기 진행 | R46: 08Seemex065 | S46: 1 | T46: 0 | U46: =(T46*50)/100*S46 -> 0 | V46: 0 | W46: =U46-V46 -> 0 | X46: 자체 | Z46: 1 | AA46: =F46-E46 -> 8 | AB46: 정기수 | AD46: =V46/1100 -> 0
B47: =IF(F47>0,IFERROR(WEEKNUM(F47),"")-1,"") -> 9 | C47: =IF(D47=0,"",(IF(LEFT(D47,3)="ATK","ATK",IF(LEFT(D47,2)="AT",D47,"ATK")))) -> ATK | D47: 강성열 | E47: 2021-02-23 | F47: 2021-03-03 | G47: =IF(F47>0,MONTH(F47),"") -> 3 | H47: =IF(I47=0,"",IF(RIGHT(I47,2)="완료","완료",IF(RIGHT(I47,2)="불가","수리불가",IF(RIGHT(I47,1)="중","수리중","Other")))) -> Other | I47: 폐기 | J47: F | K47: 5T1P | L47: =LEFT(K47,2) -> 5T | M47: IONIZER | N47: IPI-321 | O47: IONIZER | Q47: 사용 기간이 약 15년 언저리로 Decay time & balance 유지/관리가 힘든 이오나이저는 반납 :현재 ionizer 보다 2단계 낮은 제품이며, 수리를 진행하면 유지 보수 및 가격적인 면에서 손해로 판단되어 폐기 진행 | R47: 060700826 / N/A | S47: 2 | T47: 910 | U47: =(T47*50)/100*S47 -> 910 | V47: 0 | W47: =U47-V47 -> 910 | X47: 자체 | Z47: 2 | AA47: =F47-E47 -> 8 | AB47: 정기수 | AD47: =V47/1100 -> 0
B48: =IF(F48>0,IFERROR(WEEKNUM(F48),"")-1,"") -> 8 | C48: =IF(D48=0,"",(IF(LEFT(D48,3)="ATK","ATK",IF(LEFT(D48,2)="AT",D48,"ATK")))) -> ATK | D48: 김재영 | E48: 2021-02-22 | F48: 2021-02-22 | G48: =IF(F48>0,MONTH(F48),"") -> 2 | H48: =IF(I48=0,"",IF(RIGHT(I48,2)="완료","완료",IF(RIGHT(I48,2)="불가","수리불가",IF(RIGHT(I48,1)="중","수리중","Other")))) -> 완료 | I48: 수리완료 | J48: A | K48: 1T4P | L48: =LEFT(K48,2) -> 1T | M48: SOLDER | O48: Light controller | P48: Source 2ch 12V | Q48: 출력 약함 / 내부 SMPS 2 EA에 모든 콘덴서 교체:출력 약함 / 내부 SMPS 2 EA에 모든 콘덴서 교체 | R48: 1004-A453-2562 | S48: 1 | T48: 420 | U48: =(T48*50)/100*S48 -> 210 | V48: 2 | W48: =U48-V48 -> 208 | X48: 자체 | Z48: 4 | AA48: =F48-E48 -> 0 | AB48: 최준영 | AD48: =V48/1100 -> 0.0018181818
B49: =IF(F49>0,IFERROR(WEEKNUM(F49),"")-1,"") -> #VALUE! | C49: =IF(D49=0,"",(IF(LEFT(D49,3)="ATK","ATK",IF(LEFT(D49,2)="AT",D49,"ATK")))) -> ATK | D49: 김민석 | E49: 2021-02-22 | G49: =IF(F49>0,MONTH(F49),"") -> #VALUE! | H49: =IF(I49=0,"",IF(RIGHT(I49,2)="완료","완료",IF(RIGHT(I49,2)="불가","수리불가",IF(RIGHT(I49,1)="중","수리중","Other")))) -> 수리중 | I49: 수리중 | J49: B | K49: 2T1P | L49: =LEFT(K49,2) -> 2T | M49: SMT | N49: PSI (가온) | O49: Vision B/D | Q49: 신호는 들어오나 작동안됨 모션에러: | S49: 1 | T49: 2300 | U49: =(T49*50)/100*S49 -> 1150 | V49: 0 | W49: =U49-V49 -> 1150 | X49: 자체 | Z49: 0 | AA49: =F49-E49 -> #VALUE! | AB49: 장은철 | AD49: =V49/1100 -> 0
B50: =IF(F50>0,IFERROR(WEEKNUM(F50),"")-1,"") -> 8 | C50: =IF(D50=0,"",(IF(LEFT(D50,3)="ATK","ATK",IF(LEFT(D50,2)="AT",D50,"ATK")))) -> ATK | D50: 신명호 | E50: 2021-02-22 | F50: 2021-02-22 | G50: =IF(F50>0,MONTH(F50),"") -> 2 | H50: =IF(I50=0,"",IF(RIGHT(I50,2)="완료","완료",IF(RIGHT(I50,2)="불가","수리불가",IF(RIGHT(I50,1)="중","수리중","Other")))) -> 완료 | I50: 수리완료 | J50: C | K50: 3T1P | L50: =LEFT(K50,2) -> 3T | M50: TCNCP | N50: toray | O50: AC Servo Driver | P50: maddt1207L01 | Q50: MOTOR 구동 안됨 OTHER ERROR #22 #16 :옆장비 GOOD DRIVER PARA COPY | S50: 1 | T50: 1000 | U50: =(T50*50)/100*S50 -> 500 | V50: 0 | W50: =U50-V50 -> 500 | X50: 자체 | Z50: 2 | AA50: =F50-E50 -> 0 | AB50: 강영구 | AD50: =V50/1100 -> 0
B51: =IF(F51>0,IFERROR(WEEKNUM(F51),"")-1,"") -> 8 | C51: =IF(D51=0,"",(IF(LEFT(D51,3)="ATK","ATK",IF(LEFT(D51,2)="AT",D51,"ATK")))) -> ATK | D51: 박진성 | E51: 2021-02-22 | F51: 2021-02-22 | G51: =IF(F51>0,MONTH(F51),"") -> 2 | H51: =IF(I51=0,"",IF(RIGHT(I51,2)="완료","완료",IF(RIGHT(I51,2)="불가","수리불가",IF(RIGHT(I51,1)="중","수리중","Other")))) -> 완료 | I51: 수리완료 | J51: EE | K51: EE | L51: =LEFT(K51,2) -> EE | M51: MOLD | N51: ETEL | O51: I/O B/D | Q51: :Z DIODE 교체 | S51: 1 | T51: 4700 | U51: =(T51*50)/100*S51 -> 2350 | V51: 1 | W51: =U51-V51 -> 2349 | X51: 자체 | Z51: 3 | AA51: =F51-E51 -> 0 | AB51: 장은철 | AD51: =V51/1100 -> 0.00090909091
B52: =IF(F52>0,IFERROR(WEEKNUM(F52),"")-1,"") -> 8 | C52: =IF(D52=0,"",(IF(LEFT(D52,3)="ATK","ATK",IF(LEFT(D52,2)="AT",D52,"ATK")))) -> ATK | D52: 이신희 | E52: 2021-02-22 | F52: 2021-02-22 | G52: =IF(F52>0,MONTH(F52),"") -> 2 | H52: =IF(I52=0,"",IF(RIGHT(I52,2)="완료","완료",IF(RIGHT(I52,2)="불가","수리불가",IF(RIGHT(I52,1)="중","수리중","Other")))) -> 완료 | I52: 수리완료 | J52: B | K52: 2T2P | L52: =LEFT(K52,2) -> 2T | M52: PLASAMA | N52: ETCH (BT-1) Plasma | O52: AUTO MATCHING | P52: ATH-50 | Q52: 부품 구매의로:제조에서 고전압 세라믹 콘덴서 SF-60 50pF ±10% DC 11Kv와 MU825S-13 AC 110V FAN 구매 의뢰하여 부품 검색! 팬은 있으나 세라믹 콘덴서 못 찾음 | R52: 347 | S52: 1 | T52: 5500 | U52: =(T52*50)/100*S52 -> 2750 | V52: 1 | W52: =U52-V52 -> 2749 | X52: 자체 | Z52: 4 | AA52: =F52-E52 -> 0 | AB52: 최준영 | AD52: =V52/1100 -> 0.00090909091
B53: =IF(F53>0,IFERROR(WEEKNUM(F53),"")-1,"") -> 8 | C53: =IF(D53=0,"",(IF(LEFT(D53,3)="ATK","ATK",IF(LEFT(D53,2)="AT",D53,"ATK")))) -> ATK | D53: 김정석 | E53: 2021-02-22 | F53: 2021-02-22 | G53: =IF(F53>0,MONTH(F53),"") -> 2 | H53: =IF(I53=0,"",IF(RIGHT(I53,2)="완료","완료",IF(RIGHT(I53,2)="불가","수리불가",IF(RIGHT(I53,1)="중","수리중","Other")))) -> 완료 | I53: 수리완료 | J53: C | K53: 3T3P | L53: =LEFT(K53,2) -> 3T | M53: SAT | N53: SAT | O53: system pc | Q53: CPU 온도 비정상 상승으로 인한 Program 실행불가:서멀구리스 재도포 및 CPU Fan 교체 | S53: 1 | T53: 6000 | U53: =(T53*50)/100*S53 -> 3000 | V53: 20 | W53: =U53-V53 -> 2980 | X53: 자체 | Z53: 3 | AA53: =F53-E53 -> 0 | AB53: 허준영 | AD53: =V53/1100 -> 0.018181818
B54: =IF(F54>0,IFERROR(WEEKNUM(F54),"")-1,"") -> 8 | C54: =IF(D54=0,"",(IF(LEFT(D54,3)="ATK","ATK",IF(LEFT(D54,2)="AT",D54,"ATK")))) -> ATK | D54: 전태진 | E54: 2021-02-22 | F54: 2021-02-23 | G54: =IF(F54>0,MONTH(F54),"") -> 2 | H54: =IF(I54=0,"",IF(RIGHT(I54,2)="완료","완료",IF(RIGHT(I54,2)="불가","수리불가",IF(RIGHT(I54,1)="중","수리중","Other")))) -> 완료 | I54: 수리완료 | J54: C | K54: 3T3P | L54: =LEFT(K54,2) -> 3T | M54: N/A | N54: SMPS | O54: ESF300-24 | Q54: Power Supply 점검: | S54: 1 | T54: 100 | U54: =(T54*50)/100*S54 -> 50 | V54: 0 | W54: =U54-V54 -> 50 | X54: 자체 | Z54: 1 | AA54: =F54-E54 -> 1 | AB54: 허준영 | AD54: =V54/1100 -> 0
B55: =IF(F55>0,IFERROR(WEEKNUM(F55),"")-1,"") -> 8 | C55: =IF(D55=0,"",(IF(LEFT(D55,3)="ATK","ATK",IF(LEFT(D55,2)="AT",D55,"ATK")))) -> ATK | D55: 강성열 | E55: 2021-02-22 | F55: 2021-02-23 | G55: =IF(F55>0,MONTH(F55),"") -> 2 | H55: =IF(I55=0,"",IF(RIGHT(I55,2)="완료","완료",IF(RIGHT(I55,2)="불가","수리불가",IF(RIGHT(I55,1)="중","수리중","Other")))) -> 완료 | I55: 수리완료 | J55: F | K55: 5T2P | L55: =LEFT(K55,2) -> 5T | M55: F/C | N55: MITSBISHI AC Servo Driver | O55: MR-J2S-10A | P55: MR-J2S-10A | Q55: E9 ERROR:E9 ERROR | S55: 1 | T55: 1000 | U55: =(T55*50)/100*S55 -> 500 | V55: 10 | W55: =U55-V55 -> 490 | X55: 자체 | Z55: 3 | AA55: =F55-E55 -> 1 | AB55: 허준영 | AD55: =V55/1100 -> 0.0090909091
B56: =IF(F56>0,IFERROR(WEEKNUM(F56),"")-1,"") -> 8 | C56: =IF(D56=0,"",(IF(LEFT(D56,3)="ATK","ATK",IF(LEFT(D56,2)="AT",D56,"ATK")))) -> ATK | D56: 최경희 | E56: 2021-02-22 | F56: 2021-02-23 | G56: =IF(F56>0,MONTH(F56),"") -> 2 | H56: =IF(I56=0,"",IF(RIGHT(I56,2)="완료","완료",IF(RIGHT(I56,2)="불가","수리불가",IF(RIGHT(I56,1)="중","수리중","Other")))) -> 완료 | I56: 수리완료 | J56: C | K56: 3T4P | L56: =LEFT(K56,2) -> 3T | M56: N/A | N56: N/A | O56: 온습도계 | Q56: 패널 출력 안됨.:FET 불량으로 교체 후 정상 작동 확인 . | S56: 1 | T56: 150 | U56: =(T56*50)/100*S56 -> 75 | V56: 0 | W56: =U56-V56 -> 75 | X56: 자체 | Z56: 2 | AA56: =F56-E56 -> 1 | AB56: 정기수 | AD56: =V56/1100 -> 0
B57: =IF(F57>0,IFERROR(WEEKNUM(F57),"")-1,"") -> 8 | C57: =IF(D57=0,"",(IF(LEFT(D57,3)="ATK","ATK",IF(LEFT(D57,2)="AT",D57,"ATK")))) -> ATK | D57: 이신희 | E57: 2021-02-22 | F57: 2021-02-25 | G57: =IF(F57>0,MONTH(F57),"") -> 2 | H57: =IF(I57=0,"",IF(RIGHT(I57,2)="완료","완료",IF(RIGHT(I57,2)="불가","수리불가",IF(RIGHT(I57,1)="중","수리중","Other")))) -> 완료 | I57: 수리완료 | J57: A | K57: 1T3P | L57: =LEFT(K57,2) -> 1T | M57: Wire Bonding | N57: K&S Iconn | O57: POWER SUPPLY UNIT | P57: 08888-0130 | Q57: Booting중 Donw 현상: | S57: 1 | T57: 4500 | U57: =(T57*50)/100*S57 -> 2250 | V57: 30 | W57: =U57-V57 -> 2220 | X57: 자체 | Z57: 4 | AA57: =F57-E57 -> 3 | AB57: 허준영 | AD57: =V57/1100 -> 0.027272727
B58: =IF(F58>0,IFERROR(WEEKNUM(F58),"")-1,"") -> 8 | C58: =IF(D58=0,"",(IF(LEFT(D58,3)="ATK","ATK",IF(LEFT(D58,2)="AT",D58,"ATK")))) -> ATK | D58: 오도일 | E58: 2021-02-22 | F58: 2021-02-25 | G58: =IF(F58>0,MONTH(F58),"") -> 2 | H58: =IF(I58=0,"",IF(RIGHT(I58,2)="완료","완료",IF(RIGHT(I58,2)="불가","수리불가",IF(RIGHT(I58,1)="중","수리중","Other")))) -> 완료 | I58: 수리완료 | J58: B | K58: 2T1P | L58: =LEFT(K58,2) -> 2T | M58: SMT | N58: ASM | O58: I/O Board | P58: 03091023-03 | Q58: Conector 및 PCB 동판 파손: | S58: 1 | T58: 2000 | U58: =(T58*50)/100*S58 -> 1000 | V58: 0 | W58: =U58-V58 -> 1000 | X58: 자체 | Z58: 3 | AA58: =F58-E58 -> 3 | AB58: 허준영 | AD58: =V58/1100 -> 0
B59: =IF(F59>0,IFERROR(WEEKNUM(F59),"")-1,"") -> 8 | C59: =IF(D59=0,"",(IF(LEFT(D59,3)="ATK","ATK",IF(LEFT(D59,2)="AT",D59,"ATK")))) -> ATK | D59: 신동삼 | E59: 2021-02-22 | F59: 2021-02-26 | G59: =IF(F59>0,MONTH(F59),"") -> 2 | H59: =IF(I59=0,"",IF(RIGHT(I59,2)="완료","완료",IF(RIGHT(I59,2)="불가","수리불가",IF(RIGHT(I59,1)="중","수리중","Other")))) -> 완료 | I59: 수리완료 | J59: EE | K59: EE1 | L59: =LEFT(K59,2) -> EE | M59: 공작실 | N59: SONY | O59: 밀링머신 디지털 박스 | Q59: 전면부 디스플레이 출력안됨:PWM IC 교체 | S59: 1 | T59: 3000 | U59: =(T59*50)/100*S59 -> 1500 | V59: 0 | W59: =U59-V59 -> 1500 | X59: 자체 | Z59: 3 | AA59: =F59-E59 -> 4 | AB59: 허준영 | AD59: =V59/1100 -> 0
B60: =IF(F60>0,IFERROR(WEEKNUM(F60),"")-1,"") -> 7 | C60: =IF(D60=0,"",(IF(LEFT(D60,3)="ATK","ATK",IF(LEFT(D60,2)="AT",D60,"ATK")))) -> ATK | D60: 윤중현 | E60: 2021-02-19 | F60: 2021-02-19 | G60: =IF(F60>0,MONTH(F60),"") -> 2 | H60: =IF(I60=0,"",IF(RIGHT(I60,2)="완료","완료",IF(RIGHT(I60,2)="불가","수리불가",IF(RIGHT(I60,1)="중","수리중","Other")))) -> Other | I60: 폐기 | J60: EE | K60: EE | L60: =LEFT(K60,2) -> EE | N60: OVEN | O60: invereter | P60: ip5a | Q60: :파트수급불가 | S60: 1 | T60: 900 | U60: =(T60*50)/100*S60 -> 450 | V60: 0 | W60: =U60-V60 -> 450 | X60: 자체 | Z60: 3 | AA60: =F60-E60 -> 0 | AB60: 장은철 | AD60: =V60/1100 -> 0
B61: =IF(F61>0,IFERROR(WEEKNUM(F61),"")-1,"") -> 7 | C61: =IF(D61=0,"",(IF(LEFT(D61,3)="ATK","ATK",IF(LEFT(D61,2)="AT",D61,"ATK")))) -> ATK | D61: 강성열 | E61: 2021-02-19 | F61: 2021-02-19 | G61: =IF(F61>0,MONTH(F61),"") -> 2 | H61: =IF(I61=0,"",IF(RIGHT(I61,2)="완료","완료",IF(RIGHT(I61,2)="불가","수리불가",IF(RIGHT(I61,1)="중","수리중","Other")))) -> 완료 | I61: 수리완료 | J61: F | K61: 5T1P | L61: =LEFT(K61,2) -> 5T | M61: LID/A | N61: PROTEC | O61: AJINEXTEK BIHR | Q61: : | S61: 1 | T61: 500 | U61: =(T61*50)/100*S61 -> 250 | V61: 7 | W61: =U61-V61 -> 243 | X61: 자체 | Z61: 3 | AA61: =F61-E61 -> 0 | AB61: 장은철 | AD61: =V61/1100 -> 0.0063636364
B62: =IF(F62>0,IFERROR(WEEKNUM(F62),"")-1,"") -> 8 | C62: =IF(D62=0,"",(IF(LEFT(D62,3)="ATK","ATK",IF(LEFT(D62,2)="AT",D62,"ATK")))) -> ATK | D62: 장대호 | E62: 2021-02-19 | F62: 2021-02-23 | G62: =IF(F62>0,MONTH(F62),"") -> 2 | H62: =IF(I62=0,"",IF(RIGHT(I62,2)="완료","완료",IF(RIGHT(I62,2)="불가","수리불가",IF(RIGHT(I62,1)="중","수리중","Other")))) -> 완료 | I62: 수리완료 | J62: B | K62: 2T2P | L62: =LEFT(K62,2) -> 2T | M62: Wire Bonding | N62: K&S Icon | O62: ATX3 BITS | P62: 08888-4019 | Q62: Bits agc error :Bits 관련 저항 콘덴서 IC 교체. | S62: 3 | T62: 1500 | U62: =(T62*50)/100*S62 -> 2250 | V62: 0 | W62: =U62-V62 -> 2250 | X62: 자체 | Z62: 3 | AA62: =F62-E62 -> 4 | AB62: 정기수 | AD62: =V62/1100 -> 0
B63: =IF(F63>0,IFERROR(WEEKNUM(F63),"")-1,"") -> 7 | C63: =IF(D63=0,"",(IF(LEFT(D63,3)="ATK","ATK",IF(LEFT(D63,2)="AT",D63,"ATK")))) -> ATK | E63: 2021-02-19 | F63: 2021-02-19 | G63: =IF(F63>0,MONTH(F63),"") -> 2 | H63: =IF(I63=0,"",IF(RIGHT(I63,2)="완료","완료",IF(RIGHT(I63,2)="불가","수리불가",IF(RIGHT(I63,1)="중","수리중","Other")))) -> 완료 | I63: 수리완료 | J63: B | K63: 2T2P | L63: =LEFT(K63,2) -> 2T | M63: Wire Bonding | N63: K&S Iconn Plus | O63: ASSY WIRE FEED AND BITS BOARD ProCu + | P63: 08890-4019 | Q63: Bits agc error:1030 IC , 콘덴서 , 저항 교체. | S63: 1 | T63: 1500 | U63: =(T63*50)/100*S63 -> 750 | V63: 25 | W63: =U63-V63 -> 725 | X63: 자체 | Z63: 1 | AA63: =F63-E63 -> 0 | AB63: 정기수 | AD63: =V63/1100 -> 0.022727273
B64: =IF(F64>0,IFERROR(WEEKNUM(F64),"")-1,"") -> 7 | C64: =IF(D64=0,"",(IF(LEFT(D64,3)="ATK","ATK",IF(LEFT(D64,2)="AT",D64,"ATK")))) -> ATK | D64: 김두환 | E64: 2021-02-19 | F64: 2021-02-19 | G64: =IF(F64>0,MONTH(F64),"") -> 2 | H64: =IF(I64=0,"",IF(RIGHT(I64,2)="완료","완료",IF(RIGHT(I64,2)="불가","수리불가",IF(RIGHT(I64,1)="중","수리중","Other")))) -> 완료 | I64: 수리완료 | J64: B | K64: 2T1P | L64: =LEFT(K64,2) -> 2T | M64: SMT | N64: 서우 ON-Load | O64: PLC MODULE | P64: G6F-PP3D | Q64: :콘덴서 교체 | S64: 1 | T64: 500 | U64: =(T64*50)/100*S64 -> 250 | V64: 3 | W64: =U64-V64 -> 247 | X64: 자체 | Z64: 2 | AA64: =F64-E64 -> 0 | AB64: 장은철 | AD64: =V64/1100 -> 0.0027272727
B65: =IF(F65>0,IFERROR(WEEKNUM(F65),"")-1,"") -> 7 | C65: =IF(D65=0,"",(IF(LEFT(D65,3)="ATK","ATK",IF(LEFT(D65,2)="AT",D65,"ATK")))) -> ATK | D65: 고규식 | E65: 2021-02-19 | F65: 2021-02-19 | G65: =IF(F65>0,MONTH(F65),"") -> 2 | H65: =IF(I65=0,"",IF(RIGHT(I65,2)="완료","완료",IF(RIGHT(I65,2)="불가","수리불가",IF(RIGHT(I65,1)="중","수리중","Other")))) -> 완료 | I65: 수리완료 | J65: EE | K65: EE1 | L65: =LEFT(K65,2) -> EE | M65: TNCNP | N65: TORAY | O65: AC SERVO DRIVER( | P65: msda012a1a | Q65: parameter 변경 7D 3==>0 : panatum 3.72 변경시 ENTER 눌러야됨 | S65: 1 | T65: 1000 | U65: =(T65*50)/100*S65 -> 500 | V65: 0 | W65: =U65-V65 -> 500 | X65: 자체 | Z65: 2 | AA65: =F65-E65 -> 0 | AB65: 강영구 | AD65: =V65/1100 -> 0
B66: =IF(F66>0,IFERROR(WEEKNUM(F66),"")-1,"") -> 7 | C66: =IF(D66=0,"",(IF(LEFT(D66,3)="ATK","ATK",IF(LEFT(D66,2)="AT",D66,"ATK")))) -> ATK | E66: 2021-02-19 | F66: 2021-02-19 | G66: =IF(F66>0,MONTH(F66),"") -> 2 | H66: =IF(I66=0,"",IF(RIGHT(I66,2)="완료","완료",IF(RIGHT(I66,2)="불가","수리불가",IF(RIGHT(I66,1)="중","수리중","Other")))) -> Other | I66: Other | J66: 인사총무 | K66: 인사총무 | L66: =LEFT(K66,2) -> 인사 | M66: 휴가 | Q66: 휴가:휴가 | S66: 0 | T66: 0 | U66: =(T66*50)/100*S66 -> 0 | V66: 0 | W66: =U66-V66 -> 0 | X66: 자체 | Z66: 8 | AA66: =F66-E66 -> 0 | AB66: 최준영 | AD66: =V66/1100 -> 0
B67: =IF(F67>0,IFERROR(WEEKNUM(F67),"")-1,"") -> 8 | C67: =IF(D67=0,"",(IF(LEFT(D67,3)="ATK","ATK",IF(LEFT(D67,2)="AT",D67,"ATK")))) -> ATK | D67: 김재영 | E67: 2021-02-19 | F67: 2021-02-22 | G67: =IF(F67>0,MONTH(F67),"") -> 2 | H67: =IF(I67=0,"",IF(RIGHT(I67,2)="완료","완료",IF(RIGHT(I67,2)="불가","수리불가",IF(RIGHT(I67,1)="중","수리중","Other")))) -> 완료 | I67: 수리완료 | J67: A | K67: 1T4P | L67: =LEFT(K67,2) -> 1T | M67: OFFLODER | N67: Mold | O67: AC SERVO DRIVER | P67: MBDDT02A1 | Q67: PM 보유 SPAIR DRIVER 증상 모름 :servo repair all c test good | S67: 1 | T67: 1000 | U67: =(T67*50)/100*S67 -> 500 | V67: 20 | W67: =U67-V67 -> 480 | X67: 자체 | Z67: 5 | AA67: =F67-E67 -> 3 | AB67: 강영구 | AD67: =V67/1100 -> 0.018181818
B68: =IF(F68>0,IFERROR(WEEKNUM(F68),"")-1,"") -> 7 | C68: =IF(D68=0,"",(IF(LEFT(D68,3)="ATK","ATK",IF(LEFT(D68,2)="AT",D68,"ATK")))) -> ATK | D68: 이동규 | E68: 2021-02-18 | F68: 2021-02-19 | G68: =IF(F68>0,MONTH(F68),"") -> 2 | H68: =IF(I68=0,"",IF(RIGHT(I68,2)="완료","완료",IF(RIGHT(I68,2)="불가","수리불가",IF(RIGHT(I68,1)="중","수리중","Other")))) -> 완료 | I68: 수리완료 | J68: F | K68: 5T1P | L68: =LEFT(K68,2) -> 5T | M68: MONITOR | N68: L1742PEU | O68: MONITOR | Q68: 전원 안나옴.:패널 연결 케이블 손상으로 대체품 사용. 전원단 board 콘덴서 all 교체. | S68: 1 | T68: 250 | U68: =(T68*50)/100*S68 -> 125 | V68: 5 | W68: =U68-V68 -> 120 | X68: 자체 | Z68: 1 | AA68: =F68-E68 -> 1 | AB68: 정기수 | AD68: =V68/1100 -> 0.0045454545
B69: =IF(F69>0,IFERROR(WEEKNUM(F69),"")-1,"") -> 7 | C69: =IF(D69=0,"",(IF(LEFT(D69,3)="ATK","ATK",IF(LEFT(D69,2)="AT",D69,"ATK")))) -> ATK | D69: 김재영 | E69: 2021-02-18 | F69: 2021-02-18 | G69: =IF(F69>0,MONTH(F69),"") -> 2 | H69: =IF(I69=0,"",IF(RIGHT(I69,2)="완료","완료",IF(RIGHT(I69,2)="불가","수리불가",IF(RIGHT(I69,1)="중","수리중","Other")))) -> 완료 | I69: 수리완료 | J69: A | K69: 1T4P | L69: =LEFT(K69,2) -> 1T | M69: OFFLODER | N69: Mold | O69: AC SERVO DRIVER | P69: mr-j2s10a | Q69: error 52 :전자실 spair board pr copy test 장비 정상 동작 확인 inform | S69: 1 | T69: 1000 | U69: =(T69*50)/100*S69 -> 500 | V69: 20 | W69: =U69-V69 -> 480 | X69: 자체 | Z69: 2 | AA69: =F69-E69 -> 0 | AB69: 강영구 | AD69: =V69/1100 -> 0.018181818
B70: =IF(F70>0,IFERROR(WEEKNUM(F70),"")-1,"") -> 7 | C70: =IF(D70=0,"",(IF(LEFT(D70,3)="ATK","ATK",IF(LEFT(D70,2)="AT",D70,"ATK")))) -> ATK | D70: 전명원 | E70: 2021-02-18 | F70: 2021-02-18 | G70: =IF(F70>0,MONTH(F70),"") -> 2 | H70: =IF(I70=0,"",IF(RIGHT(I70,2)="완료","완료",IF(RIGHT(I70,2)="불가","수리불가",IF(RIGHT(I70,1)="중","수리중","Other")))) -> 완료 | I70: 수리완료 | J70: EE | K70: EE1 | L70: =LEFT(K70,2) -> EE | M70: 나르미 | N70: 충전기 | O70: DL-600W | Q70: 출력값이 정상적으로 나오지 않음.:콘덴서 ALL 교체. BOARD 소자 점검. | S70: 1 | T70: 350 | U70: =(T70*50)/100*S70 -> 175 | V70: 15 | W70: =U70-V70 -> 160 | X70: 자체 | Z70: 2 | AA70: =F70-E70 -> 0 | AB70: 정기수 | AD70: =V70/1100 -> 0.013636364
B71: =IF(F71>0,IFERROR(WEEKNUM(F71),"")-1,"") -> 7 | C71: =IF(D71=0,"",(IF(LEFT(D71,3)="ATK","ATK",IF(LEFT(D71,2)="AT",D71,"ATK")))) -> ATK | D71: 강성열 | E71: 2021-02-18 | F71: 2021-02-18 | G71: =IF(F71>0,MONTH(F71),"") -> 2 | H71: =IF(I71=0,"",IF(RIGHT(I71,2)="완료","완료",IF(RIGHT(I71,2)="불가","수리불가",IF(RIGHT(I71,1)="중","수리중","Other")))) -> 완료 | I71: 수리완료 | J71: F | K71: 5T1P | L71: =LEFT(K71,2) -> 5T | M71: LID/A | N71: PROTEC | O71: COMI-SD414 | Q71: : | S71: 1 | T71: 400 | U71: =(T71*50)/100*S71 -> 200 | V71: 1 | W71: =U71-V71 -> 199 | X71: 자체 | Z71: 1 | AA71: =F71-E71 -> 0 | AB71: 장은철 | AD71: =V71/1100 -> 0.00090909091
B72: =IF(F72>0,IFERROR(WEEKNUM(F72),"")-1,"") -> 7 | C72: =IF(D72=0,"",(IF(LEFT(D72,3)="ATK","ATK",IF(LEFT(D72,2)="AT",D72,"ATK")))) -> ATK | D72: 강성열 | E72: 2021-02-18 | F72: 2021-02-18 | G72: =IF(F72>0,MONTH(F72),"") -> 2 | H72: =IF(I72=0,"",IF(RIGHT(I72,2)="완료","완료",IF(RIGHT(I72,2)="불가","수리불가",IF(RIGHT(I72,1)="중","수리중","Other")))) -> 완료 | I72: 수리완료 | J72: F | K72: 5T1P | L72: =LEFT(K72,2) -> 5T | M72: LID/A | N72: PROTEC | O72: Touch Momitor | Q72: : | S72: 1 | T72: 600 | U72: =(T72*50)/100*S72 -> 300 | V72: 0 | W72: =U72-V72 -> 300 | X72: 자체 | Z72: 1 | AA72: =F72-E72 -> 0 | AB72: 장은철
B73: =IF(F73>0,IFERROR(WEEKNUM(F73),"")-1,"") -> 7 | C73: =IF(D73=0,"",(IF(LEFT(D73,3)="ATK","ATK",IF(LEFT(D73,2)="AT",D73,"ATK")))) -> ATK | D73: 이희원 | E73: 2021-02-18 | F73: 2021-02-18 | G73: =IF(F73>0,MONTH(F73),"") -> 2 | H73: =IF(I73=0,"",IF(RIGHT(I73,2)="완료","완료",IF(RIGHT(I73,2)="불가","수리불가",IF(RIGHT(I73,1)="중","수리중","Other")))) -> 완료 | I73: 수리완료 | J73: 인사총무 | K73: 인사총무 | L73: =LEFT(K73,2) -> 인사 | M73: 현관 안내 | N73: 전기 라디에이터 | O73: 라디에이터 | P73: 1700W | Q73: 전원 안들어옴:조정부 분해 점검! 온도퓨즈 S.E.S 250V 15A 126℃ out 되어 교체 후 조립 정상 작동 | S73: 1 | T73: 600 | U73: =(T73*50)/100*S73 -> 300 | V73: 3 | W73: =U73-V73 -> 297 | X73: 자체 | Z73: 4 | AA73: =F73-E73 -> 0 | AB73: 최준영
B74: =IF(F74>0,IFERROR(WEEKNUM(F74),"")-1,"") -> 7 | C74: =IF(D74=0,"",(IF(LEFT(D74,3)="ATK","ATK",IF(LEFT(D74,2)="AT",D74,"ATK")))) -> ATK | D74: 신소안 | E74: 2021-02-17 | F74: 2021-02-19 | G74: =IF(F74>0,MONTH(F74),"") -> 2 | H74: =IF(I74=0,"",IF(RIGHT(I74,2)="완료","완료",IF(RIGHT(I74,2)="불가","수리불가",IF(RIGHT(I74,1)="중","수리중","Other")))) -> 완료 | I74: 수리완료 | J74: C | K74: 3T1P | L74: =LEFT(K74,2) -> 3T | M74: IONIZER | N74: IPI-332 | O74: IOINZER | Q74: ION 값 불량, FAN 동작 안함,:point pin,fan,tl062 ic 교체, 장비 all cleaning | S74: 3 | T74: 910 | U74: =(T74*50)/100*S74 -> 1365 | V74: 75 | W74: =U74-V74 -> 1290 | X74: 자체 | Z74: 6 | AA74: =F74-E74 -> 2 | AB74: 정기수
B75: =IF(F75>0,IFERROR(WEEKNUM(F75),"")-1,"") -> 7 | C75: =IF(D75=0,"",(IF(LEFT(D75,3)="ATK","ATK",IF(LEFT(D75,2)="AT",D75,"ATK")))) -> ATK | D75: 신소안 | E75: 2021-02-17 | F75: 2021-02-18 | G75: =IF(F75>0,MONTH(F75),"") -> 2 | H75: =IF(I75=0,"",IF(RIGHT(I75,2)="완료","완료",IF(RIGHT(I75,2)="불가","수리불가",IF(RIGHT(I75,1)="중","수리중","Other")))) -> 완료 | I75: 수리완료 | J75: C | K75: 3T1P | L75: =LEFT(K75,2) -> 3T | M75: IONIZER | N75: IPI-322 | O75: IOINZER | Q75: ION 값 불량:point pin 교체 장비 all cleaning | S75: 2 | T75: 710 | U75: =(T75*50)/100*S75 -> 710 | V75: 0 | W75: =U75-V75 -> 710 | X75: 자체 | Z75: 3 | AA75: =F75-E75 -> 1 | AB75: 정기수
B76: =IF(F76>0,IFERROR(WEEKNUM(F76),"")-1,"") -> 7 | C76: =IF(D76=0,"",(IF(LEFT(D76,3)="ATK","ATK",IF(LEFT(D76,2)="AT",D76,"ATK")))) -> ATK | D76: 신소안 | E76: 2021-02-17 | F76: 2021-02-17 | G76: =IF(F76>0,MONTH(F76),"") -> 2 | H76: =IF(I76=0,"",IF(RIGHT(I76,2)="완료","완료",IF(RIGHT(I76,2)="불가","수리불가",IF(RIGHT(I76,1)="중","수리중","Other")))) -> Other | I76: 폐기 | J76: C | K76: 3T1P | L76: =LEFT(K76,2) -> 3T | M76: IONIZER | N76: SIMCO | O76: IOINZER | Q76: FAN 동작 안함,:부속품 단종으로 폐기 진행. | S76: 1 | T76: 1500 | U76: =(T76*50)/100*S76 -> 750 | V76: 0 | W76: =U76-V76 -> 750 | X76: 자체 | Z76: 1 | AA76: =F76-E76 -> 0 | AB76: 정기수
B77: =IF(F77>0,IFERROR(WEEKNUM(F77),"")-1,"") -> 7 | C77: =IF(D77=0,"",(IF(LEFT(D77,3)="ATK","ATK",IF(LEFT(D77,2)="AT",D77,"ATK")))) -> ATK | D77: 이성문 | E77: 2021-02-17 | F77: 2021-02-18 | G77: =IF(F77>0,MONTH(F77),"") -> 2 | H77: =IF(I77=0,"",IF(RIGHT(I77,2)="완료","완료",IF(RIGHT(I77,2)="불가","수리불가",IF(RIGHT(I77,1)="중","수리중","Other")))) -> 완료 | I77: 수리완료 | J77: A | K77: 1T2P | L77: =LEFT(K77,2) -> 1T | M77: SCAN | N77: ICOS | O77: PIOC-G3/F | Q77: :max232 교체 | R77: LHM3004/326 | S77: 1 | T77: 3000 | U77: =(T77*50)/100*S77 -> 1500 | V77: 5 | W77: =U77-V77 -> 1495 | X77: 자체 | Z77: 2 | AA77: =F77-E77 -> 1 | AB77: 장은철
B78: =IF(F78>0,IFERROR(WEEKNUM(F78),"")-1,"") -> 7 | C78: =IF(D78=0,"",(IF(LEFT(D78,3)="ATK","ATK",IF(LEFT(D78,2)="AT",D78,"ATK")))) -> ATK | D78: 진선규 | E78: 2021-02-17 | F78: 2021-02-18 | G78: =IF(F78>0,MONTH(F78),"") -> 2 | H78: =IF(I78=0,"",IF(RIGHT(I78,2)="완료","완료",IF(RIGHT(I78,2)="불가","수리불가",IF(RIGHT(I78,1)="중","수리중","Other")))) -> 완료 | I78: 수리완료 | J78: A | K78: 1T4P | L78: =LEFT(K78,2) -> 1T | M78: BACKEND | N78: 한미 | O78: Touch Motor | P78: SL-150-BTF | Q78: 전원 안들어옴:SMPS 12V3.5A OUT되어 분해 후 내부 콘덴서 보두 교체(출력 콘덴서 터짐) 조립 후 정상 작동 | R78: 100708 10087 SLD002 | S78: 1 | T78: 420 | U78: =(T78*50)/100*S78 -> 210 | V78: 1 | W78: =U78-V78 -> 209 | X78: 자체 | Z78: 4 | AA78: =F78-E78 -> 1 | AB78: 최준영
B79: =IF(F79>0,IFERROR(WEEKNUM(F79),"")-1,"") -> 7 | C79: =IF(D79=0,"",(IF(LEFT(D79,3)="ATK","ATK",IF(LEFT(D79,2)="AT",D79,"ATK")))) -> ATK | D79: 안세왕 | E79: 2021-02-17 | F79: 2021-02-17 | G79: =IF(F79>0,MONTH(F79),"") -> 2 | H79: =IF(I79=0,"",IF(RIGHT(I79,2)="완료","완료",IF(RIGHT(I79,2)="불가","수리불가",IF(RIGHT(I79,1)="중","수리중","Other")))) -> 완료 | I79: 수리완료 | J79: C | K79: 3T1P | L79: =LEFT(K79,2) -> 3T | M79: Chip Mount | N79: ASM | O79: Motion Control B/D | Q79: MOTOR 떨림 :점검 이상무 | S79: 1 | T79: 3000 | U79: =(T79*50)/100*S79 -> 1500 | V79: 0 | W79: =U79-V79 -> 1500 | X79: 자체 | Z79: 6 | AA79: =F79-E79 -> 0 | AB79: 강영구
B80: =IF(F80>0,IFERROR(WEEKNUM(F80),"")-1,"") -> 7 | C80: =IF(D80=0,"",(IF(LEFT(D80,3)="ATK","ATK",IF(LEFT(D80,2)="AT",D80,"ATK")))) -> ATK | D80: 진선규 | E80: 2021-02-17 | F80: 2021-02-18 | G80: =IF(F80>0,MONTH(F80),"") -> 2 | H80: =IF(I80=0,"",IF(RIGHT(I80,2)="완료","완료",IF(RIGHT(I80,2)="불가","수리불가",IF(RIGHT(I80,1)="중","수리중","Other")))) -> 완료 | I80: 수리완료 | J80: A | K80: 1T4P | L80: =LEFT(K80,2) -> 1T | M80: IONIZER | N80: SIMCO 1FAN | O80: IONIZER | Q80: 전원 불량:point pin cleaning , 전원 board 점검 | S80: 1 | T80: 500 | U80: =(T80*50)/100*S80 -> 250 | V80: 0 | W80: =U80-V80 -> 250 | X80: 자체 | Z80: 1 | AA80: =F80-E80 -> 1 | AB80: 정기수
B81: =IF(F81>0,IFERROR(WEEKNUM(F81),"")-1,"") -> 7 | C81: =IF(D81=0,"",(IF(LEFT(D81,3)="ATK","ATK",IF(LEFT(D81,2)="AT",D81,"ATK")))) -> ATK | D81: 서중권 | E81: 2021-02-17 | F81: 2021-02-18 | G81: =IF(F81>0,MONTH(F81),"") -> 2 | H81: =IF(I81=0,"",IF(RIGHT(I81,2)="완료","완료",IF(RIGHT(I81,2)="불가","수리불가",IF(RIGHT(I81,1)="중","수리중","Other")))) -> 완료 | I81: 수리완료 | J81: C | K81: 3T3P | L81: =LEFT(K81,2) -> 3T | M81: p/saw | N81: disco | O81: ac servo | P81: SGDV2R8A11A&B | Q81: F10 ERROR 2개 FL-2 ERROR 1개 :c all 교환 F10 ERROR JOG TEST시 PN 50A.3 = 8 정역 방향 PN 50B,0 = 8 PN 00B.2 =1 단상지원 FL-2 :ERROR PROGRAM CHIP 이상으로 수리 불가 | S81: 3 | T81: 1000 | U81: =(T81*50)/100*S81 -> 1500 | V81: 0 | W81: =U81-V81 -> 1500 | X81: 자체 | Z81: 8 | AA81: =F81-E81 -> 1 | AB81: 강영구
B82: =IF(F82>0,IFERROR(WEEKNUM(F82),"")-1,"") -> 7 | C82: =IF(D82=0,"",(IF(LEFT(D82,3)="ATK","ATK",IF(LEFT(D82,2)="AT",D82,"ATK")))) -> ATK | D82: 서대혁 | E82: 2021-02-17 | F82: 2021-02-17 | G82: =IF(F82>0,MONTH(F82),"") -> 2 | H82: =IF(I82=0,"",IF(RIGHT(I82,2)="완료","완료",IF(RIGHT(I82,2)="불가","수리불가",IF(RIGHT(I82,1)="중","수리중","Other")))) -> 수리중 | I82: 수리중 | L82: =LEFT(K82,2) | P82: POWERSCAN PBT9500 | Q82: 스켄 작동 안됨:점검중 | R82: E16C09724 | S82: 1 | T82: 1400 | U82: =(T82*50)/100*S82 -> 700 | V82: 0 | W82: =U82-V82 -> 700 | X82: 자체 | Z82: 4 | AA82: =F82-E82 -> 0 | AB82: 최준영
B83: =IF(F83>0,IFERROR(WEEKNUM(F83),"")-1,"") -> 8 | C83: =IF(D83=0,"",(IF(LEFT(D83,3)="ATK","ATK",IF(LEFT(D83,2)="AT",D83,"ATK")))) -> ATK | D83: 구용회 | E83: 2021-02-17 | F83: 2021-02-22 | G83: =IF(F83>0,MONTH(F83),"") -> 2 | H83: =IF(I83=0,"",IF(RIGHT(I83,2)="완료","완료",IF(RIGHT(I83,2)="불가","수리불가",IF(RIGHT(I83,1)="중","수리중","Other")))) -> 완료 | I83: 수리완료 | J83: B | K83: 2T2P | L83: =LEFT(K83,2) -> 2T | M83: Wire Bonding | N83: K&S Iconn | O83: WIRE CLAMP DRIVER PCB ASSY | P83: 08888-4165 | Q83: Wire Clamp 동작 불량:Wire Clamp 동작 불량 | S83: 1 | T83: 1600 | U83: =(T83*50)/100*S83 -> 800 | V83: 1 | W83: =U83-V83 -> 799 | X83: 자체 | Z83: 3 | AA83: =F83-E83 -> 5 | AB83: 허준영
B84: =IF(F84>0,IFERROR(WEEKNUM(F84),"")-1,"") -> 8 | C84: =IF(D84=0,"",(IF(LEFT(D84,3)="ATK","ATK",IF(LEFT(D84,2)="AT",D84,"ATK")))) -> ATK | D84: 구용회 | E84: 2021-02-17 | F84: 2021-02-23 | G84: =IF(F84>0,MONTH(F84),"") -> 2 | H84: =IF(I84=0,"",IF(RIGHT(I84,2)="완료","완료",IF(RIGHT(I84,2)="불가","수리불가",IF(RIGHT(I84,1)="중","수리중","Other")))) -> 완료 | I84: 수리완료 | J84: B | K84: 2T2P | L84: =LEFT(K84,2) -> 2T | M84: Wire Bonding | N84: K&S Iconn Plus | O84: 5KV/127mA SMT EFO BOX | P84: 08888-1325 | Q84: Communication Error:Communication Error | S84: 1 | T84: 1600 | U84: =(T84*50)/100*S84 -> 800 | V84: 30 | W84: =U84-V84 -> 770 | X84: 자체 | Z84: 4 | AA84: =F84-E84 -> 6 | AB84: 허준영
B85: =IF(F85>0,IFERROR(WEEKNUM(F85),"")-1,"") -> 8 | C85: =IF(D85=0,"",(IF(LEFT(D85,3)="ATK","ATK",IF(LEFT(D85,2)="AT",D85,"ATK")))) -> ATK | D85: 서대혁 | E85: 2021-02-17 | F85: 2021-02-22 | G85: =IF(F85>0,MONTH(F85),"") -> 2 | H85: =IF(I85=0,"",IF(RIGHT(I85,2)="완료","완료",IF(RIGHT(I85,2)="불가","수리불가",IF(RIGHT(I85,1)="중","수리중","Other")))) -> 수리불가 | I85: 수리불가 | J85: PM | K85: PM | L85: =LEFT(K85,2) -> PM | M85: BAR CODE | N85: scanner | O85: Scanner Board | P85: POWERSCAN PBT9500 | Q85: 스켄 작동 안됨:메인칩 out로 수리 불가 | R85: E16C09724 | S85: 1 | T85: 1400 | U85: =(T85*50)/100*S85 -> 700 | V85: 0 | W85: =U85-V85 -> 700 | X85: 자체 | Z85: 4 | AA85: =F85-E85 -> 5 | AB85: 최준영
B86: =IF(F86>0,IFERROR(WEEKNUM(F86),"")-1,"") -> 7 | C86: =IF(D86=0,"",(IF(LEFT(D86,3)="ATK","ATK",IF(LEFT(D86,2)="AT",D86,"ATK")))) -> ATK | D86: 김남곤 | E86: 2021-02-16 | F86: 2021-02-16 | G86: =IF(F86>0,MONTH(F86),"") -> 2 | H86: =IF(I86=0,"",IF(RIGHT(I86,2)="완료","완료",IF(RIGHT(I86,2)="불가","수리불가",IF(RIGHT(I86,1)="중","수리중","Other")))) -> 완료 | I86: 수리완료 | J86: F | K86: 5T1P | L86: =LEFT(K86,2) -> 5T | M86: FCBGA | N86: FP-VM-10-MO | O86: touch monitor | Q86: 화면이 켜지지 않음.:back light 교체 . 10.4 back light 대체품 9.5 back light 사용. 10.4 back light 구매중. | S86: 1 | T86: 4000 | U86: =(T86*50)/100*S86 -> 2000 | V86: 15 | W86: =U86-V86 -> 1985 | X86: 자체 | Z86: 3 | AA86: =F86-E86 -> 0 | AB86: 정기수
B87: =IF(F87>0,IFERROR(WEEKNUM(F87),"")-1,"") -> 7 | C87: =IF(D87=0,"",(IF(LEFT(D87,3)="ATK","ATK",IF(LEFT(D87,2)="AT",D87,"ATK")))) -> ATK | D87: 강주형 | E87: 2021-02-16 | F87: 2021-02-16 | G87: =IF(F87>0,MONTH(F87),"") -> 2 | H87: =IF(I87=0,"",IF(RIGHT(I87,2)="완료","완료",IF(RIGHT(I87,2)="불가","수리불가",IF(RIGHT(I87,1)="중","수리중","Other")))) -> 완료 | I87: 수리완료 | J87: EE | K87: EE1 | L87: =LEFT(K87,2) -> EE | M87: C/A | N87: LS 산전 | O87: 24V Power Supply | P87: GM6-PAFA | Q87: : | S87: 1 | T87: 150 | U87: =(T87*50)/100*S87 -> 75 | V87: 5 | W87: =U87-V87 -> 70 | X87: 자체 | Z87: 1 | AA87: =F87-E87 -> 0 | AB87: 장은철
B88: =IF(F88>0,IFERROR(WEEKNUM(F88),"")-1,"") -> 7 | C88: =IF(D88=0,"",(IF(LEFT(D88,3)="ATK","ATK",IF(LEFT(D88,2)="AT",D88,"ATK")))) -> ATK | D88: 오재효 | E88: 2021-02-16 | F88: 2021-02-16 | G88: =IF(F88>0,MONTH(F88),"") -> 2 | H88: =IF(I88=0,"",IF(RIGHT(I88,2)="완료","완료",IF(RIGHT(I88,2)="불가","수리불가",IF(RIGHT(I88,1)="중","수리중","Other")))) -> 완료 | I88: 수리완료 | J88: B | K88: 2T3P | L88: =LEFT(K88,2) -> 2T | M88: APM MOLD | N88: VRG-300TA | O88: Pendant | P88: GT2505HS-VTBD | Q88: : | S88: 2 | T88: 4500 | U88: =(T88*50)/100*S88 -> 4500 | V88: 0 | W88: =U88-V88 -> 4500 | X88: 자체 | Z88: 1 | AA88: =F88-E88 -> 0 | AB88: 장은철
B89: =IF(F89>0,IFERROR(WEEKNUM(F89),"")-1,"") -> 7 | C89: =IF(D89=0,"",(IF(LEFT(D89,3)="ATK","ATK",IF(LEFT(D89,2)="AT",D89,"ATK")))) -> ATK | D89: 이성문 | E89: 2021-02-16 | F89: 2021-02-16 | G89: =IF(F89>0,MONTH(F89),"") -> 2 | H89: =IF(I89=0,"",IF(RIGHT(I89,2)="완료","완료",IF(RIGHT(I89,2)="불가","수리불가",IF(RIGHT(I89,1)="중","수리중","Other")))) -> 완료 | I89: 수리완료 | J89: PM | K89: 1T4P | L89: =LEFT(K89,2) -> 1T | M89: screen print | N89: ICOS | O89: AC SERVO DRIVER( | P89: madht1505e | Q89: error 18:원인 과speed 회생 tr 조치: all c 교환 panatum 5.0 installation | S89: 1 | T89: 1000 | U89: =(T89*50)/100*S89 -> 500 | V89: 0 | W89: =U89-V89 -> 500 | X89: 자체 | Z89: 5 | AA89: =F89-E89 -> 0 | AB89: 강영구
B90: =IF(F90>0,IFERROR(WEEKNUM(F90),"")-1,"") -> 7 | C90: =IF(D90=0,"",(IF(LEFT(D90,3)="ATK","ATK",IF(LEFT(D90,2)="AT",D90,"ATK")))) -> ATK | D90: 유성수 | E90: 2021-02-16 | F90: 2021-02-16 | G90: =IF(F90>0,MONTH(F90),"") -> 2 | H90: =IF(I90=0,"",IF(RIGHT(I90,2)="완료","완료",IF(RIGHT(I90,2)="불가","수리불가",IF(RIGHT(I90,1)="중","수리중","Other")))) -> 완료 | I90: 수리완료 | J90: PM | K90: 1T2P | L90: =LEFT(K90,2) -> 1T | M90: W/B/G | N90: pg300 | O90: ac servo yaskawa | P90: SGDM-01bda | Q90: PARAMETER COPY :SPAIR DRIVER PARAMETER COPY | S90: 1 | T90: 1000 | U90: =(T90*50)/100*S90 -> 500 | V90: 0 | W90: =U90-V90 -> 500 | X90: 자체 | Z90: 2 | AA90: =F90-E90 -> 0 | AB90: 강영구
B91: =IF(F91>0,IFERROR(WEEKNUM(F91),"")-1,"") -> 7 | C91: =IF(D91=0,"",(IF(LEFT(D91,3)="ATK","ATK",IF(LEFT(D91,2)="AT",D91,"ATK")))) -> ATK | D91: 이정현 | E91: 2021-02-16 | F91: 2021-02-16 | G91: =IF(F91>0,MONTH(F91),"") -> 2 | H91: =IF(I91=0,"",IF(RIGHT(I91,2)="완료","완료",IF(RIGHT(I91,2)="불가","수리불가",IF(RIGHT(I91,1)="중","수리중","Other")))) -> 완료 | I91: 수리완료 | J91: Bump | K91: Bump | L91: =LEFT(K91,2) -> Bu | M91: Bumping PHOTO | N91: FOUP CLEANER | O91: syatem pc | Q91: BOOTING ERROR:POWER 교체 | S91: 1 | T91: 7000 | U91: =(T91*50)/100*S91 -> 3500 | V91: 80 | W91: =U91-V91 -> 3420 | X91: 자체 | Z91: 2 | AA91: =F91-E91 -> 0 | AB91: 장은철
B92: =IF(F92>0,IFERROR(WEEKNUM(F92),"")-1,"") -> 7 | C92: =IF(D92=0,"",(IF(LEFT(D92,3)="ATK","ATK",IF(LEFT(D92,2)="AT",D92,"ATK")))) -> ATK | D92: 김태식 | E92: 2021-02-16 | F92: 2021-02-16 | G92: =IF(F92>0,MONTH(F92),"") -> 2 | H92: =IF(I92=0,"",IF(RIGHT(I92,2)="완료","완료",IF(RIGHT(I92,2)="불가","수리불가",IF(RIGHT(I92,1)="중","수리중","Other")))) -> 완료 | I92: 수리완료 | J92: EE | K92: EE2 | L92: =LEFT(K92,2) -> EE | M92: oven | N92: OVEN | O92: KACN | P92: KSP-41S | Q92: 전원 안들어옴:전원 안들어와 분해 해보니 전원 트랜스퍼머가 OUT됨 같은 트랜스 없어서 12V 1A SMPS 분해하여 내장시킴 | S92: 2 | T92: 40 | U92: =(T92*50)/100*S92 -> 40 | V92: 0 | W92: =U92-V92 -> 40 | X92: 자체 | Z92: 8 | AA92: =F92-E92 -> 0 | AB92: 최준영
B93: =IF(F93>0,IFERROR(WEEKNUM(F93),"")-1,"") -> #VALUE! | C93: =IF(D93=0,"",(IF(LEFT(D93,3)="ATK","ATK",IF(LEFT(D93,2)="AT",D93,"ATK")))) -> ATK | D93: 이백범 | E93: 2021-02-16 | G93: =IF(F93>0,MONTH(F93),"") -> #VALUE! | H93: =IF(I93=0,"",IF(RIGHT(I93,2)="완료","완료",IF(RIGHT(I93,2)="불가","수리불가",IF(RIGHT(I93,1)="중","수리중","Other")))) -> 수리중 | I93: 수리중 | J93: Bump | K93: Bump | L93: =LEFT(K93,2) -> Bu | M93: bump | N93: CDM | O93: 판넬PC | P93: XTOP12TS-SD | Q93: 전원불량:패널 불량으로 구매중 | S93: 1 | T93: 9000 | U93: =(T93*50)/100*S93 -> 4500 | V93: 0 | W93: =U93-V93 -> 4500 | X93: 자체 | Z93: 0 | AA93: =F93-E93 -> #VALUE! | AB93: 장은철
B94: =IF(F94>0,IFERROR(WEEKNUM(F94),"")-1,"") -> 7 | C94: =IF(D94=0,"",(IF(LEFT(D94,3)="ATK","ATK",IF(LEFT(D94,2)="AT",D94,"ATK")))) -> ATK | D94: 이성문 | E94: 2021-02-15 | F94: 2021-02-15 | G94: =IF(F94>0,MONTH(F94),"") -> 2 | H94: =IF(I94=0,"",IF(RIGHT(I94,2)="완료","완료",IF(RIGHT(I94,2)="불가","수리불가",IF(RIGHT(I94,1)="중","수리중","Other")))) -> 완료 | I94: 수리완료 | J94: A | K94: 1T2P | L94: =LEFT(K94,2) -> 1T | M94: ICOS | O94: STEPPING MOTOR DRIVER | P94: TD-2M33 | Q94: SIGNAL 불안정:커플러 교체 | S94: 2 | T94: 1500 | U94: =(T94*50)/100*S94 -> 1500 | V94: 6 | W94: =U94-V94 -> 1494 | X94: 자체 | Z94: 2 | AA94: =F94-E94 -> 0 | AB94: 장은철
B95: =IF(F95>0,IFERROR(WEEKNUM(F95),"")-1,"") -> 7 | C95: =IF(D95=0,"",(IF(LEFT(D95,3)="ATK","ATK",IF(LEFT(D95,2)="AT",D95,"ATK")))) -> ATK | D95: 윤교한 | E95: 2021-02-15 | F95: 2021-02-15 | G95: =IF(F95>0,MONTH(F95),"") -> 2 | H95: =IF(I95=0,"",IF(RIGHT(I95,2)="완료","완료",IF(RIGHT(I95,2)="불가","수리불가",IF(RIGHT(I95,1)="중","수리중","Other")))) -> 완료 | I95: 수리완료 | J95: B | K95: 2T2P | L95: =LEFT(K95,2) -> 2T | M95: P/Saw | N95: HANMI | O95: INTERFACE B/D | Q95: :fuse 교체 | S95: 2 | T95: 500 | U95: =(T95*50)/100*S95 -> 500 | V95: 1 | W95: =U95-V95 -> 499 | X95: 자체 | Z95: 1 | AA95: =F95-E95 -> 0 | AB95: 장은철
B96: =IF(F96>0,IFERROR(WEEKNUM(F96),"")-1,"") -> 7 | C96: =IF(D96=0,"",(IF(LEFT(D96,3)="ATK","ATK",IF(LEFT(D96,2)="AT",D96,"ATK")))) -> ATK | D96: 유성수 | E96: 2021-02-15 | F96: 2021-02-15 | G96: =IF(F96>0,MONTH(F96),"") -> 2 | H96: =IF(I96=0,"",IF(RIGHT(I96,2)="완료","완료",IF(RIGHT(I96,2)="불가","수리불가",IF(RIGHT(I96,1)="중","수리중","Other")))) -> 완료 | I96: 수리완료 | J96: G | K96: 1T2P | L96: =LEFT(K96,2) -> 1T | M96: B/G | N96: PG300RM | O96: ac servo | P96: SGDM-01bda | Q96: POSITION 변함 :PARAMETER COPY SERVO REPAIR | S96: 1 | T96: 1000 | U96: =(T96*50)/100*S96 -> 500 | V96: 10 | W96: =U96-V96 -> 490 | X96: 자체 | Z96: 6 | AA96: =F96-E96 -> 0 | AB96: 강영구
B97: =IF(F97>0,IFERROR(WEEKNUM(F97),"")-1,"") -> 7 | C97: =IF(D97=0,"",(IF(LEFT(D97,3)="ATK","ATK",IF(LEFT(D97,2)="AT",D97,"ATK")))) -> ATK | D97: 허수웅 | E97: 2021-02-15 | F97: 2021-02-15 | G97: =IF(F97>0,MONTH(F97),"") -> 2 | H97: =IF(I97=0,"",IF(RIGHT(I97,2)="완료","완료",IF(RIGHT(I97,2)="불가","수리불가",IF(RIGHT(I97,1)="중","수리중","Other")))) -> 완료 | I97: 수리완료 | J97: F | K97: 5T1P | L97: =LEFT(K97,2) -> 5T | M97: FCBGA | N97: 1913RF | O97: I/O Board | Q97: 알람 울리지 않음.:BOARD 전체 소자 체크 완료 / BOARD 퓨즈 OUT으로 교체 완료. | S97: 1 | T97: 1000 | U97: =(T97*50)/100*S97 -> 500 | V97: 0 | W97: =U97-V97 -> 500 | X97: 자체 | Z97: 2 | AA97: =F97-E97 -> 0 | AB97: 정기수
B98: =IF(F98>0,IFERROR(WEEKNUM(F98),"")-1,"") -> 7 | C98: =IF(D98=0,"",(IF(LEFT(D98,3)="ATK","ATK",IF(LEFT(D98,2)="AT",D98,"ATK")))) -> ATK | D98: 김현만 | E98: 2021-02-15 | F98: 2021-02-15 | G98: =IF(F98>0,MONTH(F98),"") -> 2 | H98: =IF(I98=0,"",IF(RIGHT(I98,2)="완료","완료",IF(RIGHT(I98,2)="불가","수리불가",IF(RIGHT(I98,1)="중","수리중","Other")))) -> 완료 | I98: 수리완료 | J98: F | K98: 5T1P | L98: =LEFT(K98,2) -> 5T | M98: FCBGA | N98: FP-VM-10-MO | O98: touch monitor | Q98: BACK LIGHT OUT:BACK LIGHT 교체 , 인버터 BOARD 퓨즈 OUT으로 교체. | S98: 1 | T98: 4000 | U98: =(T98*50)/100*S98 -> 2000 | V98: 5 | W98: =U98-V98 -> 1995 | X98: 자체 | Z98: 0 | AA98: =F98-E98 -> 0 | AB98: 정기수
B99: =IF(F99>0,IFERROR(WEEKNUM(F99),"")-1,"") -> 7 | C99: =IF(D99=0,"",(IF(LEFT(D99,3)="ATK","ATK",IF(LEFT(D99,2)="AT",D99,"ATK")))) -> ATK | D99: 서대혁 | E99: 2021-02-15 | F99: 2021-02-15 | G99: =IF(F99>0,MONTH(F99),"") -> 2 | H99: =IF(I99=0,"",IF(RIGHT(I99,2)="완료","완료",IF(RIGHT(I99,2)="불가","수리불가",IF(RIGHT(I99,1)="중","수리중","Other")))) -> 완료 | I99: 수리완료 | J99: C | K99: 3T3P | L99: =LEFT(K99,2) -> 3T | M99: PMO | N99: Timer | O99: Timer controller | P99: Timer | Q99: 미니타이머 (일제) 화면 안나옴:분해 해 보니 LCD창과 보드을 연결해 주는 소프트케이불이 없는상태. LCD와 보드 접촉을 해주고 스위치 작동을 돕는 보드 고정 스크류 1개 배터리를 고정시키고 케이스 고정용 외부 고정 스크류 4개 없는 상태로 입고, 적출해 보관 하고 있던 소프트케이블을 맞게 잘라 끼우고 작동 스위치 3개는 양면 테이프에 연필 흑연을 묻혀서 고정시킨후 조립! 정상 작동 | S99: 1 | T99: 60 | U99: =(T99*50)/100*S99 -> 30 | V99: 2 | W99: =U99-V99 -> 28 | X99: 자체 | Z99: 4 | AA99: =F99-E99 -> 0 | AB99: 최준영
B100: =IF(F100>0,IFERROR(WEEKNUM(F100),"")-1,"") -> 7 | C100: =IF(D100=0,"",(IF(LEFT(D100,3)="ATK","ATK",IF(LEFT(D100,2)="AT",D100,"ATK")))) -> ATK | D100: 강성열 | E100: 2021-02-15 | F100: 2021-02-15 | G100: =IF(F100>0,MONTH(F100),"") -> 2 | H100: =IF(I100=0,"",IF(RIGHT(I100,2)="완료","완료",IF(RIGHT(I100,2)="불가","수리불가",IF(RIGHT(I100,1)="중","수리중","Other")))) -> 완료 | I100: 수리완료 | J100: F | K100: 5T1P | L100: =LEFT(K100,2) -> 5T | M100: LID/A | N100: PROTEC | O100: LX-2001 | Q100: 레이저 데이터 피드백 안됨: | S100: 1 | T100: 1900 | U100: =(T100*50)/100*S100 -> 950 | V100: 15 | W100: =U100-V100 -> 935 | X100: 자체 | Z100: 4 | AA100: =F100-E100 -> 0 | AB100: 장은철
...

Sheet E-Board
B1: 2021 AAW E-Board Repair Count(Q'ty) & Cost Reduction
Q2: Currency | R2: K$ | T2: AWW Report Form | Y2: EXR | Z2: =R3 -> 1100
B3: *요청 수량기준 | Q3: EXR (\/$): | R3: 1100 | T3: *완료 건수기준 | Z3: By Count
B4: Month | C4: ATK | E4: ATP | G4: ATC | I4: ATT | K4: ATM | M4: ATJ | O4: ATEP | Q4: Total(Mon) | T4: Factory | U4: Request eBoard (Q'ty) | V4: Repair Success (Q'ty) | W4: Repair Impossible (Q'ty) | X4: Return Shipping (Q'ty) | Y4: Repair Ongoing (Q'ty) | Z4: R&M Cost Save (K$)
C5: Count | D5: Cost Save | E5: Count | F5: Cost Save | G5: Count | H5: Cost Save | I5: Count | J5: Cost Save | K5: Count | L5: Cost Save | M5: Count | N5: Cost Save | O5: Count | P5: Cost Save | Q5: Count | R5: cost save
B6: Jan. | C6: =SUMPRODUCT(SUMIFS(Daily!$S:$S,Daily!$G:$G,"1",Daily!$C:$C,"ATK",Daily!$I:$I,"수리완료")) + SUMPRODUCT(SUMIFS(Daily!$S:$S,Daily!$G:$G,"1",Daily!$C:$C,"ATK",Daily!$I:$I,"외주수리완료")) -> 144 | D6: =IF($R$2="K\",(SUMPRODUCT(SUMIFS(Daily!$W:$W,Daily!$G:$G,"1",Daily!$C:$C,"ATK",Daily!$I:$I,"수리완료")) + SUMPRODUCT(SUMIFS(Daily!$W:$W,Daily!$G:$G,"1",Daily!$C:$C,"ATK",Daily!$I:$I,"외주수리완료"))),(SUMPRODUCT(SUMIFS(Daily!$W:$W,Daily!$G:$G,"1",Daily!$C:$C,"ATK",Daily!$I:$I,"수리완료")) + SUMPRODUCT(SUMIFS(Daily!$W:$W,Daily!$G:$G,"1",Daily!$C:$C,"ATK",Daily!$I:$I,"외주수리완료")))/$R$3) -> 140.17682 | E6: =SUMIFS(Daily!$S:$S,Daily!$G:$G,1,Daily!$I:$I,{"수리완료"},Daily!$C:$C,"ATP")+SUMIFS(Daily!$S:$S,Daily!$G:$G,1,Daily!$I:$I,{"외주수리완료"},Daily!$C:$C,"ATP") -> 10 | F6: =IF($R$2="K\",SUMIFS(Daily!$W:$W,Daily!$G:$G,1,Daily!$I:$I,{"수리완료"},Daily!$C:$C,"ATP")+SUMIFS(Daily!$W:$W,Daily!$G:$G,1,Daily!$I:$I,{"외주수리완료"},Daily!$C:$C,"ATP"),(SUMIFS(Daily!$W:$W,Daily!$G:$G,1,Daily!$I:$I,{"수리완료"},Daily!$C:$C,"ATP")+SUMIFS(Daily!$W:$W,Daily!$G:$G,1,Daily!$I:$I,{"외주수리완료"},Daily!$C:$C,"ATP"))/$R$3) -> 17.045455 | G6: =SUMIFS(Daily!$S:$S,Daily!$G:$G,1,Daily!$I:$I,{"수리완료"},Daily!$C:$C,"ATC")+SUMIFS(Daily!$S:$S,Daily!$G:$G,1,Daily!$I:$I,{"외주수리완료"},Daily!$C:$C,"ATC") -> 0 | H6: =IF($R$2="K\",SUMIFS(Daily!$W:$W,Daily!$G:$G,1,Daily!$I:$I,{"수리완료"},Daily!$C:$C,"ATC")+SUMIFS(Daily!$W:$W,Daily!$G:$G,1,Daily!$I:$I,{"외주수리완료"},Daily!$C:$C,"ATC"),(SUMIFS(Daily!$W:$W,Daily!$G:$G,1,Daily!$I:$I,{"수리완료"},Daily!$C:$C,"ATC")+SUMIFS(Daily!$W:$W,Daily!$G:$G,1,Daily!$I:$I,{"외주수리완료"},Daily!$C:$C,"ATC"))/$R$3) -> 0 | I6: =SUMIFS(Daily!$S:$S,Daily!$G:$G,1,Daily!$I:$I,{"수리완료"},Daily!$C:$C,"ATT")+SUMIFS(Daily!$S:$S,Daily!$G:$G,1,Daily!$I:$I,{"외주수리완료"},Daily!$C:$C,"ATT") -> 0 | J6: =IF($R$2="K\",SUMIFS(Daily!$W:$W,Daily!$G:$G,1,Daily!$I:$I,{"수리완료"},Daily!$C:$C,"ATT")+SUMIFS(Daily!$W:$W,Daily!$G:$G,1,Daily!$I:$I,{"외주수리완료"},Daily!$C:$C,"ATT"),(SUMIFS(Daily!$W:$W,Daily!$G:$G,1,Daily!$I:$I,{"수리완료"},Daily!$C:$C,"ATT")+SUMIFS(Daily!$W:$W,Daily!$G:$G,1,Daily!$I:$I,{"외주수리완료"},Daily!$C:$C,"ATT"))/$R$3) -> 0 | K6: =SUMIFS(Daily!$S:$S,Daily!$G:$G,1,Daily!$I:$I,{"수리완료"},Daily!$C:$C,"ATM")+SUMIFS(Daily!$S:$S,Daily!$G:$G,1,Daily!$I:$I,{"외주수리완료"},Daily!$C:$C,"ATM") -> 2 | L6: =IF($R$2="K\",SUMIFS(Daily!$W:$W,Daily!$G:$G,1,Daily!$I:$I,{"수리완료"},Daily!$C:$C,"ATM")+SUMIFS(Daily!$W:$W,Daily!$G:$G,1,Daily!$I:$I,{"외주수리완료"},Daily!$C:$C,"ATM"),(SUMIFS(Daily!$W:$W,Daily!$G:$G,1,Daily!$I:$I,{"수리완료"},Daily!$C:$C,"ATM")+SUMIFS(Daily!$W:$W,Daily!$G:$G,1,Daily!$I:$I,{"외주수리완료"},Daily!$C:$C,"ATM"))/$R$3) -> 1.9727273 | M6: =SUMIFS(Daily!$S:$S,Daily!$G:$G,1,Daily!$I:$I,{"수리완료"},Daily!$C:$C,"ATJ")+SUMIFS(Daily!$S:$S,Daily!$G:$G,1,Daily!$I:$I,{"외주수리완료"},Daily!$C:$C,"ATJ") -> 0 | N6: =IF($R$2="K\",SUMIFS(Daily!$W:$W,Daily!$G:$G,1,Daily!$I:$I,{"수리완료"},Daily!$C:$C,"ATJ")+SUMIFS(Daily!$W:$W,Daily!$G:$G,1,Daily!$I:$I,{"외주수리완료"},Daily!$C:$C,"ATJ"),(SUMIFS(Daily!$W:$W,Daily!$G:$G,1,Daily!$I:$I,{"수리완료"},Daily!$C:$C,"ATJ")+SUMIFS(Daily!$W:$W,Daily!$G:$G,1,Daily!$I:$I,{"외주수리완료"},Daily!$C:$C,"ATJ"))/$R$3) -> 0 | O6: =SUMIFS(Daily!$S:$S,Daily!$G:$G,1,Daily!$I:$I,{"*수리완료"},Daily!$C:$C,"ATEP") -> 0 | P6: =IF($R$2="K\",SUMIFS(Daily!$W:$W,Daily!$G:$G,1,Daily!$I:$I,{"수리완료"},Daily!$C:$C,"ATEP")+SUMIFS(Daily!$W:$W,Daily!$G:$G,1,Daily!$I:$I,{"외주수리완료"},Daily!$C:$C,"ATEP"),(SUMIFS(Daily!$W:$W,Daily!$G:$G,1,Daily!$I:$I,{"수리완료"},Daily!$C:$C,"ATEP")+SUMIFS(Daily!$W:$W,Daily!$G:$G,1,Daily!$I:$I,{"외주수리완료"},Daily!$C:$C,"ATEP"))/$R$3) -> 0 | Q6: =C6+E6+G6+I6+K6+M6+O6 -> 156 | R6: =D6+F6+H6+J6+L6+N6+P6 -> 159.195 | T6: ATK | U6: =COUNTIF(Daily!C:C, T6)-COUNTIFS(Daily!C:C, T6, Daily!I:I, "Other") -> 308 | V6: =COUNTIFS(Daily!C:C, T6, Daily!I:I, "수리완료")+COUNTIFS(Daily!C:C, T6, Daily!I:I, "외주수리완료") -> 269 | W6: =COUNTIFS(Daily!C:C, T6, Daily!I:I, "수리불가")+COUNTIFS(Daily!C:C, T6, Daily!I:I, "외주수리불가")+COUNTIFS(Daily!C:C, T6, Daily!I:I, "폐기") -> 23 | X6: 0 | Y6: =COUNTIFS(Daily!C:C, T6, Daily!I:I, "수리중")+COUNTIFS(Daily!C:C, T6, Daily!I:I, "외주수리중") -> 16 | Z6: =(SUMIFS(Daily!W:W, Daily!C:C, T6, Daily!I:I, "수리완료")+SUMIFS(Daily!W:W, Daily!C:C, T6, Daily!I:I, "외주수리완료"))/$Z$2 -> 352.31455
B7: Feb. | C7: =SUMPRODUCT(SUMIFS(Daily!$S:$S,Daily!$G:$G,"2",Daily!$C:$C,"ATK",Daily!$I:$I,"수리완료")) + SUMPRODUCT(SUMIFS(Daily!$S:$S,Daily!$G:$G,"2",Daily!$C:$C,"ATK",Daily!$I:$I,"외주수리완료")) -> 172 | D7: =IF($R$2="K\",(SUMPRODUCT(SUMIFS(Daily!$W:$W,Daily!$G:$G,"2",Daily!$C:$C,"ATK",Daily!$I:$I,"수리완료")) + SUMPRODUCT(SUMIFS(Daily!$W:$W,Daily!$G:$G,"2",Daily!$C:$C,"ATK",Daily!$I:$I,"외주수리완료"))),(SUMPRODUCT(SUMIFS(Daily!$W:$W,Daily!$G:$G,"2",Daily!$C:$C,"ATK",Daily!$I:$I,"수리완료")) + SUMPRODUCT(SUMIFS(Daily!$W:$W,Daily!$G:$G,"2",Daily!$C:$C,"ATK",Daily!$I:$I,"외주수리완료")))/$R$3) -> 193.90955 | E7: =SUMIFS(Daily!$S:$S,Daily!$G:$G,2,Daily!$I:$I,{"수리완료"},Daily!$C:$C,"ATP")+SUMIFS(Daily!$S:$S,Daily!$G:$G,2,Daily!$I:$I,{"외주수리완료"},Daily!$C:$C,"ATP") -> 2 | F7: =IF($R$2="K\",SUMIFS(Daily!$W:$W,Daily!$G:$G,2,Daily!$I:$I,{"수리완료"},Daily!$C:$C,"ATP")+SUMIFS(Daily!$W:$W,Daily!$G:$G,2,Daily!$I:$I,{"외주수리완료"},Daily!$C:$C,"ATP"),(SUMIFS(Daily!$W:$W,Daily!$G:$G,2,Daily!$I:$I,{"수리완료"},Daily!$C:$C,"ATP")+SUMIFS(Daily!$W:$W,Daily!$G:$G,2,Daily!$I:$I,{"외주수리완료"},Daily!$C:$C,"ATP"))/$R$3) -> 5.4545455 | G7: =SUMIFS(Daily!$S:$S,Daily!$G:$G,2,Daily!$I:$I,{"수리완료"},Daily!$C:$C,"ATC")+SUMIFS(Daily!$S:$S,Daily!$G:$G,2,Daily!$I:$I,{"외주수리완료"},Daily!$C:$C,"ATC") -> 0 | H7: =IF($R$2="K\",SUMIFS(Daily!$W:$W,Daily!$G:$G,2,Daily!$I:$I,{"수리완료"},Daily!$C:$C,"ATC")+SUMIFS(Daily!$W:$W,Daily!$G:$G,2,Daily!$I:$I,{"외주수리완료"},Daily!$C:$C,"ATC"),(SUMIFS(Daily!$W:$W,Daily!$G:$G,2,Daily!$I:$I,{"수리완료"},Daily!$C:$C,"ATC")+SUMIFS(Daily!$W:$W,Daily!$G:$G,2,Daily!$I:$I,{"외주수리완료"},Daily!$C:$C,"ATC"))/$R$3) -> 0 | I7: =SUMIFS(Daily!$S:$S,Daily!$G:$G,2,Daily!$I:$I,{"수리완료"},Daily!$C:$C,"ATT")+SUMIFS(Daily!$S:$S,Daily!$G:$G,2,Daily!$I:$I,{"외주수리완료"},Daily!$C:$C,"ATT") -> 0 | J7: =IF($R$2="K\",SUMIFS(Daily!$W:$W,Daily!$G:$G,2,Daily!$I:$I,{"수리완료"},Daily!$C:$C,"ATT")+SUMIFS(Daily!$W:$W,Daily!$G:$G,2,Daily!$I:$I,{"외주수리완료"},Daily!$C:$C,"ATT"),(SUMIFS(Daily!$W:$W,Daily!$G:$G,2,Daily!$I:$I,{"수리완료"},Daily!$C:$C,"ATT")+SUMIFS(Daily!$W:$W,Daily!$G:$G,2,Daily!$I:$I,{"외주수리완료"},Daily!$C:$C,"ATT"))/$R$3) -> 0 | K7: =SUMIFS(Daily!$S:$S,Daily!$G:$G,2,Daily!$I:$I,{"수리완료"},Daily!$C:$C,"ATM")+SUMIFS(Daily!$S:$S,Daily!$G:$G,2,Daily!$I:$I,{"외주수리완료"},Daily!$C:$C,"ATM") -> 0 | L7: =IF($R$2="K\",SUMIFS(Daily!$W:$W,Daily!$G:$G,2,Daily!$I:$I,{"수리완료"},Daily!$C:$C,"ATM")+SUMIFS(Daily!$W:$W,Daily!$G:$G,2,Daily!$I:$I,{"외주수리완료"},Daily!$C:$C,"ATM"),(SUMIFS(Daily!$W:$W,Daily!$G:$G,2,Daily!$I:$I,{"수리완료"},Daily!$C:$C,"ATM")+SUMIFS(Daily!$W:$W,Daily!$G:$G,2,Daily!$I:$I,{"외주수리완료"},Daily!$C:$C,"ATM"))/$R$3) -> 0 | M7: =SUMIFS(Daily!$S:$S,Daily!$G:$G,2,Daily!$I:$I,{"수리완료"},Daily!$C:$C,"ATJ")+SUMIFS(Daily!$S:$S,Daily!$G:$G,2,Daily!$I:$I,{"외주수리완료"},Daily!$C:$C,"ATJ") -> 0 | N7: =IF($R$2="K\",SUMIFS(Daily!$W:$W,Daily!$G:$G,2,Daily!$I:$I,{"수리완료"},Daily!$C:$C,"ATJ")+SUMIFS(Daily!$W:$W,Daily!$G:$G,2,Daily!$I:$I,{"외주수리완료"},Daily!$C:$C,"ATJ"),(SUMIFS(Daily!$W:$W,Daily!$G:$G,2,Daily!$I:$I,{"수리완료"},Daily!$C:$C,"ATJ")+SUMIFS(Daily!$W:$W,Daily!$G:$G,2,Daily!$I:$I,{"외주수리완료"},Daily!$C:$C,"ATJ"))/$R$3) -> 0 | O7: =SUMIFS(Daily!$S:$S,Daily!$G:$G,2,Daily!$I:$I,{"*수리완료"},Daily!$C:$C,"ATEP") -> 0 | P7: =IF($R$2="K\",SUMIFS(Daily!$W:$W,Daily!$G:$G,2,Daily!$I:$I,{"수리완료"},Daily!$C:$C,"ATEP")+SUMIFS(Daily!$W:$W,Daily!$G:$G,2,Daily!$I:$I,{"외주수리완료"},Daily!$C:$C,"ATEP"),(SUMIFS(Daily!$W:$W,Daily!$G:$G,2,Daily!$I:$I,{"수리완료"},Daily!$C:$C,"ATEP")+SUMIFS(Daily!$W:$W,Daily!$G:$G,2,Daily!$I:$I,{"외주수리완료"},Daily!$C:$C,"ATEP"))/$R$3) -> 0 | Q7: =C7+E7+G7+I7+K7+M7+O7 -> 174 | R7: =D7+F7+H7+J7+L7+N7+P7 -> 199.36409 | T7: ATP | U7: =COUNTIF(Daily!C:C, T7)-COUNTIFS(Daily!C:C, T7, Daily!I:I, "Other") -> 7 | V7: =COUNTIFS(Daily!C:C, T7, Daily!I:I, "수리완료")+COUNTIFS(Daily!C:C, T7, Daily!I:I, "외주수리완료") -> 7 | W7: =COUNTIFS(Daily!C:C, T7, Daily!I:I, "수리불가")+COUNTIFS(Daily!C:C, T7, Daily!I:I, "외주수리불가")+COUNTIFS(Daily!C:C, T7, Daily!I:I, "폐기") -> 0 | X7: 0 | Y7: =COUNTIFS(Daily!C:C, T7, Daily!I:I, "수리중")+COUNTIFS(Daily!C:C, T7, Daily!I:I, "외주수리중") -> 0 | Z7: =(SUMIFS(Daily!W:W, Daily!C:C, T7, Daily!I:I, "수리완료")+SUMIFS(Daily!W:W, Daily!C:C, T7, Daily!I:I, "외주수리완료"))/$Z$2 -> 22.5
B8: Mar. | C8: =SUMPRODUCT(SUMIFS(Daily!$S:$S,Daily!$G:$G,"3",Daily!$C:$C,"ATK",Daily!$I:$I,"수리완료")) + SUMPRODUCT(SUMIFS(Daily!$S:$S,Daily!$G:$G,"3",Daily!$C:$C,"ATK",Daily!$I:$I,"외주수리완료")) -> 12 | D8: =IF($R$2="K\",(SUMPRODUCT(SUMIFS(Daily!$W:$W,Daily!$G:$G,"3",Daily!$C:$C,"ATK",Daily!$I:$I,"수리완료")) + SUMPRODUCT(SUMIFS(Daily!$W:$W,Daily!$G:$G,"3",Daily!$C:$C,"ATK",Daily!$I:$I,"외주수리완료"))),(SUMPRODUCT(SUMIFS(Daily!$W:$W,Daily!$G:$G,"3",Daily!$C:$C,"ATK",Daily!$I:$I,"수리완료")) + SUMPRODUCT(SUMIFS(Daily!$W:$W,Daily!$G:$G,"3",Daily!$C:$C,"ATK",Daily!$I:$I,"외주수리완료")))/$R$3) -> 18.228182 | E8: =SUMIFS(Daily!$S:$S,Daily!$G:$G,3,Daily!$I:$I,{"수리완료"},Daily!$C:$C,"ATP")+SUMIFS(Daily!$S:$S,Daily!$G:$G,3,Daily!$I:$I,{"외주수리완료"},Daily!$C:$C,"ATP") -> 0 | F8: =IF($R$2="K\",SUMIFS(Daily!$W:$W,Daily!$G:$G,3,Daily!$I:$I,{"수리완료"},Daily!$C:$C,"ATP")+SUMIFS(Daily!$W:$W,Daily!$G:$G,3,Daily!$I:$I,{"외주수리완료"},Daily!$C:$C,"ATP"),(SUMIFS(Daily!$W:$W,Daily!$G:$G,3,Daily!$I:$I,{"수리완료"},Daily!$C:$C,"ATP")+SUMIFS(Daily!$W:$W,Daily!$G:$G,3,Daily!$I:$I,{"외주수리완료"},Daily!$C:$C,"ATP"))/$R$3) -> 0 | G8: =SUMIFS(Daily!$S:$S,Daily!$G:$G,3,Daily!$I:$I,{"수리완료"},Daily!$C:$C,"ATC")+SUMIFS(Daily!$S:$S,Daily!$G:$G,3,Daily!$I:$I,{"외주수리완료"},Daily!$C:$C,"ATC") -> 0 | H8: =IF($R$2="K\",SUMIFS(Daily!$W:$W,Daily!$G:$G,3,Daily!$I:$I,{"수리완료"},Daily!$C:$C,"ATC")+SUMIFS(Daily!$W:$W,Daily!$G:$G,3,Daily!$I:$I,{"외주수리완료"},Daily!$C:$C,"ATC"),(SUMIFS(Daily!$W:$W,Daily!$G:$G,3,Daily!$I:$I,{"수리완료"},Daily!$C:$C,"ATC")+SUMIFS(Daily!$W:$W,Daily!$G:$G,3,Daily!$I:$I,{"외주수리완료"},Daily!$C:$C,"ATC"))/$R$3) -> 0 | I8: =SUMIFS(Daily!$S:$S,Daily!$G:$G,3,Daily!$I:$I,{"수리완료"},Daily!$C:$C,"ATT")+SUMIFS(Daily!$S:$S,Daily!$G:$G,3,Daily!$I:$I,{"외주수리완료"},Daily!$C:$C,"ATT") -> 0 | J8: =IF($R$2="K\",SUMIFS(Daily!$W:$W,Daily!$G:$G,3,Daily!$I:$I,{"수리완료"},Daily!$C:$C,"ATT")+SUMIFS(Daily!$W:$W,Daily!$G:$G,3,Daily!$I:$I,{"외주수리완료"},Daily!$C:$C,"ATT"),(SUMIFS(Daily!$W:$W,Daily!$G:$G,3,Daily!$I:$I,{"수리완료"},Daily!$C:$C,"ATT")+SUMIFS(Daily!$W:$W,Daily!$G:$G,3,Daily!$I:$I,{"외주수리완료"},Daily!$C:$C,"ATT"))/$R$3) -> 0 | K8: =SUMIFS(Daily!$S:$S,Daily!$G:$G,3,Daily!$I:$I,{"수리완료"},Daily!$C:$C,"ATM")+SUMIFS(Daily!$S:$S,Daily!$G:$G,3,Daily!$I:$I,{"외주수리완료"},Daily!$C:$C,"ATM") -> 0 | L8: =IF($R$2="K\",SUMIFS(Daily!$W:$W,Daily!$G:$G,3,Daily!$I:$I,{"수리완료"},Daily!$C:$C,"ATM")+SUMIFS(Daily!$W:$W,Daily!$G:$G,3,Daily!$I:$I,{"외주수리완료"},Daily!$C:$C,"ATM"),(SUMIFS(Daily!$W:$W,Daily!$G:$G,3,Daily!$I:$I,{"수리완료"},Daily!$C:$C,"ATM")+SUMIFS(Daily!$W:$W,Daily!$G:$G,3,Daily!$I:$I,{"외주수리완료"},Daily!$C:$C,"ATM"))/$R$3) -> 0 | M8: =SUMIFS(Daily!$S:$S,Daily!$G:$G,3,Daily!$I:$I,{"수리완료"},Daily!$C:$C,"ATJ")+SUMIFS(Daily!$S:$S,Daily!$G:$G,3,Daily!$I:$I,{"외주수리완료"},Daily!$C:$C,"ATJ") -> 0 | N8: =IF($R$2="K\",SUMIFS(Daily!$W:$W,Daily!$G:$G,3,Daily!$I:$I,{"수리완료"},Daily!$C:$C,"ATJ")+SUMIFS(Daily!$W:$W,Daily!$G:$G,3,Daily!$I:$I,{"외주수리완료"},Daily!$C:$C,"ATJ"),(SUMIFS(Daily!$W:$W,Daily!$G:$G,3,Daily!$I:$I,{"수리완료"},Daily!$C:$C,"ATJ")+SUMIFS(Daily!$W:$W,Daily!$G:$G,3,Daily!$I:$I,{"외주수리완료"},Daily!$C:$C,"ATJ"))/$R$3) -> 0 | O8: =SUMIFS(Daily!$S:$S,Daily!$G:$G,3,Daily!$I:$I,{"*수리완료"},Daily!$C:$C,"ATEP") -> 0 | P8: =IF($R$2="K\",SUMIFS(Daily!$W:$W,Daily!$G:$G,3,Daily!$I:$I,{"수리완료"},Daily!$C:$C,"ATEP")+SUMIFS(Daily!$W:$W,Daily!$G:$G,3,Daily!$I:$I,{"외주수리완료"},Daily!$C:$C,"ATEP"),(SUMIFS(Daily!$W:$W,Daily!$G:$G,3,Daily!$I:$I,{"수리완료"},Daily!$C:$C,"ATEP")+SUMIFS(Daily!$W:$W,Daily!$G:$G,3,Daily!$I:$I,{"외주수리완료"},Daily!$C:$C,"ATEP"))/$R$3) -> 0 | Q8: =C8+E8+G8+I8+K8+M8+O8 -> 12 | R8: =D8+F8+H8+J8+L8+N8+P8 -> 18.228182 | T8: ATT | U8: =COUNTIF(Daily!C:C, T8)-COUNTIFS(Daily!C:C, T8, Daily!I:I, "Other") -> 0 | V8: =COUNTIFS(Daily!C:C, T8, Daily!I:I, "수리완료")+COUNTIFS(Daily!C:C, T8, Daily!I:I, "외주수리완료") -> 0 | W8: =COUNTIFS(Daily!C:C, T8, Daily!I:I, "수리불가")+COUNTIFS(Daily!C:C, T8, Daily!I:I, "외주수리불가")+COUNTIFS(Daily!C:C, T8, Daily!I:I, "폐기") -> 0 | X8: 0 | Y8: =COUNTIFS(Daily!C:C, T8, Daily!I:I, "수리중")+COUNTIFS(Daily!C:C, T8, Daily!I:I, "외주수리중") -> 0 | Z8: =(SUMIFS(Daily!W:W, Daily!C:C, T8, Daily!I:I, "수리완료")+SUMIFS(Daily!W:W, Daily!C:C, T8, Daily!I:I, "외주수리완료"))/$Z$2 -> 0
B9: Apr. | C9: =SUMPRODUCT(SUMIFS(Daily!$S:$S,Daily!$G:$G,"4",Daily!$C:$C,"ATK",Daily!$I:$I,"수리완료")) + SUMPRODUCT(SUMIFS(Daily!$S:$S,Daily!$G:$G,"4",Daily!$C:$C,"ATK",Daily!$I:$I,"외주수리완료")) -> 0 | D9: =IF($R$2="K\",(SUMPRODUCT(SUMIFS(Daily!$W:$W,Daily!$G:$G,"4",Daily!$C:$C,"ATK",Daily!$I:$I,"수리완료")) + SUMPRODUCT(SUMIFS(Daily!$W:$W,Daily!$G:$G,"4",Daily!$C:$C,"ATK",Daily!$I:$I,"외주수리완료"))),(SUMPRODUCT(SUMIFS(Daily!$W:$W,Daily!$G:$G,"4",Daily!$C:$C,"ATK",Daily!$I:$I,"수리완료")) + SUMPRODUCT(SUMIFS(Daily!$W:$W,Daily!$G:$G,"4",Daily!$C:$C,"ATK",Daily!$I:$I,"외주수리완료")))/$R$3) -> 0 | E9: =SUMIFS(Daily!$S:$S,Daily!$G:$G,4,Daily!$I:$I,{"수리완료"},Daily!$C:$C,"ATP")+SUMIFS(Daily!$S:$S,Daily!$G:$G,4,Daily!$I:$I,{"외주수리완료"},Daily!$C:$C,"ATP") -> 0 | F9: =IF($R$2="K\",SUMIFS(Daily!$W:$W,Daily!$G:$G,4,Daily!$I:$I,{"수리완료"},Daily!$C:$C,"ATP")+SUMIFS(Daily!$W:$W,Daily!$G:$G,4,Daily!$I:$I,{"외주수리완료"},Daily!$C:$C,"ATP"),(SUMIFS(Daily!$W:$W,Daily!$G:$G,4,Daily!$I:$I,{"수리완료"},Daily!$C:$C,"ATP")+SUMIFS(Daily!$W:$W,Daily!$G:$G,4,Daily!$I:$I,{"외주수리완료"},Daily!$C:$C,"ATP"))/$R$3) -> 0 | G9: =SUMIFS(Daily!$S:$S,Daily!$G:$G,4,Daily!$I:$I,{"수리완료"},Daily!$C:$C,"ATC")+SUMIFS(Daily!$S:$S,Daily!$G:$G,4,Daily!$I:$I,{"외주수리완료"},Daily!$C:$C,"ATC") -> 0 | H9: =IF($R$2="K\",SUMIFS(Daily!$W:$W,Daily!$G:$G,4,Daily!$I:$I,{"수리완료"},Daily!$C:$C,"ATC")+SUMIFS(Daily!$W:$W,Daily!$G:$G,4,Daily!$I:$I,{"외주수리완료"},Daily!$C:$C,"ATC"),(SUMIFS(Daily!$W:$W,Daily!$G:$G,4,Daily!$I:$I,{"수리완료"},Daily!$C:$C,"ATC")+SUMIFS(Daily!$W:$W,Daily!$G:$G,4,Daily!$I:$I,{"외주수리완료"},Daily!$C:$C,"ATC"))/$R$3) -> 0 | I9: =SUMIFS(Daily!$S:$S,Daily!$G:$G,4,Daily!$I:$I,{"수리완료"},Daily!$C:$C,"ATT")+SUMIFS(Daily!$S:$S,Daily!$G:$G,4,Daily!$I:$I,{"외주수리완료"},Daily!$C:$C,"ATT") -> 0 | J9: =IF($R$2="K\",SUMIFS(Daily!$W:$W,Daily!$G:$G,4,Daily!$I:$I,{"수리완료"},Daily!$C:$C,"ATT")+SUMIFS(Daily!$W:$W,Daily!$G:$G,4,Daily!$I:$I,{"외주수리완료"},Daily!$C:$C,"ATT"),(SUMIFS(Daily!$W:$W,Daily!$G:$G,4,Daily!$I:$I,{"수리완료"},Daily!$C:$C,"ATT")+SUMIFS(Daily!$W:$W,Daily!$G:$G,4,Daily!$I:$I,{"외주수리완료"},Daily!$C:$C,"ATT"))/$R$3) -> 0 | K9: =SUMIFS(Daily!$S:$S,Daily!$G:$G,4,Daily!$I:$I,{"수리완료"},Daily!$C:$C,"ATM")+SUMIFS(Daily!$S:$S,Daily!$G:$G,4,Daily!$I:$I,{"외주수리완료"},Daily!$C:$C,"ATM") -> 0 | L9: =IF($R$2="K\",SUMIFS(Daily!$W:$W,Daily!$G:$G,4,Daily!$I:$I,{"수리완료"},Daily!$C:$C,"ATM")+SUMIFS(Daily!$W:$W,Daily!$G:$G,4,Daily!$I:$I,{"외주수리완료"},Daily!$C:$C,"ATM"),(SUMIFS(Daily!$W:$W,Daily!$G:$G,4,Daily!$I:$I,{"수리완료"},Daily!$C:$C,"ATM")+SUMIFS(Daily!$W:$W,Daily!$G:$G,4,Daily!$I:$I,{"외주수리완료"},Daily!$C:$C,"ATM"))/$R$3) -> 0 | M9: =SUMIFS(Daily!$S:$S,Daily!$G:$G,4,Daily!$I:$I,{"수리완료"},Daily!$C:$C,"ATJ")+SUMIFS(Daily!$S:$S,Daily!$G:$G,4,Daily!$I:$I,{"외주수리완료"},Daily!$C:$C,"ATJ") -> 0 | N9: =IF($R$2="K\",SUMIFS(Daily!$W:$W,Daily!$G:$G,4,Daily!$I:$I,{"수리완료"},Daily!$C:$C,"ATJ")+SUMIFS(Daily!$W:$W,Daily!$G:$G,4,Daily!$I:$I,{"외주수리완료"},Daily!$C:$C,"ATJ"),(SUMIFS(Daily!$W:$W,Daily!$G:$G,4,Daily!$I:$I,{"수리완료"},Daily!$C:$C,"ATJ")+SUMIFS(Daily!$W:$W,Daily!$G:$G,4,Daily!$I:$I,{"외주수리완료"},Daily!$C:$C,"ATJ"))/$R$3) -> 0 | O9: =SUMIFS(Daily!$S:$S,Daily!$G:$G,4,Daily!$I:$I,{"*수리완료"},Daily!$C:$C,"ATEP") -> 0 | P9: =IF($R$2="K\",SUMIFS(Daily!$W:$W,Daily!$G:$G,4,Daily!$I:$I,{"수리완료"},Daily!$C:$C,"ATEP")+SUMIFS(Daily!$W:$W,Daily!$G:$G,4,Daily!$I:$I,{"외주수리완료"},Daily!$C:$C,"ATEP"),(SUMIFS(Daily!$W:$W,Daily!$G:$G,4,Daily!$I:$I,{"수리완료"},Daily!$C:$C,"ATEP")+SUMIFS(Daily!$W:$W,Daily!$G:$G,4,Daily!$I:$I,{"외주수리완료"},Daily!$C:$C,"ATEP"))/$R$3) -> 0 | Q9: =C9+E9+G9+I9+K9+M9+O9 -> 0 | R9: =D9+F9+H9+J9+L9+N9+P9 -> 0 | T9: ATC | U9: =COUNTIF(Daily!C:C, T9)-COUNTIFS(Daily!C:C, T9, Daily!I:I, "Other") -> 0 | V9: =COUNTIFS(Daily!C:C, T9, Daily!I:I, "수리완료")+COUNTIFS(Daily!C:C, T9, Daily!I:I, "외주수리완료") -> 0 | W9: =COUNTIFS(Daily!C:C, T9, Daily!I:I, "수리불가")+COUNTIFS(Daily!C:C, T9, Daily!I:I, "외주수리불가")+COUNTIFS(Daily!C:C, T9, Daily!I:I, "폐기") -> 0 | X9: 0 | Y9: =COUNTIFS(Daily!C:C, T9, Daily!I:I, "수리중")+COUNTIFS(Daily!C:C, T9, Daily!I:I, "외주수리중") -> 0 | Z9: =(SUMIFS(Daily!W:W, Daily!C:C, T9, Daily!I:I, "수리완료")+SUMIFS(Daily!W:W, Daily!C:C, T9, Daily!I:I, "외주수리완료"))/$Z$2 -> 0
B10: May | C10: =SUMPRODUCT(SUMIFS(Daily!$S:$S,Daily!$G:$G,"5",Daily!$C:$C,"ATK",Daily!$I:$I,"수리완료")) + SUMPRODUCT(SUMIFS(Daily!$S:$S,Daily!$G:$G,"5",Daily!$C:$C,"ATK",Daily!$I:$I,"외주수리완료")) -> 0 | D10: =IF($R$2="K\",(SUMPRODUCT(SUMIFS(Daily!$W:$W,Daily!$G:$G,"5",Daily!$C:$C,"ATK",Daily!$I:$I,"수리완료")) + SUMPRODUCT(SUMIFS(Daily!$W:$W,Daily!$G:$G,"5",Daily!$C:$C,"ATK",Daily!$I:$I,"외주수리완료"))),(SUMPRODUCT(SUMIFS(Daily!$W:$W,Daily!$G:$G,"5",Daily!$C:$C,"ATK",Daily!$I:$I,"수리완료")) + SUMPRODUCT(SUMIFS(Daily!$W:$W,Daily!$G:$G,"5",Daily!$C:$C,"ATK",Daily!$I:$I,"외주수리완료")))/$R$3) -> 0 | E10: =SUMIFS(Daily!$S:$S,Daily!$G:$G,5,Daily!$I:$I,{"수리완료"},Daily!$C:$C,"ATP")+SUMIFS(Daily!$S:$S,Daily!$G:$G,5,Daily!$I:$I,{"외주수리완료"},Daily!$C:$C,"ATP") -> 0 | F10: =IF($R$2="K\",SUMIFS(Daily!$W:$W,Daily!$G:$G,5,Daily!$I:$I,{"수리완료"},Daily!$C:$C,"ATP")+SUMIFS(Daily!$W:$W,Daily!$G:$G,5,Daily!$I:$I,{"외주수리완료"},Daily!$C:$C,"ATP"),(SUMIFS(Daily!$W:$W,Daily!$G:$G,5,Daily!$I:$I,{"수리완료"},Daily!$C:$C,"ATP")+SUMIFS(Daily!$W:$W,Daily!$G:$G,5,Daily!$I:$I,{"외주수리완료"},Daily!$C:$C,"ATP"))/$R$3) -> 0 | G10: =SUMIFS(Daily!$S:$S,Daily!$G:$G,5,Daily!$I:$I,{"수리완료"},Daily!$C:$C,"ATC")+SUMIFS(Daily!$S:$S,Daily!$G:$G,5,Daily!$I:$I,{"외주수리완료"},Daily!$C:$C,"ATC") -> 0 | H10: =IF($R$2="K\",SUMIFS(Daily!$W:$W,Daily!$G:$G,5,Daily!$I:$I,{"수리완료"},Daily!$C:$C,"ATC")+SUMIFS(Daily!$W:$W,Daily!$G:$G,5,Daily!$I:$I,{"외주수리완료"},Daily!$C:$C,"ATC"),(SUMIFS(Daily!$W:$W,Daily!$G:$G,5,Daily!$I:$I,{"수리완료"},Daily!$C:$C,"ATC")+SUMIFS(Daily!$W:$W,Daily!$G:$G,5,Daily!$I:$I,{"외주수리완료"},Daily!$C:$C,"ATC"))/$R$3) -> 0 | I10: =SUMIFS(Daily!$S:$S,Daily!$G:$G,5,Daily!$I:$I,{"수리완료"},Daily!$C:$C,"ATT")+SUMIFS(Daily!$S:$S,Daily!$G:$G,5,Daily!$I:$I,{"외주수리완료"},Daily!$C:$C,"ATT") -> 0 | J10: =IF($R$2="K\",SUMIFS(Daily!$W:$W,Daily!$G:$G,5,Daily!$I:$I,{"수리완료"},Daily!$C:$C,"ATT")+SUMIFS(Daily!$W:$W,Daily!$G:$G,5,Daily!$I:$I,{"외주수리완료"},Daily!$C:$C,"ATT"),(SUMIFS(Daily!$W:$W,Daily!$G:$G,5,Daily!$I:$I,{"수리완료"},Daily!$C:$C,"ATT")+SUMIFS(Daily!$W:$W,Daily!$G:$G,5,Daily!$I:$I,{"외주수리완료"},Daily!$C:$C,"ATT"))/$R$3) -> 0 | K10: =SUMIFS(Daily!$S:$S,Daily!$G:$G,5,Daily!$I:$I,{"수리완료"},Daily!$C:$C,"ATM")+SUMIFS(Daily!$S:$S,Daily!$G:$G,5,Daily!$I:$I,{"외주수리완료"},Daily!$C:$C,"ATM") -> 0 | L10: =IF($R$2="K\",SUMIFS(Daily!$W:$W,Daily!$G:$G,5,Daily!$I:$I,{"수리완료"},Daily!$C:$C,"ATM")+SUMIFS(Daily!$W:$W,Daily!$G:$G,5,Daily!$I:$I,{"외주수리완료"},Daily!$C:$C,"ATM"),(SUMIFS(Daily!$W:$W,Daily!$G:$G,5,Daily!$I:$I,{"수리완료"},Daily!$C:$C,"ATM")+SUMIFS(Daily!$W:$W,Daily!$G:$G,5,Daily!$I:$I,{"외주수리완료"},Daily!$C:$C,"ATM"))/$R$3) -> 0 | M10: =SUMIFS(Daily!$S:$S,Daily!$G:$G,5,Daily!$I:$I,{"수리완료"},Daily!$C:$C,"ATJ")+SUMIFS(Daily!$S:$S,Daily!$G:$G,5,Daily!$I:$I,{"외주수리완료"},Daily!$C:$C,"ATJ") -> 0 | N10: =IF($R$2="K\",SUMIFS(Daily!$W:$W,Daily!$G:$G,5,Daily!$I:$I,{"수리완료"},Daily!$C:$C,"ATJ")+SUMIFS(Daily!$W:$W,Daily!$G:$G,5,Daily!$I:$I,{"외주수리완료"},Daily!$C:$C,"ATJ"),(SUMIFS(Daily!$W:$W,Daily!$G:$G,5,Daily!$I:$I,{"수리완료"},Daily!$C:$C,"ATJ")+SUMIFS(Daily!$W:$W,Daily!$G:$G,5,Daily!$I:$I,{"외주수리완료"},Daily!$C:$C,"ATJ"))/$R$3) -> 0 | O10: =SUMIFS(Daily!$S:$S,Daily!$G:$G,5,Daily!$I:$I,{"*수리완료"},Daily!$C:$C,"ATEP") -> 0 | P10: =IF($R$2="K\",SUMIFS(Daily!$W:$W,Daily!$G:$G,5,Daily!$I:$I,{"수리완료"},Daily!$C:$C,"ATEP")+SUMIFS(Daily!$W:$W,Daily!$G:$G,5,Daily!$I:$I,{"외주수리완료"},Daily!$C:$C,"ATEP"),(SUMIFS(Daily!$W:$W,Daily!$G:$G,5,Daily!$I:$I,{"수리완료"},Daily!$C:$C,"ATEP")+SUMIFS(Daily!$W:$W,Daily!$G:$G,5,Daily!$I:$I,{"외주수리완료"},Daily!$C:$C,"ATEP"))/$R$3) -> 0 | Q10: =C10+E10+G10+I10+K10+M10+O10 -> 0 | R10: =D10+F10+H10+J10+L10+N10+P10 -> 0 | T10: ATM | U10: =COUNTIF(Daily!C:C, T10)-COUNTIFS(Daily!C:C, T10, Daily!I:I, "Other") -> 2 | V10: =COUNTIFS(Daily!C:C, T10, Daily!I:I, "수리완료")+COUNTIFS(Daily!C:C, T10, Daily!I:I, "외주수리완료") -> 2 | W10: =COUNTIFS(Daily!C:C, T10, Daily!I:I, "수리불가")+COUNTIFS(Daily!C:C, T10, Daily!I:I, "외주수리불가")+COUNTIFS(Daily!C:C, T10, Daily!I:I, "폐기") -> 0 | X10: 0 | Y10: =COUNTIFS(Daily!C:C, T10, Daily!I:I, "수리중")+COUNTIFS(Daily!C:C, T10, Daily!I:I, "외주수리중") -> 0 | Z10: =(SUMIFS(Daily!W:W, Daily!C:C, T10, Daily!I:I, "수리완료")+SUMIFS(Daily!W:W, Daily!C:C, T10, Daily!I:I, "외주수리완료"))/$Z$2 -> 1.9727273
B11: Jun. | C11: =SUMPRODUCT(SUMIFS(Daily!$S:$S,Daily!$G:$G,"6",Daily!$C:$C,"ATK",Daily!$I:$I,"수리완료")) + SUMPRODUCT(SUMIFS(Daily!$S:$S,Daily!$G:$G,"6",Daily!$C:$C,"ATK",Daily!$I:$I,"외주수리완료")) -> 0 | D11: =IF($R$2="K\",(SUMPRODUCT(SUMIFS(Daily!$W:$W,Daily!$G:$G,"6",Daily!$C:$C,"ATK",Daily!$I:$I,"수리완료")) + SUMPRODUCT(SUMIFS(Daily!$W:$W,Daily!$G:$G,"6",Daily!$C:$C,"ATK",Daily!$I:$I,"외주수리완료"))),(SUMPRODUCT(SUMIFS(Daily!$W:$W,Daily!$G:$G,"6",Daily!$C:$C,"ATK",Daily!$I:$I,"수리완료")) + SUMPRODUCT(SUMIFS(Daily!$W:$W,Daily!$G:$G,"6",Daily!$C:$C,"ATK",Daily!$I:$I,"외주수리완료")))/$R$3) -> 0 | E11: =SUMIFS(Daily!$S:$S,Daily!$G:$G,6,Daily!$I:$I,{"수리완료"},Daily!$C:$C,"ATP")+SUMIFS(Daily!$S:$S,Daily!$G:$G,6,Daily!$I:$I,{"외주수리완료"},Daily!$C:$C,"ATP") -> 0 | F11: =IF($R$2="K\",SUMIFS(Daily!$W:$W,Daily!$G:$G,6,Daily!$I:$I,{"수리완료"},Daily!$C:$C,"ATP")+SUMIFS(Daily!$W:$W,Daily!$G:$G,6,Daily!$I:$I,{"외주수리완료"},Daily!$C:$C,"ATP"),(SUMIFS(Daily!$W:$W,Daily!$G:$G,6,Daily!$I:$I,{"수리완료"},Daily!$C:$C,"ATP")+SUMIFS(Daily!$W:$W,Daily!$G:$G,6,Daily!$I:$I,{"외주수리완료"},Daily!$C:$C,"ATP"))/$R$3) -> 0 | G11: =SUMIFS(Daily!$S:$S,Daily!$G:$G,6,Daily!$I:$I,{"수리완료"},Daily!$C:$C,"ATC")+SUMIFS(Daily!$S:$S,Daily!$G:$G,6,Daily!$I:$I,{"외주수리완료"},Daily!$C:$C,"ATC") -> 0 | H11: =IF($R$2="K\",SUMIFS(Daily!$W:$W,Daily!$G:$G,6,Daily!$I:$I,{"수리완료"},Daily!$C:$C,"ATC")+SUMIFS(Daily!$W:$W,Daily!$G:$G,6,Daily!$I:$I,{"외주수리완료"},Daily!$C:$C,"ATC"),(SUMIFS(Daily!$W:$W,Daily!$G:$G,6,Daily!$I:$I,{"수리완료"},Daily!$C:$C,"ATC")+SUMIFS(Daily!$W:$W,Daily!$G:$G,6,Daily!$I:$I,{"외주수리완료"},Daily!$C:$C,"ATC"))/$R$3) -> 0 | I11: =SUMIFS(Daily!$S:$S,Daily!$G:$G,6,Daily!$I:$I,{"수리완료"},Daily!$C:$C,"ATT")+SUMIFS(Daily!$S:$S,Daily!$G:$G,6,Daily!$I:$I,{"외주수리완료"},Daily!$C:$C,"ATT") -> 0 | J11: =IF($R$2="K\",SUMIFS(Daily!$W:$W,Daily!$G:$G,6,Daily!$I:$I,{"수리완료"},Daily!$C:$C,"ATT")+SUMIFS(Daily!$W:$W,Daily!$G:$G,6,Daily!$I:$I,{"외주수리완료"},Daily!$C:$C,"ATT"),(SUMIFS(Daily!$W:$W,Daily!$G:$G,6,Daily!$I:$I,{"수리완료"},Daily!$C:$C,"ATT")+SUMIFS(Daily!$W:$W,Daily!$G:$G,6,Daily!$I:$I,{"외주수리완료"},Daily!$C:$C,"ATT"))/$R$3) -> 0 | K11: =SUMIFS(Daily!$S:$S,Daily!$G:$G,6,Daily!$I:$I,{"수리완료"},Daily!$C:$C,"ATM")+SUMIFS(Daily!$S:$S,Daily!$G:$G,6,Daily!$I:$I,{"외주수리완료"},Daily!$C:$C,"ATM") -> 0 | L11: =IF($R$2="K\",SUMIFS(Daily!$W:$W,Daily!$G:$G,6,Daily!$I:$I,{"수리완료"},Daily!$C:$C,"ATM")+SUMIFS(Daily!$W:$W,Daily!$G:$G,6,Daily!$I:$I,{"외주수리완료"},Daily!$C:$C,"ATM"),(SUMIFS(Daily!$W:$W,Daily!$G:$G,6,Daily!$I:$I,{"수리완료"},Daily!$C:$C,"ATM")+SUMIFS(Daily!$W:$W,Daily!$G:$G,6,Daily!$I:$I,{"외주수리완료"},Daily!$C:$C,"ATM"))/$R$3) -> 0 | M11: =SUMIFS(Daily!$S:$S,Daily!$G:$G,6,Daily!$I:$I,{"수리완료"},Daily!$C:$C,"ATJ")+SUMIFS(Daily!$S:$S,Daily!$G:$G,6,Daily!$I:$I,{"외주수리완료"},Daily!$C:$C,"ATJ") -> 0 | N11: =IF($R$2="K\",SUMIFS(Daily!$W:$W,Daily!$G:$G,6,Daily!$I:$I,{"수리완료"},Daily!$C:$C,"ATJ")+SUMIFS(Daily!$W:$W,Daily!$G:$G,6,Daily!$I:$I,{"외주수리완료"},Daily!$C:$C,"ATJ"),(SUMIFS(Daily!$W:$W,Daily!$G:$G,6,Daily!$I:$I,{"수리완료"},Daily!$C:$C,"ATJ")+SUMIFS(Daily!$W:$W,Daily!$G:$G,6,Daily!$I:$I,{"외주수리완료"},Daily!$C:$C,"ATJ"))/$R$3) -> 0 | O11: =SUMIFS(Daily!$S:$S,Daily!$G:$G,6,Daily!$I:$I,{"*수리완료"},Daily!$C:$C,"ATEP") -> 0 | P11: =IF($R$2="K\",SUMIFS(Daily!$W:$W,Daily!$G:$G,6,Daily!$I:$I,{"수리완료"},Daily!$C:$C,"ATEP")+SUMIFS(Daily!$W:$W,Daily!$G:$G,6,Daily!$I:$I,{"외주수리완료"},Daily!$C:$C,"ATEP"),(SUMIFS(Daily!$W:$W,Daily!$G:$G,6,Daily!$I:$I,{"수리완료"},Daily!$C:$C,"ATEP")+SUMIFS(Daily!$W:$W,Daily!$G:$G,6,Daily!$I:$I,{"외주수리완료"},Daily!$C:$C,"ATEP"))/$R$3) -> 0 | Q11: =C11+E11+G11+I11+K11+M11+O11 -> 0 | R11: =D11+F11+H11+J11+L11+N11+P11 -> 0 | T11: ATEP | U11: =COUNTIF(Daily!C:C, T11)-COUNTIFS(Daily!C:C, T11, Daily!I:I, "Other") -> 0 | V11: =COUNTIFS(Daily!C:C, T11, Daily!I:I, "수리완료")+COUNTIFS(Daily!C:C, T11, Daily!I:I, "외주수리완료") -> 0 | W11: =COUNTIFS(Daily!C:C, T11, Daily!I:I, "수리불가")+COUNTIFS(Daily!C:C, T11, Daily!I:I, "외주수리불가")+COUNTIFS(Daily!C:C, T11, Daily!I:I, "폐기") -> 0 | X11: 0 | Y11: =COUNTIFS(Daily!C:C, T11, Daily!I:I, "수리중")+COUNTIFS(Daily!C:C, T11, Daily!I:I, "외주수리중") -> 0 | Z11: =(SUMIFS(Daily!W:W, Daily!C:C, T11, Daily!I:I, "수리완료")+SUMIFS(Daily!W:W, Daily!C:C, T11, Daily!I:I, "외주수리완료"))/$Z$2 -> 0
B12: Jul | C12: =SUMPRODUCT(SUMIFS(Daily!$S:$S,Daily!$G:$G,"7",Daily!$C:$C,"ATK",Daily!$I:$I,"수리완료")) + SUMPRODUCT(SUMIFS(Daily!$S:$S,Daily!$G:$G,"7",Daily!$C:$C,"ATK",Daily!$I:$I,"외주수리완료")) -> 0 | D12: =IF($R$2="K\",(SUMPRODUCT(SUMIFS(Daily!$W:$W,Daily!$G:$G,"7",Daily!$C:$C,"ATK",Daily!$I:$I,"수리완료")) + SUMPRODUCT(SUMIFS(Daily!$W:$W,Daily!$G:$G,"7",Daily!$C:$C,"ATK",Daily!$I:$I,"외주수리완료"))),(SUMPRODUCT(SUMIFS(Daily!$W:$W,Daily!$G:$G,"7",Daily!$C:$C,"ATK",Daily!$I:$I,"수리완료")) + SUMPRODUCT(SUMIFS(Daily!$W:$W,Daily!$G:$G,"7",Daily!$C:$C,"ATK",Daily!$I:$I,"외주수리완료")))/$R$3) -> 0 | E12: =SUMIFS(Daily!$S:$S,Daily!$G:$G,7,Daily!$I:$I,{"수리완료"},Daily!$C:$C,"ATP")+SUMIFS(Daily!$S:$S,Daily!$G:$G,7,Daily!$I:$I,{"외주수리완료"},Daily!$C:$C,"ATP") -> 0 | F12: =IF($R$2="K\",SUMIFS(Daily!$W:$W,Daily!$G:$G,7,Daily!$I:$I,{"수리완료"},Daily!$C:$C,"ATP")+SUMIFS(Daily!$W:$W,Daily!$G:$G,7,Daily!$I:$I,{"외주수리완료"},Daily!$C:$C,"ATP"),(SUMIFS(Daily!$W:$W,Daily!$G:$G,7,Daily!$I:$I,{"수리완료"},Daily!$C:$C,"ATP")+SUMIFS(Daily!$W:$W,Daily!$G:$G,7,Daily!$I:$I,{"외주수리완료"},Daily!$C:$C,"ATP"))/$R$3) -> 0 | G12: =SUMIFS(Daily!$S:$S,Daily!$G:$G,7,Daily!$I:$I,{"수리완료"},Daily!$C:$C,"ATC")+SUMIFS(Daily!$S:$S,Daily!$G:$G,7,Daily!$I:$I,{"외주수리완료"},Daily!$C:$C,"ATC") -> 0 | H12: =IF($R$2="K\",SUMIFS(Daily!$W:$W,Daily!$G:$G,7,Daily!$I:$I,{"수리완료"},Daily!$C:$C,"ATC")+SUMIFS(Daily!$W:$W,Daily!$G:$G,7,Daily!$I:$I,{"외주수리완료"},Daily!$C:$C,"ATC"),(SUMIFS(Daily!$W:$W,Daily!$G:$G,7,Daily!$I:$I,{"수리완료"},Daily!$C:$C,"ATC")+SUMIFS(Daily!$W:$W,Daily!$G:$G,7,Daily!$I:$I,{"외주수리완료"},Daily!$C:$C,"ATC"))/$R$3) -> 0 | I12: =SUMIFS(Daily!$S:$S,Daily!$G:$G,7,Daily!$I:$I,{"수리완료"},Daily!$C:$C,"ATT")+SUMIFS(Daily!$S:$S,Daily!$G:$G,7,Daily!$I:$I,{"외주수리완료"},Daily!$C:$C,"ATT") -> 0 | J12: =IF($R$2="K\",SUMIFS(Daily!$W:$W,Daily!$G:$G,7,Daily!$I:$I,{"수리완료"},Daily!$C:$C,"ATT")+SUMIFS(Daily!$W:$W,Daily!$G:$G,7,Daily!$I:$I,{"외주수리완료"},Daily!$C:$C,"ATT"),(SUMIFS(Daily!$W:$W,Daily!$G:$G,7,Daily!$I:$I,{"수리완료"},Daily!$C:$C,"ATT")+SUMIFS(Daily!$W:$W,Daily!$G:$G,7,Daily!$I:$I,{"외주수리완료"},Daily!$C:$C,"ATT"))/$R$3) -> 0 | K12: =SUMIFS(Daily!$S:$S,Daily!$G:$G,7,Daily!$I:$I,{"수리완료"},Daily!$C:$C,"ATM")+SUMIFS(Daily!$S:$S,Daily!$G:$G,7,Daily!$I:$I,{"외주수리완료"},Daily!$C:$C,"ATM") -> 0 | L12: =IF($R$2="K\",SUMIFS(Daily!$W:$W,Daily!$G:$G,7,Daily!$I:$I,{"수리완료"},Daily!$C:$C,"ATM")+SUMIFS(Daily!$W:$W,Daily!$G:$G,7,Daily!$I:$I,{"외주수리완료"},Daily!$C:$C,"ATM"),(SUMIFS(Daily!$W:$W,Daily!$G:$G,7,Daily!$I:$I,{"수리완료"},Daily!$C:$C,"ATM")+SUMIFS(Daily!$W:$W,Daily!$G:$G,7,Daily!$I:$I,{"외주수리완료"},Daily!$C:$C,"ATM"))/$R$3) -> 0 | M12: =SUMIFS(Daily!$S:$S,Daily!$G:$G,7,Daily!$I:$I,{"수리완료"},Daily!$C:$C,"ATJ")+SUMIFS(Daily!$S:$S,Daily!$G:$G,7,Daily!$I:$I,{"외주수리완료"},Daily!$C:$C,"ATJ") -> 0 | N12: =IF($R$2="K\",SUMIFS(Daily!$W:$W,Daily!$G:$G,7,Daily!$I:$I,{"수리완료"},Daily!$C:$C,"ATJ")+SUMIFS(Daily!$W:$W,Daily!$G:$G,7,Daily!$I:$I,{"외주수리완료"},Daily!$C:$C,"ATJ"),(SUMIFS(Daily!$W:$W,Daily!$G:$G,7,Daily!$I:$I,{"수리완료"},Daily!$C:$C,"ATJ")+SUMIFS(Daily!$W:$W,Daily!$G:$G,7,Daily!$I:$I,{"외주수리완료"},Daily!$C:$C,"ATJ"))/$R$3) -> 0 | O12: =SUMIFS(Daily!$S:$S,Daily!$G:$G,7,Daily!$I:$I,{"*수리완료"},Daily!$C:$C,"ATEP") -> 0 | P12: =IF($R$2="K\",SUMIFS(Daily!$W:$W,Daily!$G:$G,7,Daily!$I:$I,{"수리완료"},Daily!$C:$C,"ATEP")+SUMIFS(Daily!$W:$W,Daily!$G:$G,7,Daily!$I:$I,{"외주수리완료"},Daily!$C:$C,"ATEP"),(SUMIFS(Daily!$W:$W,Daily!$G:$G,7,Daily!$I:$I,{"수리완료"},Daily!$C:$C,"ATEP")+SUMIFS(Daily!$W:$W,Daily!$G:$G,7,Daily!$I:$I,{"외주수리완료"},Daily!$C:$C,"ATEP"))/$R$3) -> 0 | Q12: =C12+E12+G12+I12+K12+M12+O12 -> 0 | R12: =D12+F12+H12+J12+L12+N12+P12 -> 0 | T12: ATJ | U12: =COUNTIF(Daily!C:C, T12)-COUNTIFS(Daily!C:C, T12, Daily!I:I, "Other") -> 0 | V12: =COUNTIFS(Daily!C:C, T12, Daily!I:I, "수리완료")+COUNTIFS(Daily!C:C, T12, Daily!I:I, "외주수리완료") -> 0 | W12: =COUNTIFS(Daily!C:C, T12, Daily!I:I, "수리불가")+COUNTIFS(Daily!C:C, T12, Daily!I:I, "외주수리불가")+COUNTIFS(Daily!C:C, T12, Daily!I:I, "폐기") -> 0 | X12: 0 | Y12: =COUNTIFS(Daily!C:C, T12, Daily!I:I, "수리중")+COUNTIFS(Daily!C:C, T12, Daily!I:I, "외주수리중") -> 0 | Z12: =(SUMIFS(Daily!W:W, Daily!C:C, T12, Daily!I:I, "수리완료")+SUMIFS(Daily!W:W, Daily!C:C, T12, Daily!I:I, "외주수리완료"))/$Z$2 -> 0
B13: Aug. | C13: =SUMPRODUCT(SUMIFS(Daily!$S:$S,Daily!$G:$G,"8",Daily!$C:$C,"ATK",Daily!$I:$I,"수리완료")) + SUMPRODUCT(SUMIFS(Daily!$S:$S,Daily!$G:$G,"8",Daily!$C:$C,"ATK",Daily!$I:$I,"외주수리완료")) -> 0 | D13: =IF($R$2="K\",(SUMPRODUCT(SUMIFS(Daily!$W:$W,Daily!$G:$G,"8",Daily!$C:$C,"ATK",Daily!$I:$I,"수리완료")) + SUMPRODUCT(SUMIFS(Daily!$W:$W,Daily!$G:$G,"8",Daily!$C:$C,"ATK",Daily!$I:$I,"외주수리완료"))),(SUMPRODUCT(SUMIFS(Daily!$W:$W,Daily!$G:$G,"8",Daily!$C:$C,"ATK",Daily!$I:$I,"수리완료")) + SUMPRODUCT(SUMIFS(Daily!$W:$W,Daily!$G:$G,"8",Daily!$C:$C,"ATK",Daily!$I:$I,"외주수리완료")))/$R$3) -> 0 | E13: =SUMIFS(Daily!$S:$S,Daily!$G:$G,8,Daily!$I:$I,{"수리완료"},Daily!$C:$C,"ATP")+SUMIFS(Daily!$S:$S,Daily!$G:$G,8,Daily!$I:$I,{"외주수리완료"},Daily!$C:$C,"ATP") -> 0 | F13: =IF($R$2="K\",SUMIFS(Daily!$W:$W,Daily!$G:$G,8,Daily!$I:$I,{"수리완료"},Daily!$C:$C,"ATP")+SUMIFS(Daily!$W:$W,Daily!$G:$G,8,Daily!$I:$I,{"외주수리완료"},Daily!$C:$C,"ATP"),(SUMIFS(Daily!$W:$W,Daily!$G:$G,8,Daily!$I:$I,{"수리완료"},Daily!$C:$C,"ATP")+SUMIFS(Daily!$W:$W,Daily!$G:$G,8,Daily!$I:$I,{"외주수리완료"},Daily!$C:$C,"ATP"))/$R$3) -> 0 | G13: =SUMIFS(Daily!$S:$S,Daily!$G:$G,8,Daily!$I:$I,{"수리완료"},Daily!$C:$C,"ATC")+SUMIFS(Daily!$S:$S,Daily!$G:$G,8,Daily!$I:$I,{"외주수리완료"},Daily!$C:$C,"ATC") -> 0 | H13: =IF($R$2="K\",SUMIFS(Daily!$W:$W,Daily!$G:$G,8,Daily!$I:$I,{"수리완료"},Daily!$C:$C,"ATC")+SUMIFS(Daily!$W:$W,Daily!$G:$G,8,Daily!$I:$I,{"외주수리완료"},Daily!$C:$C,"ATC"),(SUMIFS(Daily!$W:$W,Daily!$G:$G,8,Daily!$I:$I,{"수리완료"},Daily!$C:$C,"ATC")+SUMIFS(Daily!$W:$W,Daily!$G:$G,8,Daily!$I:$I,{"외주수리완료"},Daily!$C:$C,"ATC"))/$R$3) -> 0 | I13: =SUMIFS(Daily!$S:$S,Daily!$G:$G,8,Daily!$I:$I,{"수리완료"},Daily!$C:$C,"ATT")+SUMIFS(Daily!$S:$S,Daily!$G:$G,8,Daily!$I:$I,{"외주수리완료"},Daily!$C:$C,"ATT") -> 0 | J13: =IF($R$2="K\",SUMIFS(Daily!$W:$W,Daily!$G:$G,8,Daily!$I:$I,{"수리완료"},Daily!$C:$C,"ATT")+SUMIFS(Daily!$W:$W,Daily!$G:$G,8,Daily!$I:$I,{"외주수리완료"},Daily!$C:$C,"ATT"),(SUMIFS(Daily!$W:$W,Daily!$G:$G,8,Daily!$I:$I,{"수리완료"},Daily!$C:$C,"ATT")+SUMIFS(Daily!$W:$W,Daily!$G:$G,8,Daily!$I:$I,{"외주수리완료"},Daily!$C:$C,"ATT"))/$R$3) -> 0 | K13: =SUMIFS(Daily!$S:$S,Daily!$G:$G,8,Daily!$I:$I,{"수리완료"},Daily!$C:$C,"ATM")+SUMIFS(Daily!$S:$S,Daily!$G:$G,8,Daily!$I:$I,{"외주수리완료"},Daily!$C:$C,"ATM") -> 0 | L13: =IF($R$2="K\",SUMIFS(Daily!$W:$W,Daily!$G:$G,8,Daily!$I:$I,{"수리완료"},Daily!$C:$C,"ATM")+SUMIFS(Daily!$W:$W,Daily!$G:$G,8,Daily!$I:$I,{"외주수리완료"},Daily!$C:$C,"ATM"),(SUMIFS(Daily!$W:$W,Daily!$G:$G,8,Daily!$I:$I,{"수리완료"},Daily!$C:$C,"ATM")+SUMIFS(Daily!$W:$W,Daily!$G:$G,8,Daily!$I:$I,{"외주수리완료"},Daily!$C:$C,"ATM"))/$R$3) -> 0 | M13: =SUMIFS(Daily!$S:$S,Daily!$G:$G,8,Daily!$I:$I,{"수리완료"},Daily!$C:$C,"ATJ")+SUMIFS(Daily!$S:$S,Daily!$G:$G,8,Daily!$I:$I,{"외주수리완료"},Daily!$C:$C,"ATJ") -> 0 | N13: =IF($R$2="K\",SUMIFS(Daily!$W:$W,Daily!$G:$G,8,Daily!$I:$I,{"수리완료"},Daily!$C:$C,"ATJ")+SUMIFS(Daily!$W:$W,Daily!$G:$G,8,Daily!$I:$I,{"외주수리완료"},Daily!$C:$C,"ATJ"),(SUMIFS(Daily!$W:$W,Daily!$G:$G,8,Daily!$I:$I,{"수리완료"},Daily!$C:$C,"ATJ")+SUMIFS(Daily!$W:$W,Daily!$G:$G,8,Daily!$I:$I,{"외주수리완료"},Daily!$C:$C,"ATJ"))/$R$3) -> 0 | O13: =SUMIFS(Daily!$S:$S,Daily!$G:$G,8,Daily!$I:$I,{"*수리완료"},Daily!$C:$C,"ATEP") -> 0 | P13: =IF($R$2="K\",SUMIFS(Daily!$W:$W,Daily!$G:$G,8,Daily!$I:$I,{"수리완료"},Daily!$C:$C,"ATEP")+SUMIFS(Daily!$W:$W,Daily!$G:$G,8,Daily!$I:$I,{"외주수리완료"},Daily!$C:$C,"ATEP"),(SUMIFS(Daily!$W:$W,Daily!$G:$G,8,Daily!$I:$I,{"수리완료"},Daily!$C:$C,"ATEP")+SUMIFS(Daily!$W:$W,Daily!$G:$G,8,Daily!$I:$I,{"외주수리완료"},Daily!$C:$C,"ATEP"))/$R$3) -> 0 | Q13: =C13+E13+G13+I13+K13+M13+O13 -> 0 | R13: =D13+F13+H13+J13+L13+N13+P13 -> 0 | T13: Total | U13: =SUM(U6:U12) -> 317 | V13: =SUM(V6:V12) -> 278 | W13: =SUM(W6:W12) -> 23 | X13: =SUM(X6:X12) -> 0 | Y13: =SUM(Y6:Y12) -> 16 | Z13: =SUM(Z6:Z12) -> 376.78727
B14: Sep. | C14: =SUMPRODUCT(SUMIFS(Daily!$S:$S,Daily!$G:$G,"9",Daily!$C:$C,"ATK",Daily!$I:$I,"수리완료")) + SUMPRODUCT(SUMIFS(Daily!$S:$S,Daily!$G:$G,"9",Daily!$C:$C,"ATK",Daily!$I:$I,"외주수리완료")) -> 0 | D14: =IF($R$2="K\",(SUMPRODUCT(SUMIFS(Daily!$W:$W,Daily!$G:$G,"9",Daily!$C:$C,"ATK",Daily!$I:$I,"수리완료")) + SUMPRODUCT(SUMIFS(Daily!$W:$W,Daily!$G:$G,"9",Daily!$C:$C,"ATK",Daily!$I:$I,"외주수리완료"))),(SUMPRODUCT(SUMIFS(Daily!$W:$W,Daily!$G:$G,"9",Daily!$C:$C,"ATK",Daily!$I:$I,"수리완료")) + SUMPRODUCT(SUMIFS(Daily!$W:$W,Daily!$G:$G,"9",Daily!$C:$C,"ATK",Daily!$I:$I,"외주수리완료")))/$R$3) -> 0 | E14: =SUMIFS(Daily!$S:$S,Daily!$G:$G,9,Daily!$I:$I,{"수리완료"},Daily!$C:$C,"ATP")+SUMIFS(Daily!$S:$S,Daily!$G:$G,9,Daily!$I:$I,{"외주수리완료"},Daily!$C:$C,"ATP") -> 0 | F14: =IF($R$2="K\",SUMIFS(Daily!$W:$W,Daily!$G:$G,9,Daily!$I:$I,{"수리완료"},Daily!$C:$C,"ATP")+SUMIFS(Daily!$W:$W,Daily!$G:$G,9,Daily!$I:$I,{"외주수리완료"},Daily!$C:$C,"ATP"),(SUMIFS(Daily!$W:$W,Daily!$G:$G,9,Daily!$I:$I,{"수리완료"},Daily!$C:$C,"ATP")+SUMIFS(Daily!$W:$W,Daily!$G:$G,9,Daily!$I:$I,{"외주수리완료"},Daily!$C:$C,"ATP"))/$R$3) -> 0 | G14: =SUMIFS(Daily!$S:$S,Daily!$G:$G,9,Daily!$I:$I,{"수리완료"},Daily!$C:$C,"ATC")+SUMIFS(Daily!$S:$S,Daily!$G:$G,9,Daily!$I:$I,{"외주수리완료"},Daily!$C:$C,"ATC") -> 0 | H14: =IF($R$2="K\",SUMIFS(Daily!$W:$W,Daily!$G:$G,9,Daily!$I:$I,{"수리완료"},Daily!$C:$C,"ATC")+SUMIFS(Daily!$W:$W,Daily!$G:$G,9,Daily!$I:$I,{"외주수리완료"},Daily!$C:$C,"ATC"),(SUMIFS(Daily!$W:$W,Daily!$G:$G,9,Daily!$I:$I,{"수리완료"},Daily!$C:$C,"ATC")+SUMIFS(Daily!$W:$W,Daily!$G:$G,9,Daily!$I:$I,{"외주수리완료"},Daily!$C:$C,"ATC"))/$R$3) -> 0 | I14: =SUMIFS(Daily!$S:$S,Daily!$G:$G,9,Daily!$I:$I,{"수리완료"},Daily!$C:$C,"ATT")+SUMIFS(Daily!$S:$S,Daily!$G:$G,9,Daily!$I:$I,{"외주수리완료"},Daily!$C:$C,"ATT") -> 0 | J14: =IF($R$2="K\",SUMIFS(Daily!$W:$W,Daily!$G:$G,9,Daily!$I:$I,{"수리완료"},Daily!$C:$C,"ATT")+SUMIFS(Daily!$W:$W,Daily!$G:$G,9,Daily!$I:$I,{"외주수리완료"},Daily!$C:$C,"ATT"),(SUMIFS(Daily!$W:$W,Daily!$G:$G,9,Daily!$I:$I,{"수리완료"},Daily!$C:$C,"ATT")+SUMIFS(Daily!$W:$W,Daily!$G:$G,9,Daily!$I:$I,{"외주수리완료"},Daily!$C:$C,"ATT"))/$R$3) -> 0 | K14: =SUMIFS(Daily!$S:$S,Daily!$G:$G,9,Daily!$I:$I,{"수리완료"},Daily!$C:$C,"ATM")+SUMIFS(Daily!$S:$S,Daily!$G:$G,9,Daily!$I:$I,{"외주수리완료"},Daily!$C:$C,"ATM") -> 0 | L14: =IF($R$2="K\",SUMIFS(Daily!$W:$W,Daily!$G:$G,9,Daily!$I:$I,{"수리완료"},Daily!$C:$C,"ATM")+SUMIFS(Daily!$W:$W,Daily!$G:$G,9,Daily!$I:$I,{"외주수리완료"},Daily!$C:$C,"ATM"),(SUMIFS(Daily!$W:$W,Daily!$G:$G,9,Daily!$I:$I,{"수리완료"},Daily!$C:$C,"ATM")+SUMIFS(Daily!$W:$W,Daily!$G:$G,9,Daily!$I:$I,{"외주수리완료"},Daily!$C:$C,"ATM"))/$R$3) -> 0 | M14: =SUMIFS(Daily!$S:$S,Daily!$G:$G,9,Daily!$I:$I,{"수리완료"},Daily!$C:$C,"ATJ")+SUMIFS(Daily!$S:$S,Daily!$G:$G,9,Daily!$I:$I,{"외주수리완료"},Daily!$C:$C,"ATJ") -> 0 | N14: =IF($R$2="K\",SUMIFS(Daily!$W:$W,Daily!$G:$G,9,Daily!$I:$I,{"수리완료"},Daily!$C:$C,"ATJ")+SUMIFS(Daily!$W:$W,Daily!$G:$G,9,Daily!$I:$I,{"외주수리완료"},Daily!$C:$C,"ATJ"),(SUMIFS(Daily!$W:$W,Daily!$G:$G,9,Daily!$I:$I,{"수리완료"},Daily!$C:$C,"ATJ")+SUMIFS(Daily!$W:$W,Daily!$G:$G,9,Daily!$I:$I,{"외주수리완료"},Daily!$C:$C,"ATJ"))/$R$3) -> 0 | O14: =SUMIFS(Daily!$S:$S,Daily!$G:$G,9,Daily!$I:$I,{"*수리완료"},Daily!$C:$C,"ATEP") -> 0 | P14: =IF($R$2="K\",SUMIFS(Daily!$W:$W,Daily!$G:$G,9,Daily!$I:$I,{"수리완료"},Daily!$C:$C,"ATEP")+SUMIFS(Daily!$W:$W,Daily!$G:$G,9,Daily!$I:$I,{"외주수리완료"},Daily!$C:$C,"ATEP"),(SUMIFS(Daily!$W:$W,Daily!$G:$G,9,Daily!$I:$I,{"수리완료"},Daily!$C:$C,"ATEP")+SUMIFS(Daily!$W:$W,Daily!$G:$G,9,Daily!$I:$I,{"외주수리완료"},Daily!$C:$C,"ATEP"))/$R$3) -> 0 | Q14: =C14+E14+G14+I14+K14+M14+O14 -> 0 | R14: =D14+F14+H14+J14+L14+N14+P14 -> 0
B15: Oct. | C15: =SUMPRODUCT(SUMIFS(Daily!$S:$S,Daily!$G:$G,"10",Daily!$C:$C,"ATK",Daily!$I:$I,"수리완료")) + SUMPRODUCT(SUMIFS(Daily!$S:$S,Daily!$G:$G,"10",Daily!$C:$C,"ATK",Daily!$I:$I,"외주수리완료")) -> 0 | D15: =IF($R$2="K\",(SUMPRODUCT(SUMIFS(Daily!$W:$W,Daily!$G:$G,"10",Daily!$C:$C,"ATK",Daily!$I:$I,"수리완료")) + SUMPRODUCT(SUMIFS(Daily!$W:$W,Daily!$G:$G,"10",Daily!$C:$C,"ATK",Daily!$I:$I,"외주수리완료"))),(SUMPRODUCT(SUMIFS(Daily!$W:$W,Daily!$G:$G,"10",Daily!$C:$C,"ATK",Daily!$I:$I,"수리완료")) + SUMPRODUCT(SUMIFS(Daily!$W:$W,Daily!$G:$G,"10",Daily!$C:$C,"ATK",Daily!$I:$I,"외주수리완료")))/$R$3) -> 0 | E15: =SUMIFS(Daily!$S:$S,Daily!$G:$G,10,Daily!$I:$I,{"수리완료"},Daily!$C:$C,"ATP")+SUMIFS(Daily!$S:$S,Daily!$G:$G,10,Daily!$I:$I,{"외주수리완료"},Daily!$C:$C,"ATP") -> 0 | F15: =IF($R$2="K\",SUMIFS(Daily!$W:$W,Daily!$G:$G,10,Daily!$I:$I,{"수리완료"},Daily!$C:$C,"ATP")+SUMIFS(Daily!$W:$W,Daily!$G:$G,10,Daily!$I:$I,{"외주수리완료"},Daily!$C:$C,"ATP"),(SUMIFS(Daily!$W:$W,Daily!$G:$G,10,Daily!$I:$I,{"수리완료"},Daily!$C:$C,"ATP")+SUMIFS(Daily!$W:$W,Daily!$G:$G,10,Daily!$I:$I,{"외주수리완료"},Daily!$C:$C,"ATP"))/$R$3) -> 0 | G15: =SUMIFS(Daily!$S:$S,Daily!$G:$G,10,Daily!$I:$I,{"수리완료"},Daily!$C:$C,"ATC")+SUMIFS(Daily!$S:$S,Daily!$G:$G,10,Daily!$I:$I,{"외주수리완료"},Daily!$C:$C,"ATC") -> 0 | H15: =IF($R$2="K\",SUMIFS(Daily!$W:$W,Daily!$G:$G,10,Daily!$I:$I,{"수리완료"},Daily!$C:$C,"ATC")+SUMIFS(Daily!$W:$W,Daily!$G:$G,10,Daily!$I:$I,{"외주수리완료"},Daily!$C:$C,"ATC"),(SUMIFS(Daily!$W:$W,Daily!$G:$G,10,Daily!$I:$I,{"수리완료"},Daily!$C:$C,"ATC")+SUMIFS(Daily!$W:$W,Daily!$G:$G,10,Daily!$I:$I,{"외주수리완료"},Daily!$C:$C,"ATC"))/$R$3) -> 0 | I15: =SUMIFS(Daily!$S:$S,Daily!$G:$G,10,Daily!$I:$I,{"수리완료"},Daily!$C:$C,"ATT")+SUMIFS(Daily!$S:$S,Daily!$G:$G,10,Daily!$I:$I,{"외주수리완료"},Daily!$C:$C,"ATT") -> 0 | J15: =IF($R$2="K\",SUMIFS(Daily!$W:$W,Daily!$G:$G,10,Daily!$I:$I,{"수리완료"},Daily!$C:$C,"ATT")+SUMIFS(Daily!$W:$W,Daily!$G:$G,10,Daily!$I:$I,{"외주수리완료"},Daily!$C:$C,"ATT"),(SUMIFS(Daily!$W:$W,Daily!$G:$G,10,Daily!$I:$I,{"수리완료"},Daily!$C:$C,"ATT")+SUMIFS(Daily!$W:$W,Daily!$G:$G,10,Daily!$I:$I,{"외주수리완료"},Daily!$C:$C,"ATT"))/$R$3) -> 0 | K15: =SUMIFS(Daily!$S:$S,Daily!$G:$G,10,Daily!$I:$I,{"수리완료"},Daily!$C:$C,"ATM")+SUMIFS(Daily!$S:$S,Daily!$G:$G,10,Daily!$I:$I,{"외주수리완료"},Daily!$C:$C,"ATM") -> 0 | L15: =IF($R$2="K\",SUMIFS(Daily!$W:$W,Daily!$G:$G,10,Daily!$I:$I,{"수리완료"},Daily!$C:$C,"ATM")+SUMIFS(Daily!$W:$W,Daily!$G:$G,10,Daily!$I:$I,{"외주수리완료"},Daily!$C:$C,"ATM"),(SUMIFS(Daily!$W:$W,Daily!$G:$G,10,Daily!$I:$I,{"수리완료"},Daily!$C:$C,"ATM")+SUMIFS(Daily!$W:$W,Daily!$G:$G,10,Daily!$I:$I,{"외주수리완료"},Daily!$C:$C,"ATM"))/$R$3) -> 0 | M15: =SUMIFS(Daily!$S:$S,Daily!$G:$G,10,Daily!$I:$I,{"수리완료"},Daily!$C:$C,"ATJ")+SUMIFS(Daily!$S:$S,Daily!$G:$G,10,Daily!$I:$I,{"외주수리완료"},Daily!$C:$C,"ATJ") -> 0 | N15: =IF($R$2="K\",SUMIFS(Daily!$W:$W,Daily!$G:$G,10,Daily!$I:$I,{"수리완료"},Daily!$C:$C,"ATJ")+SUMIFS(Daily!$W:$W,Daily!$G:$G,10,Daily!$I:$I,{"외주수리완료"},Daily!$C:$C,"ATJ"),(SUMIFS(Daily!$W:$W,Daily!$G:$G,10,Daily!$I:$I,{"수리완료"},Daily!$C:$C,"ATJ")+SUMIFS(Daily!$W:$W,Daily!$G:$G,10,Daily!$I:$I,{"외주수리완료"},Daily!$C:$C,"ATJ"))/$R$3) -> 0 | O15: =SUMIFS(Daily!$S:$S,Daily!$G:$G,10,Daily!$I:$I,{"*수리완료"},Daily!$C:$C,"ATEP") -> 0 | P15: =IF($R$2="K\",SUMIFS(Daily!$W:$W,Daily!$G:$G,10,Daily!$I:$I,{"수리완료"},Daily!$C:$C,"ATEP")+SUMIFS(Daily!$W:$W,Daily!$G:$G,10,Daily!$I:$I,{"외주수리완료"},Daily!$C:$C,"ATEP"),(SUMIFS(Daily!$W:$W,Daily!$G:$G,10,Daily!$I:$I,{"수리완료"},Daily!$C:$C,"ATEP")+SUMIFS(Daily!$W:$W,Daily!$G:$G,10,Daily!$I:$I,{"외주수리완료"},Daily!$C:$C,"ATEP"))/$R$3) -> 0 | Q15: =C15+E15+G15+I15+K15+M15+O15 -> 0 | R15: =D15+F15+H15+J15+L15+N15+P15 -> 0
B16: Nov. | C16: =SUMPRODUCT(SUMIFS(Daily!$S:$S,Daily!$G:$G,"11",Daily!$C:$C,"ATK",Daily!$I:$I,"수리완료")) + SUMPRODUCT(SUMIFS(Daily!$S:$S,Daily!$G:$G,"11",Daily!$C:$C,"ATK",Daily!$I:$I,"외주수리완료")) -> 0 | D16: =IF($R$2="K\",(SUMPRODUCT(SUMIFS(Daily!$W:$W,Daily!$G:$G,"11",Daily!$C:$C,"ATK",Daily!$I:$I,"수리완료")) + SUMPRODUCT(SUMIFS(Daily!$W:$W,Daily!$G:$G,"11",Daily!$C:$C,"ATK",Daily!$I:$I,"외주수리완료"))),(SUMPRODUCT(SUMIFS(Daily!$W:$W,Daily!$G:$G,"11",Daily!$C:$C,"ATK",Daily!$I:$I,"수리완료")) + SUMPRODUCT(SUMIFS(Daily!$W:$W,Daily!$G:$G,"11",Daily!$C:$C,"ATK",Daily!$I:$I,"외주수리완료")))/$R$3) -> 0 | E16: =SUMIFS(Daily!$S:$S,Daily!$G:$G,11,Daily!$I:$I,{"수리완료"},Daily!$C:$C,"ATP")+SUMIFS(Daily!$S:$S,Daily!$G:$G,11,Daily!$I:$I,{"외주수리완료"},Daily!$C:$C,"ATP") -> 0 | F16: =IF($R$2="K\",SUMIFS(Daily!$W:$W,Daily!$G:$G,11,Daily!$I:$I,{"수리완료"},Daily!$C:$C,"ATP")+SUMIFS(Daily!$W:$W,Daily!$G:$G,11,Daily!$I:$I,{"외주수리완료"},Daily!$C:$C,"ATP"),(SUMIFS(Daily!$W:$W,Daily!$G:$G,11,Daily!$I:$I,{"수리완료"},Daily!$C:$C,"ATP")+SUMIFS(Daily!$W:$W,Daily!$G:$G,11,Daily!$I:$I,{"외주수리완료"},Daily!$C:$C,"ATP"))/$R$3) -> 0 | G16: =SUMIFS(Daily!$S:$S,Daily!$G:$G,11,Daily!$I:$I,{"수리완료"},Daily!$C:$C,"ATC")+SUMIFS(Daily!$S:$S,Daily!$G:$G,11,Daily!$I:$I,{"외주수리완료"},Daily!$C:$C,"ATC") -> 0 | H16: =IF($R$2="K\",SUMIFS(Daily!$W:$W,Daily!$G:$G,11,Daily!$I:$I,{"수리완료"},Daily!$C:$C,"ATC")+SUMIFS(Daily!$W:$W,Daily!$G:$G,11,Daily!$I:$I,{"외주수리완료"},Daily!$C:$C,"ATC"),(SUMIFS(Daily!$W:$W,Daily!$G:$G,11,Daily!$I:$I,{"수리완료"},Daily!$C:$C,"ATC")+SUMIFS(Daily!$W:$W,Daily!$G:$G,11,Daily!$I:$I,{"외주수리완료"},Daily!$C:$C,"ATC"))/$R$3) -> 0 | I16: =SUMIFS(Daily!$S:$S,Daily!$G:$G,11,Daily!$I:$I,{"수리완료"},Daily!$C:$C,"ATT")+SUMIFS(Daily!$S:$S,Daily!$G:$G,11,Daily!$I:$I,{"외주수리완료"},Daily!$C:$C,"ATT") -> 0 | J16: =IF($R$2="K\",SUMIFS(Daily!$W:$W,Daily!$G:$G,11,Daily!$I:$I,{"수리완료"},Daily!$C:$C,"ATT")+SUMIFS(Daily!$W:$W,Daily!$G:$G,11,Daily!$I:$I,{"외주수리완료"},Daily!$C:$C,"ATT"),(SUMIFS(Daily!$W:$W,Daily!$G:$G,11,Daily!$I:$I,{"수리완료"},Daily!$C:$C,"ATT")+SUMIFS(Daily!$W:$W,Daily!$G:$G,11,Daily!$I:$I,{"외주수리완료"},Daily!$C:$C,"ATT"))/$R$3) -> 0 | K16: =SUMIFS(Daily!$S:$S,Daily!$G:$G,11,Daily!$I:$I,{"수리완료"},Daily!$C:$C,"ATM")+SUMIFS(Daily!$S:$S,Daily!$G:$G,11,Daily!$I:$I,{"외주수리완료"},Daily!$C:$C,"ATM") -> 0 | L16: =IF($R$2="K\",SUMIFS(Daily!$W:$W,Daily!$G:$G,11,Daily!$I:$I,{"수리완료"},Daily!$C:$C,"ATM")+SUMIFS(Daily!$W:$W,Daily!$G:$G,11,Daily!$I:$I,{"외주수리완료"},Daily!$C:$C,"ATM"),(SUMIFS(Daily!$W:$W,Daily!$G:$G,11,Daily!$I:$I,{"수리완료"},Daily!$C:$C,"ATM")+SUMIFS(Daily!$W:$W,Daily!$G:$G,11,Daily!$I:$I,{"외주수리완료"},Daily!$C:$C,"ATM"))/$R$3) -> 0 | M16: =SUMIFS(Daily!$S:$S,Daily!$G:$G,11,Daily!$I:$I,{"수리완료"},Daily!$C:$C,"ATJ")+SUMIFS(Daily!$S:$S,Daily!$G:$G,11,Daily!$I:$I,{"외주수리완료"},Daily!$C:$C,"ATJ") -> 0 | N16: =IF($R$2="K\",SUMIFS(Daily!$W:$W,Daily!$G:$G,10,Daily!$I:$I,{"수리완료"},Daily!$C:$C,"ATJ")+SUMIFS(Daily!$W:$W,Daily!$G:$G,10,Daily!$I:$I,{"외주수리완료"},Daily!$C:$C,"ATJ"),(SUMIFS(Daily!$W:$W,Daily!$G:$G,10,Daily!$I:$I,{"수리완료"},Daily!$C:$C,"ATJ")+SUMIFS(Daily!$W:$W,Daily!$G:$G,10,Daily!$I:$I,{"외주수리완료"},Daily!$C:$C,"ATJ"))/$R$3) -> 0 | O16: =SUMIFS(Daily!$S:$S,Daily!$G:$G,11,Daily!$I:$I,{"*수리완료"},Daily!$C:$C,"ATEP") -> 0 | P16: =IF($R$2="K\",SUMIFS(Daily!$W:$W,Daily!$G:$G,11,Daily!$I:$I,{"수리완료"},Daily!$C:$C,"ATEP")+SUMIFS(Daily!$W:$W,Daily!$G:$G,11,Daily!$I:$I,{"외주수리완료"},Daily!$C:$C,"ATEP"),(SUMIFS(Daily!$W:$W,Daily!$G:$G,11,Daily!$I:$I,{"수리완료"},Daily!$C:$C,"ATEP")+SUMIFS(Daily!$W:$W,Daily!$G:$G,11,Daily!$I:$I,{"외주수리완료"},Daily!$C:$C,"ATEP"))/$R$3) -> 0 | Q16: =C16+E16+G16+I16+K16+M16+O16 -> 0 | R16: =D16+F16+H16+J16+L16+N16+P16 -> 0 | T16: Including Ongoing | U16: (K\) | V16: K$
B17: Dec. | C17: =SUMPRODUCT(SUMIFS(Daily!$S:$S,Daily!$G:$G,"12",Daily!$C:$C,"ATK",Daily!$I:$I,"수리완료")) + SUMPRODUCT(SUMIFS(Daily!$S:$S,Daily!$G:$G,"12",Daily!$C:$C,"ATK",Daily!$I:$I,"외주수리완료")) -> 0 | D17: =IF($R$2="K\",(SUMPRODUCT(SUMIFS(Daily!$W:$W,Daily!$G:$G,"12",Daily!$C:$C,"ATK",Daily!$I:$I,"수리완료")) + SUMPRODUCT(SUMIFS(Daily!$W:$W,Daily!$G:$G,"12",Daily!$C:$C,"ATK",Daily!$I:$I,"외주수리완료"))),(SUMPRODUCT(SUMIFS(Daily!$W:$W,Daily!$G:$G,"12",Daily!$C:$C,"ATK",Daily!$I:$I,"수리완료")) + SUMPRODUCT(SUMIFS(Daily!$W:$W,Daily!$G:$G,"12",Daily!$C:$C,"ATK",Daily!$I:$I,"외주수리완료")))/$R$3) -> 0 | E17: =SUMIFS(Daily!$S:$S,Daily!$G:$G,12,Daily!$I:$I,{"수리완료"},Daily!$C:$C,"ATP")+SUMIFS(Daily!$S:$S,Daily!$G:$G,12,Daily!$I:$I,{"외주수리완료"},Daily!$C:$C,"ATP") -> 0 | F17: =IF($R$2="K\",SUMIFS(Daily!$W:$W,Daily!$G:$G,12,Daily!$I:$I,{"수리완료"},Daily!$C:$C,"ATP")+SUMIFS(Daily!$W:$W,Daily!$G:$G,12,Daily!$I:$I,{"외주수리완료"},Daily!$C:$C,"ATP"),(SUMIFS(Daily!$W:$W,Daily!$G:$G,12,Daily!$I:$I,{"수리완료"},Daily!$C:$C,"ATP")+SUMIFS(Daily!$W:$W,Daily!$G:$G,12,Daily!$I:$I,{"외주수리완료"},Daily!$C:$C,"ATP"))/$R$3) -> 0 | G17: =SUMIFS(Daily!$S:$S,Daily!$G:$G,12,Daily!$I:$I,{"수리완료"},Daily!$C:$C,"ATC")+SUMIFS(Daily!$S:$S,Daily!$G:$G,12,Daily!$I:$I,{"외주수리완료"},Daily!$C:$C,"ATC") -> 0 | H17: =IF($R$2="K\",SUMIFS(Daily!$W:$W,Daily!$G:$G,12,Daily!$I:$I,{"수리완료"},Daily!$C:$C,"ATC")+SUMIFS(Daily!$W:$W,Daily!$G:$G,12,Daily!$I:$I,{"외주수리완료"},Daily!$C:$C,"ATC"),(SUMIFS(Daily!$W:$W,Daily!$G:$G,12,Daily!$I:$I,{"수리완료"},Daily!$C:$C,"ATC")+SUMIFS(Daily!$W:$W,Daily!$G:$G,12,Daily!$I:$I,{"외주수리완료"},Daily!$C:$C,"ATC"))/$R$3) -> 0 | I17: =SUMIFS(Daily!$S:$S,Daily!$G:$G,12,Daily!$I:$I,{"수리완료"},Daily!$C:$C,"ATT")+SUMIFS(Daily!$S:$S,Daily!$G:$G,12,Daily!$I:$I,{"외주수리완료"},Daily!$C:$C,"ATT") -> 0 | J17: =IF($R$2="K\",SUMIFS(Daily!$W:$W,Daily!$G:$G,12,Daily!$I:$I,{"수리완료"},Daily!$C:$C,"ATT")+SUMIFS(Daily!$W:$W,Daily!$G:$G,12,Daily!$I:$I,{"외주수리완료"},Daily!$C:$C,"ATT"),(SUMIFS(Daily!$W:$W,Daily!$G:$G,12,Daily!$I:$I,{"수리완료"},Daily!$C:$C,"ATT")+SUMIFS(Daily!$W:$W,Daily!$G:$G,12,Daily!$I:$I,{"외주수리완료"},Daily!$C:$C,"ATT"))/$R$3) -> 0 | K17: =SUMIFS(Daily!$S:$S,Daily!$G:$G,12,Daily!$I:$I,{"수리완료"},Daily!$C:$C,"ATM")+SUMIFS(Daily!$S:$S,Daily!$G:$G,12,Daily!$I:$I,{"외주수리완료"},Daily!$C:$C,"ATM") -> 0 | L17: =IF($R$2="K\",SUMIFS(Daily!$W:$W,Daily!$G:$G,12,Daily!$I:$I,{"수리완료"},Daily!$C:$C,"ATM")+SUMIFS(Daily!$W:$W,Daily!$G:$G,12,Daily!$I:$I,{"외주수리완료"},Daily!$C:$C,"ATM"),(SUMIFS(Daily!$W:$W,Daily!$G:$G,12,Daily!$I:$I,{"수리완료"},Daily!$C:$C,"ATM")+SUMIFS(Daily!$W:$W,Daily!$G:$G,12,Daily!$I:$I,{"외주수리완료"},Daily!$C:$C,"ATM"))/$R$3) -> 0 | M17: =SUMIFS(Daily!$S:$S,Daily!$G:$G,12,Daily!$I:$I,{"수리완료"},Daily!$C:$C,"ATJ")+SUMIFS(Daily!$S:$S,Daily!$G:$G,12,Daily!$I:$I,{"외주수리완료"},Daily!$C:$C,"ATJ") -> 0 | N17: =IF($R$2="K\",SUMIFS(Daily!$W:$W,Daily!$G:$G,12,Daily!$I:$I,{"수리완료"},Daily!$C:$C,"ATJ")+SUMIFS(Daily!$W:$W,Daily!$G:$G,12,Daily!$I:$I,{"외주수리완료"},Daily!$C:$C,"ATJ"),(SUMIFS(Daily!$W:$W,Daily!$G:$G,12,Daily!$I:$I,{"수리완료"},Daily!$C:$C,"ATJ")+SUMIFS(Daily!$W:$W,Daily!$G:$G,12,Daily!$I:$I,{"외주수리완료"},Daily!$C:$C,"ATJ"))/$R$3) -> 0 | O17: =SUMIFS(Daily!$S:$S,Daily!$G:$G,12,Daily!$I:$I,{"*수리완료"},Daily!$C:$C,"ATEP") -> 0 | P17: =IF($R$2="K\",SUMIFS(Daily!$W:$W,Daily!$G:$G,12,Daily!$I:$I,{"수리완료"},Daily!$C:$C,"ATEP")+SUMIFS(Daily!$W:$W,Daily!$G:$G,12,Daily!$I:$I,{"외주수리완료"},Daily!$C:$C,"ATEP"),(SUMIFS(Daily!$W:$W,Daily!$G:$G,12,Daily!$I:$I,{"수리완료"},Daily!$C:$C,"ATEP")+SUMIFS(Daily!$W:$W,Daily!$G:$G,12,Daily!$I:$I,{"외주수리완료"},Daily!$C:$C,"ATEP"))/$R$3) -> 0 | Q17: =C17+E17+G17+I17+K17+M17+O17 -> 0 | R17: =D17+F17+H17+J17+L17+N17+P17 -> 0 | T17: Outsourcing Price | U17: =INT(SUM(Daily!U:U)) -> 495978 | V17: =U17/$R$3 -> 450.88909
B18: Other | T18: In-House Price | U18: =SUM(Daily!V:V) -> 16160 | V18: =U18/$R$3 -> 14.690909
B19: Total(Site) | C19: =SUM(C6:C17) -> 328 | D19: =SUM(D6:D17) -> 352.31455 | E19: =SUM(E6:E17) -> 12 | F19: =SUM(F6:F17) -> 22.5 | G19: =SUM(G6:G17) -> 0 | H19: =SUM(H6:H17) -> 0 | I19: =SUM(I6:I17) -> 0 | J19: =SUM(J6:J17) -> 0 | ... P19: =SUM(P6:P17) -> 0 | Q19: =C19+E19+G19+I19+K19+M19+O19 -> 342 | R19: =D19+F19+H19+J19+L19+N19+P19 -> 376.78727 | T19: Cost Save | U19: =U17-U18 -> 479818 | V19: =U19/$R$3 -> 436.19818
B20: Ratio(%) | C20: =C19/($C$19+$E$19+$G$19+$I$19+$K$19+$M$19+$O$19) -> 0.95906433 | D20: =D19/($D$19+$F$19+$H$19+$J$19+$L$19+$N$19+$P$19) -> 0.93504895 | E20: =E19/($C$19+$E$19+$G$19+$I$19+$K$19+$M$19+$O$19) -> 0.035087719 | F20: =F19/($D$19+$F$19+$H$19+$J$19+$L$19+$N$19+$P$19) -> 0.059715393 | G20: =G19/($C$19+$E$19+$G$19+$I$19+$K$19+$M$19+$O$19) -> 0 | H20: =H19/($D$19+$F$19+$H$19+$J$19+$L$19+$N$19+$P$19) -> 0 | I20: =I19/($C$19+$E$19+$G$19+$I$19+$K$19+$M$19+$O$19) -> 0 | J20: =J19/($D$19+$F$19+$H$19+$J$19+$L$19+$N$19+$P$19) -> 0 | K20: =K19/($C$19+$E$19+$G$19+$I$19+$K$19+$M$19+$O$19) -> 0.0058479532 | L20: =L19/($D$19+$F$19+$H$19+$J$19+$L$19+$N$19+$P$19) -> 0.0052356526 | M20: =M19/($C$19+$E$19+$G$19+$I$19+$K$19+$M$19+$O$19) -> 0 | N20: =N19/($D$19+$F$19+$H$19+$J$19+$L$19+$N$19+$P$19) -> 0 | O20: =O19/($C$19+$E$19+$G$19+$I$19+$K$19+$M$19+$O$19) -> 0 | P20: =P19/($D$19+$F$19+$H$19+$J$19+$L$19+$N$19+$P$19) -> 0 | Q20: =C20+E20+G20+I20+K20+M20+O20 -> 1 | R20: =D20+F20+H20+J20+L20+N20+P20 -> 1 | V20: =335951/1100 -> 305.41
V21: =156284/1100 -> 142.07636
V22: =95618/1100 -> 86.925455
S73: 1 | T73: 710 | AB73: 정기수
S74: 1 | T74: 710 | AB74: 정기수
D75: 윤교한 | E75: 44202 | I75: 수리중 | J75: A | K75: 1T3P | L75: =LEFT(K75,3) -> 1T3 | N75: SIMCO | O75: IONIZER | S75: 1 | T75: 1600
D76: 전태진 | E76: 44203

Sheet Weekly Performance
A1: Weekly Performance
A2: 3 | B2: Technical Support(Complete) | F2: (Ongoing) | H2: Other
B3: 건수 | C3: 시간 | D3: Cost Save(K\) | E3: / K$ | F3: 건수 | G3: 시간 | H3: 건수 | I3: 시간
A4: 강영구 | B4: =SUMIFS(Daily!$S:$S, Daily!$AB:$AB, "*강영구*", Daily!$I:$I, "*수리완료",Daily!$F:$F,"<>",Daily!B:B,'Weekly Performance'!A2) -> 3 | C4: =SUMIFS(Daily!$Z:$Z, Daily!$AB:$AB, "*강영구*", Daily!$I:$I, "*수리완료",Daily!$F:$F,"<>",Daily!B:B,'Weekly Performance'!A2)+SUMIFS(Daily!$Z:$Z, Daily!$AB:$AB, "*강영구*", Daily!$I:$I, "수리불가",Daily!$F:$F,"<>",Daily!B:B,'Weekly Performance'!A2)+SUMIFS(Daily!$Z:$Z, Daily!$AB:$AB, "*강영구*", Daily!$I:$I, "폐기",Daily!$F:$F,"<>",Daily!B:B,'Weekly Performance'!A2) -> 13 | D4: =SUMIFS(Daily!W:W, Daily!$AB:$AB,"*강영구*", Daily!$I:$I, "수리완료",Daily!$F:$F,"<>", Daily!B:B,'Weekly Performance'!A2)+SUMIFS(Daily!W:W, Daily!$AB:$AB,"*강영구*", Daily!$I:$I, "외주수리완료",Daily!$F:$F,"<>", Daily!B:B,'Weekly Performance'!A2) -> 1555 | E4: =D4/1100 -> 1.4136364 | F4: =SUMIFS(Daily!$S:$S, Daily!$AB:$AB, "*강영구*", Daily!$I:$I, "*수리중") -> 3 | G4: =SUMIFS(Daily!$Z:$Z, Daily!$AB:$AB, "*강영구*", Daily!$I:$I, "*수리중") -> 0 | H4: =SUMIFS(Daily!$S:$S, Daily!$AB:$AB, "*강영구*", Daily!$I:$I, "Other", Daily!$F:$F,"<>",Daily!B:B,'Weekly Performance'!A2) -> 0 | I4: =SUMIFS(Daily!$Z:$Z, Daily!$AB:$AB, "*강영구*", Daily!$I:$I, "Other",Daily!$F:$F,"<>", Daily!B:B,'Weekly Performance'!A2) -> 0
A5: 장은철 | B5: =SUMIFS(Daily!$S:$S, Daily!$AB:$AB, "*장은철*", Daily!$I:$I, "수리완료",Daily!$F:$F,"<>",Daily!B:B,'Weekly Performance'!A2)+SUMIFS(Daily!$S:$S, Daily!$AB:$AB, "*장은철*", Daily!$I:$I, "외주수리완료",Daily!$F:$F,"<>",Daily!B:B,'Weekly Performance'!A2) -> 6 | C5: =SUMIFS(Daily!$Z:$Z, Daily!$AB:$AB, "*장은철*", Daily!$I:$I, "*수리완료",Daily!$F:$F,"<>",Daily!B:B,'Weekly Performance'!A2)+SUMIFS(Daily!$Z:$Z, Daily!$AB:$AB, "*장은철*", Daily!$I:$I, "수리불가",Daily!$F:$F,"<>",Daily!B:B,'Weekly Performance'!A2)+SUMIFS(Daily!$Z:$Z, Daily!$AB:$AB, "*장은철*", Daily!$I:$I, "폐기",Daily!$F:$F,"<>",Daily!B:B,'Weekly Performance'!A2) -> 13 | D5: =SUMIFS(Daily!W:W, Daily!$AB:$AB,"*장은철*", Daily!$I:$I, "수리완료",Daily!$F:$F,"<>", Daily!B:B,'Weekly Performance'!A2)+SUMIFS(Daily!W:W, Daily!$AB:$AB,"*장은철*", Daily!$I:$I, "외주수리완료",Daily!$F:$F,"<>", Daily!B:B,'Weekly Performance'!A2) -> 10600 | E5: =D5/1100 -> 9.6363636 | F5: =SUMIFS(Daily!$S:$S, Daily!$AB:$AB, "*장은철*", Daily!$I:$I, "*수리중") -> 9 | G5: =SUMIFS(Daily!$Z:$Z, Daily!$AB:$AB, "*장은철*", Daily!$I:$I, "*수리중") -> 5 | H5: =SUMIFS(Daily!$S:$S, Daily!$AB:$AB, "*장은철*", Daily!$I:$I, "Other", Daily!$F:$F,"<>",Daily!B:B,'Weekly Performance'!A2) -> 1 | I5: =SUMIFS(Daily!$Z:$Z, Daily!$AB:$AB, "*장은철*", Daily!$I:$I, "Other",Daily!$F:$F,"<>", Daily!B:B,'Weekly Performance'!A2) -> 3
A6: 허준영 | B6: =SUMIFS(Daily!$S:$S, Daily!$AB:$AB, "*허준영*", Daily!$I:$I, "수리완료",Daily!$F:$F,"<>",Daily!B:B,'Weekly Performance'!A2)+SUMIFS(Daily!$S:$S, Daily!$AB:$AB, "*허준영*", Daily!$I:$I, "외주수리완료",Daily!$F:$F,"<>",Daily!B:B,'Weekly Performance'!A2) -> 10 | C6: =SUMIFS(Daily!$Z:$Z, Daily!$AB:$AB, "*허준영*", Daily!$I:$I, "*수리완료",Daily!$F:$F,"<>",Daily!B:B,'Weekly Performance'!A2)+SUMIFS(Daily!$Z:$Z, Daily!$AB:$AB, "*허준영*", Daily!$I:$I, "수리불가",Daily!$F:$F,"<>",Daily!B:B,'Weekly Performance'!A2)+SUMIFS(Daily!$Z:$Z, Daily!$AB:$AB, "*허준영*", Daily!$I:$I, "폐기",Daily!$F:$F,"<>",Daily!B:B,'Weekly Performance'!A2) -> 30 | D6: =SUMIFS(Daily!W:W, Daily!$AB:$AB,"*허준영*", Daily!$I:$I, "수리완료",Daily!$F:$F,"<>", Daily!B:B,'Weekly Performance'!A2)+SUMIFS(Daily!W:W, Daily!$AB:$AB,"*허준영*", Daily!$I:$I, "외주수리완료",Daily!$F:$F,"<>", Daily!B:B,'Weekly Performance'!A2) -> 15200 | E6: =D6/1100 -> 13.818182 | F6: =SUMIFS(Daily!$S:$S, Daily!$AB:$AB, "*허준영*", Daily!$I:$I, "*수리중") -> 0 | G6: =SUMIFS(Daily!$Z:$Z, Daily!$AB:$AB, "*허준영*", Daily!$I:$I, "*수리중") -> 0 | H6: =SUMIFS(Daily!$S:$S, Daily!$AB:$AB, "*허준영*", Daily!$I:$I, "Other", Daily!$F:$F,"<>",Daily!B:B,'Weekly Performance'!A2) -> 0 | I6: =SUMIFS(Daily!$Z:$Z, Daily!$AB:$AB, "*허준영*", Daily!$I:$I, "Other",Daily!$F:$F,"<>", Daily!B:B,'Weekly Performance'!A2) -> 0
A7: 박병대 | B7: =SUMIFS(Daily!$S:$S, Daily!$AB:$AB, "*박병대*", Daily!$I:$I, "수리완료",Daily!$F:$F,"<>",Daily!B:B,'Weekly Performance'!A2)+SUMIFS(Daily!$S:$S, Daily!$AB:$AB, "*박병대*", Daily!$I:$I, "외주수리완료",Daily!$F:$F,"<>",Daily!B:B,'Weekly Performance'!A2) -> 0 | C7: =SUMIFS(Daily!$Z:$Z, Daily!$AB:$AB, "*박병대*", Daily!$I:$I, "*수리완료",Daily!$F:$F,"<>",Daily!B:B,'Weekly Performance'!A2)+SUMIFS(Daily!$Z:$Z, Daily!$AB:$AB, "*박병대*", Daily!$I:$I, "수리불가",Daily!$F:$F,"<>",Daily!B:B,'Weekly Performance'!A2)+SUMIFS(Daily!$Z:$Z, Daily!$AB:$AB, "*박병대*", Daily!$I:$I, "폐기",Daily!$F:$F,"<>",Daily!B:B,'Weekly Performance'!A2) -> 0 | D7: =SUMIFS(Daily!W:W, Daily!$AB:$AB,"*박병대*", Daily!$I:$I, "수리완료",Daily!$F:$F,"<>", Daily!B:B,'Weekly Performance'!A2)+SUMIFS(Daily!W:W, Daily!$AB:$AB,"*박병대*", Daily!$I:$I, "외주수리완료",Daily!$F:$F,"<>", Daily!B:B,'Weekly Performance'!A2) -> 0 | E7: =D7/1100 -> 0 | F7: =SUMIFS(Daily!$S:$S, Daily!$AB:$AB, "*박병대*", Daily!$I:$I, "*수리중") -> 0 | G7: =SUMIFS(Daily!$Z:$Z, Daily!$AB:$AB, "*박병대*", Daily!$I:$I, "*수리중") -> 0 | H7: =SUMIFS(Daily!$S:$S, Daily!$AB:$AB, "*박병대*", Daily!$I:$I, "Other", Daily!$F:$F,"<>",Daily!B:B,'Weekly Performance'!A2) -> 0 | I7: =SUMIFS(Daily!$Z:$Z, Daily!$AB:$AB, "*박병대*", Daily!$I:$I, "Other",Daily!$F:$F,"<>", Daily!B:B,'Weekly Performance'!A2) -> 0
A8: 최준영 | B8: =SUMIFS(Daily!$S:$S, Daily!$AB:$AB, "*최준영*", Daily!$I:$I, "수리완료",Daily!$F:$F,"<>",Daily!B:B,'Weekly Performance'!A2)+SUMIFS(Daily!$S:$S, Daily!$AB:$AB, "*최준영*", Daily!$I:$I, "외주수리완료",Daily!$F:$F,"<>",Daily!B:B,'Weekly Performance'!A2) -> 5 | C8: =SUMIFS(Daily!$Z:$Z, Daily!$AB:$AB, "*최준영*", Daily!$I:$I, "*수리완료",Daily!$F:$F,"<>",Daily!B:B,'Weekly Performance'!A2)+SUMIFS(Daily!$Z:$Z, Daily!$AB:$AB, "*최준영*", Daily!$I:$I, "수리불가",Daily!$F:$F,"<>",Daily!B:B,'Weekly Performance'!A2)+SUMIFS(Daily!$Z:$Z, Daily!$AB:$AB, "*최준영*", Daily!$I:$I, "폐기",Daily!$F:$F,"<>",Daily!B:B,'Weekly Performance'!A2) -> 12 | D8: =SUMIFS(Daily!W:W, Daily!$AB:$AB,"*최준영*", Daily!$I:$I, "수리완료",Daily!$F:$F,"<>", Daily!B:B,'Weekly Performance'!A2)+SUMIFS(Daily!W:W, Daily!$AB:$AB,"*최준영*", Daily!$I:$I, "외주수리완료",Daily!$F:$F,"<>", Daily!B:B,'Weekly Performance'!A2) -> 4248 | E8: =D8/1100 -> 3.8618182 | F8: =SUMIFS(Daily!$S:$S, Daily!$AB:$AB, "*최준영*", Daily!$I:$I, "*수리중") -> 4 | G8: =SUMIFS(Daily!$Z:$Z, Daily!$AB:$AB, "*최준영*", Daily!$I:$I, "*수리중") -> 16 | H8: =SUMIFS(Daily!$S:$S, Daily!$AB:$AB, "*최준영*", Daily!$I:$I, "Other", Daily!$F:$F,"<>",Daily!B:B,'Weekly Performance'!A2) -> 3 | I8: =SUMIFS(Daily!$Z:$Z, Daily!$AB:$AB, "*최준영*", Daily!$I:$I, "Other",Daily!$F:$F,"<>", Daily!B:B,'Weekly Performance'!A2) -> 32
A9: 정기수 | B9: =SUMIFS(Daily!$S:$S, Daily!$AB:$AB, "*정기수*", Daily!$I:$I, "수리완료",Daily!$F:$F,"<>",Daily!B:B,'Weekly Performance'!A2)+SUMIFS(Daily!$S:$S, Daily!$AB:$AB, "*정기수*", Daily!$I:$I, "외주수리완료",Daily!$F:$F,"<>",Daily!B:B,'Weekly Performance'!A2) -> 1 | C9: =SUMIFS(Daily!$Z:$Z, Daily!$AB:$AB, "*정기수*", Daily!$I:$I, "*수리완료",Daily!$F:$F,"<>",Daily!B:B,'Weekly Performance'!A2)+SUMIFS(Daily!$Z:$Z, Daily!$AB:$AB, "*정기수*", Daily!$I:$I, "수리불가",Daily!$F:$F,"<>",Daily!B:B,'Weekly Performance'!A2)+SUMIFS(Daily!$Z:$Z, Daily!$AB:$AB, "*정기수*", Daily!$I:$I, "폐기",Daily!$F:$F,"<>",Daily!B:B,'Weekly Performance'!A2) -> 8 | D9: =SUMIFS(Daily!W:W, Daily!$AB:$AB,"*정기수*", Daily!$I:$I, "수리완료",Daily!$F:$F,"<>", Daily!B:B,'Weekly Performance'!A2)+SUMIFS(Daily!W:W, Daily!$AB:$AB,"*정기수*", Daily!$I:$I, "외주수리완료",Daily!$F:$F,"<>", Daily!B:B,'Weekly Performance'!A2) -> 2495 | E9: =D9/1100 -> 2.2681818 | F9: =SUMIFS(Daily!$S:$S, Daily!$AB:$AB, "*정기수*", Daily!$I:$I, "*수리중") -> 2 | G9: =SUMIFS(Daily!$Z:$Z, Daily!$AB:$AB, "*정기수*", Daily!$I:$I, "*수리중") -> 0 | H9: =SUMIFS(Daily!$S:$S, Daily!$AB:$AB, "*정기수*", Daily!$I:$I, "Other", Daily!$F:$F,"<>",Daily!B:B,'Weekly Performance'!A2) -> 2 | I9: =SUMIFS(Daily!$Z:$Z, Daily!$AB:$AB, "*정기수*", Daily!$I:$I, "Other",Daily!$F:$F,"<>", Daily!B:B,'Weekly Performance'!A2) -> 16
B10: =SUMIFS(Daily!$S:$S, Daily!$AB:$AB, "*하주용*", Daily!$I:$I, "수리완료",Daily!$F:$F,"<>",Daily!B:B,'Weekly Performance'!A2)+SUMIFS(Daily!$S:$S, Daily!$AB:$AB, "*하주용*", Daily!$I:$I, "외주수리완료",Daily!$F:$F,"<>",Daily!B:B,'Weekly Performance'!A2) -> 0 | C10: =SUMIFS(Daily!$Z:$Z, Daily!$AB:$AB, "*하주용*", Daily!$I:$I, "*수리완료",Daily!$F:$F,"<>",Daily!B:B,'Weekly Performance'!A2)+SUMIFS(Daily!$Z:$Z, Daily!$AB:$AB, "*하주용*", Daily!$I:$I, "수리불가",Daily!$F:$F,"<>",Daily!B:B,'Weekly Performance'!A2)+SUMIFS(Daily!$Z:$Z, Daily!$AB:$AB, "*하주용*", Daily!$I:$I, "폐기",Daily!$F:$F,"<>",Daily!B:B,'Weekly Performance'!A2) -> 0 | D10: =SUMIFS(Daily!W:W, Daily!$AB:$AB,"*하주용*", Daily!$I:$I, "수리완료",Daily!$F:$F,"<>", Daily!B:B,'Weekly Performance'!A2)+SUMIFS(Daily!W:W, Daily!$AB:$AB,"*하주용*", Daily!$I:$I, "외주수리완료",Daily!$F:$F,"<>", Daily!B:B,'Weekly Performance'!A2) -> 0 | E10: =D10/1100 -> 0 | F10: =SUMIFS(Daily!$S:$S, Daily!$AB:$AB, "*하주용*", Daily!$I:$I, "*수리중",Daily!B:B,'Weekly Performance'!A2) -> 0 | G10: =SUMIFS(Daily!$Z:$Z, Daily!$AB:$AB, "*하주용*", Daily!$I:$I, "*수리중",Daily!B:B,'Weekly Performance'!A2) -> 0 | H10: =SUMIFS(Daily!$S:$S, Daily!$AB:$AB, "*하주용*", Daily!$I:$I, "Other", Daily!$F:$F,"<>",Daily!B:B,'Weekly Performance'!A2) -> 0 | I10: =SUMIFS(Daily!$Z:$Z, Daily!$AB:$AB, "*하주용*", Daily!$I:$I, "Other",Daily!$F:$F,"<>", Daily!B:B,'Weekly Performance'!A2) -> 0
A11: Total | B11: =SUM(B4:B10) -> 25 | C11: =SUM(C4:C10) -> 76 | D11: =SUM(D4:D10) -> 34098 | E11: =SUM(E4:E10) -> 30.998182 | F11: =SUM(F4:F10) -> 18 | G11: =SUM(G4:G10) -> 21 | H11: =SUM(H4:H10) -> 6 | I11: =SUM(I4:I10) -> 51
S73: 1 | T73: 710 | AB73: 정기수
S74: 1 | T74: 710 | AB74: 정기수
D75: 윤교한 | E75: 44202 | I75: 수리중 | J75: A | K75: 1T3P | L75: =LEFT(K75,3) -> 1T3 | N75: SIMCO | O75: IONIZER | S75: 1 | T75: 1600
D76: 전태진 | E76: 44202

Sheet Monthly Performance
A1: Monthly Performance
A2: 1 | B2: Technical Support(Complete) | F2: Other
B3: 건수 | C3: 시간 | D3: Cost Save(K\) | E3: / K$ | F3: 건수 | G3: 시간
A4: 강영구 | B4: =SUMIFS(Daily!$S:$S, Daily!$AB:$AB, "*강영구*", Daily!$I:$I, "수리완료",Daily!$F:$F,"<>",Daily!G:G,'Monthly Performance'!A2)+SUMIFS(Daily!$S:$S, Daily!$AB:$AB, "*강영구*", Daily!$I:$I, "외주수리완료",Daily!$F:$F,"<>",Daily!G:G,'Monthly Performance'!A2) -> 23 | C4: =SUMIFS(Daily!$Z:$Z, Daily!$AB:$AB, "*강영구*", Daily!$I:$I, "*수리완료",Daily!$F:$F,"<>", Daily!G:G,'Monthly Performance'!A2)+SUMIFS(Daily!$Z:$Z, Daily!$AB:$AB, "*강영구*", Daily!$I:$I, "폐기",Daily!$F:$F,"<>", Daily!G:G,'Monthly Performance'!A2)+SUMIFS(Daily!$Z:$Z, Daily!$AB:$AB, "*강영구*", Daily!$I:$I, "수리불가",Daily!$F:$F,"<>", Daily!G:G,'Monthly Performance'!A2) -> 84 | D4: =SUMIFS(Daily!W:W, Daily!$AB:$AB,"*강영구*", Daily!$I:$I, "수리완료",Daily!$F:$F,"<>", Daily!G:G,'Monthly Performance'!A2)+SUMIFS(Daily!W:W, Daily!$AB:$AB,"*강영구*", Daily!$I:$I, "외주수리완료",Daily!$F:$F,"<>", Daily!G:G,'Monthly Performance'!A2) -> 10462 | E4: =D4/1100 -> 9.5109091 | F4: =SUMIFS(Daily!$S:$S, Daily!$AB:$AB, "*강영구*", Daily!$I:$I, "Other", Daily!$F:$F,"<>",Daily!G:G,'Monthly Performance'!A2) -> 0 | G4: =SUMIFS(Daily!$Z:$Z, Daily!$AB:$AB, "*강영구*", Daily!$I:$I, "Other",Daily!$F:$F,"<>", Daily!G:G,'Monthly Performance'!A2) -> 0
A5: 장은철 | B5: =SUMIFS(Daily!$S:$S, Daily!$AB:$AB, "*장은철*", Daily!$I:$I, "수리완료",Daily!$F:$F,"<>",Daily!G:G,'Monthly Performance'!A2)+SUMIFS(Daily!$S:$S, Daily!$AB:$AB, "*장은철*", Daily!$I:$I, "외주수리완료",Daily!$F:$F,"<>",Daily!G:G,'Monthly Performance'!A2) -> 42 | C5: =SUMIFS(Daily!$Z:$Z, Daily!$AB:$AB, "*장은철*", Daily!$I:$I, "*수리완료",Daily!$F:$F,"<>", Daily!G:G,'Monthly Performance'!A2)+SUMIFS(Daily!$Z:$Z, Daily!$AB:$AB, "*장은철*", Daily!$I:$I, "폐기",Daily!$F:$F,"<>", Daily!G:G,'Monthly Performance'!A2)+SUMIFS(Daily!$Z:$Z, Daily!$AB:$AB, "*장은철*", Daily!$I:$I, "수리불가",Daily!$F:$F,"<>", Daily!G:G,'Monthly Performance'!A2) -> 57 | D5: =SUMIFS(Daily!W:W, Daily!$AB:$AB,"*장은철*", Daily!$I:$I, "수리완료",Daily!$F:$F,"<>", Daily!G:G,'Monthly Performance'!A2)+SUMIFS(Daily!W:W, Daily!$AB:$AB,"*장은철*", Daily!$I:$I, "외주수리완료",Daily!$F:$F,"<>", Daily!G:G,'Monthly Performance'!A2) -> 72968 | E5: =D5/1100 -> 66.334545 | F5: =SUMIFS(Daily!$S:$S, Daily!$AB:$AB, "*장은철*", Daily!$I:$I, "Other", Daily!$F:$F,"<>",Daily!G:G,'Monthly Performance'!A2) -> 3 | G5: =SUMIFS(Daily!$Z:$Z, Daily!$AB:$AB, "*장은철*", Daily!$I:$I, "Other",Daily!$F:$F,"<>", Daily!G:G,'Monthly Performance'!A2) -> 8
A6: 허준영 | B6: =SUMIFS(Daily!$S:$S, Daily!$AB:$AB, "*허준영*", Daily!$I:$I, "수리완료",Daily!$F:$F,"<>",Daily!G:G,'Monthly Performance'!A2)+SUMIFS(Daily!$S:$S, Daily!$AB:$AB, "*허준영*", Daily!$I:$I, "외주수리완료",Daily!$F:$F,"<>",Daily!G:G,'Monthly Performance'!A2) -> 31 | C6: =SUMIFS(Daily!$Z:$Z, Daily!$AB:$AB, "*허준영*", Daily!$I:$I, "*수리완료",Daily!$F:$F,"<>", Daily!G:G,'Monthly Performance'!A2)+SUMIFS(Daily!$Z:$Z, Daily!$AB:$AB, "*허준영*", Daily!$I:$I, "폐기",Daily!$F:$F,"<>", Daily!G:G,'Monthly Performance'!A2)+SUMIFS(Daily!$Z:$Z, Daily!$AB:$AB, "*허준영*", Daily!$I:$I, "수리불가",Daily!$F:$F,"<>", Daily!G:G,'Monthly Performance'!A2) -> 87 | D6: =SUMIFS(Daily!W:W, Daily!$AB:$AB,"*허준영*", Daily!$I:$I, "수리완료",Daily!$F:$F,"<>", Daily!G:G,'Monthly Performance'!A2)+SUMIFS(Daily!W:W, Daily!$AB:$AB,"*허준영*", Daily!$I:$I, "외주수리완료",Daily!$F:$F,"<>", Daily!G:G,'Monthly Performance'!A2) -> 46938 | E6: =D6/1100 -> 42.670909 | F6: =SUMIFS(Daily!$S:$S, Daily!$AB:$AB, "*허준영*", Daily!$I:$I, "Other", Daily!$F:$F,"<>",Daily!G:G,'Monthly Performance'!A2) -> 2 | G6: =SUMIFS(Daily!$Z:$Z, Daily!$AB:$AB, "*허준영*", Daily!$I:$I, "Other",Daily!$F:$F,"<>", Daily!G:G,'Monthly Performance'!A2) -> 6
A7: 박병대 | B7: =SUMIFS(Daily!$S:$S, Daily!$AB:$AB, "*박병대*", Daily!$I:$I, "수리완료",Daily!$F:$F,"<>",Daily!G:G,'Monthly Performance'!A2)+SUMIFS(Daily!$S:$S, Daily!$AB:$AB, "*박병대*", Daily!$I:$I, "외주수리완료",Daily!$F:$F,"<>",Daily!G:G,'Monthly Performance'!A2) -> 0 | C7: =SUMIFS(Daily!$Z:$Z, Daily!$AB:$AB, "*박병대*", Daily!$I:$I, "*수리완료",Daily!$F:$F,"<>", Daily!G:G,'Monthly Performance'!A2)+SUMIFS(Daily!$Z:$Z, Daily!$AB:$AB, "*박병대*", Daily!$I:$I, "폐기",Daily!$F:$F,"<>", Daily!G:G,'Monthly Performance'!A2)+SUMIFS(Daily!$Z:$Z, Daily!$AB:$AB, "*박병대*", Daily!$I:$I, "수리불가",Daily!$F:$F,"<>", Daily!G:G,'Monthly Performance'!A2) -> 0 | D7: =SUMIFS(Daily!W:W, Daily!$AB:$AB,"*박병대*", Daily!$I:$I, "수리완료",Daily!$F:$F,"<>", Daily!G:G,'Monthly Performance'!A2)+SUMIFS(Daily!W:W, Daily!$AB:$AB,"*박병대*", Daily!$I:$I, "외주수리완료",Daily!$F:$F,"<>", Daily!G:G,'Monthly Performance'!A2) -> 0 | E7: =D7/1100 -> 0 | F7: =SUMIFS(Daily!$S:$S, Daily!$AB:$AB, "*박병대*", Daily!$I:$I, "Other", Daily!$F:$F,"<>",Daily!G:G,'Monthly Performance'!A2) -> 0 | G7: =SUMIFS(Daily!$Z:$Z, Daily!$AB:$AB, "*박병대*", Daily!$I:$I, "Other",Daily!$F:$F,"<>", Daily!G:G,'Monthly Performance'!A2) -> 0
A8: 최준영 | B8: =SUMIFS(Daily!$S:$S, Daily!$AB:$AB, "*최준영*", Daily!$I:$I, "수리완료",Daily!$F:$F,"<>",Daily!G:G,'Monthly Performance'!A2)+SUMIFS(Daily!$S:$S, Daily!$AB:$AB, "*최준영*", Daily!$I:$I, "외주수리완료",Daily!$F:$F,"<>",Daily!G:G,'Monthly Performance'!A2) -> 24 | C8: =SUMIFS(Daily!$Z:$Z, Daily!$AB:$AB, "*최준영*", Daily!$I:$I, "*수리완료",Daily!$F:$F,"<>", Daily!G:G,'Monthly Performance'!A2)+SUMIFS(Daily!$Z:$Z, Daily!$AB:$AB, "*최준영*", Daily!$I:$I, "폐기",Daily!$F:$F,"<>", Daily!G:G,'Monthly Performance'!A2)+SUMIFS(Daily!$Z:$Z, Daily!$AB:$AB, "*최준영*", Daily!$I:$I, "수리불가",Daily!$F:$F,"<>", Daily!G:G,'Monthly Performance'!A2) -> 77 | D8: =SUMIFS(Daily!W:W, Daily!$AB:$AB,"*최준영*", Daily!$I:$I, "수리완료",Daily!$F:$F,"<>", Daily!G:G,'Monthly Performance'!A2)+SUMIFS(Daily!W:W, Daily!$AB:$AB,"*최준영*", Daily!$I:$I, "외주수리완료",Daily!$F:$F,"<>", Daily!G:G,'Monthly Performance'!A2) -> 10545 | E8: =D8/1100 -> 9.5863636 | F8: =SUMIFS(Daily!$S:$S, Daily!$AB:$AB, "*최준영*", Daily!$I:$I, "Other", Daily!$F:$F,"<>",Daily!G:G,'Monthly Performance'!A2) -> 3 | G8: =SUMIFS(Daily!$Z:$Z, Daily!$AB:$AB, "*최준영*", Daily!$I:$I, "Other",Daily!$F:$F,"<>", Daily!G:G,'Monthly Performance'!A2) -> 32
A9: 정기수 | B9: =SUMIFS(Daily!$S:$S, Daily!$AB:$AB, "*정기수*", Daily!$I:$I, "수리완료",Daily!$F:$F,"<>",Daily!G:G,'Monthly Performance'!A2)+SUMIFS(Daily!$S:$S, Daily!$AB:$AB, "*정기수*", Daily!$I:$I, "외주수리완료",Daily!$F:$F,"<>",Daily!G:G,'Monthly Performance'!A2) -> 37 | C9: =SUMIFS(Daily!$Z:$Z, Daily!$AB:$AB, "*정기수*", Daily!$I:$I, "*수리완료",Daily!$F:$F,"<>", Daily!G:G,'Monthly Performance'!A2)+SUMIFS(Daily!$Z:$Z, Daily!$AB:$AB, "*정기수*", Daily!$I:$I, "폐기",Daily!$F:$F,"<>", Daily!G:G,'Monthly Performance'!A2)+SUMIFS(Daily!$Z:$Z, Daily!$AB:$AB, "*정기수*", Daily!$I:$I, "수리불가",Daily!$F:$F,"<>", Daily!G:G,'Monthly Performance'!A2) -> 63 | D9: =SUMIFS(Daily!W:W, Daily!$AB:$AB,"*정기수*", Daily!$I:$I, "수리완료",Daily!$F:$F,"<>", Daily!G:G,'Monthly Performance'!A2)+SUMIFS(Daily!W:W, Daily!$AB:$AB,"*정기수*", Daily!$I:$I, "외주수리완료",Daily!$F:$F,"<>", Daily!G:G,'Monthly Performance'!A2) -> 35399.5 | E9: =D9/1100 -> 32.181364 | F9: =SUMIFS(Daily!$S:$S, Daily!$AB:$AB, "*정기수*", Daily!$I:$I, "Other", Daily!$F:$F,"<>",Daily!G:G,'Monthly Performance'!A2) -> 4 | G9: =SUMIFS(Daily!$Z:$Z, Daily!$AB:$AB, "*정기수*", Daily!$I:$I, "Other",Daily!$F:$F,"<>", Daily!G:G,'Monthly Performance'!A2) -> 21
A10: Total | B10: =SUM(B4:B9) -> 157 | C10: =SUM(C4:C9) -> 368 | D10: =SUM(D4:D9) -> 176312.5 | E10: =SUM(E4:E9) -> 160.28409 | F10: =SUM(F4:F9) -> 12 | G10: =SUM(G4:G9) -> 67

Sheet Yearly Performance
A1: 2021 e-board Repair Performance
A2: 2021 | B2: Technical Support | F2: Other
B3: 건수 | C3: 시간 | D3: Cost Save(K\) | E3: / K$ | F3: 건수 | G3: 시간
A4: 강영구 | B4: =SUMIFS(Daily!$S:$S, Daily!$AB:$AB, "*강영구*", Daily!$I:$I, "*수리완료",Daily!$F:$F,"<>") -> 53 | C4: =SUMIFS(Daily!$Z:$Z, Daily!$AB:$AB, "*강영구*", Daily!$I:$I, "수리완료",Daily!$F:$F,"<>")+SUMIFS(Daily!$Z:$Z, Daily!$AB:$AB, "*강영구*", Daily!$I:$I, "폐기",Daily!$F:$F,"<>")+SUMIFS(Daily!$Z:$Z, Daily!$AB:$AB, "*강영구*", Daily!$I:$I, "수리불가",Daily!$F:$F,"<>") -> 205 | D4: =SUMIFS(Daily!W:W, Daily!$AB:$AB,"*강영구*", Daily!$I:$I, "*수리완료",Daily!$F:$F,"<>") -> 26247 | E4: =D4/1100 -> 23.860909 | F4: =SUMIFS(Daily!$S:$S, Daily!$AB:$AB, "*강영구*", Daily!$I:$I, "Other", Daily!$F:$F,"<>") -> 0 | G4: =SUMIFS(Daily!$Z:$Z, Daily!$AB:$AB, "*강영구*", Daily!$I:$I, "Other",Daily!$F:$F,"<>") -> 0
A5: 장은철 | B5: =SUMIFS(Daily!$S:$S, Daily!$AB:$AB, "*장은철*", Daily!$I:$I, "*수리완료",Daily!$F:$F,"<>") -> 86 | C5: =SUMIFS(Daily!$Z:$Z, Daily!$AB:$AB, "*장은철*", Daily!$I:$I, "수리완료",Daily!$F:$F,"<>")+SUMIFS(Daily!$Z:$Z, Daily!$AB:$AB, "*장은철*", Daily!$I:$I, "폐기",Daily!$F:$F,"<>")+SUMIFS(Daily!$Z:$Z, Daily!$AB:$AB, "*장은철*", Daily!$I:$I, "수리불가",Daily!$F:$F,"<>") -> 164 | D5: =SUMIFS(Daily!W:W, Daily!$AB:$AB,"*장은철*", Daily!$I:$I, "*수리완료",Daily!$F:$F,"<>") -> 186959 | E5: =D5/1100 -> 169.96273 | F5: =SUMIFS(Daily!$S:$S, Daily!$AB:$AB, "*장은철*", Daily!$I:$I, "Other", Daily!$F:$F,"<>") -> 5 | G5: =SUMIFS(Daily!$Z:$Z, Daily!$AB:$AB, "*장은철*", Daily!$I:$I, "Other",Daily!$F:$F,"<>") -> 12
A6: 허준영 | B6: =SUMIFS(Daily!$S:$S, Daily!$AB:$AB, "*허준영*", Daily!$I:$I, "*수리완료",Daily!$F:$F,"<>") -> 60 | C6: =SUMIFS(Daily!$Z:$Z, Daily!$AB:$AB, "*허준영*", Daily!$I:$I, "수리완료",Daily!$F:$F,"<>")+SUMIFS(Daily!$Z:$Z, Daily!$AB:$AB, "*허준영*", Daily!$I:$I, "폐기",Daily!$F:$F,"<>")+SUMIFS(Daily!$Z:$Z, Daily!$AB:$AB, "*허준영*", Daily!$I:$I, "수리불가",Daily!$F:$F,"<>") -> 198 | D6: =SUMIFS(Daily!W:W, Daily!$AB:$AB,"*허준영*", Daily!$I:$I, "*수리완료",Daily!$F:$F,"<>") -> 87859 | E6: =D6/1100 -> 79.871818 | F6: =SUMIFS(Daily!$S:$S, Daily!$AB:$AB, "*허준영*", Daily!$I:$I, "Other", Daily!$F:$F,"<>") -> 8 | G6: =SUMIFS(Daily!$Z:$Z, Daily!$AB:$AB, "*허준영*", Daily!$I:$I, "Other",Daily!$F:$F,"<>") -> 17
A7: 박병대 | B7: =SUMIFS(Daily!$S:$S, Daily!$AB:$AB, "*박병대*", Daily!$I:$I, "*수리완료",Daily!$F:$F,"<>") -> 0 | C7: =SUMIFS(Daily!$Z:$Z, Daily!$AB:$AB, "*박병대*", Daily!$I:$I, "수리완료",Daily!$F:$F,"<>")+SUMIFS(Daily!$Z:$Z, Daily!$AB:$AB, "*박병대*", Daily!$I:$I, "폐기",Daily!$F:$F,"<>")+SUMIFS(Daily!$Z:$Z, Daily!$AB:$AB, "*박병대*", Daily!$I:$I, "수리불가",Daily!$F:$F,"<>") -> 0 | D7: =SUMIFS(Daily!W:W, Daily!$AB:$AB,"*박병대*", Daily!$I:$I, "*수리완료",Daily!$F:$F,"<>") -> 0 | E7: =D7/1100 -> 0 | F7: =SUMIFS(Daily!$S:$S, Daily!$AB:$AB, "*박병대*", Daily!$I:$I, "Other", Daily!$F:$F,"<>") -> 0 | G7: =SUMIFS(Daily!$Z:$Z, Daily!$AB:$AB, "*박병대*", Daily!$I:$I, "Other",Daily!$F:$F,"<>") -> 0
A8: 최준영 | B8: =SUMIFS(Daily!$S:$S, Daily!$AB:$AB, "*최준영*", Daily!$I:$I, "*수리완료",Daily!$F:$F,"<>") -> 53 | C8: =SUMIFS(Daily!$Z:$Z, Daily!$AB:$AB, "*최준영*", Daily!$I:$I, "수리완료",Daily!$F:$F,"<>")+SUMIFS(Daily!$Z:$Z, Daily!$AB:$AB, "*최준영*", Daily!$I:$I, "폐기",Daily!$F:$F,"<>")+SUMIFS(Daily!$Z:$Z, Daily!$AB:$AB, "*최준영*", Daily!$I:$I, "수리불가",Daily!$F:$F,"<>") -> 206 | D8: =SUMIFS(Daily!W:W, Daily!$AB:$AB,"*최준영*", Daily!$I:$I, "*수리완료",Daily!$F:$F,"<>") -> 35881 | E8: =D8/1100 -> 32.619091 | F8: =SUMIFS(Daily!$S:$S, Daily!$AB:$AB, "*최준영*", Daily!$I:$I, "Other", Daily!$F:$F,"<>") -> 3 | G8: =SUMIFS(Daily!$Z:$Z, Daily!$AB:$AB, "*최준영*", Daily!$I:$I, "Other",Daily!$F:$F,"<>") -> 40
A9: 정기수 | B9: =SUMIFS(Daily!$S:$S, Daily!$AB:$AB, "*정기수*", Daily!$I:$I, "*수리완료",Daily!$F:$F,"<>") -> 91 | C9: =SUMIFS(Daily!$Z:$Z, Daily!$AB:$AB, "*정기수*", Daily!$I:$I, "수리완료",Daily!$F:$F,"<>")+SUMIFS(Daily!$Z:$Z, Daily!$AB:$AB, "*정기수*", Daily!$I:$I, "폐기",Daily!$F:$F,"<>")+SUMIFS(Daily!$Z:$Z, Daily!$AB:$AB, "*정기수*", Daily!$I:$I, "수리불가",Daily!$F:$F,"<>") -> 188 | D9: =SUMIFS(Daily!W:W, Daily!$AB:$AB,"*정기수*", Daily!$I:$I, "*수리완료",Daily!$F:$F,"<>") -> 78718 | E9: =D9/1100 -> 71.561818 | F9: =SUMIFS(Daily!$S:$S, Daily!$AB:$AB, "*정기수*", Daily!$I:$I, "Other", Daily!$F:$F,"<>") -> 4 | G9: =SUMIFS(Daily!$Z:$Z, Daily!$AB:$AB, "*정기수*", Daily!$I:$I, "Other",Daily!$F:$F,"<>") -> 21
A10: Total | B10: =SUM(B4:B9) -> 343 | C10: =SUM(C4:C9) -> 961 | D10: =SUM(D4:D9) -> 415664 | E10: =SUM(E4:E9) -> 377.87636 | F10: =SUM(F4:F9) -> 20 | G10: =SUM(G4:G9) -> 90

Sheet 자체.외주수리비율
A1: 2021 Electric Board Repair Performance
B2: Jan | C2: Feb | D2: Mar | E2: Apr | F2: May | G2: Jun | H2: Jul | I2: Aug | J2: Sep | K2: Oct | L2: Nov | M2: Dec | N2: Total | O2: Ratio(%)
A3: 자체수리 | B3: =SUMIFS(Daily!S:S,Daily!I:I,"수리완료",Daily!G:G,"=1",Daily!F:F,"<>") -> 151 | C3: =SUMIFS(Daily!S:S,Daily!I:I,"수리완료",Daily!G:G,"=2") -> 170 | D3: =SUMIFS(Daily!S:S,Daily!I:I,"수리완료",Daily!G:G,"=3") -> 12 | E3: =SUMIFS(Daily!S:S,Daily!I:I,"수리완료",Daily!G:G,"=4") -> 0 | F3: =SUMIFS(Daily!S:S,Daily!I:I,"수리완료",Daily!G:G,"=5") -> 0 | G3: =SUMIFS(Daily!S:S,Daily!I:I,"수리완료",Daily!G:G,"=6") -> 0 | H3: =SUMIFS(Daily!S:S,Daily!I:I,"수리완료",Daily!G:G,"=7") -> 0 | I3: =SUMIFS(Daily!S:S,Daily!I:I,"수리완료",Daily!G:G,"=8") -> 0 | J3: =SUMIFS(Daily!S:S,Daily!I:I,"수리완료",Daily!G:G,"=9") -> 0 | K3: =SUMIFS(Daily!S:S,Daily!I:I,"수리완료",Daily!G:G,"=10") -> 0 | L3: =SUMIFS(Daily!S:S,Daily!I:I,"수리완료",Daily!G:G,"=11") -> 0 | M3: =SUMIFS(Daily!S:S,Daily!I:I,"수리완료",Daily!G:G,"=12") -> 0 | N3: =SUM(B3:M3) -> 333 | O3: =N3/N5 -> 0.97084548
A4: 외주수리 | B4: =SUMIFS(Daily!S:S,Daily!I:I,"외주수리완료",Daily!G:G,"=1",Daily!F:F,"<>") -> 6 | C4: =SUMIFS(Daily!S:S,Daily!I:I,"외주수리완료",Daily!G:G,"=2") -> 4 | D4: =SUMIFS(Daily!S:S,Daily!I:I,"외주수리완료",Daily!G:G,"=3") -> 0 | E4: =SUMIFS(Daily!S:S,Daily!I:I,"외주수리완료",Daily!G:G,"=4") -> 0 | F4: =SUMIFS(Daily!S:S,Daily!I:I,"외주수리완료",Daily!G:G,"=5") -> 0 | G4: =SUMIFS(Daily!S:S,Daily!I:I,"외주수리완료",Daily!G:G,"=6") -> 0 | H4: =SUMIFS(Daily!S:S,Daily!I:I,"외주수리완료",Daily!G:G,"=7") -> 0 | I4: =SUMIFS(Daily!S:S,Daily!I:I,"외주수리완료",Daily!G:G,"=8") -> 0 | J4: =SUMIFS(Daily!S:S,Daily!I:I,"외주수리완료",Daily!G:G,"=9") -> 0 | K4: =SUMIFS(Daily!S:S,Daily!I:I,"외주수리완료",Daily!G:G,"=10") -> 0 | L4: =SUMIFS(Daily!S:S,Daily!I:I,"외주수리완료",Daily!G:G,"=11") -> 0 | M4: =SUMIFS(Daily!S:S,Daily!I:I,"외주수리완료",Daily!G:G,"=12") -> 0 | N4: =SUM(B4:M4) -> 10 | O4: =N4/N5 -> 0.029154519
A5: 총 합계(건수) | B5: =SUM(B3:B4) -> 157 | C5: =SUM(C3:C4) -> 174 | D5: =SUM(D3:D4) -> 12 | E5: =SUM(E3:E4) -> 0 | F5: =SUM(F3:F4) -> 0 | G5: =SUM(G3:G4) -> 0 | H5: =SUM(H3:H4) -> 0 | I5: =SUM(I3:I4) -> 0 | ... O5: =SUM(O3:O4) -> 1
A6: 외주수리율(%) | B6: =IFERROR(B4/B5,"") -> 0.038216561 | C6: =IFERROR(C4/C5,"") -> 0.022988506 | D6: =IFERROR(D4/D5,"") -> 0 | E6: =IFERROR(E4/E5,"") | F6: =IFERROR(F4/F5,"") | G6: =IFERROR(G4/G5,"") | H6: =IFERROR(H4/H5,"") | I6: =IFERROR(I4/I5,"") | ... M6: =IFERROR(M4/M5,"") | O6: =IFERROR(O4/O5,"") -> 0.029154519
A7: 외주비용(K\) | B7: =IFERROR(SUMIFS(Daily!V:V,Daily!I:I,"외주수리완료",Daily!G:G,"1",Daily!F:F,"<>"),"") -> 4290 | C7: =IFERROR(SUMIFS(Daily!V:V,Daily!I:I,"외주수리완료",Daily!G:G,"2",Daily!F:F,"<>"),"") -> 5050 | D7: =IFERROR(SUMIFS(Daily!V:V,Daily!I:I,"외주수리완료",Daily!G:G,"3",Daily!F:F,"<>"),"") -> 0 | E7: =IFERROR(SUMIFS(Daily!V:V,Daily!I:I,"외주수리완료",Daily!G:G,"4",Daily!F:F,"<>"),"") -> 0 | F7: =IFERROR(SUMIFS(Daily!V:V,Daily!I:I,"외주수리완료",Daily!G:G,"5",Daily!F:F,"<>"),"") -> 0 | G7: =IFERROR(SUMIFS(Daily!V:V,Daily!I:I,"외주수리완료",Daily!G:G,"6",Daily!F:F,"<>"),"") -> 0 | H7: =IFERROR(SUMIFS(Daily!V:V,Daily!I:I,"외주수리완료",Daily!G:G,"7",Daily!F:F,"<>"),"") -> 0 | I7: =IFERROR(SUMIFS(Daily!V:V,Daily!I:I,"외주수리완료",Daily!G:G,"8",Daily!F:F,"<>"),"") -> 0 | J7: =IFERROR(SUMIFS(Daily!V:V,Daily!I:I,"외주수리완료",Daily!G:G,"9",Daily!F:F,"<>"),"") -> 0 | K7: =IFERROR(SUMIFS(Daily!V:V,Daily!I:I,"외주수리완료",Daily!G:G,"10",Daily!F:F,"<>"),"") -> 0 | L7: =IFERROR(SUMIFS(Daily!V:V,Daily!I:I,"외주수리완료",Daily!G:G,"11",Daily!F:F,"<>"),"") -> 0 | M7: =IFERROR(SUMIFS(Daily!V:V,Daily!I:I,"외주수리완료",Daily!G:G,"12",Daily!F:F,"<>"),"") -> 0 | N7: =SUM(B7:M7) -> 9340
A28: 2021 Electric Board 외주수리업체별 현황
A29: Maker | B29: Jan | C29: Feb | D29: Mar | E29: Apr | F29: May | G29: Jun | H29: Jul | I29: Aug | J29: Sep | K29: Oct | L29: Nov | M29: Dec | N29: Total | O29: Ratio(%)
A30: 디에이테크 | B30: =SUMIFS(Daily!S:S,Daily!I:I,"외주수리완료",Daily!Y:Y,"디에이테크",Daily!G:G,"1",Daily!F:F,"<>") -> 0 | C30: =SUMIFS(Daily!S:S,Daily!I:I,"외주수리완료",Daily!Y:Y,"디에이테크",Daily!G:G,"2",Daily!E:E,"<>") -> 0 | D30: =SUMIFS(Daily!S:S,Daily!I:I,"외주수리완료",Daily!Y:Y,"디에이테크",Daily!G:G,"3",Daily!E:E,"<>") -> 0 | E30: =SUMIFS(Daily!S:S,Daily!I:I,"외주수리완료",Daily!Y:Y,"디에이테크",Daily!G:G,"4",Daily!E:E,"<>") -> 0 | F30: =SUMIFS(Daily!S:S,Daily!I:I,"외주수리완료",Daily!Y:Y,"디에이테크",Daily!G:G,"5",Daily!E:E,"<>") -> 0 | G30: =SUMIFS(Daily!S:S,Daily!I:I,"외주수리완료",Daily!Y:Y,"디에이테크",Daily!G:G,"6",Daily!E:E,"<>") -> 0 | H30: =SUMIFS(Daily!S:S,Daily!I:I,"외주수리완료",Daily!Y:Y,"디에이테크",Daily!G:G,"7",Daily!E:E,"<>") -> 0 | I30: =SUMIFS(Daily!S:S,Daily!I:I,"외주수리완료",Daily!Y:Y,"디에이테크",Daily!G:G,"8",Daily!E:E,"<>") -> 0 | J30: =SUMIFS(Daily!S:S,Daily!I:I,"외주수리완료",Daily!Y:Y,"디에이테크",Daily!G:G,"9",Daily!E:E,"<>") -> 0 | K30: =SUMIFS(Daily!S:S,Daily!I:I,"외주수리완료",Daily!Y:Y,"디에이테크",Daily!G:G,"10",Daily!E:E,"<>") -> 0 | L30: =SUMIFS(Daily!S:S,Daily!I:I,"외주수리완료",Daily!Y:Y,"디에이테크",Daily!G:G,"11",Daily!E:E,"<>") -> 0 | M30: =SUMIFS(Daily!S:S,Daily!I:I,"외주수리완료",Daily!Y:Y,"디에이테크",Daily!G:G,"12",Daily!E:E,"<>") -> 0 | N30: =SUM(B30:M30) -> 0 | O30: =N30/N35 -> 0
A31: 큐텍코리아 | B31: =SUMIFS(Daily!S:S,Daily!I:I,"외주수리완료",Daily!Y:Y,"큐텍코리아",Daily!G:G,"1",Daily!F:F,"<>") -> 5 | C31: =SUMIFS(Daily!S:S,Daily!I:I,"외주수리완료",Daily!Y:Y,"큐텍코리아",Daily!G:G,"2",Daily!E:E,"<>") -> 4 | D31: =SUMIFS(Daily!S:S,Daily!I:I,"외주수리완료",Daily!Y:Y,"큐텍코리아",Daily!G:G,"3",Daily!E:E,"<>") -> 0 | E31: =SUMIFS(Daily!S:S,Daily!I:I,"외주수리완료",Daily!Y:Y,"큐텍코리아",Daily!G:G,"4",Daily!E:E,"<>") -> 0 | F31: =SUMIFS(Daily!S:S,Daily!I:I,"외주수리완료",Daily!Y:Y,"큐텍코리아",Daily!G:G,"5",Daily!E:E,"<>") -> 0 | G31: =SUMIFS(Daily!S:S,Daily!I:I,"외주수리완료",Daily!Y:Y,"큐텍코리아",Daily!G:G,"6",Daily!E:E,"<>") -> 0 | H31: =SUMIFS(Daily!S:S,Daily!I:I,"외주수리완료",Daily!Y:Y,"큐텍코리아",Daily!G:G,"7",Daily!E:E,"<>") -> 0 | I31: =SUMIFS(Daily!S:S,Daily!I:I,"외주수리완료",Daily!Y:Y,"큐텍코리아",Daily!G:G,"8",Daily!E:E,"<>") -> 0 | J31: =SUMIFS(Daily!S:S,Daily!I:I,"외주수리완료",Daily!Y:Y,"큐텍코리아",Daily!G:G,"9",Daily!E:E,"<>") -> 0 | K31: =SUMIFS(Daily!S:S,Daily!I:I,"외주수리완료",Daily!Y:Y,"큐텍코리아",Daily!G:G,"10",Daily!E:E,"<>") -> 0 | L31: =SUMIFS(Daily!S:S,Daily!I:I,"외주수리완료",Daily!Y:Y,"큐텍코리아",Daily!G:G,"11",Daily!E:E,"<>") -> 0 | M31: =SUMIFS(Daily!S:S,Daily!I:I,"외주수리완료",Daily!Y:Y,"큐텍코리아",Daily!G:G,"12",Daily!E:E,"<>") -> 0 | N31: =SUM(B31:M31) -> 9 | O31: =N31/N35 -> 0.9
A32: 이엔아이 | B32: =SUMIFS(Daily!S:S,Daily!I:I,"외주수리완료",Daily!Y:Y,"이엔아이",Daily!G:G,"1",Daily!E:E,"<>") -> 0 | C32: =SUMIFS(Daily!S:S,Daily!I:I,"외주수리완료",Daily!Y:Y,"이엔아이",Daily!G:G,"2",Daily!E:E,"<>") -> 0 | D32: =SUMIFS(Daily!S:S,Daily!I:I,"외주수리완료",Daily!Y:Y,"이엔아이",Daily!G:G,"3",Daily!E:E,"<>") -> 0 | E32: =SUMIFS(Daily!S:S,Daily!I:I,"외주수리완료",Daily!Y:Y,"이엔아이",Daily!G:G,"4",Daily!E:E,"<>") -> 0 | F32: =SUMIFS(Daily!S:S,Daily!I:I,"외주수리완료",Daily!Y:Y,"이엔아이",Daily!G:G,"5",Daily!E:E,"<>") -> 0 | G32: =SUMIFS(Daily!S:S,Daily!I:I,"외주수리완료",Daily!Y:Y,"이엔아이",Daily!G:G,"6",Daily!E:E,"<>") -> 0 | H32: =SUMIFS(Daily!S:S,Daily!I:I,"외주수리완료",Daily!Y:Y,"이엔아이",Daily!G:G,"7",Daily!E:E,"<>") -> 0 | I32: =SUMIFS(Daily!S:S,Daily!I:I,"외주수리완료",Daily!Y:Y,"이엔아이",Daily!G:G,"8",Daily!E:E,"<>") -> 0 | J32: =SUMIFS(Daily!S:S,Daily!I:I,"외주수리완료",Daily!Y:Y,"이엔아이",Daily!G:G,"9",Daily!E:E,"<>") -> 0 | K32: =SUMIFS(Daily!S:S,Daily!I:I,"외주수리완료",Daily!Y:Y,"이엔아이",Daily!G:G,"10",Daily!E:E,"<>") -> 0 | L32: =SUMIFS(Daily!S:S,Daily!I:I,"외주수리완료",Daily!Y:Y,"이엔아이",Daily!G:G,"11",Daily!E:E,"<>") -> 0 | M32: =SUMIFS(Daily!S:S,Daily!I:I,"외주수리완료",Daily!Y:Y,"이엔아이",Daily!G:G,"12",Daily!E:E,"<>") -> 0 | N32: =SUM(B32:M32) -> 0 | O32: =N32/N35 -> 0
A33: 인베닉스 | B33: =SUMIFS(Daily!S:S,Daily!I:I,"외주수리완료",Daily!Y:Y,"인베닉스",Daily!G:G,"1",Daily!E:E,"<>") -> 0 | C33: =SUMIFS(Daily!S:S,Daily!I:I,"외주수리완료",Daily!Y:Y,"인베닉스",Daily!G:G,"2",Daily!E:E,"<>") -> 0 | D33: =SUMIFS(Daily!S:S,Daily!I:I,"외주수리완료",Daily!Y:Y,"인베닉스",Daily!G:G,"3",Daily!E:E,"<>") -> 0 | E33: =SUMIFS(Daily!S:S,Daily!I:I,"외주수리완료",Daily!Y:Y,"인베닉스",Daily!G:G,"4",Daily!E:E,"<>") -> 0 | F33: =SUMIFS(Daily!S:S,Daily!I:I,"외주수리완료",Daily!Y:Y,"인베닉스",Daily!G:G,"5",Daily!E:E,"<>") -> 0 | G33: =SUMIFS(Daily!S:S,Daily!I:I,"외주수리완료",Daily!Y:Y,"인베닉스",Daily!G:G,"6",Daily!E:E,"<>") -> 0 | H33: =SUMIFS(Daily!S:S,Daily!I:I,"외주수리완료",Daily!Y:Y,"인베닉스",Daily!G:G,"7",Daily!E:E,"<>") -> 0 | I33: =SUMIFS(Daily!S:S,Daily!I:I,"외주수리완료",Daily!Y:Y,"인베닉스",Daily!G:G,"8",Daily!E:E,"<>") -> 0 | J33: =SUMIFS(Daily!S:S,Daily!I:I,"외주수리완료",Daily!Y:Y,"인베닉스",Daily!G:G,"9",Daily!E:E,"<>") -> 0 | K33: =SUMIFS(Daily!S:S,Daily!I:I,"외주수리완료",Daily!Y:Y,"인베닉스",Daily!G:G,"10",Daily!E:E,"<>") -> 0 | L33: =SUMIFS(Daily!S:S,Daily!I:I,"외주수리완료",Daily!Y:Y,"인베닉스",Daily!G:G,"11",Daily!E:E,"<>") -> 0 | M33: =SUMIFS(Daily!S:S,Daily!I:I,"외주수리완료",Daily!Y:Y,"인베닉스",Daily!G:G,"12",Daily!E:E,"<>") -> 0 | N33: =SUM(B33:M33) -> 0 | O33: =N33/N35 -> 0
A34: 기타 | B34: =SUMIFS(Daily!S:S,Daily!I:I,"외주수리완료",Daily!Y:Y,"기타",Daily!G:G,"1",Daily!E:E,"<>") -> 1 | C34: =SUMIFS(Daily!S:S,Daily!I:I,"외주수리완료",Daily!Y:Y,"기타",Daily!G:G,"2",Daily!E:E,"<>") -> 0 | D34: =SUMIFS(Daily!S:S,Daily!I:I,"외주수리완료",Daily!Y:Y,"기타",Daily!G:G,"3",Daily!E:E,"<>") -> 0 | E34: =SUMIFS(Daily!S:S,Daily!I:I,"외주수리완료",Daily!Y:Y,"기타",Daily!G:G,"4",Daily!E:E,"<>") -> 0 | F34: =SUMIFS(Daily!S:S,Daily!I:I,"외주수리완료",Daily!Y:Y,"기타",Daily!G:G,"5",Daily!E:E,"<>") -> 0 | G34: =SUMIFS(Daily!S:S,Daily!I:I,"외주수리완료",Daily!Y:Y,"기타",Daily!G:G,"6",Daily!E:E,"<>") -> 0 | H34: =SUMIFS(Daily!S:S,Daily!I:I,"외주수리완료",Daily!Y:Y,"기타",Daily!G:G,"7",Daily!E:E,"<>") -> 0 | I34: =SUMIFS(Daily!S:S,Daily!I:I,"외주수리완료",Daily!Y:Y,"기타",Daily!G:G,"8",Daily!E:E,"<>") -> 0 | J34: =SUMIFS(Daily!S:S,Daily!I:I,"외주수리완료",Daily!Y:Y,"기타",Daily!G:G,"9",Daily!E:E,"<>") -> 0 | K34: =SUMIFS(Daily!S:S,Daily!I:I,"외주수리완료",Daily!Y:Y,"기타",Daily!G:G,"10",Daily!E:E,"<>") -> 0 | L34: =SUMIFS(Daily!S:S,Daily!I:I,"외주수리완료",Daily!Y:Y,"기타",Daily!G:G,"11",Daily!E:E,"<>") -> 0 | M34: =SUMIFS(Daily!S:S,Daily!I:I,"외주수리완료",Daily!Y:Y,"기타",Daily!G:G,"12",Daily!E:E,"<>") -> 0 | N34: =SUM(B34:M34) -> 1 | O34: =N34/N35 -> 0.1
A35: Total | B35: =SUM(B30:B34) -> 6 | C35: =SUM(C30:C34) -> 4 | D35: =SUM(D30:D34) -> 0 | E35: =SUM(E30:E34) -> 0 | F35: =SUM(F30:F34) -> 0 | G35: =SUM(G30:G34) -> 0 | H35: =SUM(H30:H34) -> 0 | I35: =SUM(I30:I34) -> 0 | ... O35: =SUM(O30:O34) -> 1

Sheet Ionizer
B1: Ionizer Cumulative frequency graph
B4: Month | C4: Repair Count | D4: Cost Save (Unit : KWon)
B6: Jan. | C6: =SUMIFS(Daily!S:S,Daily!I:I,"수리완료",Daily!M:M,"Ionizer",Daily!G:G,1,Daily!F:F,"<>")+SUMIFS(Daily!S:S,Daily!I:I,"외주수리완료",Daily!M:M,"Ionizer",Daily!G:G,1,Daily!F:F,"<>") -> 6 | D6: =SUMIFS(Daily!W:W,Daily!I:I,"수리완료",Daily!M:M,"Ionizer",Daily!G:G,1,Daily!F:F,"<>")+SUMIFS(Daily!W:W,Daily!I:I,"외주수리완료",Daily!M:M,"Ionizer",Daily!G:G,1,Daily!F:F,"<>") -> 2390.5
B7: Feb. | C7: =SUMIFS(Daily!S:S,Daily!I:I,"수리완료",Daily!M:M,"Ionizer",Daily!G:G,2,Daily!F:F,"<>")+SUMIFS(Daily!S:S,Daily!I:I,"외주수리완료",Daily!M:M,"Ionizer",Daily!G:G,2,Daily!F:F,"<>") -> 23 | D7: =SUMIFS(Daily!W:W,Daily!I:I,"수리완료",Daily!M:M,"Ionizer",Daily!G:G,2,Daily!F:F,"<>")+SUMIFS(Daily!W:W,Daily!I:I,"외주수리완료",Daily!M:M,"Ionizer",Daily!G:G,2,Daily!F:F,"<>") -> 7772.5
B8: Mar. | C8: =SUMIFS(Daily!S:S,Daily!I:I,"수리완료",Daily!M:M,"Ionizer",Daily!G:G,3,Daily!F:F,"<>")+SUMIFS(Daily!S:S,Daily!I:I,"외주수리완료",Daily!M:M,"Ionizer",Daily!G:G,3,Daily!F:F,"<>") -> 0 | D8: =SUMIFS(Daily!W:W,Daily!I:I,"수리완료",Daily!M:M,"Ionizer",Daily!G:G,3,Daily!F:F,"<>")+SUMIFS(Daily!W:W,Daily!I:I,"외주수리완료",Daily!M:M,"Ionizer",Daily!G:G,3,Daily!F:F,"<>") -> 0
B9: Apr. | C9: =SUMIFS(Daily!S:S,Daily!I:I,"수리완료",Daily!M:M,"Ionizer",Daily!G:G,4,Daily!F:F,"<>")+SUMIFS(Daily!S:S,Daily!I:I,"외주수리완료",Daily!M:M,"Ionizer",Daily!G:G,4,Daily!F:F,"<>") -> 0 | D9: =SUMIFS(Daily!W:W,Daily!I:I,"수리완료",Daily!M:M,"Ionizer",Daily!G:G,4,Daily!F:F,"<>")+SUMIFS(Daily!W:W,Daily!I:I,"외주수리완료",Daily!M:M,"Ionizer",Daily!G:G,4,Daily!F:F,"<>") -> 0
B10: May | C10: =SUMIFS(Daily!S:S,Daily!I:I,"수리완료",Daily!M:M,"Ionizer",Daily!G:G,5,Daily!F:F,"<>")+SUMIFS(Daily!S:S,Daily!I:I,"외주수리완료",Daily!M:M,"Ionizer",Daily!G:G,5,Daily!F:F,"<>") -> 0 | D10: =SUMIFS(Daily!W:W,Daily!I:I,"수리완료",Daily!M:M,"Ionizer",Daily!G:G,5,Daily!F:F,"<>")+SUMIFS(Daily!W:W,Daily!I:I,"외주수리완료",Daily!M:M,"Ionizer",Daily!G:G,5,Daily!F:F,"<>") -> 0
B11: Jun. | C11: =SUMIFS(Daily!S:S,Daily!I:I,"수리완료",Daily!M:M,"Ionizer",Daily!G:G,6,Daily!F:F,"<>")+SUMIFS(Daily!S:S,Daily!I:I,"외주수리완료",Daily!M:M,"Ionizer",Daily!G:G,6,Daily!F:F,"<>") -> 0 | D11: =SUMIFS(Daily!W:W,Daily!I:I,"수리완료",Daily!M:M,"Ionizer",Daily!G:G,6,Daily!F:F,"<>")+SUMIFS(Daily!W:W,Daily!I:I,"외주수리완료",Daily!M:M,"Ionizer",Daily!G:G,6,Daily!F:F,"<>") -> 0
B12: Jul | C12: =SUMIFS(Daily!S:S,Daily!I:I,"수리완료",Daily!M:M,"Ionizer",Daily!G:G,7,Daily!F:F,"<>")+SUMIFS(Daily!S:S,Daily!I:I,"외주수리완료",Daily!M:M,"Ionizer",Daily!G:G,7,Daily!F:F,"<>") -> 0 | D12: =SUMIFS(Daily!W:W,Daily!I:I,"수리완료",Daily!M:M,"Ionizer",Daily!G:G,7,Daily!F:F,"<>")+SUMIFS(Daily!W:W,Daily!I:I,"외주수리완료",Daily!M:M,"Ionizer",Daily!G:G,7,Daily!F:F,"<>") -> 0
B13: Aug. | C13: =SUMIFS(Daily!S:S,Daily!I:I,"수리완료",Daily!M:M,"Ionizer",Daily!G:G,8,Daily!F:F,"<>")+SUMIFS(Daily!S:S,Daily!I:I,"외주수리완료",Daily!M:M,"Ionizer",Daily!G:G,8,Daily!F:F,"<>") -> 0 | D13: =SUMIFS(Daily!W:W,Daily!I:I,"수리완료",Daily!M:M,"Ionizer",Daily!G:G,8,Daily!F:F,"<>")+SUMIFS(Daily!W:W,Daily!I:I,"외주수리완료",Daily!M:M,"Ionizer",Daily!G:G,8,Daily!F:F,"<>") -> 0
B14: Sep. | C14: =SUMIFS(Daily!S:S,Daily!I:I,"수리완료",Daily!M:M,"Ionizer",Daily!G:G,9,Daily!F:F,"<>")+SUMIFS(Daily!S:S,Daily!I:I,"외주수리완료",Daily!M:M,"Ionizer",Daily!G:G,9,Daily!F:F,"<>") -> 0 | D14: =SUMIFS(Daily!W:W,Daily!I:I,"수리완료",Daily!M:M,"Ionizer",Daily!G:G,9,Daily!F:F,"<>")+SUMIFS(Daily!W:W,Daily!I:I,"외주수리완료",Daily!M:M,"Ionizer",Daily!G:G,9,Daily!F:F,"<>") -> 0
B15: Oct. | C15: =SUMIFS(Daily!S:S,Daily!I:I,"수리완료",Daily!M:M,"Ionizer",Daily!G:G,10,Daily!F:F,"<>")+SUMIFS(Daily!S:S,Daily!I:I,"외주수리완료",Daily!M:M,"Ionizer",Daily!G:G,10,Daily!F:F,"<>") -> 0 | D15: =SUMIFS(Daily!W:W,Daily!I:I,"수리완료",Daily!M:M,"Ionizer",Daily!G:G,10,Daily!F:F,"<>")+SUMIFS(Daily!W:W,Daily!I:I,"외주수리완료",Daily!M:M,"Ionizer",Daily!G:G,10,Daily!F:F,"<>") -> 0
B16: Nov. | C16: =SUMIFS(Daily!S:S,Daily!I:I,"수리완료",Daily!M:M,"Ionizer",Daily!G:G,11,Daily!F:F,"<>")+SUMIFS(Daily!S:S,Daily!I:I,"외주수리완료",Daily!M:M,"Ionizer",Daily!G:G,11,Daily!F:F,"<>") -> 0 | D16: =SUMIFS(Daily!W:W,Daily!I:I,"수리완료",Daily!M:M,"Ionizer",Daily!G:G,11,Daily!F:F,"<>")+SUMIFS(Daily!W:W,Daily!I:I,"외주수리완료",Daily!M:M,"Ionizer",Daily!G:G,11,Daily!F:F,"<>") -> 0
B17: Dec. | C17: =SUMIFS(Daily!S:S,Daily!I:I,"수리완료",Daily!M:M,"Ionizer",Daily!G:G,12,Daily!F:F,"<>")+SUMIFS(Daily!S:S,Daily!I:I,"외주수리완료",Daily!M:M,"Ionizer",Daily!G:G,12,Daily!F:F,"<>") -> 0 | D17: =SUMIFS(Daily!W:W,Daily!I:I,"수리완료",Daily!M:M,"Ionizer",Daily!G:G,12,Daily!F:F,"<>")+SUMIFS(Daily!W:W,Daily!I:I,"외주수리완료",Daily!M:M,"Ionizer",Daily!G:G,12,Daily!F:F,"<>") -> 0
B18: TOTAL | C18: =SUM(C6:C17) -> 29 | D18: =SUM(D6:D17) -> 10163

Sheet 강영구sum
B1: Person Activity Summary
B2: Month | C2: Category | K2: TTL
C3: Project | E3: Technical Support | G3: Overhaul | I3: Other
C4: 건수 | D4: 시간 | E4: 건수 | F4: 시간 | G4: 건수 | H4: 시간 | I4: 건수 | J4: 시간 | K4: 건수 | L4: 시간
B5: Jan | E5: =SUMIFS(Daily!$S:$S, Daily!$AB:$AB, "*강영구*", Daily!$I:$I, "*수리완료",Daily!$F:$F,"<>", Daily!$G:$G, "=1") -> 23 | F5: =SUMIFS(Daily!$Z:$Z, Daily!$AB:$AB, "*강영구*", Daily!$I:$I, "*수리완료",Daily!$F:$F,"<>", Daily!$G:$G, "=1")+SUMIFS(Daily!$Z:$Z, Daily!$AB:$AB, "*강영구*", Daily!$I:$I, "폐기",Daily!$F:$F,"<>", Daily!$G:$G, "=1")+SUMIFS(Daily!$Z:$Z, Daily!$AB:$AB, "*강영구*", Daily!$I:$I, "수리불가",Daily!$F:$F,"<>", Daily!$G:$G, "=1") -> 84 | I5: =SUMIFS(Daily!$S:$S, Daily!$AB:$AB, "*강영구*", Daily!$I:$I, "Other", Daily!$F:$F,"<>", Daily!$G:$G, "=1") -> 0 | J5: =SUMIFS(Daily!$Z:$Z, Daily!$AB:$AB, "*강영구*", Daily!$I:$I, "Other",Daily!$F:$F,"<>", Daily!$G:$G, "=1") -> 0 | K5: =C5+E5+G5+I5 -> 23 | L5: =D5+F5+H5+J5 -> 84
B6: Feb | E6: =SUMIFS(Daily!$S:$S, Daily!$AB:$AB, "*강영구*", Daily!$I:$I, "*수리완료",Daily!$F:$F,"<>", Daily!$G:$G, "=2") -> 27 | F6: =SUMIFS(Daily!$Z:$Z, Daily!$AB:$AB, "*강영구*", Daily!$I:$I, "*수리완료",Daily!$F:$F,"<>", Daily!$G:$G, "=2")+SUMIFS(Daily!$Z:$Z, Daily!$AB:$AB, "*강영구*", Daily!$I:$I, "폐기",Daily!$F:$F,"<>", Daily!$G:$G, "=2")+SUMIFS(Daily!$Z:$Z, Daily!$AB:$AB, "*강영구*", Daily!$I:$I, "수리불가",Daily!$F:$F,"<>", Daily!$G:$G, "=2") -> 107 | I6: =SUMIFS(Daily!$S:$S, Daily!$AB:$AB, "*강영구*", Daily!$I:$I, "Other", Daily!$F:$F,"<>", Daily!$G:$G, "=2") -> 0 | J6: =SUMIFS(Daily!$Z:$Z, Daily!$AB:$AB, "*강영구*", Daily!$I:$I, "Other",Daily!$F:$F,"<>", Daily!$G:$G, "=2") -> 0 | K6: =C6+E6+G6+I6 -> 27 | L6: =D6+F6+H6+J6 -> 107
B7: Mar | E7: =SUMIFS(Daily!$S:$S, Daily!$AB:$AB, "*강영구*", Daily!$I:$I, "*수리완료",Daily!$F:$F,"<>", Daily!$G:$G, "=3") -> 3 | F7: =SUMIFS(Daily!$Z:$Z, Daily!$AB:$AB, "*강영구*", Daily!$I:$I, "*수리완료",Daily!$F:$F,"<>", Daily!$G:$G, "=3")+SUMIFS(Daily!$Z:$Z, Daily!$AB:$AB, "*강영구*", Daily!$I:$I, "폐기",Daily!$F:$F,"<>", Daily!$G:$G, "=3")+SUMIFS(Daily!$Z:$Z, Daily!$AB:$AB, "*강영구*", Daily!$I:$I, "수리불가",Daily!$F:$F,"<>", Daily!$G:$G, "=3") -> 14 | I7: =SUMIFS(Daily!$S:$S, Daily!$AB:$AB, "*강영구*", Daily!$I:$I, "Other", Daily!$F:$F,"<>", Daily!$G:$G, "=3") -> 0 | J7: =SUMIFS(Daily!$Z:$Z, Daily!$AB:$AB, "*강영구*", Daily!$I:$I, "Other",Daily!$F:$F,"<>", Daily!$G:$G, "=3") -> 0 | K7: =C7+E7+G7+I7 -> 3 | L7: =D7+F7+H7+J7 -> 14
B8: Apr | E8: =SUMIFS(Daily!$S:$S, Daily!$AB:$AB, "*강영구*", Daily!$I:$I, "*수리완료",Daily!$F:$F,"<>", Daily!$G:$G, "=4") -> 0 | F8: =SUMIFS(Daily!$Z:$Z, Daily!$AB:$AB, "*강영구*", Daily!$I:$I, "*수리완료",Daily!$F:$F,"<>", Daily!$G:$G, "=4")+SUMIFS(Daily!$Z:$Z, Daily!$AB:$AB, "*강영구*", Daily!$I:$I, "폐기",Daily!$F:$F,"<>", Daily!$G:$G, "=4")+SUMIFS(Daily!$Z:$Z, Daily!$AB:$AB, "*강영구*", Daily!$I:$I, "수리불가",Daily!$F:$F,"<>", Daily!$G:$G, "=4") -> 0 | I8: =SUMIFS(Daily!$S:$S, Daily!$AB:$AB, "*강영구*", Daily!$I:$I, "Other", Daily!$F:$F,"<>", Daily!$G:$G, "=4") -> 0 | J8: =SUMIFS(Daily!$Z:$Z, Daily!$AB:$AB, "*강영구*", Daily!$I:$I, "Other",Daily!$F:$F,"<>", Daily!$G:$G, "=4") -> 0 | K8: =C8+E8+G8+I8 -> 0 | L8: =D8+F8+H8+J8 -> 0
B9: May | E9: =SUMIFS(Daily!$S:$S, Daily!$AB:$AB, "*강영구*", Daily!$I:$I, "*수리완료",Daily!$F:$F,"<>", Daily!$G:$G, "=5") -> 0 | F9: =SUMIFS(Daily!$Z:$Z, Daily!$AB:$AB, "*강영구*", Daily!$I:$I, "*수리완료",Daily!$F:$F,"<>", Daily!$G:$G, "=5")+SUMIFS(Daily!$Z:$Z, Daily!$AB:$AB, "*강영구*", Daily!$I:$I, "폐기",Daily!$F:$F,"<>", Daily!$G:$G, "=5")+SUMIFS(Daily!$Z:$Z, Daily!$AB:$AB, "*강영구*", Daily!$I:$I, "수리불가",Daily!$F:$F,"<>", Daily!$G:$G, "=5") -> 0 | I9: =SUMIFS(Daily!$S:$S, Daily!$AB:$AB, "*강영구*", Daily!$I:$I, "Other", Daily!$F:$F,"<>", Daily!$G:$G, "=5") -> 0 | J9: =SUMIFS(Daily!$Z:$Z, Daily!$AB:$AB, "*강영구*", Daily!$I:$I, "Other",Daily!$F:$F,"<>", Daily!$G:$G, "=5") -> 0 | K9: =C9+E9+G9+I9 -> 0 | L9: =D9+F9+H9+J9 -> 0
B10: Jun | E10: =SUMIFS(Daily!$S:$S, Daily!$AB:$AB, "*강영구*", Daily!$I:$I, "*수리완료",Daily!$F:$F,"<>", Daily!$G:$G, "=6") -> 0 | F10: =SUMIFS(Daily!$Z:$Z, Daily!$AB:$AB, "*강영구*", Daily!$I:$I, "*수리완료",Daily!$F:$F,"<>", Daily!$G:$G, "=6")+SUMIFS(Daily!$Z:$Z, Daily!$AB:$AB, "*강영구*", Daily!$I:$I, "폐기",Daily!$F:$F,"<>", Daily!$G:$G, "=6")+SUMIFS(Daily!$Z:$Z, Daily!$AB:$AB, "*강영구*", Daily!$I:$I, "수리불가",Daily!$F:$F,"<>", Daily!$G:$G, "=6") -> 0 | I10: =SUMIFS(Daily!$S:$S, Daily!$AB:$AB, "*강영구*", Daily!$I:$I, "Other", Daily!$F:$F,"<>", Daily!$G:$G, "=6") -> 0 | J10: =SUMIFS(Daily!$Z:$Z, Daily!$AB:$AB, "*강영구*", Daily!$I:$I, "Other",Daily!$F:$F,"<>", Daily!$G:$G, "=6") -> 0 | K10: =C10+E10+G10+I10 -> 0 | L10: =D10+F10+H10+J10 -> 0
B11: Jul | E11: =SUMIFS(Daily!$S:$S, Daily!$AB:$AB, "*강영구*", Daily!$I:$I, "*수리완료",Daily!$F:$F,"<>", Daily!$G:$G, "=7") -> 0 | F11: =SUMIFS(Daily!$Z:$Z, Daily!$AB:$AB, "*강영구*", Daily!$I:$I, "*수리완료",Daily!$F:$F,"<>", Daily!$G:$G, "=7")+SUMIFS(Daily!$Z:$Z, Daily!$AB:$AB, "*강영구*", Daily!$I:$I, "폐기",Daily!$F:$F,"<>", Daily!$G:$G, "=7")+SUMIFS(Daily!$Z:$Z, Daily!$AB:$AB, "*강영구*", Daily!$I:$I, "수리불가",Daily!$F:$F,"<>", Daily!$G:$G, "=7") -> 0 | I11: =SUMIFS(Daily!$S:$S, Daily!$AB:$AB, "*강영구*", Daily!$I:$I, "Other", Daily!$F:$F,"<>", Daily!$G:$G, "=7") -> 0 | J11: =SUMIFS(Daily!$Z:$Z, Daily!$AB:$AB, "*강영구*", Daily!$I:$I, "Other",Daily!$F:$F,"<>", Daily!$G:$G, "=7") -> 0 | K11: =C11+E11+G11+I11 -> 0 | L11: =D11+F11+H11+J11 -> 0
B12: Aug | E12: =SUMIFS(Daily!$S:$S, Daily!$AB:$AB, "*강영구*", Daily!$I:$I, "*수리완료",Daily!$F:$F,"<>", Daily!$G:$G, "=8") -> 0 | F12: =SUMIFS(Daily!$Z:$Z, Daily!$AB:$AB, "*강영구*", Daily!$I:$I, "*수리완료",Daily!$F:$F,"<>", Daily!$G:$G, "=8")+SUMIFS(Daily!$Z:$Z, Daily!$AB:$AB, "*강영구*", Daily!$I:$I, "폐기",Daily!$F:$F,"<>", Daily!$G:$G, "=8")+SUMIFS(Daily!$Z:$Z, Daily!$AB:$AB, "*강영구*", Daily!$I:$I, "수리불가",Daily!$F:$F,"<>", Daily!$G:$G, "=8") -> 0 | I12: =SUMIFS(Daily!$S:$S, Daily!$AB:$AB, "*강영구*", Daily!$I:$I, "Other", Daily!$F:$F,"<>", Daily!$G:$G, "=8") -> 0 | J12: =SUMIFS(Daily!$Z:$Z, Daily!$AB:$AB, "*강영구*", Daily!$I:$I, "Other",Daily!$F:$F,"<>", Daily!$G:$G, "=8") -> 0 | K12: =C12+E12+G12+I12 -> 0 | L12: =D12+F12+H12+J12 -> 0
B13: Sep | E13: =SUMIFS(Daily!$S:$S, Daily!$AB:$AB, "*강영구*", Daily!$I:$I, "*수리완료",Daily!$F:$F,"<>", Daily!$G:$G, "=9") -> 0 | F13: =SUMIFS(Daily!$Z:$Z, Daily!$AB:$AB, "*강영구*", Daily!$I:$I, "*수리완료",Daily!$F:$F,"<>", Daily!$G:$G, "=9")+SUMIFS(Daily!$Z:$Z, Daily!$AB:$AB, "*강영구*", Daily!$I:$I, "폐기",Daily!$F:$F,"<>", Daily!$G:$G, "=9")+SUMIFS(Daily!$Z:$Z, Daily!$AB:$AB, "*강영구*", Daily!$I:$I, "수리불가",Daily!$F:$F,"<>", Daily!$G:$G, "=9") -> 0 | I13: =SUMIFS(Daily!$S:$S, Daily!$AB:$AB, "*강영구*", Daily!$I:$I, "Other", Daily!$F:$F,"<>", Daily!$G:$G, "=9") -> 0 | J13: =SUMIFS(Daily!$Z:$Z, Daily!$AB:$AB, "*강영구*", Daily!$I:$I, "Other",Daily!$F:$F,"<>", Daily!$G:$G, "=9") -> 0 | K13: =C13+E13+G13+I13 -> 0 | L13: =D13+F13+H13+J13 -> 0
B14: Oct | E14: =SUMIFS(Daily!$S:$S, Daily!$AB:$AB, "*강영구*", Daily!$I:$I, "*수리완료",Daily!$F:$F,"<>", Daily!$G:$G, "=10") -> 0 | F14: =SUMIFS(Daily!$Z:$Z, Daily!$AB:$AB, "*강영구*", Daily!$I:$I, "*수리완료",Daily!$F:$F,"<>", Daily!$G:$G, "=10")+SUMIFS(Daily!$Z:$Z, Daily!$AB:$AB, "*강영구*", Daily!$I:$I, "폐기",Daily!$F:$F,"<>", Daily!$G:$G, "=10")+SUMIFS(Daily!$Z:$Z, Daily!$AB:$AB, "*강영구*", Daily!$I:$I, "수리불가",Daily!$F:$F,"<>", Daily!$G:$G, "=10") -> 0 | I14: =SUMIFS(Daily!$S:$S, Daily!$AB:$AB, "*강영구*", Daily!$I:$I, "Other", Daily!$F:$F,"<>", Daily!$G:$G, "=10") -> 0 | J14: =SUMIFS(Daily!$Z:$Z, Daily!$AB:$AB, "*강영구*", Daily!$I:$I, "Other",Daily!$F:$F,"<>", Daily!$G:$G, "=10") -> 0 | K14: =C14+E14+G14+I14 -> 0 | L14: =D14+F14+H14+J14 -> 0
B15: Nov | E15: =SUMIFS(Daily!$S:$S, Daily!$AB:$AB, "*강영구*", Daily!$I:$I, "*수리완료",Daily!$F:$F,"<>", Daily!$G:$G, "=11") -> 0 | F15: =SUMIFS(Daily!$Z:$Z, Daily!$AB:$AB, "*강영구*", Daily!$I:$I, "*수리완료",Daily!$F:$F,"<>", Daily!$G:$G, "=11")+SUMIFS(Daily!$Z:$Z, Daily!$AB:$AB, "*강영구*", Daily!$I:$I, "폐기",Daily!$F:$F,"<>", Daily!$G:$G, "=11")+SUMIFS(Daily!$Z:$Z, Daily!$AB:$AB, "*강영구*", Daily!$I:$I, "수리불가",Daily!$F:$F,"<>", Daily!$G:$G, "=11") -> 0 | I15: =SUMIFS(Daily!$S:$S, Daily!$AB:$AB, "*강영구*", Daily!$I:$I, "Other", Daily!$F:$F,"<>", Daily!$G:$G, "=11") -> 0 | J15: =SUMIFS(Daily!$Z:$Z, Daily!$AB:$AB, "*강영구*", Daily!$I:$I, "Other",Daily!$F:$F,"<>", Daily!$G:$G, "=11") -> 0 | K15: =C15+E15+G15+I15 -> 0 | L15: =D15+F15+H15+J15 -> 0
B16: Dec | E16: =SUMIFS(Daily!$S:$S, Daily!$AB:$AB, "*강영구*", Daily!$I:$I, "*수리완료",Daily!$F:$F,"<>", Daily!$G:$G, "=12") -> 0 | F16: =SUMIFS(Daily!$Z:$Z, Daily!$AB:$AB, "*강영구*", Daily!$I:$I, "수리완료",Daily!$F:$F,"<>", Daily!$G:$G, "=12")+SUMIFS(Daily!$Z:$Z, Daily!$AB:$AB, "*강영구*", Daily!$I:$I, "폐기",Daily!$F:$F,"<>", Daily!$G:$G, "=12")+SUMIFS(Daily!$Z:$Z, Daily!$AB:$AB, "*강영구*", Daily!$I:$I, "수리불가",Daily!$F:$F,"<>", Daily!$G:$G, "=12") -> 0 | I16: =SUMIFS(Daily!$S:$S, Daily!$AB:$AB, "*강영구*", Daily!$I:$I, "Other", Daily!$F:$F,"<>", Daily!$G:$G, "=12") -> 0 | J16: =SUMIFS(Daily!$Z:$Z, Daily!$AB:$AB, "*강영구*", Daily!$I:$I, "Other",Daily!$F:$F,"<>", Daily!$G:$G, "=12") -> 0 | K16: =C16+E16+G16+I16 -> 0 | L16: =D16+F16+H16+J16 -> 0
B17: TTL | C17: =SUM(C5:C16) -> 0 | D17: =SUM(D5:D16) -> 0 | E17: =SUM(E5:E16) -> 53 | F17: =SUM(F5:F16) -> 205 | G17: =SUM(G5:G16) -> 0 | H17: =SUM(H5:H16) -> 0 | I17: =SUM(I5:I16) -> 0 | J17: =SUM(J5:J16) -> 0 | ... L17: =SUM(L5:L16) -> 205

Sheet 장은철sum
B1: Person Activity Summary
B2: Month | C2: Category | K2: TTL
C3: Project | E3: Technical Support | G3: Overhaul | I3: Other
C4: 건수 | D4: 시간 | E4: 건수 | F4: 시간 | G4: 건수 | H4: 시간 | I4: 건수 | J4: 시간 | K4: 건수 | L4: 시간
B5: Jan | E5: =SUMIFS(Daily!$S:$S, Daily!$AB:$AB, "*장은철*", Daily!$I:$I, "수리완료",Daily!$F:$F,"<>", Daily!$G:$G, "=1")+SUMIFS(Daily!$S:$S, Daily!$AB:$AB, "*장은철*", Daily!$I:$I, "외주수리완료",Daily!$F:$F,"<>", Daily!$G:$G, "=1") -> 42 | F5: =SUMIFS(Daily!$Z:$Z, Daily!$AB:$AB, "*장은철*", Daily!$I:$I, "*수리완료",Daily!$F:$F,"<>", Daily!$G:$G, "=1")+SUMIFS(Daily!$Z:$Z, Daily!$AB:$AB, "*장은철*", Daily!$I:$I, "수리불가",Daily!$F:$F,"<>", Daily!$G:$G, "=1")+SUMIFS(Daily!$Z:$Z, Daily!$AB:$AB, "*장은철*", Daily!$I:$I, "폐기",Daily!$F:$F,"<>", Daily!$G:$G, "=1") -> 57 | I5: =SUMIFS(Daily!$S:$S, Daily!$AB:$AB, "*장은철*", Daily!$I:$I, "Other", Daily!$F:$F,"<>", Daily!$G:$G, "=1") -> 3 | J5: =SUMIFS(Daily!$Z:$Z, Daily!$AB:$AB, "*장은철*", Daily!$I:$I, "Other",Daily!$F:$F,"<>", Daily!$G:$G, "=1") -> 8 | K5: =C5+E5+G5+I5 -> 45 | L5: =D5+F5+H5+J5 -> 65
B6: Feb | E6: =SUMIFS(Daily!$S:$S, Daily!$AB:$AB, "*장은철*", Daily!$I:$I, "수리완료",Daily!$F:$F,"<>", Daily!$G:$G, "=2")+SUMIFS(Daily!$S:$S, Daily!$AB:$AB, "*장은철*", Daily!$I:$I, "외주수리완료",Daily!$F:$F,"<>", Daily!$G:$G, "=2") -> 41 | F6: =SUMIFS(Daily!$Z:$Z, Daily!$AB:$AB, "*장은철*", Daily!$I:$I, "*수리완료",Daily!$F:$F,"<>", Daily!$G:$G, "=2")+SUMIFS(Daily!$Z:$Z, Daily!$AB:$AB, "*장은철*", Daily!$I:$I, "폐기",Daily!$F:$F,"<>", Daily!$G:$G, "=2")+SUMIFS(Daily!$Z:$Z, Daily!$AB:$AB, "*장은철*", Daily!$I:$I, "수리불가",Daily!$F:$F,"<>", Daily!$G:$G, "=2") -> 117 | I6: =SUMIFS(Daily!$S:$S, Daily!$AB:$AB, "*장은철*", Daily!$I:$I, "Other", Daily!$F:$F,"<>", Daily!$G:$G, "=2") -> 0 | J6: =SUMIFS(Daily!$Z:$Z, Daily!$AB:$AB, "*장은철*", Daily!$I:$I, "Other",Daily!$F:$F,"<>", Daily!$G:$G, "=2") -> 0 | K6: =C6+E6+G6+I6 -> 41 | L6: =D6+F6+H6+J6 -> 117
B7: Mar | E7: =SUMIFS(Daily!$S:$S, Daily!$AB:$AB, "*장은철*", Daily!$I:$I, "수리완료",Daily!$F:$F,"<>", Daily!$G:$G, "=3")+SUMIFS(Daily!$S:$S, Daily!$AB:$AB, "*장은철*", Daily!$I:$I, "외주수리완료",Daily!$F:$F,"<>", Daily!$G:$G, "=3") -> 3 | F7: =SUMIFS(Daily!$Z:$Z, Daily!$AB:$AB, "*장은철*", Daily!$I:$I, "*수리완료",Daily!$F:$F,"<>", Daily!$G:$G, "=3")+SUMIFS(Daily!$Z:$Z, Daily!$AB:$AB, "*장은철*", Daily!$I:$I, "폐기",Daily!$F:$F,"<>", Daily!$G:$G, "=3")+SUMIFS(Daily!$Z:$Z, Daily!$AB:$AB, "*장은철*", Daily!$I:$I, "수리불가",Daily!$F:$F,"<>", Daily!$G:$G, "=3") -> 6 | I7: =SUMIFS(Daily!$S:$S, Daily!$AB:$AB, "*장은철*", Daily!$I:$I, "Other", Daily!$F:$F,"<>", Daily!$G:$G, "=3") -> 2 | J7: =SUMIFS(Daily!$Z:$Z, Daily!$AB:$AB, "*장은철*", Daily!$I:$I, "Other",Daily!$F:$F,"<>", Daily!$G:$G, "=3") -> 4 | K7: =C7+E7+G7+I7 -> 5 | L7: =D7+F7+H7+J7 -> 10
B8: Apr | E8: =SUMIFS(Daily!$S:$S, Daily!$AB:$AB, "*장은철*", Daily!$I:$I, "수리완료",Daily!$F:$F,"<>", Daily!$G:$G, "=4")+SUMIFS(Daily!$S:$S, Daily!$AB:$AB, "*장은철*", Daily!$I:$I, "외주수리완료",Daily!$F:$F,"<>", Daily!$G:$G, "=4") -> 0 | F8: =SUMIFS(Daily!$Z:$Z, Daily!$AB:$AB, "*장은철*", Daily!$I:$I, "*수리완료",Daily!$F:$F,"<>", Daily!$G:$G, "=4")+SUMIFS(Daily!$Z:$Z, Daily!$AB:$AB, "*장은철*", Daily!$I:$I, "폐기",Daily!$F:$F,"<>", Daily!$G:$G, "=4")+SUMIFS(Daily!$Z:$Z, Daily!$AB:$AB, "*장은철*", Daily!$I:$I, "수리불가",Daily!$F:$F,"<>", Daily!$G:$G, "=4") -> 0 | I8: =SUMIFS(Daily!$S:$S, Daily!$AB:$AB, "*장은철*", Daily!$I:$I, "Other", Daily!$F:$F,"<>", Daily!$G:$G, "=4") -> 0 | J8: =SUMIFS(Daily!$Z:$Z, Daily!$AB:$AB, "*장은철*", Daily!$I:$I, "Other",Daily!$F:$F,"<>", Daily!$G:$G, "=4") -> 0 | K8: =C8+E8+G8+I8 -> 0 | L8: =D8+F8+H8+J8 -> 0
B9: May | E9: =SUMIFS(Daily!$S:$S, Daily!$AB:$AB, "*장은철*", Daily!$I:$I, "수리완료",Daily!$F:$F,"<>", Daily!$G:$G, "=5")+SUMIFS(Daily!$S:$S, Daily!$AB:$AB, "*장은철*", Daily!$I:$I, "외주수리완료",Daily!$F:$F,"<>", Daily!$G:$G, "=5") -> 0 | F9: =SUMIFS(Daily!$Z:$Z, Daily!$AB:$AB, "*장은철*", Daily!$I:$I, "*수리완료",Daily!$F:$F,"<>", Daily!$G:$G, "=5")+SUMIFS(Daily!$Z:$Z, Daily!$AB:$AB, "*장은철*", Daily!$I:$I, "폐기",Daily!$F:$F,"<>", Daily!$G:$G, "=5")+SUMIFS(Daily!$Z:$Z, Daily!$AB:$AB, "*장은철*", Daily!$I:$I, "수리불가",Daily!$F:$F,"<>", Daily!$G:$G, "=5") -> 0 | I9: =SUMIFS(Daily!$S:$S, Daily!$AB:$AB, "*장은철*", Daily!$I:$I, "Other", Daily!$F:$F,"<>", Daily!$G:$G, "=5") -> 0 | J9: =SUMIFS(Daily!$Z:$Z, Daily!$AB:$AB, "*장은철*", Daily!$I:$I, "Other",Daily!$F:$F,"<>", Daily!$G:$G, "=5") -> 0 | K9: =C9+E9+G9+I9 -> 0 | L9: =D9+F9+H9+J9 -> 0
B10: Jun | E10: =SUMIFS(Daily!$S:$S, Daily!$AB:$AB, "*장은철*", Daily!$I:$I, "수리완료",Daily!$F:$F,"<>", Daily!$G:$G, "=6")+SUMIFS(Daily!$S:$S, Daily!$AB:$AB, "*장은철*", Daily!$I:$I, "외주수리완료",Daily!$F:$F,"<>", Daily!$G:$G, "=6") -> 0 | F10: =SUMIFS(Daily!$Z:$Z, Daily!$AB:$AB, "*장은철*", Daily!$I:$I, "*수리완료",Daily!$F:$F,"<>", Daily!$G:$G, "=6")+SUMIFS(Daily!$Z:$Z, Daily!$AB:$AB, "*장은철*", Daily!$I:$I, "폐기",Daily!$F:$F,"<>", Daily!$G:$G, "=6")+SUMIFS(Daily!$Z:$Z, Daily!$AB:$AB, "*장은철*", Daily!$I:$I, "수리불가",Daily!$F:$F,"<>", Daily!$G:$G, "=6") -> 0 | I10: =SUMIFS(Daily!$S:$S, Daily!$AB:$AB, "*장은철*", Daily!$I:$I, "Other", Daily!$F:$F,"<>", Daily!$G:$G, "=6") -> 0 | J10: =SUMIFS(Daily!$Z:$Z, Daily!$AB:$AB, "*장은철*", Daily!$I:$I, "Other",Daily!$F:$F,"<>", Daily!$G:$G, "=6") -> 0 | K10: =C10+E10+G10+I10 -> 0 | L10: =D10+F10+H10+J10 -> 0
B11: Jul | E11: =SUMIFS(Daily!$S:$S, Daily!$AB:$AB, "*장은철*", Daily!$I:$I, "수리완료",Daily!$F:$F,"<>", Daily!$G:$G, "=7")+SUMIFS(Daily!$S:$S, Daily!$AB:$AB, "*장은철*", Daily!$I:$I, "외주수리완료",Daily!$F:$F,"<>", Daily!$G:$G, "=7") -> 0 | F11: =SUMIFS(Daily!$Z:$Z, Daily!$AB:$AB, "*장은철*", Daily!$I:$I, "*수리완료",Daily!$F:$F,"<>", Daily!$G:$G, "=7")+SUMIFS(Daily!$Z:$Z, Daily!$AB:$AB, "*장은철*", Daily!$I:$I, "폐기",Daily!$F:$F,"<>", Daily!$G:$G, "=7")+SUMIFS(Daily!$Z:$Z, Daily!$AB:$AB, "*장은철*", Daily!$I:$I, "수리불가",Daily!$F:$F,"<>", Daily!$G:$G, "=7") -> 0 | I11: =SUMIFS(Daily!$S:$S, Daily!$AB:$AB, "*장은철*", Daily!$I:$I, "Other", Daily!$F:$F,"<>", Daily!$G:$G, "=7") -> 0 | J11: =SUMIFS(Daily!$Z:$Z, Daily!$AB:$AB, "*장은철*", Daily!$I:$I, "Other",Daily!$F:$F,"<>", Daily!$G:$G, "=7") -> 0 | K11: =C11+E11+G11+I11 -> 0 | L11: =D11+F11+H11+J11 -> 0
B12: Aug | E12: =SUMIFS(Daily!$S:$S, Daily!$AB:$AB, "*장은철*", Daily!$I:$I, "수리완료",Daily!$F:$F,"<>", Daily!$G:$G, "=8")+SUMIFS(Daily!$S:$S, Daily!$AB:$AB, "*장은철*", Daily!$I:$I, "외주수리완료",Daily!$F:$F,"<>", Daily!$G:$G, "=8") -> 0 | F12: =SUMIFS(Daily!$Z:$Z, Daily!$AB:$AB, "*장은철*", Daily!$I:$I, "*수리완료",Daily!$F:$F,"<>", Daily!$G:$G, "=8")+SUMIFS(Daily!$Z:$Z, Daily!$AB:$AB, "*장은철*", Daily!$I:$I, "폐기",Daily!$F:$F,"<>", Daily!$G:$G, "=8")+SUMIFS(Daily!$Z:$Z, Daily!$AB:$AB, "*장은철*", Daily!$I:$I, "수리불가",Daily!$F:$F,"<>", Daily!$G:$G, "=8") -> 0 | I12: =SUMIFS(Daily!$S:$S, Daily!$AB:$AB, "*장은철*", Daily!$I:$I, "Other", Daily!$F:$F,"<>", Daily!$G:$G, "=8") -> 0 | J12: =SUMIFS(Daily!$Z:$Z, Daily!$AB:$AB, "*장은철*", Daily!$I:$I, "Other",Daily!$F:$F,"<>", Daily!$G:$G, "=8") -> 0 | K12: =C12+E12+G12+I12 -> 0 | L12: =D12+F12+H12+J12 -> 0
B13: Sep | E13: =SUMIFS(Daily!$S:$S, Daily!$AB:$AB, "*장은철*", Daily!$I:$I, "수리완료",Daily!$F:$F,"<>", Daily!$G:$G, "=9")+SUMIFS(Daily!$S:$S, Daily!$AB:$AB, "*장은철*", Daily!$I:$I, "외주수리완료",Daily!$F:$F,"<>", Daily!$G:$G, "=9") -> 0 | F13: =SUMIFS(Daily!$Z:$Z, Daily!$AB:$AB, "*장은철*", Daily!$I:$I, "*수리완료",Daily!$F:$F,"<>", Daily!$G:$G, "=9")+SUMIFS(Daily!$Z:$Z, Daily!$AB:$AB, "*장은철*", Daily!$I:$I, "폐기",Daily!$F:$F,"<>", Daily!$G:$G, "=9")+SUMIFS(Daily!$Z:$Z, Daily!$AB:$AB, "*장은철*", Daily!$I:$I, "수리불가",Daily!$F:$F,"<>", Daily!$G:$G, "=9") -> 0 | I13: =SUMIFS(Daily!$S:$S, Daily!$AB:$AB, "*장은철*", Daily!$I:$I, "Other", Daily!$F:$F,"<>", Daily!$G:$G, "=9") -> 0 | J13: =SUMIFS(Daily!$Z:$Z, Daily!$AB:$AB, "*장은철*", Daily!$I:$I, "Other",Daily!$F:$F,"<>", Daily!$G:$G, "=9") -> 0 | K13: =C13+E13+G13+I13 -> 0 | L13: =D13+F13+H13+J13 -> 0
B14: Oct | E14: =SUMIFS(Daily!$S:$S, Daily!$AB:$AB, "*장은철*", Daily!$I:$I, "수리완료",Daily!$F:$F,"<>", Daily!$G:$G, "=10")+SUMIFS(Daily!$S:$S, Daily!$AB:$AB, "*장은철*", Daily!$I:$I, "외주수리완료",Daily!$F:$F,"<>", Daily!$G:$G, "=10") -> 0 | F14: =SUMIFS(Daily!$Z:$Z, Daily!$AB:$AB, "*장은철*", Daily!$I:$I, "*수리완료",Daily!$F:$F,"<>", Daily!$G:$G, "=10")+SUMIFS(Daily!$Z:$Z, Daily!$AB:$AB, "*장은철*", Daily!$I:$I, "폐기",Daily!$F:$F,"<>", Daily!$G:$G, "=10")+SUMIFS(Daily!$Z:$Z, Daily!$AB:$AB, "*장은철*", Daily!$I:$I, "수리불가",Daily!$F:$F,"<>", Daily!$G:$G, "=10") -> 0 | I14: =SUMIFS(Daily!$S:$S, Daily!$AB:$AB, "*장은철*", Daily!$I:$I, "Other", Daily!$F:$F,"<>", Daily!$G:$G, "=10") -> 0 | J14: =SUMIFS(Daily!$Z:$Z, Daily!$AB:$AB, "*장은철*", Daily!$I:$I, "Other",Daily!$F:$F,"<>", Daily!$G:$G, "=10") -> 0 | K14: =C14+E14+G14+I14 -> 0 | L14: =D14+F14+H14+J14 -> 0
B15: Nov | E15: =SUMIFS(Daily!$S:$S, Daily!$AB:$AB, "*장은철*", Daily!$I:$I, "수리완료",Daily!$F:$F,"<>", Daily!$G:$G, "=11")+SUMIFS(Daily!$S:$S, Daily!$AB:$AB, "*장은철*", Daily!$I:$I, "외주수리완료",Daily!$F:$F,"<>", Daily!$G:$G, "=11") -> 0 | F15: =SUMIFS(Daily!$Z:$Z, Daily!$AB:$AB, "*장은철*", Daily!$I:$I, "*수리완료",Daily!$F:$F,"<>", Daily!$G:$G, "=11")+SUMIFS(Daily!$Z:$Z, Daily!$AB:$AB, "*장은철*", Daily!$I:$I, "폐기",Daily!$F:$F,"<>", Daily!$G:$G, "=11")+SUMIFS(Daily!$Z:$Z, Daily!$AB:$AB, "*장은철*", Daily!$I:$I, "수리불가",Daily!$F:$F,"<>", Daily!$G:$G, "=11") -> 0 | I15: =SUMIFS(Daily!$S:$S, Daily!$AB:$AB, "*장은철*", Daily!$I:$I, "Other", Daily!$F:$F,"<>", Daily!$G:$G, "=11") -> 0 | J15: =SUMIFS(Daily!$Z:$Z, Daily!$AB:$AB, "*장은철*", Daily!$I:$I, "Other",Daily!$F:$F,"<>", Daily!$G:$G, "=11") -> 0 | K15: =C15+E15+G15+I15 -> 0 | L15: =D15+F15+H15+J15 -> 0
B16: Dec | E16: =SUMIFS(Daily!$S:$S, Daily!$AB:$AB, "*장은철*", Daily!$I:$I, "수리완료",Daily!$F:$F,"<>", Daily!$G:$G, "=12")+SUMIFS(Daily!$S:$S, Daily!$AB:$AB, "*장은철*", Daily!$I:$I, "외주수리완료",Daily!$F:$F,"<>", Daily!$G:$G, "=12") -> 0 | F16: =SUMIFS(Daily!$Z:$Z, Daily!$AB:$AB, "*장은철*", Daily!$I:$I, "*수리완료",Daily!$F:$F,"<>", Daily!$G:$G, "=12")+SUMIFS(Daily!$Z:$Z, Daily!$AB:$AB, "*장은철*", Daily!$I:$I, "폐기",Daily!$F:$F,"<>", Daily!$G:$G, "=12")+SUMIFS(Daily!$Z:$Z, Daily!$AB:$AB, "*장은철*", Daily!$I:$I, "수리불가",Daily!$F:$F,"<>", Daily!$G:$G, "=12") -> 0 | I16: =SUMIFS(Daily!$S:$S, Daily!$AB:$AB, "*장은철*", Daily!$I:$I, "Other", Daily!$F:$F,"<>", Daily!$G:$G, "=12") -> 0 | J16: =SUMIFS(Daily!$Z:$Z, Daily!$AB:$AB, "*장은철*", Daily!$I:$I, "Other",Daily!$F:$F,"<>", Daily!$G:$G, "=12") -> 0 | K16: =C16+E16+G16+I16 -> 0 | L16: =D16+F16+H16+J16 -> 0
B17: TTL | C17: =SUM(C5:C16) -> 0 | D17: =SUM(D5:D16) -> 0 | E17: =SUM(E5:E16) -> 86 | F17: =SUM(F5:F16) -> 180 | G17: =SUM(G5:G16) -> 0 | H17: =SUM(H5:H16) -> 0 | I17: =SUM(I5:I16) -> 5 | J17: =SUM(J5:J16) -> 12 | ... L17: =SUM(L5:L16) -> 192

Sheet 허준영sum
B1: Person Activity Summary
B2: Month | C2: Category | K2: TTL
C3: Project | E3: Technical Support | G3: Overhaul | I3: Other
C4: 건수 | D4: 시간 | E4: 건수 | F4: 시간 | G4: 건수 | H4: 시간 | I4: 건수 | J4: 시간 | K4: 건수 | L4: 시간
B5: Jan | E5: =SUMIFS(Daily!$S:$S, Daily!$AB:$AB, "*허준영*", Daily!$I:$I, "수리완료",Daily!$F:$F,"<>", Daily!$G:$G, "=1")+SUMIFS(Daily!$S:$S, Daily!$AB:$AB, "*허준영*", Daily!$I:$I, "외주수리완료",Daily!$F:$F,"<>", Daily!$G:$G, "=1") -> 31 | F5: =SUMIFS(Daily!$Z:$Z, Daily!$AB:$AB, "*허준영*", Daily!$I:$I, "*수리완료",Daily!$F:$F,"<>", Daily!$G:$G, "=1")+SUMIFS(Daily!$Z:$Z, Daily!$AB:$AB, "*허준영*", Daily!$I:$I, "폐기",Daily!$F:$F,"<>", Daily!$G:$G, "=1")+SUMIFS(Daily!$Z:$Z, Daily!$AB:$AB, "*허준영*", Daily!$I:$I, "수리불가",Daily!$F:$F,"<>", Daily!$G:$G, "=1") -> 87 | I5: =SUMIFS(Daily!$S:$S, Daily!$AB:$AB, "*허준영*", Daily!$I:$I, "Other", Daily!$F:$F,"<>", Daily!$G:$G, "=1") -> 2 | J5: =SUMIFS(Daily!$Z:$Z, Daily!$AB:$AB, "*허준영*", Daily!$I:$I, "Other",Daily!$F:$F,"<>", Daily!$G:$G, "=1") -> 6 | K5: =C5+E5+G5+I5 -> 33 | L5: =D5+F5+H5+J5 -> 93
B6: Feb | E6: =SUMIFS(Daily!$S:$S, Daily!$AB:$AB, "*허준영*", Daily!$I:$I, "수리완료",Daily!$F:$F,"<>", Daily!$G:$G, "=2")+SUMIFS(Daily!$S:$S, Daily!$AB:$AB, "*허준영*", Daily!$I:$I, "외주수리완료",Daily!$F:$F,"<>", Daily!$G:$G, "=2") -> 26 | F6: =SUMIFS(Daily!$Z:$Z, Daily!$AB:$AB, "*허준영*", Daily!$I:$I, "*수리완료",Daily!$F:$F,"<>", Daily!$G:$G, "=2")+SUMIFS(Daily!$Z:$Z, Daily!$AB:$AB, "*허준영*", Daily!$I:$I, "폐기",Daily!$F:$F,"<>", Daily!$G:$G, "=2")+SUMIFS(Daily!$Z:$Z, Daily!$AB:$AB, "*허준영*", Daily!$I:$I, "수리불가",Daily!$F:$F,"<>", Daily!$G:$G, "=2") -> 103 | I6: =SUMIFS(Daily!$S:$S, Daily!$AB:$AB, "*허준영*", Daily!$I:$I, "Other", Daily!$F:$F,"<>", Daily!$G:$G, "=2") -> 3 | J6: =SUMIFS(Daily!$Z:$Z, Daily!$AB:$AB, "*허준영*", Daily!$I:$I, "Other",Daily!$F:$F,"<>", Daily!$G:$G, "=2") -> 3 | K6: =C6+E6+G6+I6 -> 29 | L6: =D6+F6+H6+J6 -> 106
B7: Mar | E7: =SUMIFS(Daily!$S:$S, Daily!$AB:$AB, "*허준영*", Daily!$I:$I, "수리완료",Daily!$F:$F,"<>", Daily!$G:$G, "=3")+SUMIFS(Daily!$S:$S, Daily!$AB:$AB, "*허준영*", Daily!$I:$I, "외주수리완료",Daily!$F:$F,"<>", Daily!$G:$G, "=3") -> 3 | F7: =SUMIFS(Daily!$Z:$Z, Daily!$AB:$AB, "*허준영*", Daily!$I:$I, "*수리완료",Daily!$F:$F,"<>", Daily!$G:$G, "=3")+SUMIFS(Daily!$Z:$Z, Daily!$AB:$AB, "*허준영*", Daily!$I:$I, "폐기",Daily!$F:$F,"<>", Daily!$G:$G, "=3")+SUMIFS(Daily!$Z:$Z, Daily!$AB:$AB, "*허준영*", Daily!$I:$I, "수리불가",Daily!$F:$F,"<>", Daily!$G:$G, "=3") -> 8 | I7: =SUMIFS(Daily!$S:$S, Daily!$AB:$AB, "*허준영*", Daily!$I:$I, "Other", Daily!$F:$F,"<>", Daily!$G:$G, "=3") -> 3 | J7: =SUMIFS(Daily!$Z:$Z, Daily!$AB:$AB, "*허준영*", Daily!$I:$I, "Other",Daily!$F:$F,"<>", Daily!$G:$G, "=3") -> 8 | K7: =C7+E7+G7+I7 -> 6 | L7: =D7+F7+H7+J7 -> 16
B8: Apr | E8: =SUMIFS(Daily!$S:$S, Daily!$AB:$AB, "*허준영*", Daily!$I:$I, "수리완료",Daily!$F:$F,"<>", Daily!$G:$G, "=4")+SUMIFS(Daily!$S:$S, Daily!$AB:$AB, "*허준영*", Daily!$I:$I, "외주수리완료",Daily!$F:$F,"<>", Daily!$G:$G, "=4") -> 0 | F8: =SUMIFS(Daily!$Z:$Z, Daily!$AB:$AB, "*허준영*", Daily!$I:$I, "*수리완료",Daily!$F:$F,"<>", Daily!$G:$G, "=4")+SUMIFS(Daily!$Z:$Z, Daily!$AB:$AB, "*허준영*", Daily!$I:$I, "폐기",Daily!$F:$F,"<>", Daily!$G:$G, "=4")+SUMIFS(Daily!$Z:$Z, Daily!$AB:$AB, "*허준영*", Daily!$I:$I, "수리불가",Daily!$F:$F,"<>", Daily!$G:$G, "=4") -> 0 | I8: =SUMIFS(Daily!$S:$S, Daily!$AB:$AB, "*허준영*", Daily!$I:$I, "Other", Daily!$F:$F,"<>", Daily!$G:$G, "=4") -> 0 | J8: =SUMIFS(Daily!$Z:$Z, Daily!$AB:$AB, "*허준영*", Daily!$I:$I, "Other",Daily!$F:$F,"<>", Daily!$G:$G, "=4") -> 0 | K8: =C8+E8+G8+I8 -> 0 | L8: =D8+F8+H8+J8 -> 0
B9: May | E9: =SUMIFS(Daily!$S:$S, Daily!$AB:$AB, "*허준영*", Daily!$I:$I, "수리완료",Daily!$F:$F,"<>", Daily!$G:$G, "=5")+SUMIFS(Daily!$S:$S, Daily!$AB:$AB, "*허준영*", Daily!$I:$I, "외주수리완료",Daily!$F:$F,"<>", Daily!$G:$G, "=5") -> 0 | F9: =SUMIFS(Daily!$Z:$Z, Daily!$AB:$AB, "*허준영*", Daily!$I:$I, "*수리완료",Daily!$F:$F,"<>", Daily!$G:$G, "=5")+SUMIFS(Daily!$Z:$Z, Daily!$AB:$AB, "*허준영*", Daily!$I:$I, "폐기",Daily!$F:$F,"<>", Daily!$G:$G, "=5")+SUMIFS(Daily!$Z:$Z, Daily!$AB:$AB, "*허준영*", Daily!$I:$I, "수리불가",Daily!$F:$F,"<>", Daily!$G:$G, "=5") -> 0 | I9: =SUMIFS(Daily!$S:$S, Daily!$AB:$AB, "*허준영*", Daily!$I:$I, "Other", Daily!$F:$F,"<>", Daily!$G:$G, "=5") -> 0 | J9: =SUMIFS(Daily!$Z:$Z, Daily!$AB:$AB, "*허준영*", Daily!$I:$I, "Other",Daily!$F:$F,"<>", Daily!$G:$G, "=5") -> 0 | K9: =C9+E9+G9+I9 -> 0 | L9: =D9+F9+H9+J9 -> 0
B10: Jun | E10: =SUMIFS(Daily!$S:$S, Daily!$AB:$AB, "*허준영*", Daily!$I:$I, "수리완료",Daily!$F:$F,"<>", Daily!$G:$G, "=6")+SUMIFS(Daily!$S:$S, Daily!$AB:$AB, "*허준영*", Daily!$I:$I, "외주수리완료",Daily!$F:$F,"<>", Daily!$G:$G, "=6") -> 0 | F10: =SUMIFS(Daily!$Z:$Z, Daily!$AB:$AB, "*허준영*", Daily!$I:$I, "*수리완료",Daily!$F:$F,"<>", Daily!$G:$G, "=6")+SUMIFS(Daily!$Z:$Z, Daily!$AB:$AB, "*허준영*", Daily!$I:$I, "폐기",Daily!$F:$F,"<>", Daily!$G:$G, "=6")+SUMIFS(Daily!$Z:$Z, Daily!$AB:$AB, "*허준영*", Daily!$I:$I, "수리불가",Daily!$F:$F,"<>", Daily!$G:$G, "=6") -> 0 | I10: =SUMIFS(Daily!$S:$S, Daily!$AB:$AB, "*허준영*", Daily!$I:$I, "Other", Daily!$F:$F,"<>", Daily!$G:$G, "=6") -> 0 | J10: =SUMIFS(Daily!$Z:$Z, Daily!$AB:$AB, "*허준영*", Daily!$I:$I, "Other",Daily!$F:$F,"<>", Daily!$G:$G, "=6") -> 0 | K10: =C10+E10+G10+I10 -> 0 | L10: =D10+F10+H10+J10 -> 0
B11: Jul | E11: =SUMIFS(Daily!$S:$S, Daily!$AB:$AB, "*허준영*", Daily!$I:$I, "수리완료",Daily!$F:$F,"<>", Daily!$G:$G, "=7")+SUMIFS(Daily!$S:$S, Daily!$AB:$AB, "*허준영*", Daily!$I:$I, "외주수리완료",Daily!$F:$F,"<>", Daily!$G:$G, "=7") -> 0 | F11: =SUMIFS(Daily!$Z:$Z, Daily!$AB:$AB, "*허준영*", Daily!$I:$I, "*수리완료",Daily!$F:$F,"<>", Daily!$G:$G, "=7")+SUMIFS(Daily!$Z:$Z, Daily!$AB:$AB, "*허준영*", Daily!$I:$I, "폐기",Daily!$F:$F,"<>", Daily!$G:$G, "=7")+SUMIFS(Daily!$Z:$Z, Daily!$AB:$AB, "*허준영*", Daily!$I:$I, "수리불가",Daily!$F:$F,"<>", Daily!$G:$G, "=7") -> 0 | I11: =SUMIFS(Daily!$S:$S, Daily!$AB:$AB, "*허준영*", Daily!$I:$I, "Other", Daily!$F:$F,"<>", Daily!$G:$G, "=7") -> 0 | J11: =SUMIFS(Daily!$Z:$Z, Daily!$AB:$AB, "*허준영*", Daily!$I:$I, "Other",Daily!$F:$F,"<>", Daily!$G:$G, "=7") -> 0 | K11: =C11+E11+G11+I11 -> 0 | L11: =D11+F11+H11+J11 -> 0
B12: Aug | E12: =SUMIFS(Daily!$S:$S, Daily!$AB:$AB, "*허준영*", Daily!$I:$I, "수리완료",Daily!$F:$F,"<>", Daily!$G:$G, "=8")+SUMIFS(Daily!$S:$S, Daily!$AB:$AB, "*허준영*", Daily!$I:$I, "외주수리완료",Daily!$F:$F,"<>", Daily!$G:$G, "=8") -> 0 | F12: =SUMIFS(Daily!$Z:$Z, Daily!$AB:$AB, "*허준영*", Daily!$I:$I, "*수리완료",Daily!$F:$F,"<>", Daily!$G:$G, "=8")+SUMIFS(Daily!$Z:$Z, Daily!$AB:$AB, "*허준영*", Daily!$I:$I, "폐기",Daily!$F:$F,"<>", Daily!$G:$G, "=8")+SUMIFS(Daily!$Z:$Z, Daily!$AB:$AB, "*허준영*", Daily!$I:$I, "수리불가",Daily!$F:$F,"<>", Daily!$G:$G, "=8") -> 0 | I12: =SUMIFS(Daily!$S:$S, Daily!$AB:$AB, "*허준영*", Daily!$I:$I, "Other", Daily!$F:$F,"<>", Daily!$G:$G, "=8") -> 0 | J12: =SUMIFS(Daily!$Z:$Z, Daily!$AB:$AB, "*허준영*", Daily!$I:$I, "Other",Daily!$F:$F,"<>", Daily!$G:$G, "=8") -> 0 | K12: =C12+E12+G12+I12 -> 0 | L12: =D12+F12+H12+J12 -> 0
B13: Sep | E13: =SUMIFS(Daily!$S:$S, Daily!$AB:$AB, "*허준영*", Daily!$I:$I, "수리완료",Daily!$F:$F,"<>", Daily!$G:$G, "=9")+SUMIFS(Daily!$S:$S, Daily!$AB:$AB, "*허준영*", Daily!$I:$I, "외주수리완료",Daily!$F:$F,"<>", Daily!$G:$G, "=9") -> 0 | F13: =SUMIFS(Daily!$Z:$Z, Daily!$AB:$AB, "*허준영*", Daily!$I:$I, "*수리완료",Daily!$F:$F,"<>", Daily!$G:$G, "=9")+SUMIFS(Daily!$Z:$Z, Daily!$AB:$AB, "*허준영*", Daily!$I:$I, "폐기",Daily!$F:$F,"<>", Daily!$G:$G, "=9")+SUMIFS(Daily!$Z:$Z, Daily!$AB:$AB, "*허준영*", Daily!$I:$I, "수리불가",Daily!$F:$F,"<>", Daily!$G:$G, "=9") -> 0 | I13: =SUMIFS(Daily!$S:$S, Daily!$AB:$AB, "*허준영*", Daily!$I:$I, "Other", Daily!$F:$F,"<>", Daily!$G:$G, "=9") -> 0 | J13: =SUMIFS(Daily!$Z:$Z, Daily!$AB:$AB, "*허준영*", Daily!$I:$I, "Other",Daily!$F:$F,"<>", Daily!$G:$G, "=9") -> 0 | K13: =C13+E13+G13+I13 -> 0 | L13: =D13+F13+H13+J13 -> 0
B14: Oct | E14: =SUMIFS(Daily!$S:$S, Daily!$AB:$AB, "*허준영*", Daily!$I:$I, "수리완료",Daily!$F:$F,"<>", Daily!$G:$G, "=10")+SUMIFS(Daily!$S:$S, Daily!$AB:$AB, "*허준영*", Daily!$I:$I, "외주수리완료",Daily!$F:$F,"<>", Daily!$G:$G, "=10") -> 0 | F14: =SUMIFS(Daily!$Z:$Z, Daily!$AB:$AB, "*허준영*", Daily!$I:$I, "*수리완료",Daily!$F:$F,"<>", Daily!$G:$G, "=10")+SUMIFS(Daily!$Z:$Z, Daily!$AB:$AB, "*허준영*", Daily!$I:$I, "폐기",Daily!$F:$F,"<>", Daily!$G:$G, "=10")+SUMIFS(Daily!$Z:$Z, Daily!$AB:$AB, "*허준영*", Daily!$I:$I, "수리불가",Daily!$F:$F,"<>", Daily!$G:$G, "=10") -> 0 | I14: =SUMIFS(Daily!$S:$S, Daily!$AB:$AB, "*허준영*", Daily!$I:$I, "Other", Daily!$F:$F,"<>", Daily!$G:$G, "=10") -> 0 | J14: =SUMIFS(Daily!$Z:$Z, Daily!$AB:$AB, "*허준영*", Daily!$I:$I, "Other",Daily!$F:$F,"<>", Daily!$G:$G, "=10") -> 0 | K14: =C14+E14+G14+I14 -> 0 | L14: =D14+F14+H14+J14 -> 0
B15: Nov | E15: =SUMIFS(Daily!$S:$S, Daily!$AB:$AB, "*허준영*", Daily!$I:$I, "수리완료",Daily!$F:$F,"<>", Daily!$G:$G, "=11")+SUMIFS(Daily!$S:$S, Daily!$AB:$AB, "*허준영*", Daily!$I:$I, "외주수리완료",Daily!$F:$F,"<>", Daily!$G:$G, "=11") -> 0 | F15: =SUMIFS(Daily!$Z:$Z, Daily!$AB:$AB, "*허준영*", Daily!$I:$I, "*수리완료",Daily!$F:$F,"<>", Daily!$G:$G, "=11")+SUMIFS(Daily!$Z:$Z, Daily!$AB:$AB, "*허준영*", Daily!$I:$I, "폐기",Daily!$F:$F,"<>", Daily!$G:$G, "=11")+SUMIFS(Daily!$Z:$Z, Daily!$AB:$AB, "*허준영*", Daily!$I:$I, "수리불가",Daily!$F:$F,"<>", Daily!$G:$G, "=11") -> 0 | I15: =SUMIFS(Daily!$S:$S, Daily!$AB:$AB, "*허준영*", Daily!$I:$I, "Other", Daily!$F:$F,"<>", Daily!$G:$G, "=11") -> 0 | J15: =SUMIFS(Daily!$Z:$Z, Daily!$AB:$AB, "*허준영*", Daily!$I:$I, "Other",Daily!$F:$F,"<>", Daily!$G:$G, "=11") -> 0 | K15: =C15+E15+G15+I15 -> 0 | L15: =D15+F15+H15+J15 -> 0
B16: Dec | E16: =SUMIFS(Daily!$S:$S, Daily!$AB:$AB, "*허준영*", Daily!$I:$I, "수리완료",Daily!$F:$F,"<>", Daily!$G:$G, "=12")+SUMIFS(Daily!$S:$S, Daily!$AB:$AB, "*허준영*", Daily!$I:$I, "외주수리완료",Daily!$F:$F,"<>", Daily!$G:$G, "=12") -> 0 | F16: =SUMIFS(Daily!$Z:$Z, Daily!$AB:$AB, "*허준영*", Daily!$I:$I, "*수리완료",Daily!$F:$F,"<>", Daily!$G:$G, "=12")+SUMIFS(Daily!$Z:$Z, Daily!$AB:$AB, "*허준영*", Daily!$I:$I, "폐기",Daily!$F:$F,"<>", Daily!$G:$G, "=12")+SUMIFS(Daily!$Z:$Z, Daily!$AB:$AB, "*허준영*", Daily!$I:$I, "수리불가",Daily!$F:$F,"<>", Daily!$G:$G, "=12") -> 0 | I16: =SUMIFS(Daily!$S:$S, Daily!$AB:$AB, "*허준영*", Daily!$I:$I, "Other", Daily!$F:$F,"<>", Daily!$G:$G, "=12") -> 0 | J16: =SUMIFS(Daily!$Z:$Z, Daily!$AB:$AB, "*허준영*", Daily!$I:$I, "Other",Daily!$F:$F,"<>", Daily!$G:$G, "=12") -> 0 | K16: =C16+E16+G16+I16 -> 0 | L16: =D16+F16+H16+J16 -> 0
B17: TTL | C17: =SUM(C5:C16) -> 0 | D17: =SUM(D5:D16) -> 0 | E17: =SUM(E5:E16) -> 60 | F17: =SUM(F5:F16) -> 198 | G17: =SUM(G5:G16) -> 0 | H17: =SUM(H5:H16) -> 0 | I17: =SUM(I5:I16) -> 8 | J17: =SUM(J5:J16) -> 17 | ... L17: =SUM(L5:L16) -> 215

Sheet 박병대sum
B1: Person Activity Summary
B2: Month | C2: Category | K2: TTL
C3: Project | E3: Technical Support | G3: Overhaul | I3: Other
C4: 건수 | D4: 시간 | E4: 건수 | F4: 시간 | G4: 건수 | H4: 시간 | I4: 건수 | J4: 시간 | K4: 건수 | L4: 시간
B5: Jan | E5: =SUMIFS(Daily!$S:$S, Daily!$AB:$AB, "*박병대*", Daily!$I:$I, "수리완료",Daily!$F:$F,"<>", Daily!$G:$G, "=1")+SUMIFS(Daily!$S:$S, Daily!$AB:$AB, "*박병대*", Daily!$I:$I, "외주수리완료",Daily!$F:$F,"<>", Daily!$G:$G, "=1") -> 0 | F5: =SUMIFS(Daily!$Z:$Z, Daily!$AB:$AB, "*박병대*", Daily!$I:$I, "*수리완료",Daily!$F:$F,"<>", Daily!$G:$G, "=1")+SUMIFS(Daily!$Z:$Z, Daily!$AB:$AB, "*박병대*", Daily!$I:$I, "폐기",Daily!$F:$F,"<>", Daily!$G:$G, "=1")+SUMIFS(Daily!$Z:$Z, Daily!$AB:$AB, "*박병대*", Daily!$I:$I, "수리불가",Daily!$F:$F,"<>", Daily!$G:$G, "=1") -> 0 | I5: =SUMIFS(Daily!$S:$S, Daily!$AB:$AB, "*박병대*", Daily!$I:$I, "Other", Daily!$F:$F,"<>", Daily!$G:$G, "=1") -> 0 | J5: =SUMIFS(Daily!$Z:$Z, Daily!$AB:$AB, "*박병대*", Daily!$I:$I, "Other",Daily!$F:$F,"<>", Daily!$G:$G, "=1") -> 0 | K5: =C5+E5+G5+I5 -> 0 | L5: =D5+F5+H5+J5 -> 0
B6: Feb | E6: =SUMIFS(Daily!$S:$S, Daily!$AB:$AB, "*박병대*", Daily!$I:$I, "수리완료",Daily!$F:$F,"<>", Daily!$G:$G, "=2")+SUMIFS(Daily!$S:$S, Daily!$AB:$AB, "*박병대*", Daily!$I:$I, "외주수리완료",Daily!$F:$F,"<>", Daily!$G:$G, "=2") -> 0 | F6: =SUMIFS(Daily!$Z:$Z, Daily!$AB:$AB, "*박병대*", Daily!$I:$I, "*수리완료",Daily!$F:$F,"<>", Daily!$G:$G, "=2")+SUMIFS(Daily!$Z:$Z, Daily!$AB:$AB, "*박병대*", Daily!$I:$I, "폐기",Daily!$F:$F,"<>", Daily!$G:$G, "=2")+SUMIFS(Daily!$Z:$Z, Daily!$AB:$AB, "*박병대*", Daily!$I:$I, "수리불가",Daily!$F:$F,"<>", Daily!$G:$G, "=2") -> 0 | I6: =SUMIFS(Daily!$S:$S, Daily!$AB:$AB, "*박병대*", Daily!$I:$I, "Other", Daily!$F:$F,"<>", Daily!$G:$G, "=2") -> 0 | J6: =SUMIFS(Daily!$Z:$Z, Daily!$AB:$AB, "*박병대*", Daily!$I:$I, "Other",Daily!$F:$F,"<>", Daily!$G:$G, "=2") -> 0 | K6: =C6+E6+G6+I6 -> 0 | L6: =D6+F6+H6+J6 -> 0
B7: Mar | E7: =SUMIFS(Daily!$S:$S, Daily!$AB:$AB, "*박병대*", Daily!$I:$I, "수리완료",Daily!$F:$F,"<>", Daily!$G:$G, "=3")+SUMIFS(Daily!$S:$S, Daily!$AB:$AB, "*박병대*", Daily!$I:$I, "외주수리완료",Daily!$F:$F,"<>", Daily!$G:$G, "=3") -> 0 | F7: =SUMIFS(Daily!$Z:$Z, Daily!$AB:$AB, "*박병대*", Daily!$I:$I, "*수리완료",Daily!$F:$F,"<>", Daily!$G:$G, "=3")+SUMIFS(Daily!$Z:$Z, Daily!$AB:$AB, "*박병대*", Daily!$I:$I, "폐기",Daily!$F:$F,"<>", Daily!$G:$G, "=3")+SUMIFS(Daily!$Z:$Z, Daily!$AB:$AB, "*박병대*", Daily!$I:$I, "수리불가",Daily!$F:$F,"<>", Daily!$G:$G, "=3") -> 0 | I7: =SUMIFS(Daily!$S:$S, Daily!$AB:$AB, "*박병대*", Daily!$I:$I, "Other", Daily!$F:$F,"<>", Daily!$G:$G, "=3") -> 0 | J7: =SUMIFS(Daily!$Z:$Z, Daily!$AB:$AB, "*박병대*", Daily!$I:$I, "Other",Daily!$F:$F,"<>", Daily!$G:$G, "=3") -> 0 | K7: =C7+E7+G7+I7 -> 0 | L7: =D7+F7+H7+J7 -> 0
B8: Apr | E8: =SUMIFS(Daily!$S:$S, Daily!$AB:$AB, "*박병대*", Daily!$I:$I, "수리완료",Daily!$F:$F,"<>", Daily!$G:$G, "=4")+SUMIFS(Daily!$S:$S, Daily!$AB:$AB, "*박병대*", Daily!$I:$I, "외주수리완료",Daily!$F:$F,"<>", Daily!$G:$G, "=4") -> 0 | F8: =SUMIFS(Daily!$Z:$Z, Daily!$AB:$AB, "*박병대*", Daily!$I:$I, "*수리완료",Daily!$F:$F,"<>", Daily!$G:$G, "=4")+SUMIFS(Daily!$Z:$Z, Daily!$AB:$AB, "*박병대*", Daily!$I:$I, "폐기",Daily!$F:$F,"<>", Daily!$G:$G, "=4")+SUMIFS(Daily!$Z:$Z, Daily!$AB:$AB, "*박병대*", Daily!$I:$I, "수리불가",Daily!$F:$F,"<>", Daily!$G:$G, "=4") -> 0 | I8: =SUMIFS(Daily!$S:$S, Daily!$AB:$AB, "*박병대*", Daily!$I:$I, "Other", Daily!$F:$F,"<>", Daily!$G:$G, "=4") -> 0 | J8: =SUMIFS(Daily!$Z:$Z, Daily!$AB:$AB, "*박병대*", Daily!$I:$I, "Other",Daily!$F:$F,"<>", Daily!$G:$G, "=4") -> 0 | K8: =C8+E8+G8+I8 -> 0 | L8: =D8+F8+H8+J8 -> 0
B9: May | E9: =SUMIFS(Daily!$S:$S, Daily!$AB:$AB, "*박병대*", Daily!$I:$I, "수리완료",Daily!$F:$F,"<>", Daily!$G:$G, "=5")+SUMIFS(Daily!$S:$S, Daily!$AB:$AB, "*박병대*", Daily!$I:$I, "외주수리완료",Daily!$F:$F,"<>", Daily!$G:$G, "=5") -> 0 | F9: =SUMIFS(Daily!$Z:$Z, Daily!$AB:$AB, "*박병대*", Daily!$I:$I, "*수리완료",Daily!$F:$F,"<>", Daily!$G:$G, "=5")+SUMIFS(Daily!$Z:$Z, Daily!$AB:$AB, "*박병대*", Daily!$I:$I, "폐기",Daily!$F:$F,"<>", Daily!$G:$G, "=5")+SUMIFS(Daily!$Z:$Z, Daily!$AB:$AB, "*박병대*", Daily!$I:$I, "수리불가",Daily!$F:$F,"<>", Daily!$G:$G, "=5") -> 0 | I9: =SUMIFS(Daily!$S:$S, Daily!$AB:$AB, "*박병대*", Daily!$I:$I, "Other", Daily!$F:$F,"<>", Daily!$G:$G, "=5") -> 0 | J9: =SUMIFS(Daily!$Z:$Z, Daily!$AB:$AB, "*박병대*", Daily!$I:$I, "Other",Daily!$F:$F,"<>", Daily!$G:$G, "=5") -> 0 | K9: =C9+E9+G9+I9 -> 0 | L9: =D9+F9+H9+J9 -> 0
B10: Jun | E10: =SUMIFS(Daily!$S:$S, Daily!$AB:$AB, "*박병대*", Daily!$I:$I, "수리완료",Daily!$F:$F,"<>", Daily!$G:$G, "=6")+SUMIFS(Daily!$S:$S, Daily!$AB:$AB, "*박병대*", Daily!$I:$I, "외주수리완료",Daily!$F:$F,"<>", Daily!$G:$G, "=6") -> 0 | F10: =SUMIFS(Daily!$Z:$Z, Daily!$AB:$AB, "*박병대*", Daily!$I:$I, "*수리완료",Daily!$F:$F,"<>", Daily!$G:$G, "=6")+SUMIFS(Daily!$Z:$Z, Daily!$AB:$AB, "*박병대*", Daily!$I:$I, "폐기",Daily!$F:$F,"<>", Daily!$G:$G, "=6")+SUMIFS(Daily!$Z:$Z, Daily!$AB:$AB, "*박병대*", Daily!$I:$I, "수리불가",Daily!$F:$F,"<>", Daily!$G:$G, "=6") -> 0 | I10: =SUMIFS(Daily!$S:$S, Daily!$AB:$AB, "*박병대*", Daily!$I:$I, "Other", Daily!$F:$F,"<>", Daily!$G:$G, "=6") -> 0 | J10: =SUMIFS(Daily!$Z:$Z, Daily!$AB:$AB, "*박병대*", Daily!$I:$I, "Other",Daily!$F:$F,"<>", Daily!$G:$G, "=6") -> 0 | K10: =C10+E10+G10+I10 -> 0 | L10: =D10+F10+H10+J10 -> 0
B11: Jul | E11: =SUMIFS(Daily!$S:$S, Daily!$AB:$AB, "*박병대*", Daily!$I:$I, "수리완료",Daily!$F:$F,"<>", Daily!$G:$G, "=7")+SUMIFS(Daily!$S:$S, Daily!$AB:$AB, "*박병대*", Daily!$I:$I, "외주수리완료",Daily!$F:$F,"<>", Daily!$G:$G, "=7") -> 0 | F11: =SUMIFS(Daily!$Z:$Z, Daily!$AB:$AB, "*박병대*", Daily!$I:$I, "*수리완료",Daily!$F:$F,"<>", Daily!$G:$G, "=7")+SUMIFS(Daily!$Z:$Z, Daily!$AB:$AB, "*박병대*", Daily!$I:$I, "폐기",Daily!$F:$F,"<>", Daily!$G:$G, "=7")+SUMIFS(Daily!$Z:$Z, Daily!$AB:$AB, "*박병대*", Daily!$I:$I, "수리불가",Daily!$F:$F,"<>", Daily!$G:$G, "=7") -> 0 | I11: =SUMIFS(Daily!$S:$S, Daily!$AB:$AB, "*박병대*", Daily!$I:$I, "Other", Daily!$F:$F,"<>", Daily!$G:$G, "=7") -> 0 | J11: =SUMIFS(Daily!$Z:$Z, Daily!$AB:$AB, "*박병대*", Daily!$I:$I, "Other",Daily!$F:$F,"<>", Daily!$G:$G, "=7") -> 0 | K11: =C11+E11+G11+I11 -> 0 | L11: =D11+F11+H11+J11 -> 0
B12: Aug | E12: =SUMIFS(Daily!$S:$S, Daily!$AB:$AB, "*박병대*", Daily!$I:$I, "수리완료",Daily!$F:$F,"<>", Daily!$G:$G, "=8")+SUMIFS(Daily!$S:$S, Daily!$AB:$AB, "*박병대*", Daily!$I:$I, "외주수리완료",Daily!$F:$F,"<>", Daily!$G:$G, "=8") -> 0 | F12: =SUMIFS(Daily!$Z:$Z, Daily!$AB:$AB, "*박병대*", Daily!$I:$I, "*수리완료",Daily!$F:$F,"<>", Daily!$G:$G, "=8")+SUMIFS(Daily!$Z:$Z, Daily!$AB:$AB, "*박병대*", Daily!$I:$I, "폐기",Daily!$F:$F,"<>", Daily!$G:$G, "=8")+SUMIFS(Daily!$Z:$Z, Daily!$AB:$AB, "*박병대*", Daily!$I:$I, "수리불가",Daily!$F:$F,"<>", Daily!$G:$G, "=8") -> 0 | I12: =SUMIFS(Daily!$S:$S, Daily!$AB:$AB, "*박병대*", Daily!$I:$I, "Other", Daily!$F:$F,"<>", Daily!$G:$G, "=8") -> 0 | J12: =SUMIFS(Daily!$Z:$Z, Daily!$AB:$AB, "*박병대*", Daily!$I:$I, "Other",Daily!$F:$F,"<>", Daily!$G:$G, "=8") -> 0 | K12: =C12+E12+G12+I12 -> 0 | L12: =D12+F12+H12+J12 -> 0
B13: Sep | E13: =SUMIFS(Daily!$S:$S, Daily!$AB:$AB, "*박병대*", Daily!$I:$I, "수리완료",Daily!$F:$F,"<>", Daily!$G:$G, "=9")+SUMIFS(Daily!$S:$S, Daily!$AB:$AB, "*박병대*", Daily!$I:$I, "외주수리완료",Daily!$F:$F,"<>", Daily!$G:$G, "=9") -> 0 | F13: =SUMIFS(Daily!$Z:$Z, Daily!$AB:$AB, "*박병대*", Daily!$I:$I, "*수리완료",Daily!$F:$F,"<>", Daily!$G:$G, "=9")+SUMIFS(Daily!$Z:$Z, Daily!$AB:$AB, "*박병대*", Daily!$I:$I, "폐기",Daily!$F:$F,"<>", Daily!$G:$G, "=9")+SUMIFS(Daily!$Z:$Z, Daily!$AB:$AB, "*박병대*", Daily!$I:$I, "수리불가",Daily!$F:$F,"<>", Daily!$G:$G, "=9") -> 0 | I13: =SUMIFS(Daily!$S:$S, Daily!$AB:$AB, "*박병대*", Daily!$I:$I, "Other", Daily!$F:$F,"<>", Daily!$G:$G, "=9") -> 0 | J13: =SUMIFS(Daily!$Z:$Z, Daily!$AB:$AB, "*박병대*", Daily!$I:$I, "Other",Daily!$F:$F,"<>", Daily!$G:$G, "=9") -> 0 | K13: =C13+E13+G13+I13 -> 0 | L13: =D13+F13+H13+J13 -> 0
B14: Oct | E14: =SUMIFS(Daily!$S:$S, Daily!$AB:$AB, "*박병대*", Daily!$I:$I, "수리완료",Daily!$F:$F,"<>", Daily!$G:$G, "=10")+SUMIFS(Daily!$S:$S, Daily!$AB:$AB, "*박병대*", Daily!$I:$I, "외주수리완료",Daily!$F:$F,"<>", Daily!$G:$G, "=10") -> 0 | F14: =SUMIFS(Daily!$Z:$Z, Daily!$AB:$AB, "*박병대*", Daily!$I:$I, "*수리완료",Daily!$F:$F,"<>", Daily!$G:$G, "=10")+SUMIFS(Daily!$Z:$Z, Daily!$AB:$AB, "*박병대*", Daily!$I:$I, "폐기",Daily!$F:$F,"<>", Daily!$G:$G, "=10")+SUMIFS(Daily!$Z:$Z, Daily!$AB:$AB, "*박병대*", Daily!$I:$I, "수리불가",Daily!$F:$F,"<>", Daily!$G:$G, "=10") -> 0 | I14: =SUMIFS(Daily!$S:$S, Daily!$AB:$AB, "*박병대*", Daily!$I:$I, "Other", Daily!$F:$F,"<>", Daily!$G:$G, "=10") -> 0 | J14: =SUMIFS(Daily!$Z:$Z, Daily!$AB:$AB, "*박병대*", Daily!$I:$I, "Other",Daily!$F:$F,"<>", Daily!$G:$G, "=10") -> 0 | K14: =C14+E14+G14+I14 -> 0 | L14: =D14+F14+H14+J14 -> 0
B15: Nov | E15: =SUMIFS(Daily!$S:$S, Daily!$AB:$AB, "*박병대*", Daily!$I:$I, "수리완료",Daily!$F:$F,"<>", Daily!$G:$G, "=11")+SUMIFS(Daily!$S:$S, Daily!$AB:$AB, "*박병대*", Daily!$I:$I, "외주수리완료",Daily!$F:$F,"<>", Daily!$G:$G, "=11") -> 0 | F15: =SUMIFS(Daily!$Z:$Z, Daily!$AB:$AB, "*박병대*", Daily!$I:$I, "*수리완료",Daily!$F:$F,"<>", Daily!$G:$G, "=11")+SUMIFS(Daily!$Z:$Z, Daily!$AB:$AB, "*박병대*", Daily!$I:$I, "폐기",Daily!$F:$F,"<>", Daily!$G:$G, "=11")+SUMIFS(Daily!$Z:$Z, Daily!$AB:$AB, "*박병대*", Daily!$I:$I, "수리불가",Daily!$F:$F,"<>", Daily!$G:$G, "=11") -> 0 | I15: =SUMIFS(Daily!$S:$S, Daily!$AB:$AB, "*박병대*", Daily!$I:$I, "Other", Daily!$F:$F,"<>", Daily!$G:$G, "=11") -> 0 | J15: =SUMIFS(Daily!$Z:$Z, Daily!$AB:$AB, "*박병대*", Daily!$I:$I, "Other",Daily!$F:$F,"<>", Daily!$G:$G, "=11") -> 0 | K15: =C15+E15+G15+I15 -> 0 | L15: =D15+F15+H15+J15 -> 0
B16: Dec | E16: =SUMIFS(Daily!$S:$S, Daily!$AB:$AB, "*박병대*", Daily!$I:$I, "수리완료",Daily!$F:$F,"<>", Daily!$G:$G, "=12")+SUMIFS(Daily!$S:$S, Daily!$AB:$AB, "*박병대*", Daily!$I:$I, "외주수리완료",Daily!$F:$F,"<>", Daily!$G:$G, "=12") -> 0 | F16: =SUMIFS(Daily!$Z:$Z, Daily!$AB:$AB, "*박병대*", Daily!$I:$I, "*수리완료",Daily!$F:$F,"<>", Daily!$G:$G, "=12")+SUMIFS(Daily!$Z:$Z, Daily!$AB:$AB, "*박병대*", Daily!$I:$I, "폐기",Daily!$F:$F,"<>", Daily!$G:$G, "=12")+SUMIFS(Daily!$Z:$Z, Daily!$AB:$AB, "*박병대*", Daily!$I:$I, "수리불가",Daily!$F:$F,"<>", Daily!$G:$G, "=12") -> 0 | I16: =SUMIFS(Daily!$S:$S, Daily!$AB:$AB, "*박병대*", Daily!$I:$I, "Other", Daily!$F:$F,"<>", Daily!$G:$G, "=12") -> 0 | J16: =SUMIFS(Daily!$Z:$Z, Daily!$AB:$AB, "*박병대*", Daily!$I:$I, "Other",Daily!$F:$F,"<>", Daily!$G:$G, "=12") -> 0 | K16: =C16+E16+G16+I16 -> 0 | L16: =D16+F16+H16+J16 -> 0
B17: TTL | C17: =SUM(C5:C16) -> 0 | D17: =SUM(D5:D16) -> 0 | E17: =SUM(E5:E16) -> 0 | F17: =SUM(F5:F16) -> 0 | G17: =SUM(G5:G16) -> 0 | H17: =SUM(H5:H16) -> 0 | I17: =SUM(I5:I16) -> 0 | J17: =SUM(J5:J16) -> 0 | ... L17: =SUM(L5:L16) -> 0

Sheet 최준영sum
B1: Person Activity Summary
B2: Month | C2: Category | K2: TTL
C3: Project | E3: Technical Support | G3: Overhaul | I3: Other
C4: 건수 | D4: 시간 | E4: 건수 | F4: 시간 | G4: 건수 | H4: 시간 | I4: 건수 | J4: 시간 | K4: 건수 | L4: 시간
B5: Jan | E5: =SUMIFS(Daily!$S:$S, Daily!$AB:$AB, "*최준영*", Daily!$I:$I, "*수리완료",Daily!$F:$F,"<>", Daily!$G:$G, "=1") -> 24 | F5: =SUMIFS(Daily!$Z:$Z, Daily!$AB:$AB, "*최준영*", Daily!$I:$I, "*수리완료",Daily!$F:$F,"<>", Daily!$G:$G, "=1")+SUMIFS(Daily!$Z:$Z, Daily!$AB:$AB, "*최준영*", Daily!$I:$I, "폐기",Daily!$F:$F,"<>", Daily!$G:$G, "=1")+SUMIFS(Daily!$Z:$Z, Daily!$AB:$AB, "*최준영*", Daily!$I:$I, "수리불가",Daily!$F:$F,"<>", Daily!$G:$G, "=1") -> 77 | I5: =SUMIFS(Daily!$S:$S, Daily!$AB:$AB, "*최준영*", Daily!$I:$I, "Other", Daily!$F:$F,"<>", Daily!$G:$G, "=1") -> 3 | J5: =SUMIFS(Daily!$Z:$Z, Daily!$AB:$AB, "*최준영*", Daily!$I:$I, "Other",Daily!$F:$F,"<>", Daily!$G:$G, "=1") -> 32 | K5: =C5+E5+G5+I5 -> 27 | L5: =D5+F5+H5+J5 -> 109
B6: Feb | E6: =SUMIFS(Daily!$S:$S, Daily!$AB:$AB, "*최준영*", Daily!$I:$I, "*수리완료",Daily!$F:$F,"<>", Daily!$G:$G, "=2") -> 27 | F6: =SUMIFS(Daily!$Z:$Z, Daily!$AB:$AB, "*최준영*", Daily!$I:$I, "*수리완료",Daily!$F:$F,"<>", Daily!$G:$G, "=2")+SUMIFS(Daily!$Z:$Z, Daily!$AB:$AB, "*최준영*", Daily!$I:$I, "폐기",Daily!$F:$F,"<>", Daily!$G:$G, "=2")+SUMIFS(Daily!$Z:$Z, Daily!$AB:$AB, "*최준영*", Daily!$I:$I, "수리불가",Daily!$F:$F,"<>", Daily!$G:$G, "=2") -> 117 | I6: =SUMIFS(Daily!$S:$S, Daily!$AB:$AB, "*최준영*", Daily!$I:$I, "Other", Daily!$F:$F,"<>", Daily!$G:$G, "=2") -> 0 | J6: =SUMIFS(Daily!$Z:$Z, Daily!$AB:$AB, "*최준영*", Daily!$I:$I, "Other",Daily!$F:$F,"<>", Daily!$G:$G, "=2") -> 8 | K6: =C6+E6+G6+I6 -> 27 | L6: =D6+F6+H6+J6 -> 125
B7: Mar | E7: =SUMIFS(Daily!$S:$S, Daily!$AB:$AB, "*최준영*", Daily!$I:$I, "*수리완료",Daily!$F:$F,"<>", Daily!$G:$G, "=3") -> 2 | F7: =SUMIFS(Daily!$Z:$Z, Daily!$AB:$AB, "*최준영*", Daily!$I:$I, "*수리완료",Daily!$F:$F,"<>", Daily!$G:$G, "=3")+SUMIFS(Daily!$Z:$Z, Daily!$AB:$AB, "*최준영*", Daily!$I:$I, "폐기",Daily!$F:$F,"<>", Daily!$G:$G, "=3")+SUMIFS(Daily!$Z:$Z, Daily!$AB:$AB, "*최준영*", Daily!$I:$I, "수리불가",Daily!$F:$F,"<>", Daily!$G:$G, "=3") -> 12 | I7: =SUMIFS(Daily!$S:$S, Daily!$AB:$AB, "*최준영*", Daily!$I:$I, "Other", Daily!$F:$F,"<>", Daily!$G:$G, "=3") -> 0 | J7: =SUMIFS(Daily!$Z:$Z, Daily!$AB:$AB, "*최준영*", Daily!$I:$I, "Other",Daily!$F:$F,"<>", Daily!$G:$G, "=3") -> 0 | K7: =C7+E7+G7+I7 -> 2 | L7: =D7+F7+H7+J7 -> 12
B8: Apr | E8: =SUMIFS(Daily!$S:$S, Daily!$AB:$AB, "*최준영*", Daily!$I:$I, "*수리완료",Daily!$F:$F,"<>", Daily!$G:$G, "=4") -> 0 | F8: =SUMIFS(Daily!$Z:$Z, Daily!$AB:$AB, "*최준영*", Daily!$I:$I, "*수리완료",Daily!$F:$F,"<>", Daily!$G:$G, "=4")+SUMIFS(Daily!$Z:$Z, Daily!$AB:$AB, "*최준영*", Daily!$I:$I, "폐기",Daily!$F:$F,"<>", Daily!$G:$G, "=4")+SUMIFS(Daily!$Z:$Z, Daily!$AB:$AB, "*최준영*", Daily!$I:$I, "수리불가",Daily!$F:$F,"<>", Daily!$G:$G, "=4") -> 0 | I8: =SUMIFS(Daily!$S:$S, Daily!$AB:$AB, "*최준영*", Daily!$I:$I, "Other", Daily!$F:$F,"<>", Daily!$G:$G, "=4") -> 0 | J8: =SUMIFS(Daily!$Z:$Z, Daily!$AB:$AB, "*최준영*", Daily!$I:$I, "Other",Daily!$F:$F,"<>", Daily!$G:$G, "=4") -> 0 | K8: =C8+E8+G8+I8 -> 0 | L8: =D8+F8+H8+J8 -> 0
B9: May | E9: =SUMIFS(Daily!$S:$S, Daily!$AB:$AB, "*최준영*", Daily!$I:$I, "*수리완료",Daily!$F:$F,"<>", Daily!$G:$G, "=5") -> 0 | F9: =SUMIFS(Daily!$Z:$Z, Daily!$AB:$AB, "*최준영*", Daily!$I:$I, "*수리완료",Daily!$F:$F,"<>", Daily!$G:$G, "=5")+SUMIFS(Daily!$Z:$Z, Daily!$AB:$AB, "*최준영*", Daily!$I:$I, "폐기",Daily!$F:$F,"<>", Daily!$G:$G, "=5")+SUMIFS(Daily!$Z:$Z, Daily!$AB:$AB, "*최준영*", Daily!$I:$I, "수리불가",Daily!$F:$F,"<>", Daily!$G:$G, "=5") -> 0 | I9: =SUMIFS(Daily!$S:$S, Daily!$AB:$AB, "*최준영*", Daily!$I:$I, "Other", Daily!$F:$F,"<>", Daily!$G:$G, "=5") -> 0 | J9: =SUMIFS(Daily!$Z:$Z, Daily!$AB:$AB, "*최준영*", Daily!$I:$I, "Other",Daily!$F:$F,"<>", Daily!$G:$G, "=5") -> 0 | K9: =C9+E9+G9+I9 -> 0 | L9: =D9+F9+H9+J9 -> 0
B10: Jun | E10: =SUMIFS(Daily!$S:$S, Daily!$AB:$AB, "*최준영*", Daily!$I:$I, "*수리완료",Daily!$F:$F,"<>", Daily!$G:$G, "=6") -> 0 | F10: =SUMIFS(Daily!$Z:$Z, Daily!$AB:$AB, "*최준영*", Daily!$I:$I, "*수리완료",Daily!$F:$F,"<>", Daily!$G:$G, "=6")+SUMIFS(Daily!$Z:$Z, Daily!$AB:$AB, "*최준영*", Daily!$I:$I, "폐기",Daily!$F:$F,"<>", Daily!$G:$G, "=6")+SUMIFS(Daily!$Z:$Z, Daily!$AB:$AB, "*최준영*", Daily!$I:$I, "수리불가",Daily!$F:$F,"<>", Daily!$G:$G, "=6") -> 0 | I10: =SUMIFS(Daily!$S:$S, Daily!$AB:$AB, "*최준영*", Daily!$I:$I, "Other", Daily!$F:$F,"<>", Daily!$G:$G, "=6") -> 0 | J10: =SUMIFS(Daily!$Z:$Z, Daily!$AB:$AB, "*최준영*", Daily!$I:$I, "Other",Daily!$F:$F,"<>", Daily!$G:$G, "=6") -> 0 | K10: =C10+E10+G10+I10 -> 0 | L10: =D10+F10+H10+J10 -> 0
B11: Jul | E11: =SUMIFS(Daily!$S:$S, Daily!$AB:$AB, "*최준영*", Daily!$I:$I, "*수리완료",Daily!$F:$F,"<>", Daily!$G:$G, "=7") -> 0 | F11: =SUMIFS(Daily!$Z:$Z, Daily!$AB:$AB, "*최준영*", Daily!$I:$I, "*수리완료",Daily!$F:$F,"<>", Daily!$G:$G, "=7")+SUMIFS(Daily!$Z:$Z, Daily!$AB:$AB, "*최준영*", Daily!$I:$I, "폐기",Daily!$F:$F,"<>", Daily!$G:$G, "=7")+SUMIFS(Daily!$Z:$Z, Daily!$AB:$AB, "*최준영*", Daily!$I:$I, "수리불가",Daily!$F:$F,"<>", Daily!$G:$G, "=7") -> 0 | I11: =SUMIFS(Daily!$S:$S, Daily!$AB:$AB, "*최준영*", Daily!$I:$I, "Other", Daily!$F:$F,"<>", Daily!$G:$G, "=7") -> 0 | J11: =SUMIFS(Daily!$Z:$Z, Daily!$AB:$AB, "*최준영*", Daily!$I:$I, "Other",Daily!$F:$F,"<>", Daily!$G:$G, "=7") -> 0 | K11: =C11+E11+G11+I11 -> 0 | L11: =D11+F11+H11+J11 -> 0
B12: Aug | E12: =SUMIFS(Daily!$S:$S, Daily!$AB:$AB, "*최준영*", Daily!$I:$I, "*수리완료",Daily!$F:$F,"<>", Daily!$G:$G, "=8") -> 0 | F12: =SUMIFS(Daily!$Z:$Z, Daily!$AB:$AB, "*최준영*", Daily!$I:$I, "*수리완료",Daily!$F:$F,"<>", Daily!$G:$G, "=8")+SUMIFS(Daily!$Z:$Z, Daily!$AB:$AB, "*최준영*", Daily!$I:$I, "폐기",Daily!$F:$F,"<>", Daily!$G:$G, "=8")+SUMIFS(Daily!$Z:$Z, Daily!$AB:$AB, "*최준영*", Daily!$I:$I, "수리불가",Daily!$F:$F,"<>", Daily!$G:$G, "=8") -> 0 | I12: =SUMIFS(Daily!$S:$S, Daily!$AB:$AB, "*최준영*", Daily!$I:$I, "Other", Daily!$F:$F,"<>", Daily!$G:$G, "=8") -> 0 | J12: =SUMIFS(Daily!$Z:$Z, Daily!$AB:$AB, "*최준영*", Daily!$I:$I, "Other",Daily!$F:$F,"<>", Daily!$G:$G, "=8") -> 0 | K12: =C12+E12+G12+I12 -> 0 | L12: =D12+F12+H12+J12 -> 0
B13: Sep | E13: =SUMIFS(Daily!$S:$S, Daily!$AB:$AB, "*최준영*", Daily!$I:$I, "*수리완료",Daily!$F:$F,"<>", Daily!$G:$G, "=9") -> 0 | F13: =SUMIFS(Daily!$Z:$Z, Daily!$AB:$AB, "*최준영*", Daily!$I:$I, "*수리완료",Daily!$F:$F,"<>", Daily!$G:$G, "=9")+SUMIFS(Daily!$Z:$Z, Daily!$AB:$AB, "*최준영*", Daily!$I:$I, "폐기",Daily!$F:$F,"<>", Daily!$G:$G, "=9")+SUMIFS(Daily!$Z:$Z, Daily!$AB:$AB, "*최준영*", Daily!$I:$I, "수리불가",Daily!$F:$F,"<>", Daily!$G:$G, "=9") -> 0 | I13: =SUMIFS(Daily!$S:$S, Daily!$AB:$AB, "*최준영*", Daily!$I:$I, "Other", Daily!$F:$F,"<>", Daily!$G:$G, "=9") -> 0 | J13: =SUMIFS(Daily!$Z:$Z, Daily!$AB:$AB, "*최준영*", Daily!$I:$I, "Other",Daily!$F:$F,"<>", Daily!$G:$G, "=9") -> 0 | K13: =C13+E13+G13+I13 -> 0 | L13: =D13+F13+H13+J13 -> 0
B14: Oct | E14: =SUMIFS(Daily!$S:$S, Daily!$AB:$AB, "*최준영*", Daily!$I:$I, "*수리완료",Daily!$F:$F,"<>", Daily!$G:$G, "=10") -> 0 | F14: =SUMIFS(Daily!$Z:$Z, Daily!$AB:$AB, "*최준영*", Daily!$I:$I, "*수리완료",Daily!$F:$F,"<>", Daily!$G:$G, "=10")+SUMIFS(Daily!$Z:$Z, Daily!$AB:$AB, "*최준영*", Daily!$I:$I, "폐기",Daily!$F:$F,"<>", Daily!$G:$G, "=10")+SUMIFS(Daily!$Z:$Z, Daily!$AB:$AB, "*최준영*", Daily!$I:$I, "수리불가",Daily!$F:$F,"<>", Daily!$G:$G, "=10") -> 0 | I14: =SUMIFS(Daily!$S:$S, Daily!$AB:$AB, "*최준영*", Daily!$I:$I, "Other", Daily!$F:$F,"<>", Daily!$G:$G, "=10") -> 0 | J14: =SUMIFS(Daily!$Z:$Z, Daily!$AB:$AB, "*최준영*", Daily!$I:$I, "Other",Daily!$F:$F,"<>", Daily!$G:$G, "=10") -> 0 | K14: =C14+E14+G14+I14 -> 0 | L14: =D14+F14+H14+J14 -> 0
