Workbook

Sheet Daily
A1: Mon | B1: 수리완료 ww | C1: Site | D1: Requester | E1: 입고일 | F1: 수리완료일 | G1: 완료월 | H1: Status | I1: 분류 | J1: Line | K1: Divisoin | L1: Team | M1: Process | N1: Equipment | O1: Board Name | P1: 보드규격 ( Board# / Vender Part# / SID#) | Q1: 증 상/조치 | R1: S/N | S1: Q'TY | T1: New B/D Price(K\) | U1: Outsourcing Price(K\) | V1: Repair Cost (K\) | W1: Cost Reduction(K￦) | X1: 자체/외주 | Y1: 외주업체 | Z1: Repair Time(H) | AA1: Delivery | AB1: Engineer | AD1: Repair Cost K$ | AE1: Costsave K$
B2: =IF(F2>0,IFERROR(WEEKNUM(F2),"")-1,"") -> 9 | C2: =IF(D2=0,"",(IF(LEFT(D2,3)="ATK","ATK",IF(LEFT(D2,2)="AT",D2,"ATK")))) -> ATK | D2: 김진만 | E2: 2021-03-03 | F2: 2021-03-03 | G2: =IF(F2>0,MONTH(F2),"") -> 3 | H2: =IF(I2=0,"",IF(RIGHT(I2,2)="완료","완료",IF(RIGHT(I2,2)="불가","수리불가",IF(RIGHT(I2,1)="중","수리중","Other")))) -> 완료 | I2: 수리완료 | J2: F | K2: 1T4P | L2: =LEFT(K2,2) -> 1T | M2: B/E | N2: 한미 | O2: Driver | P2: sgdv-2r9e11a | Q2: error 720:jog test motor no :sgmmv-a3e2a21 spr 보유 pn002.2 0001 -> 0100 앱솔루트encode를 incrimantal로 사용가 0001이면 810 error 나옴 (중요) pn 50B 8887 -> 888B Reverse allwed pn 50A -> 8881 FWD allowed cn4 2 U 4 G 1 V 3 W cn3 L2 (-) L1 (+24V) G C1 (+24V) G C2 (-) cn2 1 2 servo driver encode connector + 3 4 - 5 6 한미 장비에서 8개 driver parameter 상이함 | S2: 1 | T2: 500 | U2: =(T2*50)/100*S2 -> 250 | V2: 0 | W2: =U2-V2 -> 250 | X2: 자체 | Z2: 5 | AA2: =F2-E2 -> 0 | AB2: 강영구 | AD2: =V2/1100 -> 0
B3: =IF(F3>0,IFERROR(WEEKNUM(F3),"")-1,"") -> 9 | C3: =IF(D3=0,"",(IF(LEFT(D3,3)="ATK","ATK",IF(LEFT(D3,2)="AT",D3,"ATK")))) -> ATK | D3: EE1 | E3: 2021-03-03 | F3: 2021-03-03 | G3: =IF(F3>0,MONTH(F3),"") -> 3 | H3: =IF(I3=0,"",IF(RIGHT(I3,2)="완료","완료",IF(RIGHT(I3,2)="불가","수리불가",IF(RIGHT(I3,1)="중","수리중","Other")))) -> Other | I3: 폐기 | J3: EE | K3: EE1 | L3: =LEFT(K3,2) -> EE | M3: IOINIZER | N3: ANAMI | O3: 제어보드 | P3: iONIZER | Q3: 폐기 이온아이져에서 부품 장탈:부품 팬 220V 3EA 제어 보드 3EA 전원보드 고압 제어보드 | S3: 1 | T3: 970 | U3: =(T3*50)/100*S3 -> 485 | V3: 0 | W3: =U3-V3 -> 485 | X3: 자체 | Z3: 4 | AA3: =F3-E3 -> 0 | AB3: 최준영 | AD3: =V3/1100 -> 0
B4: =IF(F4>0,IFERROR(WEEKNUM(F4),"")-1,"") -> 9 | C4: =IF(D4=0,"",(IF(LEFT(D4,3)="ATK","ATK",IF(LEFT(D4,2)="AT",D4,"ATK")))) -> ATK | D4: 차한호 | E4: 2021-03-02 | F4: 2021-03-02 | G4: =IF(F4>0,MONTH(F4),"") -> 3 | H4: =IF(I4=0,"",IF(RIGHT(I4,2)="완료","완료",IF(RIGHT(I4,2)="불가","수리불가",IF(RIGHT(I4,1)="중","수리중","Other")))) -> 완료 | I4: 수리완료 | J4: A | K4: 1T4P | L4: =LEFT(K4,2) -> 1T | M4: MONITOR | N4: DISCO | O4: Touch Monitor | Q4: Touch 불량:중고 touch 교체 후 line에서 test 예정. | S4: 1 | T4: 3000 | U4: =(T4*50)/100*S4 -> 1500 | V4: 0 | W4: =U4-V4 -> 1500 | X4: 자체 | Z4: 2 | AA4: =F4-E4 -> 0 | AB4: 정기수 | AD4: =V4/1100 -> 0
B5: =IF(F5>0,IFERROR(WEEKNUM(F5),"")-1,"") -> 9 | C5: =IF(D5=0,"",(IF(LEFT(D5,3)="ATK","ATK",IF(LEFT(D5,2)="AT",D5,"ATK")))) -> ATK | D5: 박동진 | E5: 2021-03-02 | F5: 2021-03-02 | G5: =IF(F5>0,MONTH(F5),"") -> 3 | H5: =IF(I5=0,"",IF(RIGHT(I5,2)="완료","완료",IF(RIGHT(I5,2)="불가","수리불가",IF(RIGHT(I5,1)="중","수리중","Other")))) -> 완료 | I5: 수리완료 | J5: 인사총무 | K5: 인사총무 | L5: =LEFT(K5,2) -> 인사 | M5: 정문 보안실 | N5: CCTV | O5: DVR # 7 | Q5: DVR #7 HDD 2TB 인식못함:HDD 탈 부착 및 하드디스크 포맷 및 재 설정 | S5: 1 | T5: 20000 | U5: =(T5*50)/100*S5 -> 10000 | V5: 0 | W5: =U5-V5 -> 10000 | X5: 자체 | Z5: 4 | AA5: =F5-E5 -> 0 | AB5: 장은철 | AD5: =V5/1100 -> 0
B6: =IF(F6>0,IFERROR(WEEKNUM(F6),"")-1,"") -> 9 | C6: =IF(D6=0,"",(IF(LEFT(D6,3)="ATK","ATK",IF(LEFT(D6,2)="AT",D6,"ATK")))) -> ATK | D6: 박동진 | E6: 2021-03-02 | F6: 2021-03-02 | G6: =IF(F6>0,MONTH(F6),"") -> 3 | H6: =IF(I6=0,"",IF(RIGHT(I6,2)="완료","완료",IF(RIGHT(I6,2)="불가","수리불가",IF(RIGHT(I6,1)="중","수리중","Other")))) -> Other | I6: Other | J6: 인사총무 | K6: 인사총무 | L6: =LEFT(K6,2) -> 인사 | M6: 정문 보안실 | N6: CCTV | O6: DVR # 7 | Q6: DVR #7 HDD 2TB 인식못함:HDD 탈 부착 및 하드디스크 포맷 및 재 설정 | S6: 1 | T6: 0 | U6: =(T6*50)/100*S6 -> 0 | V6: 0 | W6: =U6-V6 -> 0 | X6: 자체 | Z6: 4 | AA6: =F6-E6 -> 0 | AB6: 허준영 | AD6: =V6/1100 -> 0
B7: =IF(F7>0,IFERROR(WEEKNUM(F7),"")-1,"") -> 9 | C7: =IF(D7=0,"",(IF(LEFT(D7,3)="ATK","ATK",IF(LEFT(D7,2)="AT",D7,"ATK")))) -> ATK | D7: 박동진 | E7: 2021-03-02 | F7: 2021-03-02 | G7: =IF(F7>0,MONTH(F7),"") -> 3 | H7: =IF(I7=0,"",IF(RIGHT(I7,2)="완료","완료",IF(RIGHT(I7,2)="불가","수리불가",IF(RIGHT(I7,1)="중","수리중","Other")))) -> 완료 | I7: 수리완료 | J7: 인사총무 | K7: 인사총무 | L7: =LEFT(K7,2) -> 인사 | M7: 정문 보안실 | N7: 스피드게이트 | O7: 리모컨수신기 | Q7: 정문 및 복지동 2EA 리모컨 수신기 동작안함:리모컨 및 수신기 교체 | S7: 2 | T7: 3000 | U7: =(T7*50)/100*S7 -> 3000 | V7: 254 | W7: =U7-V7 -> 2746 | X7: 자체 | Z7: 4 | AA7: =F7-E7 -> 0 | AB7: 허준영 | AD7: =V7/1100 -> 0.23090909
B8: =IF(F8>0,IFERROR(WEEKNUM(F8),"")-1,"") -> 9 | C8: =IF(D8=0,"",(IF(LEFT(D8,3)="ATK","ATK",IF(LEFT(D8,2)="AT",D8,"ATK")))) -> ATK | D8: 박동진 | E8: 2021-03-02 | F8: 2021-03-02 | G8: =IF(F8>0,MONTH(F8),"") -> 3 | H8: =IF(I8=0,"",IF(RIGHT(I8,2)="완료","완료",IF(RIGHT(I8,2)="불가","수리불가",IF(RIGHT(I8,1)="중","수리중","Other")))) -> Other | I8: Other | J8: 인사총무 | K8: 인사총무 | L8: =LEFT(K8,2) -> 인사 | M8: 정문 보안실 | N8: 스피드게이트 | O8: 리모컨수신기 | Q8: 정문 및 복지동 2EA 리모컨 수신기 동작안함:리모컨 및 수신기 교체 | S8: 2 | T8: 0 | U8: =(T8*50)/100*S8 -> 0 | V8: 0 | W8: =U8-V8 -> 0 | X8: 자체 | Z8: 4 | AA8: =F8-E8 -> 0 | AB8: 장은철 | AD8: =V8/1100 -> 0
B9: =IF(F9>0,IFERROR(WEEKNUM(F9),"")-1,"") -> 9 | C9: =IF(D9=0,"",(IF(LEFT(D9,3)="ATK","ATK",IF(LEFT(D9,2)="AT",D9,"ATK")))) -> ATK | D9: 이현철 | E9: 2021-03-02 | F9: 2021-03-02 | G9: =IF(F9>0,MONTH(F9),"") -> 3 | H9: =IF(I9=0,"",IF(RIGHT(I9,2)="완료","완료",IF(RIGHT(I9,2)="불가","수리불가",IF(RIGHT(I9,1)="중","수리중","Other")))) -> 완료 | I9: 수리완료 | J9: C | K9: OTHER | L9: =LEFT(K9,2) -> OT | M9: 자동화 | N9: Reel Tower | O9: I/O B/D | Q9: Input out:점검후 보드 교체 | S9: 1 | T9: 4200 | U9: =(T9*50)/100*S9 -> 2100 | V9: 0 | W9: =U9-V9 -> 2100 | X9: 자체 | Z9: 4 | AB9: 최준영
B10: =IF(F10>0,IFERROR(WEEKNUM(F10),"")-1,"") -> 9 | C10: =IF(D10=0,"",(IF(LEFT(D10,3)="ATK","ATK",IF(LEFT(D10,2)="AT",D10,"ATK")))) -> ATK | D10: 김재영 | E10: 2021-03-02 | F10: 2021-03-02 | G10: =IF(F10>0,MONTH(F10),"") -> 3 | H10: =IF(I10=0,"",IF(RIGHT(I10,2)="완료","완료",IF(RIGHT(I10,2)="불가","수리불가",IF(RIGHT(I10,1)="중","수리중","Other")))) -> 완료 | I10: 수리완료 | J10: A | K10: 1T4P | L10: =LEFT(K10,2) -> 1T | M10: Mold | N10: Mold | O10: ac servo | P10: mr-j2s-10a | Q10: error 51:원인: encoder 7800교환 | S10: 1 | T10: 1000 | U10: =(T10*50)/100*S10 -> 500 | V10: 20 | W10: =U10-V10 -> 480 | X10: 자체 | Z10: 4 | AA10: =F10-E10 -> 0 | AB10: 강영구 | AD10: =V10/1100 -> 0.018181818
B11: =IF(F11>0,IFERROR(WEEKNUM(F11),"")-1,"") -> 9 | C11: =IF(D11=0,"",(IF(LEFT(D11,3)="ATK","ATK",IF(LEFT(D11,2)="AT",D11,"ATK")))) -> ATK | D11: 김재영 | E11: 2021-03-02 | F11: 2021-03-02 | G11: =IF(F11>0,MONTH(F11),"") -> 3 | H11: =IF(I11=0,"",IF(RIGHT(I11,2)="완료","완료",IF(RIGHT(I11,2)="불가","수리불가",IF(RIGHT(I11,1)="중","수리중","Other")))) -> 완료 | I11: 수리완료 | J11: A | K11: 1T4P | L11: =LEFT(K11,2) -> 1T | M11: Mold | N11: Mold | O11: MITIBISHI AC SERVO MR-J2S-10a | P11: MR-J2S-10a | Q11: error 52 :원인: encoder 불량 7800 교환 | S11: 1 | T11: 1000 | U11: =(T11*50)/100*S11 -> 500 | V11: 20 | W11: =U11-V11 -> 480 | X11: 자체 | Z11: 5 | AA11: =F11-E11 -> 0 | AB11: 강영구 | AD11: =V11/1100 -> 0.018181818
B12: =IF(F12>0,IFERROR(WEEKNUM(F12),"")-1,"") -> 9 | C12: =IF(D12=0,"",(IF(LEFT(D12,3)="ATK","ATK",IF(LEFT(D12,2)="AT",D12,"ATK")))) -> ATK | D12: 신덕우 | E12: 2021-03-02 | F12: 2021-03-02 | G12: =IF(F12>0,MONTH(F12),"") -> 3 | H12: =IF(I12=0,"",IF(RIGHT(I12,2)="완료","완료",IF(RIGHT(I12,2)="불가","수리불가",IF(RIGHT(I12,1)="중","수리중","Other")))) -> 완료 | I12: 수리완료 | J12: C | K12: 3T3P | L12: =LEFT(K12,2) -> 3T | M12: O/S TESRER | N12: Handler PC | O12: REMOTE I/O B/D | P12: A21SB-08UY04 | Q12: : | S12: 1 | T12: 600 | U12: =(T12*50)/100*S12 -> 300 | V12: 2 | W12: =U12-V12 -> 298 | X12: 자체 | Z12: 1 | AA12: =F12-E12 -> 0 | AB12: 장은철 | AD12: =V12/1100 -> 0.0018181818
B13: =IF(F13>0,IFERROR(WEEKNUM(F13),"")-1,"") -> 9 | C13: =IF(D13=0,"",(IF(LEFT(D13,3)="ATK","ATK",IF(LEFT(D13,2)="AT",D13,"ATK")))) -> ATK | D13: 서중권 | E13: 2021-03-02 | F13: 2021-03-02 | G13: =IF(F13>0,MONTH(F13),"") -> 3 | H13: =IF(I13=0,"",IF(RIGHT(I13,2)="완료","완료",IF(RIGHT(I13,2)="불가","수리불가",IF(RIGHT(I13,1)="중","수리중","Other")))) -> 완료 | I13: 수리완료 | J13: C | K13: 3T3P | L13: =LEFT(K13,2) -> 3T | N13: HANMI | O13: I/O B/D | P13: MC-16F-HM | Q13: : | S13: 1 | T13: 700 | U13: =(T13*50)/100*S13 -> 350 | V13: 1 | W13: =U13-V13 -> 349 | X13: 자체 | Z13: 1 | AA13: =F13-E13 -> 0 | AB13: 장은철 | AD13: =V13/1100 -> 0.00090909091
B14: =IF(F14>0,IFERROR(WEEKNUM(F14),"")-1,"") -> #VALUE! | C14: =IF(D14=0,"",(IF(LEFT(D14,3)="ATK","ATK",IF(LEFT(D14,2)="AT",D14,"ATK")))) -> ATK | D14: 주정민 | E14: 2021-03-02 | G14: =IF(F14>0,MONTH(F14),"") -> #VALUE! | H14: =IF(I14=0,"",IF(RIGHT(I14,2)="완료","완료",IF(RIGHT(I14,2)="불가","수리불가",IF(RIGHT(I14,1)="중","수리중","Other")))) -> 수리중 | I14: 외주수리중 | J14: K5 | K14: K5 | L14: =LEFT(K14,2) -> K5 | M14: 기술연구소 | N14: Electromigration | O14: Resistor check board | Q14: MAX4638 // MAX4639 BURN:15M 옴에서 ERROR | R14: RB0313 | S14: 1 | T14: 20000 | U14: =(T14*50)/100*S14 -> 10000 | V14: 0 | W14: =U14-V14 -> 10000 | X14: 외주 | Y14: 큐텍코리아 | Z14: 2 | AA14: =F14-E14 -> #VALUE! | AB14: 장은철 | AD14: =V14/1100 -> 0
B15: =IF(F15>0,IFERROR(WEEKNUM(F15),"")-1,"") -> 9 | C15: =IF(D15=0,"",(IF(LEFT(D15,3)="ATK","ATK",IF(LEFT(D15,2)="AT",D15,"ATK")))) -> ATK | D15: 최창경 | E15: 2021-03-02 | F15: 2021-03-02 | G15: =IF(F15>0,MONTH(F15),"") -> 3 | H15: =IF(I15=0,"",IF(RIGHT(I15,2)="완료","완료",IF(RIGHT(I15,2)="불가","수리불가",IF(RIGHT(I15,1)="중","수리중","Other")))) -> Other | I15: 폐기 | J15: C | K15: 3T4P | L15: =LEFT(K15,2) -> 3T | M15: IONIZER | N15: SIMCO 1FAN | O15: IONIZER | Q15: FAN 안돌아감, POINT 부식:점검 결과 부속품 단종으로 폐기 진행. | R15: *054940090184536* | S15: 1 | T15: 500 | U15: =(T15*50)/100*S15 -> 250 | V15: 0 | W15: =U15-V15 -> 250 | X15: 자체 | Z15: 1 | AA15: =F15-E15 -> 0 | AB15: 정기수 | AD15: =V15/1100 -> 0
B16: =IF(F16>0,IFERROR(WEEKNUM(F16),"")-1,"") -> #VALUE! | C16: =IF(D16=0,"",(IF(LEFT(D16,3)="ATK","ATK",IF(LEFT(D16,2)="AT",D16,"ATK")))) -> ATK | D16: 조현익 | E16: 2021-03-02 | G16: =IF(F16>0,MONTH(F16),"") -> #VALUE! | H16: =IF(I16=0,"",IF(RIGHT(I16,2)="완료","완료",IF(RIGHT(I16,2)="불가","수리불가",IF(RIGHT(I16,1)="중","수리중","Other")))) -> 수리중 | I16: 수리중 | J16: P | K16: 1T1P | L16: =LEFT(K16,2) -> 1T | M16: IOINIZER | N16: IPI-220 | O16: IONIZER | Q16: DECAY TIME 안나옴.: | S16: 1 | T16: 700 | U16: =(T16*50)/100*S16 -> 350 | V16: 0 | W16: =U16-V16 -> 350 | X16: 자체 | Z16: 0 | AA16: =F16-E16 -> #VALUE! | AB16: 정기수 | AD16: =V16/1100 -> 0
B17: =IF(F17>0,IFERROR(WEEKNUM(F17),"")-1,"") -> #VALUE! | C17: =IF(D17=0,"",(IF(LEFT(D17,3)="ATK","ATK",IF(LEFT(D17,2)="AT",D17,"ATK")))) -> ATK | D17: 소성환 | E17: 2021-03-02 | G17: =IF(F17>0,MONTH(F17),"") -> #VALUE! | H17: =IF(I17=0,"",IF(RIGHT(I17,2)="완료","완료",IF(RIGHT(I17,2)="불가","수리불가",IF(RIGHT(I17,1)="중","수리중","Other")))) -> 수리중 | I17: 수리중 | J17: EE | K17: EE2 | L17: =LEFT(K17,2) -> EE | M17: Wire Bonding | N17: K&S ICONN PULS | O17: XY AMP ASSEMBLY (LA/H) | P17: 08888-1113 | Q17: BOOTING FAIL: | S17: 1 | T17: 2500 | U17: =(T17*50)/100*S17 -> 1250 | V17: 0 | W17: =U17-V17 -> 1250 | X17: 자체 | Z17: 0 | AA17: =F17-E17 -> #VALUE! | AD17: =V17/1100 -> 0
B18: =IF(F18>0,IFERROR(WEEKNUM(F18),"")-1,"") -> #VALUE! | C18: =IF(D18=0,"",(IF(LEFT(D18,3)="ATK","ATK",IF(LEFT(D18,2)="AT",D18,"ATK")))) -> ATK | D18: 소성환 | E18: 2021-03-02 | G18: =IF(F18>0,MONTH(F18),"") -> #VALUE! | H18: =IF(I18=0,"",IF(RIGHT(I18,2)="완료","완료",IF(RIGHT(I18,2)="불가","수리불가",IF(RIGHT(I18,1)="중","수리중","Other")))) -> 수리중 | I18: 수리중 | J18: EE | K18: EE2 | L18: =LEFT(K18,2) -> EE | M18: Wire Bonding | N18: K&S ICONN PULS | O18: XY AMP ASSEMBLY (LA/H) | P18: 08888-1113 | Q18: BOOTING FAIL: | S18: 1 | T18: 2500 | U18: =(T18*50)/100*S18 -> 1250 | V18: 0 | W18: =U18-V18 -> 1250 | X18: 자체 | Z18: 0 | AA18: =F18-E18 -> #VALUE! | AD18: =V18/1100 -> 0
B19: =IF(F19>0,IFERROR(WEEKNUM(F19),"")-1,"") -> 9 | C19: =IF(D19=0,"",(IF(LEFT(D19,3)="ATK","ATK",IF(LEFT(D19,2)="AT",D19,"ATK")))) -> ATK | D19: 이신희 | E19: 2021-03-02 | F19: 2021-03-02 | G19: =IF(F19>0,MONTH(F19),"") -> 3 | H19: =IF(I19=0,"",IF(RIGHT(I19,2)="완료","완료",IF(RIGHT(I19,2)="불가","수리불가",IF(RIGHT(I19,1)="중","수리중","Other")))) -> 완료 | I19: 수리완료 | J19: B | K19: 2T2P | L19: =LEFT(K19,2) -> 2T | M19: Plassma | N19: plasma m/c | O19: PC MAIN BOARD | P19: H61H1 | Q19: No Booting :모든 콘댄서 교체 | R19: BA5903441A | S19: 1 | T19: 2500 | U19: =(T19*50)/100*S19 -> 1250 | V19: 2 | W19: =U19-V19 -> 1248 | X19: 자체 | Z19: 4 | AA19: =F19-E19 -> 0 | AB19: 최준영 | AD19: =V19/1100 -> 0.0018181818
B20: =IF(F20>0,IFERROR(WEEKNUM(F20),"")-1,"") -> 9 | C20: =IF(D20=0,"",(IF(LEFT(D20,3)="ATK","ATK",IF(LEFT(D20,2)="AT",D20,"ATK")))) -> ATK | D20: 이현동 | E20: 2021-03-02 | F20: 2021-03-02 | G20: =IF(F20>0,MONTH(F20),"") -> 3 | H20: =IF(I20=0,"",IF(RIGHT(I20,2)="완료","완료",IF(RIGHT(I20,2)="불가","수리불가",IF(RIGHT(I20,1)="중","수리중","Other")))) -> Other | I20: Other | J20: EE | K20: EE2 | L20: =LEFT(K20,2) -> EE | M20: N/A | N20: N/A | O20: Connector 제작 | Q20: 커넥터 제작: | S20: 2 | T20: 0 | U20: =(T20*50)/100*S20 -> 0 | V20: 0 | W20: =U20-V20 -> 0 | X20: 자체 | Z20: 4 | AA20: =F20-E20 -> 0 | AB20: 허준영 | AD20: =V20/1100 -> 0
B21: =IF(F21>0,IFERROR(WEEKNUM(F21),"")-1,"") -> 8 | C21: =IF(D21=0,"",(IF(LEFT(D21,3)="ATK","ATK",IF(LEFT(D21,2)="AT",D21,"ATK")))) -> ATK | D21: 임현 | E21: 2021-02-26 | F21: 2021-02-26 | G21: =IF(F21>0,MONTH(F21),"") -> 2 | H21: =IF(I21=0,"",IF(RIGHT(I21,2)="완료","완료",IF(RIGHT(I21,2)="불가","수리불가",IF(RIGHT(I21,1)="중","수리중","Other")))) -> 완료 | I21: 수리완료 | J21: EE | K21: EE1 | L21: =LEFT(K21,2) -> EE | M21: EE1T | O21: 온도제어기 | Q21: 작동 안함:정전압 칩 out으로 교체 및 제조립 | S21: 1 | T21: 320 | U21: =(T21*50)/100*S21 -> 160 | V21: 1 | W21: =U21-V21 -> 159 | X21: 자체 | Z21: 4 | AA21: =F21-E21 -> 0 | AB21: 최준영 | AD21: =V21/1100 -> 0.00090909091
B22: =IF(F22>0,IFERROR(WEEKNUM(F22),"")-1,"") -> 8 | C22: =IF(D22=0,"",(IF(LEFT(D22,3)="ATK","ATK",IF(LEFT(D22,2)="AT",D22,"ATK")))) -> ATK | D22: 강영구 | E22: 2021-02-26 | F22: 2021-02-26 | G22: =IF(F22>0,MONTH(F22),"") -> 2 | H22: =IF(I22=0,"",IF(RIGHT(I22,2)="완료","완료",IF(RIGHT(I22,2)="불가","수리불가",IF(RIGHT(I22,1)="중","수리중","Other")))) -> 완료 | I22: 수리완료 | J22: PM | K22: EE1 | L22: =LEFT(K22,2) -> EE | M22: W/G/B | N22: pg3000 | O22: SERVO DRIVER | P22: mr- j4 / mr- j5 | Q22: mr-configurator 2 software setup ( mr-j4 mr-j5 용):mr-configurator 2 software setup ( mr-j4 mr-j5 용) installation test 구동 | S22: 1 | T22: 1000 | U22: =(T22*50)/100*S22 -> 500 | V22: 0 | W22: =U22-V22 -> 500 | X22: 자체 | Z22: 4 | AA22: =F22-E22 -> 0 | AB22: 강영구 | AD22: =V22/1100 -> 0
B23: =IF(F23>0,IFERROR(WEEKNUM(F23),"")-1,"") -> 8 | C23: =IF(D23=0,"",(IF(LEFT(D23,3)="ATK","ATK",IF(LEFT(D23,2)="AT",D23,"ATK")))) -> ATK | D23: 김재영 | E23: 2021-02-26 | F23: 2021-02-26 | G23: =IF(F23>0,MONTH(F23),"") -> 2 | H23: =IF(I23=0,"",IF(RIGHT(I23,2)="완료","완료",IF(RIGHT(I23,2)="불가","수리불가",IF(RIGHT(I23,1)="중","수리중","Other")))) -> 완료 | I23: 수리완료 | J23: A | K23: 1T4P | L23: =LEFT(K23,2) -> 1T | M23: handller | O23: MAIN BOARD FAN | P23: PC BOARD | Q23: 매인 보드 시피유 팬 회전 안함:다른 보드에서 팬 장탈하여 장비 보드에 장착 정상 가동 | S23: 1 | T23: 4200 | U23: =(T23*50)/100*S23 -> 2100 | V23: 1 | W23: =U23-V23 -> 2099 | X23: 자체 | Z23: 4 | AA23: =F23-E23 -> 0 | AB23: 최준영 | AD23: =V23/1100 -> 0.00090909091
B24: =IF(F24>0,IFERROR(WEEKNUM(F24),"")-1,"") -> 9 | C24: =IF(D24=0,"",(IF(LEFT(D24,3)="ATK","ATK",IF(LEFT(D24,2)="AT",D24,"ATK")))) -> ATK | D24: 김종한 | E24: 2021-02-26 | F24: 2021-03-02 | G24: =IF(F24>0,MONTH(F24),"") -> 3 | H24: =IF(I24=0,"",IF(RIGHT(I24,2)="완료","완료",IF(RIGHT(I24,2)="불가","수리불가",IF(RIGHT(I24,1)="중","수리중","Other")))) -> 완료 | I24: 수리완료 | J24: A | K24: 1T3P | L24: =LEFT(K24,2) -> 1T | M24: D/A | N24: Esec 2100 | O24: I/O Board | Q24: 동작 불량: | S24: 1 | T24: 1200 | U24: =(T24*50)/100*S24 -> 600 | V24: 0 | W24: =U24-V24 -> 600 | X24: 자체 | Z24: 4 | AA24: =F24-E24 -> 4 | AB24: 허준영 | AD24: =V24/1100 -> 0
B25: =IF(F25>0,IFERROR(WEEKNUM(F25),"")-1,"") -> 8 | C25: =IF(D25=0,"",(IF(LEFT(D25,3)="ATK","ATK",IF(LEFT(D25,2)="AT",D25,"ATK")))) -> ATK | D25: 박병주 | E25: 2021-02-25 | F25: 2021-02-25 | G25: =IF(F25>0,MONTH(F25),"") -> 2 | H25: =IF(I25=0,"",IF(RIGHT(I25,2)="완료","완료",IF(RIGHT(I25,2)="불가","수리불가",IF(RIGHT(I25,1)="중","수리중","Other")))) -> 완료 | I25: 수리완료 | J25: C | K25: 3T1P | L25: =LEFT(K25,2) -> 3T | M25: TCNCP | N25: PLASAMA | O25: SL-T11R | Q25: :다이오드 out (JY) | S25: 1 | T25: 1300 | U25: =(T25*50)/100*S25 -> 650 | V25: 1 | W25: =U25-V25 -> 649 | X25: 자체 | Z25: 2 | AA25: =F25-E25 -> 0 | AB25: 장은철 | AD25: =V25/1100 -> 0.00090909091
B26: =IF(F26>0,IFERROR(WEEKNUM(F26),"")-1,"") -> 8 | C26: =IF(D26=0,"",(IF(LEFT(D26,3)="ATK","ATK",IF(LEFT(D26,2)="AT",D26,"ATK")))) -> ATK | D26: 서중권 | E26: 2021-02-25 | F26: 2021-02-25 | G26: =IF(F26>0,MONTH(F26),"") -> 2 | H26: =IF(I26=0,"",IF(RIGHT(I26,2)="완료","완료",IF(RIGHT(I26,2)="불가","수리불가",IF(RIGHT(I26,1)="중","수리중","Other")))) -> 완료 | I26: 수리완료 | J26: C | K26: 3T3P | L26: =LEFT(K26,2) -> 3T | M26: p/saw | N26: disco | O26: ac servo | P26: maddt1207L01 | Q26: 1. new board parameter copy 2. ERROR 90 others :parameter copy ( pr 4d pr 50 vaule 값 초과는 default set 값에서 나옴) 그냥 Copy하면 정상 작동함 others ERROR 220uF OUT (SMD 220UF 6.3V) | S26: 2 | T26: 1000 | U26: =(T26*50)/100*S26 -> 1000 | V26: 0 | W26: =U26-V26 -> 1000 | X26: 자체 | Z26: 6 | AA26: =F26-E26 -> 0 | AB26: 강영구 | AD26: =V26/1100 -> 0
B27: =IF(F27>0,IFERROR(WEEKNUM(F27),"")-1,"") -> 8 | C27: =IF(D27=0,"",(IF(LEFT(D27,3)="ATK","ATK",IF(LEFT(D27,2)="AT",D27,"ATK")))) -> ATK | D27: 이현동 | E27: 2021-02-25 | F27: 2021-02-25 | G27: =IF(F27>0,MONTH(F27),"") -> 2 | H27: =IF(I27=0,"",IF(RIGHT(I27,2)="완료","완료",IF(RIGHT(I27,2)="불가","수리불가",IF(RIGHT(I27,1)="중","수리중","Other")))) -> Other | I27: Other | J27: EE | K27: EE2 | L27: =LEFT(K27,2) -> EE | M27: N/A | N27: N/A | O27: Connector 제작 | Q27: 커넥터 제작: | S27: 3 | T27: 0 | U27: =(T27*50)/100*S27 -> 0 | V27: 0 | W27: =U27-V27 -> 0 | X27: 자체 | Z27: 3 | AA27: =F27-E27 -> 0 | AB27: 허준영 | AD27: =V27/1100 -> 0
B28: =IF(F28>0,IFERROR(WEEKNUM(F28),"")-1,"") -> 8 | C28: =IF(D28=0,"",(IF(LEFT(D28,3)="ATK","ATK",IF(LEFT(D28,2)="AT",D28,"ATK")))) -> ATK | D28: 이성곤 | E28: 2021-02-25 | F28: 2021-02-25 | G28: =IF(F28>0,MONTH(F28),"") -> 2 | H28: =IF(I28=0,"",IF(RIGHT(I28,2)="완료","완료",IF(RIGHT(I28,2)="불가","수리불가",IF(RIGHT(I28,1)="중","수리중","Other")))) -> 완료 | I28: 수리완료 | J28: K5 | K28: K5 | L28: =LEFT(K28,2) -> K5 | M28: Touch Monitor | N28: ET1729L | O28: touch monitor | Q28: 전원 불량.:저항,콘덴서,패널교체 | S28: 1 | T28: 500 | U28: =(T28*50)/100*S28 -> 250 | V28: 0 | W28: =U28-V28 -> 250 | X28: 자체 | Z28: 6 | AA28: =F28-E28 -> 0 | AB28: 정기수 | AD28: =V28/1100 -> 0
B29: =IF(F29>0,IFERROR(WEEKNUM(F29),"")-1,"") -> #VALUE! | C29: =IF(D29=0,"",(IF(LEFT(D29,3)="ATK","ATK",IF(LEFT(D29,2)="AT",D29,"ATK")))) -> ATK | D29: 주용철 | E29: 2021-02-25 | G29: =IF(F29>0,MONTH(F29),"") -> #VALUE! | H29: =IF(I29=0,"",IF(RIGHT(I29,2)="완료","완료",IF(RIGHT(I29,2)="불가","수리불가",IF(RIGHT(I29,1)="중","수리중","Other")))) -> 수리중 | I29: 외주수리중 | J29: Bump | K29: Bump | L29: =LEFT(K29,2) -> Bu | M29: Bumping | N29: AOI | O29: BASLER A404k | P29: A404K | Q29: scan중 camera가 꺼지는 현상이 발생.이후 재 booting을 수차례 반복해야 camera가 동작함.scan중 camera 꺼짐 증상 주기가 짧아짐. 업체 확인결과 camera 수명 문제라고 함.: | R29: 21104576 | S29: 1 | T29: 13000 | U29: =(T29*50)/100*S29 -> 6500 | V29: 1500 | W29: =U29-V29 -> 5000 | X29: 외주 | Y29: 큐텍코리아 | Z29: 1 | AA29: =F29-E29 -> #VALUE! | AB29: 장은철 | AD29: =V29/1100 -> 1.3636364
B30: =IF(F30>0,IFERROR(WEEKNUM(F30),"")-1,"") -> #VALUE! | C30: =IF(D30=0,"",(IF(LEFT(D30,3)="ATK","ATK",IF(LEFT(D30,2)="AT",D30,"ATK")))) -> ATK | D30: 양승윤 | E30: 2021-02-25 | G30: =IF(F30>0,MONTH(F30),"") -> #VALUE! | H30: =IF(I30=0,"",IF(RIGHT(I30,2)="완료","완료",IF(RIGHT(I30,2)="불가","수리불가",IF(RIGHT(I30,1)="중","수리중","Other")))) -> 수리중 | I30: 수리중 | J30: EE | K30: EE2 | L30: =LEFT(K30,2) -> EE | M30: Bumping | N30: PLATING | O30: Inverter | Q30: POWER OUT: | S30: 1 | T30: 1000 | U30: =(T30*50)/100*S30 -> 500 | V30: 0 | W30: =U30-V30 -> 500 | X30: 자체 | Z30: 0 | AA30: =F30-E30 -> #VALUE! | AB30: 정기수 | AD30: =V30/1100 -> 0
B31: =IF(F31>0,IFERROR(WEEKNUM(F31),"")-1,"") -> 8 | C31: =IF(D31=0,"",(IF(LEFT(D31,3)="ATK","ATK",IF(LEFT(D31,2)="AT",D31,"ATK")))) -> ATK | D31: 김효천 | E31: 2021-02-24 | F31: 2021-02-24 | G31: =IF(F31>0,MONTH(F31),"") -> 2 | H31: =IF(I31=0,"",IF(RIGHT(I31,2)="완료","완료",IF(RIGHT(I31,2)="불가","수리불가",IF(RIGHT(I31,1)="중","수리중","Other")))) -> 완료 | I31: 수리완료 | J31: EE | K31: EE1 | L31: =LEFT(K31,2) -> EE | M31: SMT | N31: REFLOW HELLER | O31: HC1 B/D | Q31: 간혈적 통신 ERROR:26ls32 | R31: FD8353 | S31: 1 | T31: 2500 | U31: =(T31*50)/100*S31 -> 1250 | V31: 5 | W31: =U31-V31 -> 1245 | X31: 자체 | Z31: 0 | AA31: =F31-E31 -> 0 | AB31: 장은철 | AD31: =V31/1100 -> 0.0045454545
B32: =IF(F32>0,IFERROR(WEEKNUM(F32),"")-1,"") -> 8 | C32: =IF(D32=0,"",(IF(LEFT(D32,3)="ATK","ATK",IF(LEFT(D32,2)="AT",D32,"ATK")))) -> ATK | D32: 나승훈 | E32: 2021-02-24 | F32: 2021-02-24 | G32: =IF(F32>0,MONTH(F32),"") -> 2 | H32: =IF(I32=0,"",IF(RIGHT(I32,2)="완료","완료",IF(RIGHT(I32,2)="불가","수리불가",IF(RIGHT(I32,1)="중","수리중","Other")))) -> 완료 | I32: 수리완료 | J32: EE | K32: EE2 | L32: =LEFT(K32,2) -> EE | M32: Wire Bonding | N32: K&S Iconn | O32: I/O TEMP CONTROLLED ILLUM PCB ASSY | P32: 08828-4010 | Q32: Temp Error: | S32: 1 | T32: 1600 | U32: =(T32*50)/100*S32 -> 800 | V32: 3 | W32: =U32-V32 -> 797 | X32: 자체 | Z32: 3 | AA32: =F32-E32 -> 0 | AB32: 허준영 | AD32: =V32/1100 -> 0.0027272727
B33: =IF(F33>0,IFERROR(WEEKNUM(F33),"")-1,"") -> 8 | C33: =IF(D33=0,"",(IF(LEFT(D33,3)="ATK","ATK",IF(LEFT(D33,2)="AT",D33,"ATK")))) -> ATK | D33: 신덕우 | E33: 2021-02-24 | F33: 2021-02-24 | G33: =IF(F33>0,MONTH(F33),"") -> 2 | H33: =IF(I33=0,"",IF(RIGHT(I33,2)="완료","완료",IF(RIGHT(I33,2)="불가","수리불가",IF(RIGHT(I33,1)="중","수리중","Other")))) -> 완료 | I33: 수리완료 | J33: C | K33: 3T3P | L33: =LEFT(K33,2) -> 3T | M33: IONIZER | N33: IPI-322VE | O33: IONIZER | Q33: Decay time,ion값 불량:point pin , fan , 장비 all cleaning | S33: 3 | T33: 351 | U33: =(T33*50)/100*S33 -> 526.5 | V33: 0 | W33: =U33-V33 -> 526.5 | X33: 자체 | Z33: 3 | AA33: =F33-E33 -> 0 | AB33: 정기수 | AD33: =V33/1100 -> 0
B34: =IF(F34>0,IFERROR(WEEKNUM(F34),"")-1,"") -> 8 | C34: =IF(D34=0,"",(IF(LEFT(D34,3)="ATK","ATK",IF(LEFT(D34,2)="AT",D34,"ATK")))) -> ATK | D34: 강성열 | E34: 2021-02-24 | F34: 2021-02-24 | G34: =IF(F34>0,MONTH(F34),"") -> 2 | H34: =IF(I34=0,"",IF(RIGHT(I34,2)="완료","완료",IF(RIGHT(I34,2)="불가","수리불가",IF(RIGHT(I34,1)="중","수리중","Other")))) -> 완료 | I34: 수리완료 | J34: F | K34: 5T1P | L34: =LEFT(K34,2) -> 5T | M34: LID/A | N34: PROTEC | O34: AJINEXTEK BIHR | Q34: : | S34: 3 | T34: 500 | U34: =(T34*50)/100*S34 -> 750 | V34: 30 | W34: =U34-V34 -> 720 | X34: 자체 | Z34: 6 | AA34: =F34-E34 -> 0 | AB34: 장은철 | AD34: =V34/1100 -> 0.027272727
B35: =IF(F35>0,IFERROR(WEEKNUM(F35),"")-1,"") -> 9 | C35: =IF(D35=0,"",(IF(LEFT(D35,3)="ATK","ATK",IF(LEFT(D35,2)="AT",D35,"ATK")))) -> ATK | D35: 강성열 | E35: 2021-02-24 | F35: 2021-03-02 | G35: =IF(F35>0,MONTH(F35),"") -> 3 | H35: =IF(I35=0,"",IF(RIGHT(I35,2)="완료","완료",IF(RIGHT(I35,2)="불가","수리불가",IF(RIGHT(I35,1)="중","수리중","Other")))) -> Other | I35: 폐기 | J35: F | K35: 5T1P | L35: =LEFT(K35,2) -> 5T | M35: IONIZER | N35: simco | O35: IONIZER | Q35: 사용 기간이 약 15년 언저리로 Decay time & balance 유지/관리가 힘든 이오나이저는 반납 :해당 IONIZER 점검 진행 후 부속품 단종으로 폐기 진행 | R35: *500940094312571*/*033240094312466*/*075040094312780*/*050940094312580*/*044040094242553* | S35: 5 | T35: 1500 | U35: =(T35*50)/100*S35 -> 3750 | V35: 0 | W35: =U35-V35 -> 3750 | X35: 자체 | Z35: 3 | AA35: =F35-E35 -> 6 | AB35: 정기수 | AD35: =V35/1100 -> 0
B36: =IF(F36>0,IFERROR(WEEKNUM(F36),"")-1,"") -> 8 | C36: =IF(D36=0,"",(IF(LEFT(D36,3)="ATK","ATK",IF(LEFT(D36,2)="AT",D36,"ATK")))) -> ATK | D36: 진선규 | E36: 2021-02-23 | F36: 2021-02-25 | G36: =IF(F36>0,MONTH(F36),"") -> 2 | H36: =IF(I36=0,"",IF(RIGHT(I36,2)="완료","완료",IF(RIGHT(I36,2)="불가","수리불가",IF(RIGHT(I36,1)="중","수리중","Other")))) -> 완료 | I36: 수리완료 | J36: A | K36: 1T4P | L36: =LEFT(K36,2) -> 1T | M36: MONITOR | N36: DISCO | O36: Touch Monitor | Q36: 전원 안들어옴.:inverter 퓨즈 out | S36: 1 | T36: 3000 | U36: =(T36*50)/100*S36 -> 1500 | V36: 3 | W36: =U36-V36 -> 1497 | X36: 자체 | Z36: 2 | AA36: =F36-E36 -> 2 | AB36: 정기수 | AD36: =V36/1100 -> 0.0027272727
B37: =IF(F37>0,IFERROR(WEEKNUM(F37),"")-1,"") -> 8 | C37: =IF(D37=0,"",(IF(LEFT(D37,3)="ATK","ATK",IF(LEFT(D37,2)="AT",D37,"ATK")))) -> ATK | D37: 김현만 | E37: 2021-02-23 | F37: 2021-02-23 | G37: =IF(F37>0,MONTH(F37),"") -> 2 | H37: =IF(I37=0,"",IF(RIGHT(I37,2)="완료","완료",IF(RIGHT(I37,2)="불가","수리불가",IF(RIGHT(I37,1)="중","수리중","Other")))) -> 완료 | I37: 수리완료 | J37: F | K37: 5T1P | L37: =LEFT(K37,2) -> 5T | M37: D/A | N37: Datacon 8800 | O37: CAN 통신 B/D | Q37: :fet 교체 | S37: 1 | T37: 1900 | U37: =(T37*50)/100*S37 -> 950 | V37: 4 | W37: =U37-V37 -> 946 | X37: 자체 | Z37: 2 | AA37: =F37-E37 -> 0 | AB37: 장은철 | AD37: =V37/1100 -> 0.0036363636
B38: =IF(F38>0,IFERROR(WEEKNUM(F38),"")-1,"") -> 8 | C38: =IF(D38=0,"",(IF(LEFT(D38,3)="ATK","ATK",IF(LEFT(D38,2)="AT",D38,"ATK")))) -> ATK | D38: 김현만 | E38: 2021-02-23 | F38: 2021-02-23 | G38: =IF(F38>0,MONTH(F38),"") -> 2 | H38: =IF(I38=0,"",IF(RIGHT(I38,2)="완료","완료",IF(RIGHT(I38,2)="불가","수리불가",IF(RIGHT(I38,1)="중","수리중","Other")))) -> Other | I38: 폐기 | J38: F | K38: 5T1P | L38: =LEFT(K38,2) -> 5T | M38: D/A | N38: Datacon 8800 | O38: CAN 통신 B/D | Q38: :부품수급불가 | S38: 1 | T38: 1900 | U38: =(T38*50)/100*S38 -> 950 | V38: 0 | W38: =U38-V38 -> 950 | X38: 자체 | Z38: 2 | AA38: =F38-E38 -> 0 | AB38: 장은철 | AD38: =V38/1100 -> 0
B39: =IF(F39>0,IFERROR(WEEKNUM(F39),"")-1,"") -> 8 | C39: =IF(D39=0,"",(IF(LEFT(D39,3)="ATK","ATK",IF(LEFT(D39,2)="AT",D39,"ATK")))) -> ATK | D39: 박병주 | E39: 2021-02-23 | F39: 2021-02-23 | G39: =IF(F39>0,MONTH(F39),"") -> 2 | H39: =IF(I39=0,"",IF(RIGHT(I39,2)="완료","완료",IF(RIGHT(I39,2)="불가","수리불가",IF(RIGHT(I39,1)="중","수리중","Other")))) -> 완료 | I39: 수리완료 | J39: C | K39: 3T1P | L39: =LEFT(K39,2) -> 3T | M39: TCNCP | N39: PLASAMA | O39: SL-T11R | Q39: :이상없음 | S39: 1 | T39: 1300 | U39: =(T39*50)/100*S39 -> 650 | V39: 0 | W39: =U39-V39 -> 650 | X39: 자체 | Z39: 2 | AA39: =F39-E39 -> 0 | AB39: 장은철 | AD39: =V39/1100 -> 0
B40: =IF(F40>0,IFERROR(WEEKNUM(F40),"")-1,"") -> 8 | C40: =IF(D40=0,"",(IF(LEFT(D40,3)="ATK","ATK",IF(LEFT(D40,2)="AT",D40,"ATK")))) -> ATK | D40: 한광식 | E40: 2021-02-23 | F40: 2021-02-23 | G40: =IF(F40>0,MONTH(F40),"") -> 2 | H40: =IF(I40=0,"",IF(RIGHT(I40,2)="완료","완료",IF(RIGHT(I40,2)="불가","수리불가",IF(RIGHT(I40,1)="중","수리중","Other")))) -> 완료 | I40: 수리완료 | J40: F | K40: 5T1P | L40: =LEFT(K40,2) -> 5T | M40: reflow | N40: LVK-TMTRMR-7515 | O40: pc | Q40: WINDOWS 7 설치 랜선 사용X:Windows7 설치 완료. | S40: 1 | T40: 3500 | U40: =(T40*50)/100*S40 -> 1750 | V40: 0 | W40: =U40-V40 -> 1750 | X40: 자체 | Z40: 2 | AA40: =F40-E40 -> 0 | AB40: 정기수 | AD40: =V40/1100 -> 0
...

Sheet E-Board
B1: 2021 AAW E-Board Repair Count(Q'ty) & Cost Reduction
Q2: Currency | R2: K$ | T2: AWW Report Form | Y2: EXR | Z2: =R3 -> 1100
B3: *요청 수량기준 | Q3: EXR (\/$): | R3: 1100 | T3: *완료 건수기준 | Z3: By Count
B4: Month | C4: ATK | E4: ATP | G4: ATC | I4: ATT | K4: ATM | M4: ATJ | O4: ATEP | Q4: Total(Mon) | T4: Factory | U4: Request eBoard (Q'ty) | V4: Repair Success (Q'ty) | W4: Repair Impossible (Q'ty) | X4: Return Shipping (Q'ty) | Y4: Repair Ongoing (Q'ty) | Z4: R&M Cost Save (K$)
C5: Count | D5: Cost Save | E5: Count | F5: Cost Save | G5: Count | H5: Cost Save | I5: Count | J5: Cost Save | K5: Count | L5: Cost Save | M5: Count | N5: Cost Save | O5: Count | P5: Cost Save | Q5: Count | R5: cost save
B6: Jan. | C6: =SUMPRODUCT(SUMIFS(Daily!$S:$S,Daily!$G:$G,"1",Daily!$C:$C,"ATK",Daily!$I:$I,"수리완료")) + SUMPRODUCT(SUMIFS(Daily!$S:$S,Daily!$G:$G,"1",Daily!$C:$C,"ATK",Daily!$I:$I,"외주수리완료")) -> 144 | D6: =IF($R$2="K\",(SUMPRODUCT(SUMIFS(Daily!$W:$W,Daily!$G:$G,"1",Daily!$C:$C,"ATK",Daily!$I:$I,"수리완료")) + SUMPRODUCT(SUMIFS(Daily!$W:$W,Daily!$G:$G,"1",Daily!$C:$C,"ATK",Daily!$I:$I,"외주수리완료"))),(SUMPRODUCT(SUMIFS(Daily!$W:$W,Daily!$G:$G,"1",Daily!$C:$C,"ATK",Daily!$I:$I,"수리완료")) + SUMPRODUCT(SUMIFS(Daily!$W:$W,Daily!$G:$G,"1",Daily!$C:$C,"ATK",Daily!$I:$I,"외주수리완료")))/$R$3) -> 140.17682 | E6: =SUMIFS(Daily!$S:$S,Daily!$G:$G,1,Daily!$I:$I,{"수리완료"},Daily!$C:$C,"ATP")+SUMIFS(Daily!$S:$S,Daily!$G:$G,1,Daily!$I:$I,{"외주수리완료"},Daily!$C:$C,"ATP") -> 10 | F6: =IF($R$2="K\",SUMIFS(Daily!$W:$W,Daily!$G:$G,1,Daily!$I:$I,{"수리완료"},Daily!$C:$C,"ATP")+SUMIFS(Daily!$W:$W,Daily!$G:$G,1,Daily!$I:$I,{"외주수리완료"},Daily!$C:$C,"ATP"),(SUMIFS(Daily!$W:$W,Daily!$G:$G,1,Daily!$I:$I,{"수리완료"},Daily!$C:$C,"ATP")+SUMIFS(Daily!$W:$W,Daily!$G:$G,1,Daily!$I:$I,{"외주수리완료"},Daily!$C:$C,"ATP"))/$R$3) -> 17.045455 | G6: =SUMIFS(Daily!$S:$S,Daily!$G:$G,1,Daily!$I:$I,{"수리완료"},Daily!$C:$C,"ATC")+SUMIFS(Daily!$S:$S,Daily!$G:$G,1,Daily!$I:$I,{"외주수리완료"},Daily!$C:$C,"ATC") -> 0 | H6: =IF($R$2="K\",SUMIFS(Daily!$W:$W,Daily!$G:$G,1,Daily!$I:$I,{"수리완료"},Daily!$C:$C,"ATC")+SUMIFS(Daily!$W:$W,Daily!$G:$G,1,Daily!$I:$I,{"외주수리완료"},Daily!$C:$C,"ATC"),(SUMIFS(Daily!$W:$W,Daily!$G:$G,1,Daily!$I:$I,{"수리완료"},Daily!$C:$C,"ATC")+SUMIFS(Daily!$W:$W,Daily!$G:$G,1,Daily!$I:$I,{"외주수리완료"},Daily!$C:$C,"ATC"))/$R$3) -> 0 | I6: =SUMIFS(Daily!$S:$S,Daily!$G:$G,1,Daily!$I:$I,{"수리완료"},Daily!$C:$C,"ATT")+SUMIFS(Daily!$S:$S,Daily!$G:$G,1,Daily!$I:$I,{"외주수리완료"},Daily!$C:$C,"ATT") -> 0 | J6: =IF($R$2="K\",SUMIFS(Daily!$W:$W,Daily!$G:$G,1,Daily!$I:$I,{"수리완료"},Daily!$C:$C,"ATT")+SUMIFS(Daily!$W:$W,Daily!$G:$G,1,Daily!$I:$I,{"외주수리완료"},Daily!$C:$C,"ATT"),(SUMIFS(Daily!$W:$W,Daily!$G:$G,1,Daily!$I:$I,{"수리완료"},Daily!$C:$C,"ATT")+SUMIFS(Daily!$W:$W,Daily!$G:$G,1,Daily!$I:$I,{"외주수리완료"},Daily!$C:$C,"ATT"))/$R$3) -> 0 | K6: =SUMIFS(Daily!$S:$S,Daily!$G:$G,1,Daily!$I:$I,{"수리완료"},Daily!$C:$C,"ATM")+SUMIFS(Daily!$S:$S,Daily!$G:$G,1,Daily!$I:$I,{"외주수리완료"},Daily!$C:$C,"ATM") -> 2 | L6: =IF($R$2="K\",SUMIFS(Daily!$W:$W,Daily!$G:$G,1,Daily!$I:$I,{"수리완료"},Daily!$C:$C,"ATM")+SUMIFS(Daily!$W:$W,Daily!$G:$G,1,Daily!$I:$I,{"외주수리완료"},Daily!$C:$C,"ATM"),(SUMIFS(Daily!$W:$W,Daily!$G:$G,1,Daily!$I:$I,{"수리완료"},Daily!$C:$C,"ATM")+SUMIFS(Daily!$W:$W,Daily!$G:$G,1,Daily!$I:$I,{"외주수리완료"},Daily!$C:$C,"ATM"))/$R$3) -> 1.9727273 | M6: =SUMIFS(Daily!$S:$S,Daily!$G:$G,1,Daily!$I:$I,{"수리완료"},Daily!$C:$C,"ATJ")+SUMIFS(Daily!$S:$S,Daily!$G:$G,1,Daily!$I:$I,{"외주수리완료"},Daily!$C:$C,"ATJ") -> 0 | N6: =IF($R$2="K\",SUMIFS(Daily!$W:$W,Daily!$G:$G,1,Daily!$I:$I,{"수리완료"},Daily!$C:$C,"ATJ")+SUMIFS(Daily!$W:$W,Daily!$G:$G,1,Daily!$I:$I,{"외주수리완료"},Daily!$C:$C,"ATJ"),(SUMIFS(Daily!$W:$W,Daily!$G:$G,1,Daily!$I:$I,{"수리완료"},Daily!$C:$C,"ATJ")+SUMIFS(Daily!$W:$W,Daily!$G:$G,1,Daily!$I:$I,{"외주수리완료"},Daily!$C:$C,"ATJ"))/$R$3) -> 0 | O6: =SUMIFS(Daily!$S:$S,Daily!$G:$G,1,Daily!$I:$I,{"*수리완료"},Daily!$C:$C,"ATEP") -> 0 | P6: =IF($R$2="K\",SUMIFS(Daily!$W:$W,Daily!$G:$G,1,Daily!$I:$I,{"수리완료"},Daily!$C:$C,"ATEP")+SUMIFS(Daily!$W:$W,Daily!$G:$G,1,Daily!$I:$I,{"외주수리완료"},Daily!$C:$C,"ATEP"),(SUMIFS(Daily!$W:$W,Daily!$G:$G,1,Daily!$I:$I,{"수리완료"},Daily!$C:$C,"ATEP")+SUMIFS(Daily!$W:$W,Daily!$G:$G,1,Daily!$I:$I,{"외주수리완료"},Daily!$C:$C,"ATEP"))/$R$3) -> 0 | Q6: =C6+E6+G6+I6+K6+M6+O6 -> 156 | R6: =D6+F6+H6+J6+L6+N6+P6 -> 159.195 | T6: ATK | U6: =COUNTIF(Daily!C:C, T6)-COUNTIFS(Daily!C:C, T6, Daily!I:I, "Other") -> 308 | V6: =COUNTIFS(Daily!C:C, T6, Daily!I:I, "수리완료")+COUNTIFS(Daily!C:C, T6, Daily!I:I, "외주수리완료") -> 269 | W6: =COUNTIFS(Daily!C:C, T6, Daily!I:I, "수리불가")+COUNTIFS(Daily!C:C, T6, Daily!I:I, "외주수리불가")+COUNTIFS(Daily!C:C, T6, Daily!I:I, "폐기") -> 23 | X6: 0 | Y6: =COUNTIFS(Daily!C:C, T6, Daily!I:I, "수리중")+COUNTIFS(Daily!C:C, T6, Daily!I:I, "외주수리중") -> 16 | Z6: =(SUMIFS(Daily!W:W, Daily!C:C, T6, Daily!I:I, "수리완료")+SUMIFS(Daily!W:W, Daily!C:C, T6, Daily!I:I, "외주수리완료"))/$Z$2 -> 352.31455
B7: Feb. | C7: =SUMPRODUCT(SUMIFS(Daily!$S:$S,Daily!$G:$G,"2",Daily!$C:$C,"ATK",Daily!$I:$I,"수리완료")) + SUMPRODUCT(SUMIFS(Daily!$S:$S,Daily!$G:$G,"2",Daily!$C:$C,"ATK",Daily!$I:$I,"외주수리완료")) -> 172 | D7: =IF($R$2="K\",(SUMPRODUCT(SUMIFS(Daily!$W:$W,Daily!$G:$G,"2",Daily!$C:$C,"ATK",Daily!$I:$I,"수리완료")) + SUMPRODUCT(SUMIFS(Daily!$W:$W,Daily!$G:$G,"2",Daily!$C:$C,"ATK",Daily!$I:$I,"외주수리완료"))),(SUMPRODUCT(SUMIFS(Daily!$W:$W,Daily!$G:$G,"2",Daily!$C:$C,"ATK",Daily!$I:$I,"수리완료")) + SUMPRODUCT(SUMIFS(Daily!$W:$W,Daily!$G:$G,"2",Daily!$C:$C,"ATK",Daily!$I:$I,"외주수리완료")))/$R$3) -> 193.90955 | E7: =SUMIFS(Daily!$S:$S,Daily!$G:$G,2,Daily!$I:$I,{"수리완료"},Daily!$C:$C,"ATP")+SUMIFS(Daily!$S:$S,Daily!$G:$G,2,Daily!$I:$I,{"외주수리완료"},Daily!$C:$C,"ATP") -> 2 | F7: =IF($R$2="K\",SUMIFS(Daily!$W:$W,Daily!$G:$G,2,Daily!$I:$I,{"수리완료"},Daily!$C:$C,"ATP")+SUMIFS(Daily!$W:$W,Daily!$G:$G,2,Daily!$I:$I,{"외주수리완료"},Daily!$C:$C,"ATP"),(SUMIFS(Daily!$W:$W,Daily!$G:$G,2,Daily!$I:$I,{"수리완료"},Daily!$C:$C,"ATP")+SUMIFS(Daily!$W:$W,Daily!$G:$G,2,Daily!$I:$I,{"외주수리완료"},Daily!$C:$C,"ATP"))/$R$3) -> 5.4545455 | G7: =SUMIFS(Daily!$S:$S,Daily!$G:$G,2,Daily!$I:$I,{"수리완료"},Daily!$C:$C,"ATC")+SUMIFS(Daily!$S:$S,Daily!$G:$G,2,Daily!$I:$I,{"외주수리완료"},Daily!$C:$C,"ATC") -> 0 | H7: =IF($R$2="K\",SUMIFS(Daily!$W:$W,Daily!$G:$G,2,Daily!$I:$I,{"수리완료"},Daily!$C:$C,"ATC")+SUMIFS(Daily!$W:$W,Daily!$G:$G,2,Daily!$I:$I,{"외주수리완료"},Daily!$C:$C,"ATC"),(SUMIFS(Daily!$W:$W,Daily!$G:$G,2,Daily!$I:$I,{"수리완료"},Daily!$C:$C,"ATC")+SUMIFS(Daily!$W:$W,Daily!$G:$G,2,Daily!$I:$I,{"외주수리완료"},Daily!$C:$C,"ATC"))/$R$3) -> 0 | I7: =SUMIFS(Daily!$S:$S,Daily!$G:$G,2,Daily!$I:$I,{"수리완료"},Daily!$C:$C,"ATT")+SUMIFS(Daily!$S:$S,Daily!$G:$G,2,Daily!$I:$I,{"외주수리완료"},Daily!$C:$C,"ATT") -> 0 | J7: =IF($R$2="K\",SUMIFS(Daily!$W:$W,Daily!$G:$G,2,Daily!$I:$I,{"수리완료"},Daily!$C:$C,"ATT")+SUMIFS(Daily!$W:$W,Daily!$G:$G,2,Daily!$I:$I,{"외주수리완료"},Daily!$C:$C,"ATT"),(SUMIFS(Daily!$W:$W,Daily!$G:$G,2,Daily!$I:$I,{"수리완료"},Daily!$C:$C,"ATT")+SUMIFS(Daily!$W:$W,Daily!$G:$G,2,Daily!$I:$I,{"외주수리완료"},Daily!$C:$C,"ATT"))/$R$3) -> 0 | K7: =SUMIFS(Daily!$S:$S,Daily!$G:$G,2,Daily!$I:$I,{"수리완료"},Daily!$C:$C,"ATM")+SUMIFS(Daily!$S:$S,Daily!$G:$G,2,Daily!$I:$I,{"외주수리완료"},Daily!$C:$C,"ATM") -> 0 | L7: =IF($R$2="K\",SUMIFS(Daily!$W:$W,Daily!$G:$G,2,Daily!$I:$I,{"수리완료"},Daily!$C:$C,"ATM")+SUMIFS(Daily!$W:$W,Daily!$G:$G,2,Daily!$I:$I,{"외주수리완료"},Daily!$C:$C,"ATM"),(SUMIFS(Daily!$W:$W,Daily!$G:$G,2,Daily!$I:$I,{"수리완료"},Daily!$C:$C,"ATM")+SUMIFS(Daily!$W:$W,Daily!$G:$G,2,Daily!$I:$I,{"외주수리완료"},Daily!$C:$C,"ATM"))/$R$3) -> 0 | M7: =SUMIFS(Daily!$S:$S,Daily!$G:$G,2,Daily!$I:$I,{"수리완료"},Daily!$C:$C,"ATJ")+SUMIFS(Daily!$S:$S,Daily!$G:$G,2,Daily!$I:$I,{"외주수리완료"},Daily!$C:$C,"ATJ") -> 0 | N7: =IF($R$2="K\",SUMIFS(Daily!$W:$W,Daily!$G:$G,2,Daily!$I:$I,{"수리완료"},Daily!$C:$C,"ATJ")+SUMIFS(Daily!$W:$W,Daily!$G:$G,2,Daily!$I:$I,{"외주수리완료"},Daily!$C:$C,"ATJ"),(SUMIFS(Daily!$W:$W,Daily!$G:$G,2,Daily!$I:$I,{"수리완료"},Daily!$C:$C,"ATJ")+SUMIFS(Daily!$W:$W,Daily!$G:$G,2,Daily!$I:$I,{"외주수리완료"},Daily!$C:$C,"ATJ"))/$R$3) -> 0 | O7: =SUMIFS(Daily!$S:$S,Daily!$G:$G,2,Daily!$I:$I,{"*수리완료"},Daily!$C:$C,"ATEP") -> 0 | P7: =IF($R$2="K\",SUMIFS(Daily!$W:$W,Daily!$G:$G,2,Daily!$I:$I,{"수리완료"},Daily!$C:$C,"ATEP")+SUMIFS(Daily!$W:$W,Daily!$G:$G,2,Daily!$I:$I,{"외주수리완료"},Daily!$C:$C,"ATEP"),(SUMIFS(Daily!$W:$W,Daily!$G:$G,2,Daily!$I:$I,{"수리완료"},Daily!$C:$C,"ATEP")+SUMIFS(Daily!$W:$W,Daily!$G:$G,2,Daily!$I:$I,{"외주수리완료"},Daily!$C:$C,"ATEP"))/$R$3) -> 0 | Q7: =C7+E7+G7+I7+K7+M7+O7 -> 174 | R7: =D7+F7+H7+J7+L7+N7+P7 -> 199.36409 | T7: ATP | U7: =COUNTIF(Daily!C:C, T7)-COUNTIFS(Daily!C:C, T7, Daily!I:I, "Other") -> 7 | V7: =COUNTIFS(Daily!C:C, T7, Daily!I:I, "수리완료")+COUNTIFS(Daily!C:C, T7, Daily!I:I, "외주수리완료") -> 7 | W7: =COUNTIFS(Daily!C:C, T7, Daily!I:I, "수리불가")+COUNTIFS(Daily!C:C, T7, Daily!I:I, "외주수리불가")+COUNTIFS(Daily!C:C, T7, Daily!I:I, "폐기") -> 0 | X7: 0 | Y7: =COUNTIFS(Daily!C:C, T7, Daily!I:I, "수리중")+COUNTIFS(Daily!C:C, T7, Daily!I:I, "외주수리중") -> 0 | Z7: =(SUMIFS(Daily!W:W, Daily!C:C, T7, Daily!I:I, "수리완료")+SUMIFS(Daily!W:W, Daily!C:C, T7, Daily!I:I, "외주수리완료"))/$Z$2 -> 22.5
B8: Mar. | C8: =SUMPRODUCT(SUMIFS(Daily!$S:$S,Daily!$G:$G,"3",Daily!$C:$C,"ATK",Daily!$I:$I,"수리완료")) + SUMPRODUCT(SUMIFS(Daily!$S:$S,Daily!$G:$G,"3",Daily!$C:$C,"ATK",Daily!$I:$I,"외주수리완료")) -> 12 | D8: =IF($R$2="K\",(SUMPRODUCT(SUMIFS(Daily!$W:$W,Daily!$G:$G,"3",Daily!$C:$C,"ATK",Daily!$I:$I,"수리완료")) + SUMPRODUCT(SUMIFS(Daily!$W:$W,Daily!$G:$G,"3",Daily!$C:$C,"ATK",Daily!$I:$I,"외주수리완료"))),(SUMPRODUCT(SUMIFS(Daily!$W:$W,Daily!$G:$G,"3",Daily!$C:$C,"ATK",Daily!$I:$I,"수리완료")) + SUMPRODUCT(SUMIFS(Daily!$W:$W,Daily!$G:$G,"3",Daily!$C:$C,"ATK",Daily!$I:$I,"외주수리완료")))/$R$3) -> 18.228182 | E8: =SUMIFS(Daily!$S:$S,Daily!$G:$G,3,Daily!$I:$I,{"수리완료"},Daily!$C:$C,"ATP")+SUMIFS(Daily!$S:$S,Daily!$G:$G,3,Daily!$I:$I,{"외주수리완료"},Daily!$C:$C,"ATP") -> 0 | F8: =IF($R$2="K\",SUMIFS(Daily!$W:$W,Daily!$G:$G,3,Daily!$I:$I,{"수리완료"},Daily!$C:$C,"ATP")+SUMIFS(Daily!$W:$W,Daily!$G:$G,3,Daily!$I:$I,{"외주수리완료"},Daily!$C:$C,"ATP"),(SUMIFS(Daily!$W:$W,Daily!$G:$G,3,Daily!$I:$I,{"수리완료"},Daily!$C:$C,"ATP")+SUMIFS(Daily!$W:$W,Daily!$G:$G,3,Daily!$I:$I,{"외주수리완료"},Daily!$C:$C,"ATP"))/$R$3) -> 0 | G8: =SUMIFS(Daily!$S:$S,Daily!$G:$G,3,Daily!$I:$I,{"수리완료"},Daily!$C:$C,"ATC")+SUMIFS(Daily!$S:$S,Daily!$G:$G,3,Daily!$I:$I,{"외주수리완료"},Daily!$C:$C,"ATC") -> 0 | H8: =IF($R$2="K\",SUMIFS(Daily!$W:$W,Daily!$G:$G,3,Daily!$I:$I,{"수리완료"},Daily!$C:$C,"ATC")+SUMIFS(Daily!$W:$W,Daily!$G:$G,3,Daily!$I:$I,{"외주수리완료"},Daily!$C:$C,"ATC"),(SUMIFS(Daily!$W:$W,Daily!$G:$G,3,Daily!$I:$I,{"수리완료"},Daily!$C:$C,"ATC")+SUMIFS(Daily!$W:$W,Daily!$G:$G,3,Daily!$I:$I,{"외주수리완료"},Daily!$C:$C,"ATC"))/$R$3) -> 0 | I8: =SUMIFS(Daily!$S:$S,Daily!$G:$G,3,Daily!$I:$I,{"수리완료"},Daily!$C:$C,"ATT")+SUMIFS(Daily!$S:$S,Daily!$G:$G,3,Daily!$I:$I,{"외주수리완료"},Daily!$C:$C,"ATT") -> 0 | J8: =IF($R$2="K\",SUMIFS(Daily!$W:$W,Daily!$G:$G,3,Daily!$I:$I,{"수리완료"},Daily!$C:$C,"ATT")+SUMIFS(Daily!$W:$W,Daily!$G:$G,3,Daily!$I:$I,{"외주수리완료"},Daily!$C:$C,"ATT"),(SUMIFS(Daily!$W:$W,Daily!$G:$G,3,Daily!$I:$I,{"수리완료"},Daily!$C:$C,"ATT")+SUMIFS(Daily!$W:$W,Daily!$G:$G,3,Daily!$I:$I,{"외주수리완료"},Daily!$C:$C,"ATT"))/$R$3) -> 0 | K8: =SUMIFS(Daily!$S:$S,Daily!$G:$G,3,Daily!$I:$I,{"수리완료"},Daily!$C:$C,"ATM")+SUMIFS(Daily!$S:$S,Daily!$G:$G,3,Daily!$I:$I,{"외주수리완료"},Daily!$C:$C,"ATM") -> 0 | L8: =IF($R$2="K\",SUMIFS(Daily!$W:$W,Daily!$G:$G,3,Daily!$I:$I,{"수리완료"},Daily!$C:$C,"ATM")+SUMIFS(Daily!$W:$W,Daily!$G:$G,3,Daily!$I:$I,{"외주수리완료"},Daily!$C:$C,"ATM"),(SUMIFS(Daily!$W:$W,Daily!$G:$G,3,Daily!$I:$I,{"수리완료"},Daily!$C:$C,"ATM")+SUMIFS(Daily!$W:$W,Daily!$G:$G,3,Daily!$I:$I,{"외주수리완료"},Daily!$C:$C,"ATM"))/$R$3) -> 0 | M8: =SUMIFS(Daily!$S:$S,Daily!$G:$G,3,Daily!$I:$I,{"수리완료"},Daily!$C:$C,"ATJ")+SUMIFS(Daily!$S:$S,Daily!$G:$G,3,Daily!$I:$I,{"외주수리완료"},Daily!$C:$C,"ATJ") -> 0 | N8: =IF($R$2="K\",SUMIFS(Daily!$W:$W,Daily!$G:$G,3,Daily!$I:$I,{"수리완료"},Daily!$C:$C,"ATJ")+SUMIFS(Daily!$W:$W,Daily!$G:$G,3,Daily!$I:$I,{"외주수리완료"},Daily!$C:$C,"ATJ"),(SUMIFS(Daily!$W:$W,Daily!$G:$G,3,Daily!$I:$I,{"수리완료"},Daily!$C:$C,"ATJ")+SUMIFS(Daily!$W:$W,Daily!$G:$G,3,Daily!$I:$I,{"외주수리완료"},Daily!$C:$C,"ATJ"))/$R$3) -> 0 | O8: =SUMIFS(Daily!$S:$S,Daily!$G:$G,3,Daily!$I:$I,{"*수리완료"},Daily!$C:$C,"ATEP") -> 0 | P8: =IF($R$2="K\",SUMIFS(Daily!$W:$W,Daily!$G:$G,3,Daily!$I:$I,{"수리완료"},Daily!$C:$C,"ATEP")+SUMIFS(Daily!$W:$W,Daily!$G:$G,3,Daily!$I:$I,{"외주수리완료"},Daily!$C:$C,"ATEP"),(SUMIFS(Daily!$W:$W,Daily!$G:$G,3,Daily!$I:$I,{"수리완료"},Daily!$C:$C,"ATEP")+SUMIFS(Daily!$W:$W,Daily!$G:$G,3,Daily!$I:$I,{"외주수리완료"},Daily!$C:$C,"ATEP"))/$R$3) -> 0 | Q8: =C8+E8+G8+I8+K8+M8+O8 -> 12 | R8: =D8+F8+H8+J8+L8+N8+P8 -> 18.228182 | T8: ATT | U8: =COUNTIF(Daily!C:C, T8)-COUNTIFS(Daily!C:C, T8, Daily!I:I, "Other") -> 0 | V8: =COUNTIFS(Daily!C:C, T8, Daily!I:I, "수리완료")+COUNTIFS(Daily!C:C, T8, Daily!I:I, "외주수리완료") -> 0 | W8: =COUNTIFS(Daily!C:C, T8, Daily!I:I, "수리불가")+COUNTIFS(Daily!C:C, T8, Daily!I:I, "외주수리불가")+COUNTIFS(Daily!C:C, T8, Daily!I:I, "폐기") -> 0 | X8: 0 | Y8: =COUNTIFS(Daily!C:C, T8, Daily!I:I, "수리중")+COUNTIFS(Daily!C:C, T8, Daily!I:I, "외주수리중") -> 0 | Z8: =(SUMIFS(Daily!W:W, Daily!C:C, T8, Daily!I:I, "수리완료")+SUMIFS(Daily!W:W, Daily!C:C, T8, Daily!I:I, "외주수리완료"))/$Z$2 -> 0
B9: Apr. | C9: =SUMPRODUCT(SUMIFS(Daily!$S:$S,Daily!$G:$G,"4",Daily!$C:$C,"ATK",Daily!$I:$I,"수리완료")) + SUMPRODUCT(SUMIFS(Daily!$S:$S,Daily!$G:$G,"4",Daily!$C:$C,"ATK",Daily!$I:$I,"외주수리완료")) -> 0 | D9: =IF($R$2="K\",(SUMPRODUCT(SUMIFS(Daily!$W:$W,Daily!$G:$G,"4",Daily!$C:$C,"ATK",Daily!$I:$I,"수리완료")) + SUMPRODUCT(SUMIFS(Daily!$W:$W,Daily!$G:$G,"4",Daily!$C:$C,"ATK",Daily!$I:$I,"외주수리완료"))),(SUMPRODUCT(SUMIFS(Daily!$W:$W,Daily!$G:$G,"4",Daily!$C:$C,"ATK",Daily!$I:$I,"수리완료")) + SUMPRODUCT(SUMIFS(Daily!$W:$W,Daily!$G:$G,"4",Daily!$C:$C,"ATK",Daily!$I:$I,"외주수리완료")))/$R$3) -> 0 | E9: =SUMIFS(Daily!$S:$S,Daily!$G:$G,4,Daily!$I:$I,{"수리완료"},Daily!$C:$C,"ATP")+SUMIFS(Daily!$S:$S,Daily!$G:$G,4,Daily!$I:$I,{"외주수리완료"},Daily!$C:$C,"ATP") -> 0 | F9: =IF($R$2="K\",SUMIFS(Daily!$W:$W,Daily!$G:$G,4,Daily!$I:$I,{"수리완료"},Daily!$C:$C,"ATP")+SUMIFS(Daily!$W:$W,Daily!$G:$G,4,Daily!$I:$I,{"외주수리완료"},Daily!$C:$C,"ATP"),(SUMIFS(Daily!$W:$W,Daily!$G:$G,4,Daily!$I:$I,{"수리완료"},Daily!$C:$C,"ATP")+SUMIFS(Daily!$W:$W,Daily!$G:$G,4,Daily!$I:$I,{"외주수리완료"},Daily!$C:$C,"ATP"))/$R$3) -> 0 | G9: =SUMIFS(Daily!$S:$S,Daily!$G:$G,4,Daily!$I:$I,{"수리완료"},Daily!$C:$C,"ATC")+SUMIFS(Daily!$S:$S,Daily!$G:$G,4,Daily!$I:$I,{"외주수리완료"},Daily!$C:$C,"ATC") -> 0 | H9: =IF($R$2="K\",SUMIFS(Daily!$W:$W,Daily!$G:$G,4,Daily!$I:$I,{"수리완료"},Daily!$C:$C,"ATC")+SUMIFS(Daily!$W:$W,Daily!$G:$G,4,Daily!$I:$I,{"외주수리완료"},Daily!$C:$C,"ATC"),(SUMIFS(Daily!$W:$W,Daily!$G:$G,4,Daily!$I:$I,{"수리완료"},Daily!$C:$C,"ATC")+SUMIFS(Daily!$W:$W,Daily!$G:$G,4,Daily!$I:$I,{"외주수리완료"},Daily!$C:$C,"ATC"))/$R$3) -> 0 | I9: =SUMIFS(Daily!$S:$S,Daily!$G:$G,4,Daily!$I:$I,{"수리완료"},Daily!$C:$C,"ATT")+SUMIFS(Daily!$S:$S,Daily!$G:$G,4,Daily!$I:$I,{"외주수리완료"},Daily!$C:$C,"ATT") -> 0 | J9: =IF($R$2="K\",SUMIFS(Daily!$W:$W,Daily!$G:$G,4,Daily!$I:$I,{"수리완료"},Daily!$C:$C,"ATT")+SUMIFS(Daily!$W:$W,Daily!$G:$G,4,Daily!$I:$I,{"외주수리완료"},Daily!$C:$C,"ATT"),(SUMIFS(Daily!$W:$W,Daily!$G:$G,4,Daily!$I:$I,{"수리완료"},Daily!$C:$C,"ATT")+SUMIFS(Daily!$W:$W,Daily!$G:$G,4,Daily!$I:$I,{"외주수리완료"},Daily!$C:$C,"ATT"))/$R$3) -> 0 | K9: =SUMIFS(Daily!$S:$S,Daily!$G:$G,4,Daily!$I:$I,{"수리완료"},Daily!$C:$C,"ATM")+SUMIFS(Daily!$S:$S,Daily!$G:$G,4,Daily!$I:$I,{"외주수리완료"},Daily!$C:$C,"ATM") -> 0 | L9: =IF($R$2="K\",SUMIFS(Daily!$W:$W,Daily!$G:$G,4,Daily!$I:$I,{"수리완료"},Daily!$C:$C,"ATM")+SUMIFS(Daily!$W:$W,Daily!$G:$G,4,Daily!$I:$I,{"외주수리완료"},Daily!$C:$C,"ATM"),(SUMIFS(Daily!$W:$W,Daily!$G:$G,4,Daily!$I:$I,{"수리완료"},Daily!$C:$C,"ATM")+SUMIFS(Daily!$W:$W,Daily!$G:$G,4,Daily!$I:$I,{"외주수리완료"},Daily!$C:$C,"ATM"))/$R$3) -> 0 | M9: =SUMIFS(Daily!$S:$S,Daily!$G:$G,4,Daily!$I:$I,{"수리완료"},Daily!$C:$C,"ATJ")+SUMIFS(Daily!$S:$S,Daily!$G:$G,4,Daily!$I:$I,{"외주수리완료"},Daily!$C:$C,"ATJ") -> 0 | N9: =IF($R$2="K\",SUMIFS(Daily!$W:$W,Daily!$G:$G,4,Daily!$I:$I,{"수리완료"},Daily!$C:$C,"ATJ")+SUMIFS(Daily!$W:$W,Daily!$G:$G,4,Daily!$I:$I,{"외주수리완료"},Daily!$C:$C,"ATJ"),(SUMIFS(Daily!$W:$W,Daily!$G:$G,4,Daily!$I:$I,{"수리완료"},Daily!$C:$C,"ATJ")+SUMIFS(Daily!$W:$W,Daily!$G:$G,4,Daily!$I:$I,{"외주수리완료"},Daily!$C:$C,"ATJ"))/$R$3) -> 0 | O9: =SUMIFS(Daily!$S:$S,Daily!$G:$G,4,Daily!$I:$I,{"*수리완료"},Daily!$C:$C,"ATEP") -> 0 | P9: =IF($R$2="K\",SUMIFS(Daily!$W:$W,Daily!$G:$G,4,Daily!$I:$I,{"수리완료"},Daily!$C:$C,"ATEP")+SUMIFS(Daily!$W:$W,Daily!$G:$G,4,Daily!$I:$I,{"외주수리완료"},Daily!$C:$C,"ATEP"),(SUMIFS(Daily!$W:$W,Daily!$G:$G,4,Daily!$I:$I,{"수리완료"},Daily!$C:$C,"ATEP")+SUMIFS(Daily!$W:$W,Daily!$G:$G,4,Daily!$I:$I,{"외주수리완료"},Daily!$C:$C,"ATEP"))/$R$3) -> 0 | Q9: =C9+E9+G9+I9+K9+M9+O9 -> 0 | R9: =D9+F9+H9+J9+L9+N9+P9 -> 0 | T9: ATC | U9: =COUNTIF(Daily!C:C, T9)-COUNTIFS(Daily!C:C, T9, Daily!I:I, "Other") -> 0 | V9: =COUNTIFS(Daily!C:C, T9, Daily!I:I, "수리완료")+COUNTIFS(Daily!C:C, T9, Daily!I:I, "외주수리완료") -> 0 | W9: =COUNTIFS(Daily!C:C, T9, Daily!I:I, "수리불가")+COUNTIFS(Daily!C:C, T9, Daily!I:I, "외주수리불가")+COUNTIFS(Daily!C:C, T9, Daily!I:I, "폐기") -> 0 | X9: 0 | Y9: =COUNTIFS(Daily!C:C, T9, Daily!I:I, "수리중")+COUNTIFS(Daily!C:C, T9, Daily!I:I, "외주수리중") -> 0 | Z9: =(SUMIFS(Daily!W:W, Daily!C:C, T9, Daily!I:I, "수리완료")+SUMIFS(Daily!W:W, Daily!C:C, T9, Daily!I:I, "외주수리완료"))/$Z$2 -> 0
B10: May | C10: =SUMPRODUCT(SUMIFS(Daily!$S:$S,Daily!$G:$G,"5",Daily!$C:$C,"ATK",Daily!$I:$I,"수리완료")) + SUMPRODUCT(SUMIFS(Daily!$S:$S,Daily!$G:$G,"5",Daily!$C:$C,"ATK",Daily!$I:$I,"외주수리완료")) -> 0 | D10: =IF($R$2="K\",(SUMPRODUCT(SUMIFS(Daily!$W:$W,Daily!$G:$G,"5",Daily!$C:$C,"ATK",Daily!$I:$I,"수리완료")) + SUMPRODUCT(SUMIFS(Daily!$W:$W,Daily!$G:$G,"5",Daily!$C:$C,"ATK",Daily!$I:$I,"외주수리완료"))),(SUMPRODUCT(SUMIFS(Daily!$W:$W,Daily!$G:$G,"5",Daily!$C:$C,"ATK",Daily!$I:$I,"수리완료")) + SUMPRODUCT(SUMIFS(Daily!$W:$W,Daily!$G:$G,"5",Daily!$C:$C,"ATK",Daily!$I:$I,"외주수리완료")))/$R$3) -> 0 | E10: =SUMIFS(Daily!$S:$S,Daily!$G:$G,5,Daily!$I:$I,{"수리완료"},Daily!$C:$C,"ATP")+SUMIFS(Daily!$S:$S,Daily!$G:$G,5,Daily!$I:$I,{"외주수리완료"},Daily!$C:$C,"ATP") -> 0 | F10: =IF($R$2="K\",SUMIFS(Daily!$W:$W,Daily!$G:$G,5,Daily!$I:$I,{"수리완료"},Daily!$C:$C,"ATP")+SUMIFS(Daily!$W:$W,Daily!$G:$G,5,Daily!$I:$I,{"외주수리완료"},Daily!$C:$C,"ATP"),(SUMIFS(Daily!$W:$W,Daily!$G:$G,5,Daily!$I:$I,{"수리완료"},Daily!$C:$C,"ATP")+SUMIFS(Daily!$W:$W,Daily!$G:$G,5,Daily!$I:$I,{"외주수리완료"},Daily!$C:$C,"ATP"))/$R$3) -> 0 | G10: =SUMIFS(Daily!$S:$S,Daily!$G:$G,5,Daily!$I:$I,{"수리완료"},Daily!$C:$C,"ATC")+SUMIFS(Daily!$S:$S,Daily!$G:$G,5,Daily!$I:$I,{"외주수리완료"},Daily!$C:$C,"ATC") -> 0 | H10: =IF($R$2="K\",SUMIFS(Daily!$W:$W,Daily!$G:$G,5,Daily!$I:$I,{"수리완료"},Daily!$C:$C,"ATC")+SUMIFS(Daily!$W:$W,Daily!$G:$G,5,Daily!$I:$I,{"외주수리완료"},Daily!$C:$C,"ATC"),(SUMIFS(Daily!$W:$W,Daily!$G:$G,5,Daily!$I:$I,{"수리완료"},Daily!$C:$C,"ATC")+SUMIFS(Daily!$W:$W,Daily!$G:$G,5,Daily!$I:$I,{"외주수리완료"},Daily!$C:$C,"ATC"))/$R$3) -> 0 | I10: =SUMIFS(Daily!$S:$S,Daily!$G:$G,5,Daily!$I:$I,{"수리완료"},Daily!$C:$C,"ATT")+SUMIFS(Daily!$S:$S,Daily!$G:$G,5,Daily!$I:$I,{"외주수리완료"},Daily!$C:$C,"ATT") -> 0 | J10: =IF($R$2="K\",SUMIFS(Daily!$W:$W,Daily!$G:$G,5,Daily!$I:$I,{"수리완료"},Daily!$C:$C,"ATT")+SUMIFS(Daily!$W:$W,Daily!$G:$G,5,Daily!$I:$I,{"외주수리완료"},Daily!$C:$C,"ATT"),(SUMIFS(Daily!$W:$W,Daily!$G:$G,5,Daily!$I:$I,{"수리완료"},Daily!$C:$C,"ATT")+SUMIFS(Daily!$W:$W,Daily!$G:$G,5,Daily!$I:$I,{"외주수리완료"},Daily!$C:$C,"ATT"))/$R$3) -> 0 | K10: =SUMIFS(Daily!$S:$S,Daily!$G:$G,5,Daily!$I:$I,{"수리완료"},Daily!$C:$C,"ATM")+SUMIFS(Daily!$S:$S,Daily!$G:$G,5,Daily!$I:$I,{"외주수리완료"},Daily!$C:$C,"ATM") -> 0 | L10: =IF($R$2="K\",SUMIFS(Daily!$W:$W,Daily!$G:$G,5,Daily!$I:$I,{"수리완료"},Daily!$C:$C,"ATM")+SUMIFS(Daily!$W:$W,Daily!$G:$G,5,Daily!$I:$I,{"외주수리완료"},Daily!$C:$C,"ATM"),(SUMIFS(Daily!$W:$W,Daily!$G:$G,5,Daily!$I:$I,{"수리완료"},Daily!$C:$C,"ATM")+SUMIFS(Daily!$W:$W,Daily!$G:$G,5,Daily!$I:$I,{"외주수리완료"},Daily!$C:$C,"ATM"))/$R$3) -> 0 | M10: =SUMIFS(Daily!$S:$S,Daily!$G:$G,5,Daily!$I:$I,{"수리완료"},Daily!$C:$C,"ATJ")+SUMIFS(Daily!$S:$S,Daily!$G:$G,5,Daily!$I:$I,{"외주수리완료"},Daily!$C:$C,"ATJ") -> 0 | N10: =IF($R$2="K\",SUMIFS(Daily!$W:$W,Daily!$G:$G,5,Daily!$I:$I,{"수리완료"},Daily!$C:$C,"ATJ")+SUMIFS(Daily!$W:$W,Daily!$G:$G,5,Daily!$I:$I,{"외주수리완료"},Daily!$C:$C,"ATJ"),(SUMIFS(Daily!$W:$W,Daily!$G:$G,5,Daily!$I:$I,{"수리완료"},Daily!$C:$C,"ATJ")+SUMIFS(Daily!$W:$W,Daily!$G:$G,5,Daily!$I:$I,{"외주수리완료"},Daily!$C:$C,"ATJ"))/$R$3) -> 0 | O10: =SUMIFS(Daily!$S:$S,Daily!$G:$G,5,Daily!$I:$I,{"*수리완료"},Daily!$C:$C,"ATEP") -> 0 | P10: =IF($R$2="K\",SUMIFS(Daily!$W:$W,Daily!$G:$G,5,Daily!$I:$I,{"수리완료"},Daily!$C:$C,"ATEP")+SUMIFS(Daily!$W:$W,Daily!$G:$G,5,Daily!$I:$I,{"외주수리완료"},Daily!$C:$C,"ATEP"),(SUMIFS(Daily!$W:$W,Daily!$G:$G,5,Daily!$I:$I,{"수리완료"},Daily!$C:$C,"ATEP")+SUMIFS(Daily!$W:$W,Daily!$G:$G,5,Daily!$I:$I,{"외주수리완료"},Daily!$C:$C,"ATEP"))/$R$3) -> 0 | Q10: =C10+E10+G10+I10+K10+M10+O10 -> 0 | R10: =D10+F10+H10+J10+L10+N10+P10 -> 0 | T10: ATM | U10: =COUNTIF(Daily!C:C, T10)-COUNTIFS(Daily!C:C, T10, Daily!I:I, "Other") -> 2 | V10: =COUNTIFS(Daily!C:C, T10, Daily!I:I, "수리완료")+COUNTIFS(Daily!C:C, T10, Daily!I:I, "외주수리완료") -> 2 | W10: =COUNTIFS(Daily!C:C, T10, Daily!I:I, "수리불가")+COUNTIFS(Daily!C:C, T10, Daily!I:I, "외주수리불가")+COUNTIFS(Daily!C:C, T10, Daily!I:I, "폐기") -> 0 | X10: 0 | Y10: =COUNTIFS(Daily!C:C, T10, Daily!I:I, "수리중")+COUNTIFS(Daily!C:C, T10, Daily!I:I, "외주수리중") -> 0 | Z10: =(SUMIFS(Daily!W:W, Daily!C:C, T10, Daily!I:I, "수리완료")+SUMIFS(Daily!W:W, Daily!C:C, T10, Daily!I:I, "외주수리완료"))/$Z$2 -> 1.9727273
B11: Jun. | C11: =SUMPRODUCT(SUMIFS(Daily!$S:$S,Daily!$G:$G,"6",Daily!$C:$C,"ATK",Daily!$I:$I,"수리완료")) + SUMPRODUCT(SUMIFS(Daily!$S:$S,Daily!$G:$G,"6",Daily!$C:$C,"ATK",Daily!$I:$I,"외주수리완료")) -> 0 | D11: =IF($R$2="K\",(SUMPRODUCT(SUMIFS(Daily!$W:$W,Daily!$G:$G,"6",Daily!$C:$C,"ATK",Daily!$I:$I,"수리완료")) + SUMPRODUCT(SUMIFS(Daily!$W:$W,Daily!$G:$G,"6",Daily!$C:$C,"ATK",Daily!$I:$I,"외주수리완료"))),(SUMPRODUCT(SUMIFS(Daily!$W:$W,Daily!$G:$G,"6",Daily!$C:$C,"ATK",Daily!$I:$I,"수리완료")) + SUMPRODUCT(SUMIFS(Daily!$W:$W,Daily!$G:$G,"6",Daily!$C:$C,"ATK",Daily!$I:$I,"외주수리완료")))/$R$3) -> 0 | E11: =SUMIFS(Daily!$S:$S,Daily!$G:$G,6,Daily!$I:$I,{"수리완료"},Daily!$C:$C,"ATP")+SUMIFS(Daily!$S:$S,Daily!$G:$G,6,Daily!$I:$I,{"외주수리완료"},Daily!$C:$C,"ATP") -> 0 | F11: =IF($R$2="K\",SUMIFS(Daily!$W:$W,Daily!$G:$G,6,Daily!$I:$I,{"수리완료"},Daily!$C:$C,"ATP")+SUMIFS(Daily!$W:$W,Daily!$G:$G,6,Daily!$I:$I,{"외주수리완료"},Daily!$C:$C,"ATP"),(SUMIFS(Daily!$W:$W,Daily!$G:$G,6,Daily!$I:$I,{"수리완료"},Daily!$C:$C,"ATP")+SUMIFS(Daily!$W:$W,Daily!$G:$G,6,Daily!$I:$I,{"외주수리완료"},Daily!$C:$C,"ATP"))/$R$3) -> 0 | G11: =SUMIFS(Daily!$S:$S,Daily!$G:$G,6,Daily!$I:$I,{"수리완료"},Daily!$C:$C,"ATC")+SUMIFS(Daily!$S:$S,Daily!$G:$G,6,Daily!$I:$I,{"외주수리완료"},Daily!$C:$C,"ATC") -> 0 | H11: =IF($R$2="K\",SUMIFS(Daily!$W:$W,Daily!$G:$G,6,Daily!$I:$I,{"수리완료"},Daily!$C:$C,"ATC")+SUMIFS(Daily!$W:$W,Daily!$G:$G,6,Daily!$I:$I,{"외주수리완료"},Daily!$C:$C,"ATC"),(SUMIFS(Daily!$W:$W,Daily!$G:$G,6,Daily!$I:$I,{"수리완료"},Daily!$C:$C,"ATC")+SUMIFS(Daily!$W:$W,Daily!$G:$G,6,Daily!$I:$I,{"외주수리완료"},Daily!$C:$C,"ATC"))/$R$3) -> 0 | I11: =SUMIFS(Daily!$S:$S,Daily!$G:$G,6,Daily!$I:$I,{"수리완료"},Daily!$C:$C,"ATT")+SUMIFS(Daily!$S:$S,Daily!$G:$G,6,Daily!$I:$I,{"외주수리완료"},Daily!$C:$C,"ATT") -> 0 | J11: =IF($R$2="K\",SUMIFS(Daily!$W:$W,Daily!$G:$G,6,Daily!$I:$I,{"수리완료"},Daily!$C:$C,"ATT")+SUMIFS(Daily!$W:$W,Daily!$G:$G,6,Daily!$I:$I,{"외주수리완료"},Daily!$C:$C,"ATT"),(SUMIFS(Daily!$W:$W,Daily!$G:$G,6,Daily!$I:$I,{"수리완료"},Daily!$C:$C,"ATT")+SUMIFS(Daily!$W:$W,Daily!$G:$G,6,Daily!$I:$I,{"외주수리완료"},Daily!$C:$C,"ATT"))/$R$3) -> 0 | K11: =SUMIFS(Daily!$S:$S,Daily!$G:$G,6,Daily!$I:$I,{"수리완료"},Daily!$C:$C,"ATM")+SUMIFS(Daily!$S:$S,Daily!$G:$G,6,Daily!$I:$I,{"외주수리완료"},Daily!$C:$C,"ATM") -> 0 | L11: =IF($R$2="K\",SUMIFS(Daily!$W:$W,Daily!$G:$G,6,Daily!$I:$I,{"수리완료"},Daily!$C:$C,"ATM")+SUMIFS(Daily!$W:$W,Daily!$G:$G,6,Daily!$I:$I,{"외주수리완료"},Daily!$C:$C,"ATM"),(SUMIFS(Daily!$W:$W,Daily!$G:$G,6,Daily!$I:$I,{"수리완료"},Daily!$C:$C,"ATM")+SUMIFS(Daily!$W:$W,Daily!$G:$G,6,Daily!$I:$I,{"외주수리완료"},Daily!$C:$C,"ATM"))/$R$3) -> 0 | M11: =SUMIFS(Daily!$S:$S,Daily!$G:$G,6,Daily!$I:$I,{"수리완료"},Daily!$C:$C,"ATJ")+SUMIFS(Daily!$S:$S,Daily!$G:$G,6,Daily!$I:$I,{"외주수리완료"},Daily!$C:$C,"ATJ") -> 0 | N11: =IF($R$2="K\",SUMIFS(Daily!$W:$W,Daily!$G:$G,6,Daily!$I:$I,{"수리완료"},Daily!$C:$C,"ATJ")+SUMIFS(Daily!$W:$W,Daily!$G:$G,6,Daily!$I:$I,{"외주수리완료"},Daily!$C:$C,"ATJ"),(SUMIFS(Daily!$W:$W,Daily!$G:$G,6,Daily!$I:$I,{"수리완료"},Daily!$C:$C,"ATJ")+SUMIFS(Daily!$W:$W,Daily!$G:$G,6,Daily!$I:$I,{"외주수리완료"},Daily!$C:$C,"ATJ"))/$R$3) -> 0 | O11: =SUMIFS(Daily!$S:$S,Daily!$G:$G,6,Daily!$I:$I,{"*수리완료"},Daily!$C:$C,"ATEP") -> 0 | P11: =IF($R$2="K\",SUMIFS(Daily!$W:$W,Daily!$G:$G,6,Daily!$I:$I,{"수리완료"},Daily!$C:$C,"ATEP")+SUMIFS(Daily!$W:$W,Daily!$G:$G,6,Daily!$I:$I,{"외주수리완료"},Daily!$C:$C,"ATEP"),(SUMIFS(Daily!$W:$W,Daily!$G:$G,6,Daily!$I:$I,{"수리완료"},Daily!$C:$C,"ATEP")+SUMIFS(Daily!$W:$W,Daily!$G:$G,6,Daily!$I:$I,{"외주수리완료"},Daily!$C:$C,"ATEP"))/$R$3) -> 0 | Q11: =C11+E11+G11+I11+K11+M11+O11 -> 0 | R11: =D11+F11+H11+J11+L11+N11+P11 -> 0 | T11: ATEP | U11: =COUNTIF(Daily!C:C, T11)-COUNTIFS(Daily!C:C, T11, Daily!I:I, "Other") -> 0 | V11: =COUNTIFS(Daily!C:C, T11, Daily!I:I, "수리완료")+COUNTIFS(Daily!C:C, T11, Daily!I:I, "외주수리완료") -> 0 | W11: =COUNTIFS(Daily!C:C, T11, Daily!I:I, "수리불가")+COUNTIFS(Daily!C:C, T11, Daily!I:I, "외주수리불가")+COUNTIFS(Daily!C:C, T11, Daily!I:I, "폐기") -> 0 | X11: 0 | Y11: =COUNTIFS(Daily!C:C, T11, Daily!I:I, "수리중")+COUNTIFS(Daily!C:C, T11, Daily!I:I, "외주수리중") -> 0 | Z11: =(SUMIFS(Daily!W:W, Daily!C:C, T11, Daily!I:I, "수리완료")+SUMIFS(Daily!W:W, Daily!C:C, T11, Daily!I:I, "외주수리완료"))/$Z$2 -> 0
B12: Jul | C12: =SUMPRODUCT(SUMIFS(Daily!$S:$S,Daily!$G:$G,"7",Daily!$C:$C,"ATK",Daily!$I:$I,"수리완료")) + SUMPRODUCT(SUMIFS(Daily!$S:$S,Daily!$G:$G,"7",Daily!$C:$C,"ATK",Daily!$I:$I,"외주수리완료")) -> 0 | D12: =IF($R$2="K\",(SUMPRODUCT(SUMIFS(Daily!$W:$W,Daily!$G:$G,"7",Daily!$C:$C,"ATK",Daily!$I:$I,"수리완료")) + SUMPRODUCT(SUMIFS(Daily!$W:$W,Daily!$G:$G,"7",Daily!$C:$C,"ATK",Daily!$I:$I,"외주수리완료"))),(SUMPRODUCT(SUMIFS(Daily!$W:$W,Daily!$G:$G,"7",Daily!$C:$C,"ATK",Daily!$I:$I,"수리완료")) + SUMPRODUCT(SUMIFS(Daily!$W:$W,Daily!$G:$G,"7",Daily!$C:$C,"ATK",Daily!$I:$I,"외주수리완료")))/$R$3) -> 0 | E12: =SUMIFS(Daily!$S:$S,Daily!$G:$G,7,Daily!$I:$I,{"수리완료"},Daily!$C:$C,"ATP")+SUMIFS(Daily!$S:$S,Daily!$G:$G,7,Daily!$I:$I,{"외주수리완료"},Daily!$C:$C,"ATP") -> 0 | F12: =IF($R$2="K\",SUMIFS(Daily!$W:$W,Daily!$G:$G,7,Daily!$I:$I,{"수리완료"},Daily!$C:$C,"ATP")+SUMIFS(Daily!$W:$W,Daily!$G:$G,7,Daily!$I:$I,{"외주수리완료"},Daily!$C:$C,"ATP"),(SUMIFS(Daily!$W:$W,Daily!$G:$G,7,Daily!$I:$I,{"수리완료"},Daily!$C:$C,"ATP")+SUMIFS(Daily!$W:$W,Daily!$G:$G,7,Daily!$I:$I,{"외주수리완료"},Daily!$C:$C,"ATP"))/$R$3) -> 0 | G12: =SUMIFS(Daily!$S:$S,Daily!$G:$G,7,Daily!$I:$I,{"수리완료"},Daily!$C:$C,"ATC")+SUMIFS(Daily!$S:$S,Daily!$G:$G,7,Daily!$I:$I,{"외주수리완료"},Daily!$C:$C,"ATC") -> 0 | H12: =IF($R$2="K\",SUMIFS(Daily!$W:$W,Daily!$G:$G,7,Daily!$I:$I,{"수리완료"},Daily!$C:$C,"ATC")+SUMIFS(Daily!$W:$W,Daily!$G:$G,7,Daily!$I:$I,{"외주수리완료"},Daily!$C:$C,"ATC"),(SUMIFS(Daily!$W:$W,Daily!$G:$G,7,Daily!$I:$I,{"수리완료"},Daily!$C:$C,"ATC")+SUMIFS(Daily!$W:$W,Daily!$G:$G,7,Daily!$I:$I,{"외주수리완료"},Daily!$C:$C,"ATC"))/$R$3) -> 0 | I12: =SUMIFS(Daily!$S:$S,Daily!$G:$G,7,Daily!$I:$I,{"수리완료"},Daily!$C:$C,"ATT")+SUMIFS(Daily!$S:$S,Daily!$G:$G,7,Daily!$I:$I,{"외주수리완료"},Daily!$C:$C,"ATT") -> 0 | J12: =IF($R$2="K\",SUMIFS(Daily!$W:$W,Daily!$G:$G,7,Daily!$I:$I,{"수리완료"},Daily!$C:$C,"ATT")+SUMIFS(Daily!$W:$W,Daily!$G:$G,7,Daily!$I:$I,{"외주수리완료"},Daily!$C:$C,"ATT"),(SUMIFS(Daily!$W:$W,Daily!$G:$G,7,Daily!$I:$I,{"수리완료"},Daily!$C:$C,"ATT")+SUMIFS(Daily!$W:$W,Daily!$G:$G,7,Daily!$I:$I,{"외주수리완료"},Daily!$C:$C,"ATT"))/$R$3) -> 0 | K12: =SUMIFS(Daily!$S:$S,Daily!$G:$G,7,Daily!$I:$I,{"수리완료"},Daily!$C:$C,"ATM")+SUMIFS(Daily!$S:$S,Daily!$G:$G,7,Daily!$I:$I,{"외주수리완료"},Daily!$C:$C,"ATM") -> 0 | L12: =IF($R$2="K\",SUMIFS(Daily!$W:$W,Daily!$G:$G,7,Daily!$I:$I,{"수리완료"},Daily!$C:$C,"ATM")+SUMIFS(Daily!$W:$W,Daily!$G:$G,7,Daily!$I:$I,{"외주수리완료"},Daily!$C:$C,"ATM"),(SUMIFS(Daily!$W:$W,Daily!$G:$G,7,Daily!$I:$I,{"수리완료"},Daily!$C:$C,"ATM")+SUMIFS(Daily!$W:$W,Daily!$G:$G,7,Daily!$I:$I,{"외주수리완료"},Daily!$C:$C,"ATM"))/$R$3) -> 0 | M12: =SUMIFS(Daily!$S:$S,Daily!$G:$G,7,Daily!$I:$I,{"수리완료"},Daily!$C:$C,"ATJ")+SUMIFS(Daily!$S:$S,Daily!$G:$G,7,Daily!$I:$I,{"외주수리완료"},Daily!$C:$C,"ATJ") -> 0 | N12: =IF($R$2="K\",SUMIFS(Daily!$W:$W,Daily!$G:$G,7,Daily!$I:$I,{"수리완료"},Daily!$C:$C,"ATJ")+SUMIFS(Daily!$W:$W,Daily!$G:$G,7,Daily!$I:$I,{"외주수리완료"},Daily!$C:$C,"ATJ"),(SUMIFS(Daily!$W:$W,Daily!$G:$G,7,Daily!$I:$I,{"수리완료"},Daily!$C:$C,"ATJ")+SUMIFS(Daily!$W:$W,Daily!$G:$G,7,Daily!$I:$I,{"외주수리완료"},Daily!$C:$C,"ATJ"))/$R$3) -> 0 | O12: =SUMIFS(Daily!$S:$S,Daily!$G:$G,7,Daily!$I:$I,{"*수리완료"},Daily!$C:$C,"ATEP") -> 0 | P12: =IF($R$2="K\",SUMIFS(Daily!$W:$W,Daily!$G:$G,7,Daily!$I:$I,{"수리완료"},Daily!$C:$C,"ATEP")+SUMIFS(Daily!$W:$W,Daily!$G:$G,7,Daily!$I:$I,{"외주수리완료"},Daily!$C:$C,"ATEP"),(SUMIFS(Daily!$W:$W,Daily!$G:$G,7,Daily!$I:$I,{"수리완료"},Daily!$C:$C,"ATEP")+SUMIFS(Daily!$W:$W,Daily!$G:$G,7,Daily!$I:$I,{"외주수리완료"},Daily!$C:$C,"ATEP"))/$R$3) -> 0 | Q12: =C12+E12+G12+I12+K12+M12+O12 -> 0 | R12: =D12+F12+H12+J12+L12+N12+P12 -> 0 | T12: ATJ | U12: =COUNTIF(Daily!C:C, T12)-COUNTIFS(Daily!C:C, T12, Daily!I:I, "Other") -> 0 | V12: =COUNTIFS(Daily!C:C, T12, Daily!I:I, "수리완료")+COUNTIFS(Daily!C:C, T12, Daily!I:I, "외주수리완료") -> 0 | W12: =COUNTIFS(Daily!C:C, T12, Daily!I:I, "수리불가")+COUNTIFS(Daily!C:C, T12, Daily!I:I, "외주수리불가")+COUNTIFS(Daily!C:C, T12, Daily!I:I, "폐기") -> 0 | X12: 0 | Y12: =COUNTIFS(Daily!C:C, T12, Daily!I:I, "수리중")+COUNTIFS(Daily!C:C, T12, Daily!I:I, "외주수리중") -> 0 | Z12: =(SUMIFS(Daily!W:W, Daily!C:C, T12, Daily!I:I, "수리완료")+SUMIFS(Daily!W:W, Daily!C:C, T12, Daily!I:I, "외주수리완료"))/$Z$2 -> 0
B13: Aug. | C13: =SUMPRODUCT(SUMIFS(Daily!$S:$S,Daily!$G:$G,"8",Daily!$C:$C,"ATK",Daily!$I:$I,"수리완료")) + SUMPRODUCT(SUMIFS(Daily!$S:$S,Daily!$G:$G,"8",Daily!$C:$C,"ATK",Daily!$I:$I,"외주수리완료")) -> 0 | D13: =IF($R$2="K\",(SUMPRODUCT(SUMIFS(Daily!$W:$W,Daily!$G:$G,"8",Daily!$C:$C,"ATK",Daily!$I:$I,"수리완료")) + SUMPRODUCT(SUMIFS(Daily!$W:$W,Daily!$G:$G,"8",Daily!$C:$C,"ATK",Daily!$I:$I,"외주수리완료"))),(SUMPRODUCT(SUMIFS(Daily!$W:$W,Daily!$G:$G,"8",Daily!$C:$C,"ATK",Daily!$I:$I,"수리완료")) + SUMPRODUCT(SUMIFS(Daily!$W:$W,Daily!$G:$G,"8",Daily!$C:$C,"ATK",Daily!$I:$I,"외주수리완료")))/$R$3) -> 0 | E13: =SUMIFS(Daily!$S:$S,Daily!$G:$G,8,Daily!$I:$I,{"수리완료"},Daily!$C:$C,"ATP")+SUMIFS(Daily!$S:$S,Daily!$G:$G,8,Daily!$I:$I,{"외주수리완료"},Daily!$C:$C,"ATP") -> 0 | F13: =IF($R$2="K\",SUMIFS(Daily!$W:$W,Daily!$G:$G,8,Daily!$I:$I,{"수리완료"},Daily!$C:$C,"ATP")+SUMIFS(Daily!$W:$W,Daily!$G:$G,8,Daily!$I:$I,{"외주수리완료"},Daily!$C:$C,"ATP"),(SUMIFS(Daily!$W:$W,Daily!$G:$G,8,Daily!$I:$I,{"수리완료"},Daily!$C:$C,"ATP")+SUMIFS(Daily!$W:$W,Daily!$G:$G,8,Daily!$I:$I,{"외주수리완료"},Daily!$C:$C,"ATP"))/$R$3) -> 0 | G13: =SUMIFS(Daily!$S:$S,Daily!$G:$G,8,Daily!$I:$I,{"수리완료"},Daily!$C:$C,"ATC")+SUMIFS(Daily!$S:$S,Daily!$G:$G,8,Daily!$I:$I,{"외주수리완료"},Daily!$C:$C,"ATC") -> 0 | H13: =IF($R$2="K\",SUMIFS(Daily!$W:$W,Daily!$G:$G,8,Daily!$I:$I,{"수리완료"},Daily!$C:$C,"ATC")+SUMIFS(Daily!$W:$W,Daily!$G:$G,8,Daily!$I:$I,{"외주수리완료"},Daily!$C:$C,"ATC"),(SUMIFS(Daily!$W:$W,Daily!$G:$G,8,Daily!$I:$I,{"수리완료"},Daily!$C:$C,"ATC")+SUMIFS(Daily!$W:$W,Daily!$G:$G,8,Daily!$I:$I,{"외주수리완료"},Daily!$C:$C,"ATC"))/$R$3) -> 0 | I13: =SUMIFS(Daily!$S:$S,Daily!$G:$G,8,Daily!$I:$I,{"수리완료"},Daily!$C:$C,"ATT")+SUMIFS(Daily!$S:$S,Daily!$G:$G,8,Daily!$I:$I,{"외주수리완료"},Daily!$C:$C,"ATT") -> 0 | J13: =IF($R$2="K\",SUMIFS(Daily!$W:$W,Daily!$G:$G,8,Daily!$I:$I,{"수리완료"},Daily!$C:$C,"ATT")+SUMIFS(Daily!$W:$W,Daily!$G:$G,8,Daily!$I:$I,{"외주수리완료"},Daily!$C:$C,"ATT"),(SUMIFS(Daily!$W:$W,Daily!$G:$G,8,Daily!$I:$I,{"수리완료"},Daily!$C:$C,"ATT")+SUMIFS(Daily!$W:$W,Daily!$G:$G,8,Daily!$I:$I,{"외주수리완료"},Daily!$C:$C,"ATT"))/$R$3) -> 0 | K13: =SUMIFS(Daily!$S:$S,Daily!$G:$G,8,Daily!$I:$I,{"수리완료"},Daily!$C:$C,"ATM")+SUMIFS(Daily!$S:$S,Daily!$G:$G,8,Daily!$I:$I,{"외주수리완료"},Daily!$C:$C,"ATM") -> 0 | L13: =IF($R$2="K\",SUMIFS(Daily!$W:$W,Daily!$G:$G,8,Daily!$I:$I,{"수리완료"},Daily!$C:$C,"ATM")+SUMIFS(Daily!$W:$W,Daily!$G:$G,8,Daily!$I:$I,{"외주수리완료"},Daily!$C:$C,"ATM"),(SUMIFS(Daily!$W:$W,Daily!$G:$G,8,Daily!$I:$I,{"수리완료"},Daily!$C:$C,"ATM")+SUMIFS(Daily!$W:$W,Daily!$G:$G,8,Daily!$I:$I,{"외주수리완료"},Daily!$C:$C,"ATM"))/$R$3) -> 0 | M13: =SUMIFS(Daily!$S:$S,Daily!$G:$G,8,Daily!$I:$I,{"수리완료"},Daily!$C:$C,"ATJ")+SUMIFS(Daily!$S:$S,Daily!$G:$G,8,Daily!$I:$I,{"외주수리완료"},Daily!$C:$C,"ATJ") -> 0 | N13: =IF($R$2="K\",SUMIFS(Daily!$W:$W,Daily!$G:$G,8,Daily!$I:$I,{"수리완료"},Daily!$C:$C,"ATJ")+SUMIFS(Daily!$W:$W,Daily!$G:$G,8,Daily!$I:$I,{"외주수리완료"},Daily!$C:$C,"ATJ"),(SUMIFS(Daily!$W:$W,Daily!$G:$G,8,Daily!$I:$I,{"수리완료"},Daily!$C:$C,"ATJ")+SUMIFS(Daily!$W:$W,Daily!$G:$G,8,Daily!$I:$I,{"외주수리완료"},Daily!$C:$C,"ATJ"))/$R$3) -> 0 | O13: =SUMIFS(Daily!$S:$S,Daily!$G:$G,8,Daily!$I:$I,{"*수리완료"},Daily!$C:$C,"ATEP") -> 0 | P13: =IF($R$2="K\",SUMIFS(Daily!$W:$W,Daily!$G:$G,8,Daily!$I:$I,{"수리완료"},Daily!$C:$C,"ATEP")+SUMIFS(Daily!$W:$W,Daily!$G:$G,8,Daily!$I:$I,{"외주수리완료"},Daily!$C:$C,"ATEP"),(SUMIFS(Daily!$W:$W,Daily!$G:$G,8,Daily!$I:$I,{"수리완료"},Daily!$C:$C,"ATEP")+SUMIFS(Daily!$W:$W,Daily!$G:$G,8,Daily!$I:$I,{"외주수리완료"},Daily!$C:$C,"ATEP"))/$R$3) -> 0 | Q13: =C13+E13+G13+I13+K13+M13+O13 -> 0 | R13: =D13+F13+H13+J13+L13+N13+P13 -> 0 | T13: Total | U13: =SUM(U6:U12) -> 317 | V13: =SUM(V6:V12) -> 278 | W13: =SUM(W6:W12) -> 23 | X13: =SUM(X6:X12) -> 0 | Y13: =SUM(Y6:Y12) -> 16 | Z13: =SUM(Z6:Z12) -> 376.78727
